BEGIN:VCALENDAR
VERSION:2.0
PRODID:-//GO Latin Dance - ECPv6.15.18//NONSGML v1.0//EN
CALSCALE:GREGORIAN
METHOD:PUBLISH
X-ORIGINAL-URL:https://golatindance.com
X-WR-CALDESC:Events for GO Latin Dance
REFRESH-INTERVAL;VALUE=DURATION:PT1H
X-Robots-Tag:noindex
X-PUBLISHED-TTL:PT1H
BEGIN:VTIMEZONE
TZID:America/New_York
BEGIN:DAYLIGHT
TZOFFSETFROM:-0500
TZOFFSETTO:-0400
TZNAME:EDT
DTSTART:20240310T070000
END:DAYLIGHT
BEGIN:STANDARD
TZOFFSETFROM:-0400
TZOFFSETTO:-0500
TZNAME:EST
DTSTART:20241103T060000
END:STANDARD
BEGIN:DAYLIGHT
TZOFFSETFROM:-0500
TZOFFSETTO:-0400
TZNAME:EDT
DTSTART:20250309T070000
END:DAYLIGHT
BEGIN:STANDARD
TZOFFSETFROM:-0400
TZOFFSETTO:-0500
TZNAME:EST
DTSTART:20251102T060000
END:STANDARD
BEGIN:DAYLIGHT
TZOFFSETFROM:-0500
TZOFFSETTO:-0400
TZNAME:EDT
DTSTART:20260308T070000
END:DAYLIGHT
BEGIN:STANDARD
TZOFFSETFROM:-0400
TZOFFSETTO:-0500
TZNAME:EST
DTSTART:20261101T060000
END:STANDARD
BEGIN:DAYLIGHT
TZOFFSETFROM:-0500
TZOFFSETTO:-0400
TZNAME:EDT
DTSTART:20270314T070000
END:DAYLIGHT
BEGIN:STANDARD
TZOFFSETFROM:-0400
TZOFFSETTO:-0500
TZNAME:EST
DTSTART:20271107T060000
END:STANDARD
END:VTIMEZONE
BEGIN:VEVENT
DTSTART;TZID=America/New_York:20260208T170000
DTEND;TZID=America/New_York:20260208T230000
DTSTAMP:20260425T002406
CREATED:20250812T143352Z
LAST-MODIFIED:20250812T143352Z
UID:10385430-1770570000-1770591600@golatindance.com
SUMMARY:Latin Sundays at Gold Coast Ballroom
DESCRIPTION:Every Sunday – MATINEE DANCE (1-4:00 PM!) – SALSA GROUP CLASSES (4-5 PM – Included with Sunday Admission!) – LATIN NIGHT DANCE PARTY (5 PM – 11:00 PM) – $20 Whole Sunday (1 PM – 11 PM)!!
URL:https://golatindance.com/event/latin-sundays-at-gold-coast-ballroom/2026-02-08/
LOCATION:Goldcoast Ballroom\, 1415 Lyons Rd\, Coconut Creek\, FL\, 33063-3929\, United States
CATEGORIES:Miami
ATTACH;FMTTYPE=image/jpeg:https://golatindance.com/wp-content/uploads/2025/08/530410349_24226188167009217_2950933661769044657_n.jpg
GEO:26.2478823;-80.1880568
X-APPLE-STRUCTURED-LOCATION;VALUE=URI;X-ADDRESS=Goldcoast Ballroom 1415 Lyons Rd Coconut Creek FL 33063-3929 United States;X-APPLE-RADIUS=500;X-TITLE=1415 Lyons Rd:geo:-80.1880568,26.2478823
END:VEVENT
BEGIN:VEVENT
DTSTART;TZID=America/New_York:20260201T170000
DTEND;TZID=America/New_York:20260201T230000
DTSTAMP:20260425T002406
CREATED:20250812T143352Z
LAST-MODIFIED:20250812T143352Z
UID:10385429-1769965200-1769986800@golatindance.com
SUMMARY:Latin Sundays at Gold Coast Ballroom
DESCRIPTION:Every Sunday – MATINEE DANCE (1-4:00 PM!) – SALSA GROUP CLASSES (4-5 PM – Included with Sunday Admission!) – LATIN NIGHT DANCE PARTY (5 PM – 11:00 PM) – $20 Whole Sunday (1 PM – 11 PM)!!
URL:https://golatindance.com/event/latin-sundays-at-gold-coast-ballroom/2026-02-01/
LOCATION:Goldcoast Ballroom\, 1415 Lyons Rd\, Coconut Creek\, FL\, 33063-3929\, United States
CATEGORIES:Miami
ATTACH;FMTTYPE=image/jpeg:https://golatindance.com/wp-content/uploads/2025/08/530410349_24226188167009217_2950933661769044657_n.jpg
GEO:26.2478823;-80.1880568
X-APPLE-STRUCTURED-LOCATION;VALUE=URI;X-ADDRESS=Goldcoast Ballroom 1415 Lyons Rd Coconut Creek FL 33063-3929 United States;X-APPLE-RADIUS=500;X-TITLE=1415 Lyons Rd:geo:-80.1880568,26.2478823
END:VEVENT
BEGIN:VEVENT
DTSTART;TZID=America/New_York:20260125T170000
DTEND;TZID=America/New_York:20260125T230000
DTSTAMP:20260425T002406
CREATED:20250812T143352Z
LAST-MODIFIED:20250812T143352Z
UID:10385428-1769360400-1769382000@golatindance.com
SUMMARY:Latin Sundays at Gold Coast Ballroom
DESCRIPTION:Every Sunday – MATINEE DANCE (1-4:00 PM!) – SALSA GROUP CLASSES (4-5 PM – Included with Sunday Admission!) – LATIN NIGHT DANCE PARTY (5 PM – 11:00 PM) – $20 Whole Sunday (1 PM – 11 PM)!!
URL:https://golatindance.com/event/latin-sundays-at-gold-coast-ballroom/2026-01-25/
LOCATION:Goldcoast Ballroom\, 1415 Lyons Rd\, Coconut Creek\, FL\, 33063-3929\, United States
CATEGORIES:Miami
ATTACH;FMTTYPE=image/jpeg:https://golatindance.com/wp-content/uploads/2025/08/530410349_24226188167009217_2950933661769044657_n.jpg
GEO:26.2478823;-80.1880568
X-APPLE-STRUCTURED-LOCATION;VALUE=URI;X-ADDRESS=Goldcoast Ballroom 1415 Lyons Rd Coconut Creek FL 33063-3929 United States;X-APPLE-RADIUS=500;X-TITLE=1415 Lyons Rd:geo:-80.1880568,26.2478823
END:VEVENT
BEGIN:VEVENT
DTSTART;TZID=America/New_York:20260118T170000
DTEND;TZID=America/New_York:20260118T230000
DTSTAMP:20260425T002406
CREATED:20250812T143352Z
LAST-MODIFIED:20250812T143352Z
UID:10385427-1768755600-1768777200@golatindance.com
SUMMARY:Latin Sundays at Gold Coast Ballroom
DESCRIPTION:Every Sunday – MATINEE DANCE (1-4:00 PM!) – SALSA GROUP CLASSES (4-5 PM – Included with Sunday Admission!) – LATIN NIGHT DANCE PARTY (5 PM – 11:00 PM) – $20 Whole Sunday (1 PM – 11 PM)!!
URL:https://golatindance.com/event/latin-sundays-at-gold-coast-ballroom/2026-01-18/
LOCATION:Goldcoast Ballroom\, 1415 Lyons Rd\, Coconut Creek\, FL\, 33063-3929\, United States
CATEGORIES:Miami
ATTACH;FMTTYPE=image/jpeg:https://golatindance.com/wp-content/uploads/2025/08/530410349_24226188167009217_2950933661769044657_n.jpg
GEO:26.2478823;-80.1880568
X-APPLE-STRUCTURED-LOCATION;VALUE=URI;X-ADDRESS=Goldcoast Ballroom 1415 Lyons Rd Coconut Creek FL 33063-3929 United States;X-APPLE-RADIUS=500;X-TITLE=1415 Lyons Rd:geo:-80.1880568,26.2478823
END:VEVENT
BEGIN:VEVENT
DTSTART;TZID=America/New_York:20260111T170000
DTEND;TZID=America/New_York:20260111T230000
DTSTAMP:20260425T002406
CREATED:20250812T143352Z
LAST-MODIFIED:20250812T143352Z
UID:10385426-1768150800-1768172400@golatindance.com
SUMMARY:Latin Sundays at Gold Coast Ballroom
DESCRIPTION:Every Sunday – MATINEE DANCE (1-4:00 PM!) – SALSA GROUP CLASSES (4-5 PM – Included with Sunday Admission!) – LATIN NIGHT DANCE PARTY (5 PM – 11:00 PM) – $20 Whole Sunday (1 PM – 11 PM)!!
URL:https://golatindance.com/event/latin-sundays-at-gold-coast-ballroom/2026-01-11/
LOCATION:Goldcoast Ballroom\, 1415 Lyons Rd\, Coconut Creek\, FL\, 33063-3929\, United States
CATEGORIES:Miami
ATTACH;FMTTYPE=image/jpeg:https://golatindance.com/wp-content/uploads/2025/08/530410349_24226188167009217_2950933661769044657_n.jpg
GEO:26.2478823;-80.1880568
X-APPLE-STRUCTURED-LOCATION;VALUE=URI;X-ADDRESS=Goldcoast Ballroom 1415 Lyons Rd Coconut Creek FL 33063-3929 United States;X-APPLE-RADIUS=500;X-TITLE=1415 Lyons Rd:geo:-80.1880568,26.2478823
END:VEVENT
BEGIN:VEVENT
DTSTART;TZID=America/New_York:20260104T170000
DTEND;TZID=America/New_York:20260104T230000
DTSTAMP:20260425T002406
CREATED:20250812T143352Z
LAST-MODIFIED:20250812T143352Z
UID:10385425-1767546000-1767567600@golatindance.com
SUMMARY:Latin Sundays at Gold Coast Ballroom
DESCRIPTION:Every Sunday – MATINEE DANCE (1-4:00 PM!) – SALSA GROUP CLASSES (4-5 PM – Included with Sunday Admission!) – LATIN NIGHT DANCE PARTY (5 PM – 11:00 PM) – $20 Whole Sunday (1 PM – 11 PM)!!
URL:https://golatindance.com/event/latin-sundays-at-gold-coast-ballroom/2026-01-04/
LOCATION:Goldcoast Ballroom\, 1415 Lyons Rd\, Coconut Creek\, FL\, 33063-3929\, United States
CATEGORIES:Miami
ATTACH;FMTTYPE=image/jpeg:https://golatindance.com/wp-content/uploads/2025/08/530410349_24226188167009217_2950933661769044657_n.jpg
GEO:26.2478823;-80.1880568
X-APPLE-STRUCTURED-LOCATION;VALUE=URI;X-ADDRESS=Goldcoast Ballroom 1415 Lyons Rd Coconut Creek FL 33063-3929 United States;X-APPLE-RADIUS=500;X-TITLE=1415 Lyons Rd:geo:-80.1880568,26.2478823
END:VEVENT
BEGIN:VEVENT
DTSTART;TZID=America/New_York:20251228T170000
DTEND;TZID=America/New_York:20251228T230000
DTSTAMP:20260425T002406
CREATED:20250812T143352Z
LAST-MODIFIED:20250812T143352Z
UID:10385424-1766941200-1766962800@golatindance.com
SUMMARY:Latin Sundays at Gold Coast Ballroom
DESCRIPTION:Every Sunday – MATINEE DANCE (1-4:00 PM!) – SALSA GROUP CLASSES (4-5 PM – Included with Sunday Admission!) – LATIN NIGHT DANCE PARTY (5 PM – 11:00 PM) – $20 Whole Sunday (1 PM – 11 PM)!!
URL:https://golatindance.com/event/latin-sundays-at-gold-coast-ballroom/2025-12-28/
LOCATION:Goldcoast Ballroom\, 1415 Lyons Rd\, Coconut Creek\, FL\, 33063-3929\, United States
CATEGORIES:Miami
ATTACH;FMTTYPE=image/jpeg:https://golatindance.com/wp-content/uploads/2025/08/530410349_24226188167009217_2950933661769044657_n.jpg
GEO:26.2478823;-80.1880568
X-APPLE-STRUCTURED-LOCATION;VALUE=URI;X-ADDRESS=Goldcoast Ballroom 1415 Lyons Rd Coconut Creek FL 33063-3929 United States;X-APPLE-RADIUS=500;X-TITLE=1415 Lyons Rd:geo:-80.1880568,26.2478823
END:VEVENT
BEGIN:VEVENT
DTSTART;TZID=America/New_York:20251221T170000
DTEND;TZID=America/New_York:20251221T230000
DTSTAMP:20260425T002406
CREATED:20250812T143352Z
LAST-MODIFIED:20250812T143352Z
UID:10385423-1766336400-1766358000@golatindance.com
SUMMARY:Latin Sundays at Gold Coast Ballroom
DESCRIPTION:Every Sunday – MATINEE DANCE (1-4:00 PM!) – SALSA GROUP CLASSES (4-5 PM – Included with Sunday Admission!) – LATIN NIGHT DANCE PARTY (5 PM – 11:00 PM) – $20 Whole Sunday (1 PM – 11 PM)!!
URL:https://golatindance.com/event/latin-sundays-at-gold-coast-ballroom/2025-12-21/
LOCATION:Goldcoast Ballroom\, 1415 Lyons Rd\, Coconut Creek\, FL\, 33063-3929\, United States
CATEGORIES:Miami
ATTACH;FMTTYPE=image/jpeg:https://golatindance.com/wp-content/uploads/2025/08/530410349_24226188167009217_2950933661769044657_n.jpg
GEO:26.2478823;-80.1880568
X-APPLE-STRUCTURED-LOCATION;VALUE=URI;X-ADDRESS=Goldcoast Ballroom 1415 Lyons Rd Coconut Creek FL 33063-3929 United States;X-APPLE-RADIUS=500;X-TITLE=1415 Lyons Rd:geo:-80.1880568,26.2478823
END:VEVENT
BEGIN:VEVENT
DTSTART;TZID=America/New_York:20251214T170000
DTEND;TZID=America/New_York:20251214T230000
DTSTAMP:20260425T002406
CREATED:20250812T143352Z
LAST-MODIFIED:20250812T143352Z
UID:10385422-1765731600-1765753200@golatindance.com
SUMMARY:Latin Sundays at Gold Coast Ballroom
DESCRIPTION:Every Sunday – MATINEE DANCE (1-4:00 PM!) – SALSA GROUP CLASSES (4-5 PM – Included with Sunday Admission!) – LATIN NIGHT DANCE PARTY (5 PM – 11:00 PM) – $20 Whole Sunday (1 PM – 11 PM)!!
URL:https://golatindance.com/event/latin-sundays-at-gold-coast-ballroom/2025-12-14/
LOCATION:Goldcoast Ballroom\, 1415 Lyons Rd\, Coconut Creek\, FL\, 33063-3929\, United States
CATEGORIES:Miami
ATTACH;FMTTYPE=image/jpeg:https://golatindance.com/wp-content/uploads/2025/08/530410349_24226188167009217_2950933661769044657_n.jpg
GEO:26.2478823;-80.1880568
X-APPLE-STRUCTURED-LOCATION;VALUE=URI;X-ADDRESS=Goldcoast Ballroom 1415 Lyons Rd Coconut Creek FL 33063-3929 United States;X-APPLE-RADIUS=500;X-TITLE=1415 Lyons Rd:geo:-80.1880568,26.2478823
END:VEVENT
BEGIN:VEVENT
DTSTART;TZID=America/New_York:20251207T170000
DTEND;TZID=America/New_York:20251207T230000
DTSTAMP:20260425T002406
CREATED:20250812T143352Z
LAST-MODIFIED:20250812T143352Z
UID:10385421-1765126800-1765148400@golatindance.com
SUMMARY:Latin Sundays at Gold Coast Ballroom
DESCRIPTION:Every Sunday – MATINEE DANCE (1-4:00 PM!) – SALSA GROUP CLASSES (4-5 PM – Included with Sunday Admission!) – LATIN NIGHT DANCE PARTY (5 PM – 11:00 PM) – $20 Whole Sunday (1 PM – 11 PM)!!
URL:https://golatindance.com/event/latin-sundays-at-gold-coast-ballroom/2025-12-07/
LOCATION:Goldcoast Ballroom\, 1415 Lyons Rd\, Coconut Creek\, FL\, 33063-3929\, United States
CATEGORIES:Miami
ATTACH;FMTTYPE=image/jpeg:https://golatindance.com/wp-content/uploads/2025/08/530410349_24226188167009217_2950933661769044657_n.jpg
GEO:26.2478823;-80.1880568
X-APPLE-STRUCTURED-LOCATION;VALUE=URI;X-ADDRESS=Goldcoast Ballroom 1415 Lyons Rd Coconut Creek FL 33063-3929 United States;X-APPLE-RADIUS=500;X-TITLE=1415 Lyons Rd:geo:-80.1880568,26.2478823
END:VEVENT
BEGIN:VEVENT
DTSTART;TZID=America/New_York:20251130T170000
DTEND;TZID=America/New_York:20251130T230000
DTSTAMP:20260425T002406
CREATED:20250812T143352Z
LAST-MODIFIED:20250812T143352Z
UID:10385420-1764522000-1764543600@golatindance.com
SUMMARY:Latin Sundays at Gold Coast Ballroom
DESCRIPTION:Every Sunday – MATINEE DANCE (1-4:00 PM!) – SALSA GROUP CLASSES (4-5 PM – Included with Sunday Admission!) – LATIN NIGHT DANCE PARTY (5 PM – 11:00 PM) – $20 Whole Sunday (1 PM – 11 PM)!!
URL:https://golatindance.com/event/latin-sundays-at-gold-coast-ballroom/2025-11-30/
LOCATION:Goldcoast Ballroom\, 1415 Lyons Rd\, Coconut Creek\, FL\, 33063-3929\, United States
CATEGORIES:Miami
ATTACH;FMTTYPE=image/jpeg:https://golatindance.com/wp-content/uploads/2025/08/530410349_24226188167009217_2950933661769044657_n.jpg
GEO:26.2478823;-80.1880568
X-APPLE-STRUCTURED-LOCATION;VALUE=URI;X-ADDRESS=Goldcoast Ballroom 1415 Lyons Rd Coconut Creek FL 33063-3929 United States;X-APPLE-RADIUS=500;X-TITLE=1415 Lyons Rd:geo:-80.1880568,26.2478823
END:VEVENT
BEGIN:VEVENT
DTSTART;TZID=America/New_York:20251123T170000
DTEND;TZID=America/New_York:20251123T230000
DTSTAMP:20260425T002406
CREATED:20250812T143352Z
LAST-MODIFIED:20250812T143352Z
UID:10385419-1763917200-1763938800@golatindance.com
SUMMARY:Latin Sundays at Gold Coast Ballroom
DESCRIPTION:Every Sunday – MATINEE DANCE (1-4:00 PM!) – SALSA GROUP CLASSES (4-5 PM – Included with Sunday Admission!) – LATIN NIGHT DANCE PARTY (5 PM – 11:00 PM) – $20 Whole Sunday (1 PM – 11 PM)!!
URL:https://golatindance.com/event/latin-sundays-at-gold-coast-ballroom/2025-11-23/
LOCATION:Goldcoast Ballroom\, 1415 Lyons Rd\, Coconut Creek\, FL\, 33063-3929\, United States
CATEGORIES:Miami
ATTACH;FMTTYPE=image/jpeg:https://golatindance.com/wp-content/uploads/2025/08/530410349_24226188167009217_2950933661769044657_n.jpg
GEO:26.2478823;-80.1880568
X-APPLE-STRUCTURED-LOCATION;VALUE=URI;X-ADDRESS=Goldcoast Ballroom 1415 Lyons Rd Coconut Creek FL 33063-3929 United States;X-APPLE-RADIUS=500;X-TITLE=1415 Lyons Rd:geo:-80.1880568,26.2478823
END:VEVENT
BEGIN:VEVENT
DTSTART;TZID=America/New_York:20251116T170000
DTEND;TZID=America/New_York:20251116T230000
DTSTAMP:20260425T002406
CREATED:20250812T143352Z
LAST-MODIFIED:20250812T143352Z
UID:10385418-1763312400-1763334000@golatindance.com
SUMMARY:Latin Sundays at Gold Coast Ballroom
DESCRIPTION:Every Sunday – MATINEE DANCE (1-4:00 PM!) – SALSA GROUP CLASSES (4-5 PM – Included with Sunday Admission!) – LATIN NIGHT DANCE PARTY (5 PM – 11:00 PM) – $20 Whole Sunday (1 PM – 11 PM)!!
URL:https://golatindance.com/event/latin-sundays-at-gold-coast-ballroom/2025-11-16/
LOCATION:Goldcoast Ballroom\, 1415 Lyons Rd\, Coconut Creek\, FL\, 33063-3929\, United States
CATEGORIES:Miami
ATTACH;FMTTYPE=image/jpeg:https://golatindance.com/wp-content/uploads/2025/08/530410349_24226188167009217_2950933661769044657_n.jpg
GEO:26.2478823;-80.1880568
X-APPLE-STRUCTURED-LOCATION;VALUE=URI;X-ADDRESS=Goldcoast Ballroom 1415 Lyons Rd Coconut Creek FL 33063-3929 United States;X-APPLE-RADIUS=500;X-TITLE=1415 Lyons Rd:geo:-80.1880568,26.2478823
END:VEVENT
BEGIN:VEVENT
DTSTART;TZID=America/New_York:20251109T170000
DTEND;TZID=America/New_York:20251109T230000
DTSTAMP:20260425T002407
CREATED:20250812T143352Z
LAST-MODIFIED:20250812T143352Z
UID:10385417-1762707600-1762729200@golatindance.com
SUMMARY:Latin Sundays at Gold Coast Ballroom
DESCRIPTION:Every Sunday – MATINEE DANCE (1-4:00 PM!) – SALSA GROUP CLASSES (4-5 PM – Included with Sunday Admission!) – LATIN NIGHT DANCE PARTY (5 PM – 11:00 PM) – $20 Whole Sunday (1 PM – 11 PM)!!
URL:https://golatindance.com/event/latin-sundays-at-gold-coast-ballroom/2025-11-09/
LOCATION:Goldcoast Ballroom\, 1415 Lyons Rd\, Coconut Creek\, FL\, 33063-3929\, United States
CATEGORIES:Miami
ATTACH;FMTTYPE=image/jpeg:https://golatindance.com/wp-content/uploads/2025/08/530410349_24226188167009217_2950933661769044657_n.jpg
GEO:26.2478823;-80.1880568
X-APPLE-STRUCTURED-LOCATION;VALUE=URI;X-ADDRESS=Goldcoast Ballroom 1415 Lyons Rd Coconut Creek FL 33063-3929 United States;X-APPLE-RADIUS=500;X-TITLE=1415 Lyons Rd:geo:-80.1880568,26.2478823
END:VEVENT
BEGIN:VEVENT
DTSTART;TZID=America/New_York:20251102T170000
DTEND;TZID=America/New_York:20251102T230000
DTSTAMP:20260425T002407
CREATED:20250812T143352Z
LAST-MODIFIED:20250812T143352Z
UID:10385416-1762102800-1762124400@golatindance.com
SUMMARY:Latin Sundays at Gold Coast Ballroom
DESCRIPTION:Every Sunday – MATINEE DANCE (1-4:00 PM!) – SALSA GROUP CLASSES (4-5 PM – Included with Sunday Admission!) – LATIN NIGHT DANCE PARTY (5 PM – 11:00 PM) – $20 Whole Sunday (1 PM – 11 PM)!!
URL:https://golatindance.com/event/latin-sundays-at-gold-coast-ballroom/2025-11-02/
LOCATION:Goldcoast Ballroom\, 1415 Lyons Rd\, Coconut Creek\, FL\, 33063-3929\, United States
CATEGORIES:Miami
ATTACH;FMTTYPE=image/jpeg:https://golatindance.com/wp-content/uploads/2025/08/530410349_24226188167009217_2950933661769044657_n.jpg
GEO:26.2478823;-80.1880568
X-APPLE-STRUCTURED-LOCATION;VALUE=URI;X-ADDRESS=Goldcoast Ballroom 1415 Lyons Rd Coconut Creek FL 33063-3929 United States;X-APPLE-RADIUS=500;X-TITLE=1415 Lyons Rd:geo:-80.1880568,26.2478823
END:VEVENT
BEGIN:VEVENT
DTSTART;TZID=America/New_York:20251026T170000
DTEND;TZID=America/New_York:20251026T230000
DTSTAMP:20260425T002407
CREATED:20250812T143352Z
LAST-MODIFIED:20250812T143352Z
UID:10385415-1761498000-1761519600@golatindance.com
SUMMARY:Latin Sundays at Gold Coast Ballroom
DESCRIPTION:Every Sunday – MATINEE DANCE (1-4:00 PM!) – SALSA GROUP CLASSES (4-5 PM – Included with Sunday Admission!) – LATIN NIGHT DANCE PARTY (5 PM – 11:00 PM) – $20 Whole Sunday (1 PM – 11 PM)!!
URL:https://golatindance.com/event/latin-sundays-at-gold-coast-ballroom/2025-10-26/
LOCATION:Goldcoast Ballroom\, 1415 Lyons Rd\, Coconut Creek\, FL\, 33063-3929\, United States
CATEGORIES:Miami
ATTACH;FMTTYPE=image/jpeg:https://golatindance.com/wp-content/uploads/2025/08/530410349_24226188167009217_2950933661769044657_n.jpg
GEO:26.2478823;-80.1880568
X-APPLE-STRUCTURED-LOCATION;VALUE=URI;X-ADDRESS=Goldcoast Ballroom 1415 Lyons Rd Coconut Creek FL 33063-3929 United States;X-APPLE-RADIUS=500;X-TITLE=1415 Lyons Rd:geo:-80.1880568,26.2478823
END:VEVENT
BEGIN:VEVENT
DTSTART;TZID=America/New_York:20251019T170000
DTEND;TZID=America/New_York:20251019T230000
DTSTAMP:20260425T002407
CREATED:20250812T143352Z
LAST-MODIFIED:20250812T143352Z
UID:10385414-1760893200-1760914800@golatindance.com
SUMMARY:Latin Sundays at Gold Coast Ballroom
DESCRIPTION:Every Sunday – MATINEE DANCE (1-4:00 PM!) – SALSA GROUP CLASSES (4-5 PM – Included with Sunday Admission!) – LATIN NIGHT DANCE PARTY (5 PM – 11:00 PM) – $20 Whole Sunday (1 PM – 11 PM)!!
URL:https://golatindance.com/event/latin-sundays-at-gold-coast-ballroom/2025-10-19/
LOCATION:Goldcoast Ballroom\, 1415 Lyons Rd\, Coconut Creek\, FL\, 33063-3929\, United States
CATEGORIES:Miami
ATTACH;FMTTYPE=image/jpeg:https://golatindance.com/wp-content/uploads/2025/08/530410349_24226188167009217_2950933661769044657_n.jpg
GEO:26.2478823;-80.1880568
X-APPLE-STRUCTURED-LOCATION;VALUE=URI;X-ADDRESS=Goldcoast Ballroom 1415 Lyons Rd Coconut Creek FL 33063-3929 United States;X-APPLE-RADIUS=500;X-TITLE=1415 Lyons Rd:geo:-80.1880568,26.2478823
END:VEVENT
BEGIN:VEVENT
DTSTART;TZID=America/New_York:20251012T170000
DTEND;TZID=America/New_York:20251012T230000
DTSTAMP:20260425T002407
CREATED:20250812T143352Z
LAST-MODIFIED:20250812T143352Z
UID:10385413-1760288400-1760310000@golatindance.com
SUMMARY:Latin Sundays at Gold Coast Ballroom
DESCRIPTION:Every Sunday – MATINEE DANCE (1-4:00 PM!) – SALSA GROUP CLASSES (4-5 PM – Included with Sunday Admission!) – LATIN NIGHT DANCE PARTY (5 PM – 11:00 PM) – $20 Whole Sunday (1 PM – 11 PM)!!
URL:https://golatindance.com/event/latin-sundays-at-gold-coast-ballroom/2025-10-12/
LOCATION:Goldcoast Ballroom\, 1415 Lyons Rd\, Coconut Creek\, FL\, 33063-3929\, United States
CATEGORIES:Miami
ATTACH;FMTTYPE=image/jpeg:https://golatindance.com/wp-content/uploads/2025/08/530410349_24226188167009217_2950933661769044657_n.jpg
GEO:26.2478823;-80.1880568
X-APPLE-STRUCTURED-LOCATION;VALUE=URI;X-ADDRESS=Goldcoast Ballroom 1415 Lyons Rd Coconut Creek FL 33063-3929 United States;X-APPLE-RADIUS=500;X-TITLE=1415 Lyons Rd:geo:-80.1880568,26.2478823
END:VEVENT
BEGIN:VEVENT
DTSTART;TZID=America/New_York:20251005T170000
DTEND;TZID=America/New_York:20251005T230000
DTSTAMP:20260425T002407
CREATED:20250812T143352Z
LAST-MODIFIED:20250812T143352Z
UID:10385412-1759683600-1759705200@golatindance.com
SUMMARY:Latin Sundays at Gold Coast Ballroom
DESCRIPTION:Every Sunday – MATINEE DANCE (1-4:00 PM!) – SALSA GROUP CLASSES (4-5 PM – Included with Sunday Admission!) – LATIN NIGHT DANCE PARTY (5 PM – 11:00 PM) – $20 Whole Sunday (1 PM – 11 PM)!!
URL:https://golatindance.com/event/latin-sundays-at-gold-coast-ballroom/2025-10-05/
LOCATION:Goldcoast Ballroom\, 1415 Lyons Rd\, Coconut Creek\, FL\, 33063-3929\, United States
CATEGORIES:Miami
ATTACH;FMTTYPE=image/jpeg:https://golatindance.com/wp-content/uploads/2025/08/530410349_24226188167009217_2950933661769044657_n.jpg
GEO:26.2478823;-80.1880568
X-APPLE-STRUCTURED-LOCATION;VALUE=URI;X-ADDRESS=Goldcoast Ballroom 1415 Lyons Rd Coconut Creek FL 33063-3929 United States;X-APPLE-RADIUS=500;X-TITLE=1415 Lyons Rd:geo:-80.1880568,26.2478823
END:VEVENT
BEGIN:VEVENT
DTSTART;TZID=America/New_York:20250928T170000
DTEND;TZID=America/New_York:20250928T230000
DTSTAMP:20260425T002407
CREATED:20250812T143352Z
LAST-MODIFIED:20250812T143352Z
UID:10385411-1759078800-1759100400@golatindance.com
SUMMARY:Latin Sundays at Gold Coast Ballroom
DESCRIPTION:Every Sunday – MATINEE DANCE (1-4:00 PM!) – SALSA GROUP CLASSES (4-5 PM – Included with Sunday Admission!) – LATIN NIGHT DANCE PARTY (5 PM – 11:00 PM) – $20 Whole Sunday (1 PM – 11 PM)!!
URL:https://golatindance.com/event/latin-sundays-at-gold-coast-ballroom/2025-09-28/
LOCATION:Goldcoast Ballroom\, 1415 Lyons Rd\, Coconut Creek\, FL\, 33063-3929\, United States
CATEGORIES:Miami
ATTACH;FMTTYPE=image/jpeg:https://golatindance.com/wp-content/uploads/2025/08/530410349_24226188167009217_2950933661769044657_n.jpg
GEO:26.2478823;-80.1880568
X-APPLE-STRUCTURED-LOCATION;VALUE=URI;X-ADDRESS=Goldcoast Ballroom 1415 Lyons Rd Coconut Creek FL 33063-3929 United States;X-APPLE-RADIUS=500;X-TITLE=1415 Lyons Rd:geo:-80.1880568,26.2478823
END:VEVENT
BEGIN:VEVENT
DTSTART;TZID=America/New_York:20250921T170000
DTEND;TZID=America/New_York:20250921T230000
DTSTAMP:20260425T002407
CREATED:20250812T143352Z
LAST-MODIFIED:20250812T143352Z
UID:10385410-1758474000-1758495600@golatindance.com
SUMMARY:Latin Sundays at Gold Coast Ballroom
DESCRIPTION:Every Sunday – MATINEE DANCE (1-4:00 PM!) – SALSA GROUP CLASSES (4-5 PM – Included with Sunday Admission!) – LATIN NIGHT DANCE PARTY (5 PM – 11:00 PM) – $20 Whole Sunday (1 PM – 11 PM)!!
URL:https://golatindance.com/event/latin-sundays-at-gold-coast-ballroom/2025-09-21/
LOCATION:Goldcoast Ballroom\, 1415 Lyons Rd\, Coconut Creek\, FL\, 33063-3929\, United States
CATEGORIES:Miami
ATTACH;FMTTYPE=image/jpeg:https://golatindance.com/wp-content/uploads/2025/08/530410349_24226188167009217_2950933661769044657_n.jpg
GEO:26.2478823;-80.1880568
X-APPLE-STRUCTURED-LOCATION;VALUE=URI;X-ADDRESS=Goldcoast Ballroom 1415 Lyons Rd Coconut Creek FL 33063-3929 United States;X-APPLE-RADIUS=500;X-TITLE=1415 Lyons Rd:geo:-80.1880568,26.2478823
END:VEVENT
BEGIN:VEVENT
DTSTART;TZID=America/New_York:20250914T170000
DTEND;TZID=America/New_York:20250914T230000
DTSTAMP:20260425T002407
CREATED:20250812T143352Z
LAST-MODIFIED:20250812T143352Z
UID:10385409-1757869200-1757890800@golatindance.com
SUMMARY:Latin Sundays at Gold Coast Ballroom
DESCRIPTION:Every Sunday – MATINEE DANCE (1-4:00 PM!) – SALSA GROUP CLASSES (4-5 PM – Included with Sunday Admission!) – LATIN NIGHT DANCE PARTY (5 PM – 11:00 PM) – $20 Whole Sunday (1 PM – 11 PM)!!
URL:https://golatindance.com/event/latin-sundays-at-gold-coast-ballroom/2025-09-14/
LOCATION:Goldcoast Ballroom\, 1415 Lyons Rd\, Coconut Creek\, FL\, 33063-3929\, United States
CATEGORIES:Miami
ATTACH;FMTTYPE=image/jpeg:https://golatindance.com/wp-content/uploads/2025/08/530410349_24226188167009217_2950933661769044657_n.jpg
GEO:26.2478823;-80.1880568
X-APPLE-STRUCTURED-LOCATION;VALUE=URI;X-ADDRESS=Goldcoast Ballroom 1415 Lyons Rd Coconut Creek FL 33063-3929 United States;X-APPLE-RADIUS=500;X-TITLE=1415 Lyons Rd:geo:-80.1880568,26.2478823
END:VEVENT
BEGIN:VEVENT
DTSTART;TZID=America/New_York:20250907T170000
DTEND;TZID=America/New_York:20250907T230000
DTSTAMP:20260425T002407
CREATED:20250812T143352Z
LAST-MODIFIED:20250812T143352Z
UID:10385408-1757264400-1757286000@golatindance.com
SUMMARY:Latin Sundays at Gold Coast Ballroom
DESCRIPTION:Every Sunday – MATINEE DANCE (1-4:00 PM!) – SALSA GROUP CLASSES (4-5 PM – Included with Sunday Admission!) – LATIN NIGHT DANCE PARTY (5 PM – 11:00 PM) – $20 Whole Sunday (1 PM – 11 PM)!!
URL:https://golatindance.com/event/latin-sundays-at-gold-coast-ballroom/2025-09-07/
LOCATION:Goldcoast Ballroom\, 1415 Lyons Rd\, Coconut Creek\, FL\, 33063-3929\, United States
CATEGORIES:Miami
ATTACH;FMTTYPE=image/jpeg:https://golatindance.com/wp-content/uploads/2025/08/530410349_24226188167009217_2950933661769044657_n.jpg
GEO:26.2478823;-80.1880568
X-APPLE-STRUCTURED-LOCATION;VALUE=URI;X-ADDRESS=Goldcoast Ballroom 1415 Lyons Rd Coconut Creek FL 33063-3929 United States;X-APPLE-RADIUS=500;X-TITLE=1415 Lyons Rd:geo:-80.1880568,26.2478823
END:VEVENT
BEGIN:VEVENT
DTSTART;TZID=America/New_York:20250831T170000
DTEND;TZID=America/New_York:20250831T230000
DTSTAMP:20260425T002407
CREATED:20250812T143352Z
LAST-MODIFIED:20250812T143352Z
UID:10385407-1756659600-1756681200@golatindance.com
SUMMARY:Latin Sundays at Gold Coast Ballroom
DESCRIPTION:Every Sunday – MATINEE DANCE (1-4:00 PM!) – SALSA GROUP CLASSES (4-5 PM – Included with Sunday Admission!) – LATIN NIGHT DANCE PARTY (5 PM – 11:00 PM) – $20 Whole Sunday (1 PM – 11 PM)!!
URL:https://golatindance.com/event/latin-sundays-at-gold-coast-ballroom/2025-08-31/
LOCATION:Goldcoast Ballroom\, 1415 Lyons Rd\, Coconut Creek\, FL\, 33063-3929\, United States
CATEGORIES:Miami
ATTACH;FMTTYPE=image/jpeg:https://golatindance.com/wp-content/uploads/2025/08/530410349_24226188167009217_2950933661769044657_n.jpg
GEO:26.2478823;-80.1880568
X-APPLE-STRUCTURED-LOCATION;VALUE=URI;X-ADDRESS=Goldcoast Ballroom 1415 Lyons Rd Coconut Creek FL 33063-3929 United States;X-APPLE-RADIUS=500;X-TITLE=1415 Lyons Rd:geo:-80.1880568,26.2478823
END:VEVENT
BEGIN:VEVENT
DTSTART;TZID=America/New_York:20250824T170000
DTEND;TZID=America/New_York:20250824T230000
DTSTAMP:20260425T002407
CREATED:20250812T143352Z
LAST-MODIFIED:20250812T143352Z
UID:10385406-1756054800-1756076400@golatindance.com
SUMMARY:Latin Sundays at Gold Coast Ballroom
DESCRIPTION:Every Sunday – MATINEE DANCE (1-4:00 PM!) – SALSA GROUP CLASSES (4-5 PM – Included with Sunday Admission!) – LATIN NIGHT DANCE PARTY (5 PM – 11:00 PM) – $20 Whole Sunday (1 PM – 11 PM)!!
URL:https://golatindance.com/event/latin-sundays-at-gold-coast-ballroom/2025-08-24/
LOCATION:Goldcoast Ballroom\, 1415 Lyons Rd\, Coconut Creek\, FL\, 33063-3929\, United States
CATEGORIES:Miami
ATTACH;FMTTYPE=image/jpeg:https://golatindance.com/wp-content/uploads/2025/08/530410349_24226188167009217_2950933661769044657_n.jpg
GEO:26.2478823;-80.1880568
X-APPLE-STRUCTURED-LOCATION;VALUE=URI;X-ADDRESS=Goldcoast Ballroom 1415 Lyons Rd Coconut Creek FL 33063-3929 United States;X-APPLE-RADIUS=500;X-TITLE=1415 Lyons Rd:geo:-80.1880568,26.2478823
END:VEVENT
BEGIN:VEVENT
DTSTART;TZID=America/New_York:20250817T170000
DTEND;TZID=America/New_York:20250817T230000
DTSTAMP:20260425T002407
CREATED:20250812T143352Z
LAST-MODIFIED:20250812T143352Z
UID:10385405-1755450000-1755471600@golatindance.com
SUMMARY:Latin Sundays at Gold Coast Ballroom
DESCRIPTION:Every Sunday – MATINEE DANCE (1-4:00 PM!) – SALSA GROUP CLASSES (4-5 PM – Included with Sunday Admission!) – LATIN NIGHT DANCE PARTY (5 PM – 11:00 PM) – $20 Whole Sunday (1 PM – 11 PM)!!
URL:https://golatindance.com/event/latin-sundays-at-gold-coast-ballroom/2025-08-17/
LOCATION:Goldcoast Ballroom\, 1415 Lyons Rd\, Coconut Creek\, FL\, 33063-3929\, United States
CATEGORIES:Miami
ATTACH;FMTTYPE=image/jpeg:https://golatindance.com/wp-content/uploads/2025/08/530410349_24226188167009217_2950933661769044657_n.jpg
GEO:26.2478823;-80.1880568
X-APPLE-STRUCTURED-LOCATION;VALUE=URI;X-ADDRESS=Goldcoast Ballroom 1415 Lyons Rd Coconut Creek FL 33063-3929 United States;X-APPLE-RADIUS=500;X-TITLE=1415 Lyons Rd:geo:-80.1880568,26.2478823
END:VEVENT
BEGIN:VEVENT
DTSTART;TZID=America/New_York:20250810T170000
DTEND;TZID=America/New_York:20250810T230000
DTSTAMP:20260425T002407
CREATED:20250812T143352Z
LAST-MODIFIED:20250812T143352Z
UID:10385404-1754845200-1754866800@golatindance.com
SUMMARY:Latin Sundays at Gold Coast Ballroom
DESCRIPTION:Every Sunday – MATINEE DANCE (1-4:00 PM!) – SALSA GROUP CLASSES (4-5 PM – Included with Sunday Admission!) – LATIN NIGHT DANCE PARTY (5 PM – 11:00 PM) – $20 Whole Sunday (1 PM – 11 PM)!!
URL:https://golatindance.com/event/latin-sundays-at-gold-coast-ballroom/2025-08-10/
LOCATION:Goldcoast Ballroom\, 1415 Lyons Rd\, Coconut Creek\, FL\, 33063-3929\, United States
CATEGORIES:Miami
ATTACH;FMTTYPE=image/jpeg:https://golatindance.com/wp-content/uploads/2025/08/530410349_24226188167009217_2950933661769044657_n.jpg
GEO:26.2478823;-80.1880568
X-APPLE-STRUCTURED-LOCATION;VALUE=URI;X-ADDRESS=Goldcoast Ballroom 1415 Lyons Rd Coconut Creek FL 33063-3929 United States;X-APPLE-RADIUS=500;X-TITLE=1415 Lyons Rd:geo:-80.1880568,26.2478823
END:VEVENT
END:VCALENDAR