BEGIN:VCALENDAR
VERSION:2.0
PRODID:-//GO Latin Dance - ECPv6.15.18//NONSGML v1.0//EN
CALSCALE:GREGORIAN
METHOD:PUBLISH
X-ORIGINAL-URL:https://golatindance.com
X-WR-CALDESC:Events for GO Latin Dance
REFRESH-INTERVAL;VALUE=DURATION:PT1H
X-Robots-Tag:noindex
X-PUBLISHED-TTL:PT1H
BEGIN:VTIMEZONE
TZID:America/New_York
BEGIN:DAYLIGHT
TZOFFSETFROM:-0500
TZOFFSETTO:-0400
TZNAME:EDT
DTSTART:20280312T070000
END:DAYLIGHT
BEGIN:STANDARD
TZOFFSETFROM:-0400
TZOFFSETTO:-0500
TZNAME:EST
DTSTART:20281105T060000
END:STANDARD
BEGIN:DAYLIGHT
TZOFFSETFROM:-0500
TZOFFSETTO:-0400
TZNAME:EDT
DTSTART:20290311T070000
END:DAYLIGHT
BEGIN:STANDARD
TZOFFSETFROM:-0400
TZOFFSETTO:-0500
TZNAME:EST
DTSTART:20291104T060000
END:STANDARD
BEGIN:DAYLIGHT
TZOFFSETFROM:-0500
TZOFFSETTO:-0400
TZNAME:EDT
DTSTART:20300310T070000
END:DAYLIGHT
BEGIN:STANDARD
TZOFFSETFROM:-0400
TZOFFSETTO:-0500
TZNAME:EST
DTSTART:20301103T060000
END:STANDARD
BEGIN:DAYLIGHT
TZOFFSETFROM:-0500
TZOFFSETTO:-0400
TZNAME:EDT
DTSTART:20310309T070000
END:DAYLIGHT
BEGIN:STANDARD
TZOFFSETFROM:-0400
TZOFFSETTO:-0500
TZNAME:EST
DTSTART:20311102T060000
END:STANDARD
END:VTIMEZONE
BEGIN:VEVENT
DTSTART;TZID=America/New_York:20290727T220000
DTEND;TZID=America/New_York:20290728T020000
DTSTAMP:20260421T071959
CREATED:20250820T141121Z
LAST-MODIFIED:20250820T141121Z
UID:10390993-1879884000-1879898400@golatindance.com
SUMMARY:Jukanbaila Salsa Night
DESCRIPTION:Jukanbaila Salsa Night is back for the season in Courtyard 5/6! Kick off the weekend with DJ Gagou every Friday night as we dance under the stars to salsa\, bachata\, and more. Whether you’re an experienced dancer or just beginning\, join Barrow’s Intense and Carreau Club for an exhilarating evening of culture\, community\, and connection in a welcoming\, supportive environment.
URL:https://golatindance.com/event/jukanbaila-salsa-night/2029-07-27/
LOCATION:Barrow’s Intense Tasting Room\, 86 34th St\, Brooklyn\, NY\, 11232\, United States
END:VEVENT
BEGIN:VEVENT
DTSTART;TZID=America/New_York:20290803T220000
DTEND;TZID=America/New_York:20290804T020000
DTSTAMP:20260421T071959
CREATED:20250820T141121Z
LAST-MODIFIED:20250820T141121Z
UID:10390994-1880488800-1880503200@golatindance.com
SUMMARY:Jukanbaila Salsa Night
DESCRIPTION:Jukanbaila Salsa Night is back for the season in Courtyard 5/6! Kick off the weekend with DJ Gagou every Friday night as we dance under the stars to salsa\, bachata\, and more. Whether you’re an experienced dancer or just beginning\, join Barrow’s Intense and Carreau Club for an exhilarating evening of culture\, community\, and connection in a welcoming\, supportive environment.
URL:https://golatindance.com/event/jukanbaila-salsa-night/2029-08-03/
LOCATION:Barrow’s Intense Tasting Room\, 86 34th St\, Brooklyn\, NY\, 11232\, United States
END:VEVENT
BEGIN:VEVENT
DTSTART;TZID=America/New_York:20290810T220000
DTEND;TZID=America/New_York:20290811T020000
DTSTAMP:20260421T071959
CREATED:20250820T141121Z
LAST-MODIFIED:20250820T141121Z
UID:10390995-1881093600-1881108000@golatindance.com
SUMMARY:Jukanbaila Salsa Night
DESCRIPTION:Jukanbaila Salsa Night is back for the season in Courtyard 5/6! Kick off the weekend with DJ Gagou every Friday night as we dance under the stars to salsa\, bachata\, and more. Whether you’re an experienced dancer or just beginning\, join Barrow’s Intense and Carreau Club for an exhilarating evening of culture\, community\, and connection in a welcoming\, supportive environment.
URL:https://golatindance.com/event/jukanbaila-salsa-night/2029-08-10/
LOCATION:Barrow’s Intense Tasting Room\, 86 34th St\, Brooklyn\, NY\, 11232\, United States
END:VEVENT
BEGIN:VEVENT
DTSTART;TZID=America/New_York:20290817T220000
DTEND;TZID=America/New_York:20290818T020000
DTSTAMP:20260421T071959
CREATED:20250820T141121Z
LAST-MODIFIED:20250820T141121Z
UID:10390996-1881698400-1881712800@golatindance.com
SUMMARY:Jukanbaila Salsa Night
DESCRIPTION:Jukanbaila Salsa Night is back for the season in Courtyard 5/6! Kick off the weekend with DJ Gagou every Friday night as we dance under the stars to salsa\, bachata\, and more. Whether you’re an experienced dancer or just beginning\, join Barrow’s Intense and Carreau Club for an exhilarating evening of culture\, community\, and connection in a welcoming\, supportive environment.
URL:https://golatindance.com/event/jukanbaila-salsa-night/2029-08-17/
LOCATION:Barrow’s Intense Tasting Room\, 86 34th St\, Brooklyn\, NY\, 11232\, United States
END:VEVENT
BEGIN:VEVENT
DTSTART;TZID=America/New_York:20290824T220000
DTEND;TZID=America/New_York:20290825T020000
DTSTAMP:20260421T071959
CREATED:20250820T141121Z
LAST-MODIFIED:20250820T141121Z
UID:10390997-1882303200-1882317600@golatindance.com
SUMMARY:Jukanbaila Salsa Night
DESCRIPTION:Jukanbaila Salsa Night is back for the season in Courtyard 5/6! Kick off the weekend with DJ Gagou every Friday night as we dance under the stars to salsa\, bachata\, and more. Whether you’re an experienced dancer or just beginning\, join Barrow’s Intense and Carreau Club for an exhilarating evening of culture\, community\, and connection in a welcoming\, supportive environment.
URL:https://golatindance.com/event/jukanbaila-salsa-night/2029-08-24/
LOCATION:Barrow’s Intense Tasting Room\, 86 34th St\, Brooklyn\, NY\, 11232\, United States
END:VEVENT
BEGIN:VEVENT
DTSTART;TZID=America/New_York:20290831T220000
DTEND;TZID=America/New_York:20290901T020000
DTSTAMP:20260421T071959
CREATED:20250820T141121Z
LAST-MODIFIED:20250820T141121Z
UID:10390998-1882908000-1882922400@golatindance.com
SUMMARY:Jukanbaila Salsa Night
DESCRIPTION:Jukanbaila Salsa Night is back for the season in Courtyard 5/6! Kick off the weekend with DJ Gagou every Friday night as we dance under the stars to salsa\, bachata\, and more. Whether you’re an experienced dancer or just beginning\, join Barrow’s Intense and Carreau Club for an exhilarating evening of culture\, community\, and connection in a welcoming\, supportive environment.
URL:https://golatindance.com/event/jukanbaila-salsa-night/2029-08-31/
LOCATION:Barrow’s Intense Tasting Room\, 86 34th St\, Brooklyn\, NY\, 11232\, United States
END:VEVENT
BEGIN:VEVENT
DTSTART;TZID=America/New_York:20290907T220000
DTEND;TZID=America/New_York:20290908T020000
DTSTAMP:20260421T071959
CREATED:20250820T141121Z
LAST-MODIFIED:20250820T141121Z
UID:10390999-1883512800-1883527200@golatindance.com
SUMMARY:Jukanbaila Salsa Night
DESCRIPTION:Jukanbaila Salsa Night is back for the season in Courtyard 5/6! Kick off the weekend with DJ Gagou every Friday night as we dance under the stars to salsa\, bachata\, and more. Whether you’re an experienced dancer or just beginning\, join Barrow’s Intense and Carreau Club for an exhilarating evening of culture\, community\, and connection in a welcoming\, supportive environment.
URL:https://golatindance.com/event/jukanbaila-salsa-night/2029-09-07/
LOCATION:Barrow’s Intense Tasting Room\, 86 34th St\, Brooklyn\, NY\, 11232\, United States
END:VEVENT
BEGIN:VEVENT
DTSTART;TZID=America/New_York:20290914T220000
DTEND;TZID=America/New_York:20290915T020000
DTSTAMP:20260421T071959
CREATED:20250820T141121Z
LAST-MODIFIED:20250820T141121Z
UID:10391000-1884117600-1884132000@golatindance.com
SUMMARY:Jukanbaila Salsa Night
DESCRIPTION:Jukanbaila Salsa Night is back for the season in Courtyard 5/6! Kick off the weekend with DJ Gagou every Friday night as we dance under the stars to salsa\, bachata\, and more. Whether you’re an experienced dancer or just beginning\, join Barrow’s Intense and Carreau Club for an exhilarating evening of culture\, community\, and connection in a welcoming\, supportive environment.
URL:https://golatindance.com/event/jukanbaila-salsa-night/2029-09-14/
LOCATION:Barrow’s Intense Tasting Room\, 86 34th St\, Brooklyn\, NY\, 11232\, United States
END:VEVENT
BEGIN:VEVENT
DTSTART;TZID=America/New_York:20290921T220000
DTEND;TZID=America/New_York:20290922T020000
DTSTAMP:20260421T071959
CREATED:20250820T141121Z
LAST-MODIFIED:20250820T141121Z
UID:10391001-1884722400-1884736800@golatindance.com
SUMMARY:Jukanbaila Salsa Night
DESCRIPTION:Jukanbaila Salsa Night is back for the season in Courtyard 5/6! Kick off the weekend with DJ Gagou every Friday night as we dance under the stars to salsa\, bachata\, and more. Whether you’re an experienced dancer or just beginning\, join Barrow’s Intense and Carreau Club for an exhilarating evening of culture\, community\, and connection in a welcoming\, supportive environment.
URL:https://golatindance.com/event/jukanbaila-salsa-night/2029-09-21/
LOCATION:Barrow’s Intense Tasting Room\, 86 34th St\, Brooklyn\, NY\, 11232\, United States
END:VEVENT
BEGIN:VEVENT
DTSTART;TZID=America/New_York:20290928T220000
DTEND;TZID=America/New_York:20290929T020000
DTSTAMP:20260421T071959
CREATED:20250820T141121Z
LAST-MODIFIED:20250820T141121Z
UID:10391002-1885327200-1885341600@golatindance.com
SUMMARY:Jukanbaila Salsa Night
DESCRIPTION:Jukanbaila Salsa Night is back for the season in Courtyard 5/6! Kick off the weekend with DJ Gagou every Friday night as we dance under the stars to salsa\, bachata\, and more. Whether you’re an experienced dancer or just beginning\, join Barrow’s Intense and Carreau Club for an exhilarating evening of culture\, community\, and connection in a welcoming\, supportive environment.
URL:https://golatindance.com/event/jukanbaila-salsa-night/2029-09-28/
LOCATION:Barrow’s Intense Tasting Room\, 86 34th St\, Brooklyn\, NY\, 11232\, United States
END:VEVENT
BEGIN:VEVENT
DTSTART;TZID=America/New_York:20291005T220000
DTEND;TZID=America/New_York:20291006T020000
DTSTAMP:20260421T071959
CREATED:20250820T141121Z
LAST-MODIFIED:20250820T141121Z
UID:10391003-1885932000-1885946400@golatindance.com
SUMMARY:Jukanbaila Salsa Night
DESCRIPTION:Jukanbaila Salsa Night is back for the season in Courtyard 5/6! Kick off the weekend with DJ Gagou every Friday night as we dance under the stars to salsa\, bachata\, and more. Whether you’re an experienced dancer or just beginning\, join Barrow’s Intense and Carreau Club for an exhilarating evening of culture\, community\, and connection in a welcoming\, supportive environment.
URL:https://golatindance.com/event/jukanbaila-salsa-night/2029-10-05/
LOCATION:Barrow’s Intense Tasting Room\, 86 34th St\, Brooklyn\, NY\, 11232\, United States
END:VEVENT
BEGIN:VEVENT
DTSTART;TZID=America/New_York:20291012T220000
DTEND;TZID=America/New_York:20291013T020000
DTSTAMP:20260421T071959
CREATED:20250820T141121Z
LAST-MODIFIED:20250820T141121Z
UID:10391004-1886536800-1886551200@golatindance.com
SUMMARY:Jukanbaila Salsa Night
DESCRIPTION:Jukanbaila Salsa Night is back for the season in Courtyard 5/6! Kick off the weekend with DJ Gagou every Friday night as we dance under the stars to salsa\, bachata\, and more. Whether you’re an experienced dancer or just beginning\, join Barrow’s Intense and Carreau Club for an exhilarating evening of culture\, community\, and connection in a welcoming\, supportive environment.
URL:https://golatindance.com/event/jukanbaila-salsa-night/2029-10-12/
LOCATION:Barrow’s Intense Tasting Room\, 86 34th St\, Brooklyn\, NY\, 11232\, United States
END:VEVENT
BEGIN:VEVENT
DTSTART;TZID=America/New_York:20291019T220000
DTEND;TZID=America/New_York:20291020T020000
DTSTAMP:20260421T071959
CREATED:20250820T141121Z
LAST-MODIFIED:20250820T141121Z
UID:10391005-1887141600-1887156000@golatindance.com
SUMMARY:Jukanbaila Salsa Night
DESCRIPTION:Jukanbaila Salsa Night is back for the season in Courtyard 5/6! Kick off the weekend with DJ Gagou every Friday night as we dance under the stars to salsa\, bachata\, and more. Whether you’re an experienced dancer or just beginning\, join Barrow’s Intense and Carreau Club for an exhilarating evening of culture\, community\, and connection in a welcoming\, supportive environment.
URL:https://golatindance.com/event/jukanbaila-salsa-night/2029-10-19/
LOCATION:Barrow’s Intense Tasting Room\, 86 34th St\, Brooklyn\, NY\, 11232\, United States
END:VEVENT
BEGIN:VEVENT
DTSTART;TZID=America/New_York:20291026T220000
DTEND;TZID=America/New_York:20291027T020000
DTSTAMP:20260421T071959
CREATED:20250820T141121Z
LAST-MODIFIED:20250820T141121Z
UID:10391006-1887746400-1887760800@golatindance.com
SUMMARY:Jukanbaila Salsa Night
DESCRIPTION:Jukanbaila Salsa Night is back for the season in Courtyard 5/6! Kick off the weekend with DJ Gagou every Friday night as we dance under the stars to salsa\, bachata\, and more. Whether you’re an experienced dancer or just beginning\, join Barrow’s Intense and Carreau Club for an exhilarating evening of culture\, community\, and connection in a welcoming\, supportive environment.
URL:https://golatindance.com/event/jukanbaila-salsa-night/2029-10-26/
LOCATION:Barrow’s Intense Tasting Room\, 86 34th St\, Brooklyn\, NY\, 11232\, United States
END:VEVENT
BEGIN:VEVENT
DTSTART;TZID=America/New_York:20291102T220000
DTEND;TZID=America/New_York:20291103T020000
DTSTAMP:20260421T071959
CREATED:20250820T141121Z
LAST-MODIFIED:20250820T141121Z
UID:10391007-1888351200-1888365600@golatindance.com
SUMMARY:Jukanbaila Salsa Night
DESCRIPTION:Jukanbaila Salsa Night is back for the season in Courtyard 5/6! Kick off the weekend with DJ Gagou every Friday night as we dance under the stars to salsa\, bachata\, and more. Whether you’re an experienced dancer or just beginning\, join Barrow’s Intense and Carreau Club for an exhilarating evening of culture\, community\, and connection in a welcoming\, supportive environment.
URL:https://golatindance.com/event/jukanbaila-salsa-night/2029-11-02/
LOCATION:Barrow’s Intense Tasting Room\, 86 34th St\, Brooklyn\, NY\, 11232\, United States
END:VEVENT
BEGIN:VEVENT
DTSTART;TZID=America/New_York:20291109T220000
DTEND;TZID=America/New_York:20291110T020000
DTSTAMP:20260421T071959
CREATED:20250820T141121Z
LAST-MODIFIED:20250820T141121Z
UID:10391008-1888956000-1888970400@golatindance.com
SUMMARY:Jukanbaila Salsa Night
DESCRIPTION:Jukanbaila Salsa Night is back for the season in Courtyard 5/6! Kick off the weekend with DJ Gagou every Friday night as we dance under the stars to salsa\, bachata\, and more. Whether you’re an experienced dancer or just beginning\, join Barrow’s Intense and Carreau Club for an exhilarating evening of culture\, community\, and connection in a welcoming\, supportive environment.
URL:https://golatindance.com/event/jukanbaila-salsa-night/2029-11-09/
LOCATION:Barrow’s Intense Tasting Room\, 86 34th St\, Brooklyn\, NY\, 11232\, United States
END:VEVENT
BEGIN:VEVENT
DTSTART;TZID=America/New_York:20291116T220000
DTEND;TZID=America/New_York:20291117T020000
DTSTAMP:20260421T071959
CREATED:20250820T141121Z
LAST-MODIFIED:20250820T141121Z
UID:10391009-1889560800-1889575200@golatindance.com
SUMMARY:Jukanbaila Salsa Night
DESCRIPTION:Jukanbaila Salsa Night is back for the season in Courtyard 5/6! Kick off the weekend with DJ Gagou every Friday night as we dance under the stars to salsa\, bachata\, and more. Whether you’re an experienced dancer or just beginning\, join Barrow’s Intense and Carreau Club for an exhilarating evening of culture\, community\, and connection in a welcoming\, supportive environment.
URL:https://golatindance.com/event/jukanbaila-salsa-night/2029-11-16/
LOCATION:Barrow’s Intense Tasting Room\, 86 34th St\, Brooklyn\, NY\, 11232\, United States
END:VEVENT
BEGIN:VEVENT
DTSTART;TZID=America/New_York:20291123T220000
DTEND;TZID=America/New_York:20291124T020000
DTSTAMP:20260421T071959
CREATED:20250820T141121Z
LAST-MODIFIED:20250820T141121Z
UID:10391010-1890165600-1890180000@golatindance.com
SUMMARY:Jukanbaila Salsa Night
DESCRIPTION:Jukanbaila Salsa Night is back for the season in Courtyard 5/6! Kick off the weekend with DJ Gagou every Friday night as we dance under the stars to salsa\, bachata\, and more. Whether you’re an experienced dancer or just beginning\, join Barrow’s Intense and Carreau Club for an exhilarating evening of culture\, community\, and connection in a welcoming\, supportive environment.
URL:https://golatindance.com/event/jukanbaila-salsa-night/2029-11-23/
LOCATION:Barrow’s Intense Tasting Room\, 86 34th St\, Brooklyn\, NY\, 11232\, United States
END:VEVENT
BEGIN:VEVENT
DTSTART;TZID=America/New_York:20291130T220000
DTEND;TZID=America/New_York:20291201T020000
DTSTAMP:20260421T071959
CREATED:20250820T141121Z
LAST-MODIFIED:20250820T141121Z
UID:10391011-1890770400-1890784800@golatindance.com
SUMMARY:Jukanbaila Salsa Night
DESCRIPTION:Jukanbaila Salsa Night is back for the season in Courtyard 5/6! Kick off the weekend with DJ Gagou every Friday night as we dance under the stars to salsa\, bachata\, and more. Whether you’re an experienced dancer or just beginning\, join Barrow’s Intense and Carreau Club for an exhilarating evening of culture\, community\, and connection in a welcoming\, supportive environment.
URL:https://golatindance.com/event/jukanbaila-salsa-night/2029-11-30/
LOCATION:Barrow’s Intense Tasting Room\, 86 34th St\, Brooklyn\, NY\, 11232\, United States
END:VEVENT
BEGIN:VEVENT
DTSTART;TZID=America/New_York:20291207T220000
DTEND;TZID=America/New_York:20291208T020000
DTSTAMP:20260421T071959
CREATED:20250820T141121Z
LAST-MODIFIED:20250820T141121Z
UID:10391012-1891375200-1891389600@golatindance.com
SUMMARY:Jukanbaila Salsa Night
DESCRIPTION:Jukanbaila Salsa Night is back for the season in Courtyard 5/6! Kick off the weekend with DJ Gagou every Friday night as we dance under the stars to salsa\, bachata\, and more. Whether you’re an experienced dancer or just beginning\, join Barrow’s Intense and Carreau Club for an exhilarating evening of culture\, community\, and connection in a welcoming\, supportive environment.
URL:https://golatindance.com/event/jukanbaila-salsa-night/2029-12-07/
LOCATION:Barrow’s Intense Tasting Room\, 86 34th St\, Brooklyn\, NY\, 11232\, United States
END:VEVENT
BEGIN:VEVENT
DTSTART;TZID=America/New_York:20291214T220000
DTEND;TZID=America/New_York:20291215T020000
DTSTAMP:20260421T071959
CREATED:20250820T141121Z
LAST-MODIFIED:20250820T141121Z
UID:10391013-1891980000-1891994400@golatindance.com
SUMMARY:Jukanbaila Salsa Night
DESCRIPTION:Jukanbaila Salsa Night is back for the season in Courtyard 5/6! Kick off the weekend with DJ Gagou every Friday night as we dance under the stars to salsa\, bachata\, and more. Whether you’re an experienced dancer or just beginning\, join Barrow’s Intense and Carreau Club for an exhilarating evening of culture\, community\, and connection in a welcoming\, supportive environment.
URL:https://golatindance.com/event/jukanbaila-salsa-night/2029-12-14/
LOCATION:Barrow’s Intense Tasting Room\, 86 34th St\, Brooklyn\, NY\, 11232\, United States
END:VEVENT
BEGIN:VEVENT
DTSTART;TZID=America/New_York:20291221T220000
DTEND;TZID=America/New_York:20291222T020000
DTSTAMP:20260421T071959
CREATED:20250820T141121Z
LAST-MODIFIED:20250820T141121Z
UID:10391014-1892584800-1892599200@golatindance.com
SUMMARY:Jukanbaila Salsa Night
DESCRIPTION:Jukanbaila Salsa Night is back for the season in Courtyard 5/6! Kick off the weekend with DJ Gagou every Friday night as we dance under the stars to salsa\, bachata\, and more. Whether you’re an experienced dancer or just beginning\, join Barrow’s Intense and Carreau Club for an exhilarating evening of culture\, community\, and connection in a welcoming\, supportive environment.
URL:https://golatindance.com/event/jukanbaila-salsa-night/2029-12-21/
LOCATION:Barrow’s Intense Tasting Room\, 86 34th St\, Brooklyn\, NY\, 11232\, United States
END:VEVENT
BEGIN:VEVENT
DTSTART;TZID=America/New_York:20291228T220000
DTEND;TZID=America/New_York:20291229T020000
DTSTAMP:20260421T071959
CREATED:20250820T141121Z
LAST-MODIFIED:20250820T141121Z
UID:10391015-1893189600-1893204000@golatindance.com
SUMMARY:Jukanbaila Salsa Night
DESCRIPTION:Jukanbaila Salsa Night is back for the season in Courtyard 5/6! Kick off the weekend with DJ Gagou every Friday night as we dance under the stars to salsa\, bachata\, and more. Whether you’re an experienced dancer or just beginning\, join Barrow’s Intense and Carreau Club for an exhilarating evening of culture\, community\, and connection in a welcoming\, supportive environment.
URL:https://golatindance.com/event/jukanbaila-salsa-night/2029-12-28/
LOCATION:Barrow’s Intense Tasting Room\, 86 34th St\, Brooklyn\, NY\, 11232\, United States
END:VEVENT
BEGIN:VEVENT
DTSTART;TZID=America/New_York:20300104T220000
DTEND;TZID=America/New_York:20300105T020000
DTSTAMP:20260421T071959
CREATED:20250820T141121Z
LAST-MODIFIED:20250820T141121Z
UID:10391016-1893794400-1893808800@golatindance.com
SUMMARY:Jukanbaila Salsa Night
DESCRIPTION:Jukanbaila Salsa Night is back for the season in Courtyard 5/6! Kick off the weekend with DJ Gagou every Friday night as we dance under the stars to salsa\, bachata\, and more. Whether you’re an experienced dancer or just beginning\, join Barrow’s Intense and Carreau Club for an exhilarating evening of culture\, community\, and connection in a welcoming\, supportive environment.
URL:https://golatindance.com/event/jukanbaila-salsa-night/2030-01-04/
LOCATION:Barrow’s Intense Tasting Room\, 86 34th St\, Brooklyn\, NY\, 11232\, United States
END:VEVENT
BEGIN:VEVENT
DTSTART;TZID=America/New_York:20300111T220000
DTEND;TZID=America/New_York:20300112T020000
DTSTAMP:20260421T071959
CREATED:20250820T141121Z
LAST-MODIFIED:20250820T141121Z
UID:10391017-1894399200-1894413600@golatindance.com
SUMMARY:Jukanbaila Salsa Night
DESCRIPTION:Jukanbaila Salsa Night is back for the season in Courtyard 5/6! Kick off the weekend with DJ Gagou every Friday night as we dance under the stars to salsa\, bachata\, and more. Whether you’re an experienced dancer or just beginning\, join Barrow’s Intense and Carreau Club for an exhilarating evening of culture\, community\, and connection in a welcoming\, supportive environment.
URL:https://golatindance.com/event/jukanbaila-salsa-night/2030-01-11/
LOCATION:Barrow’s Intense Tasting Room\, 86 34th St\, Brooklyn\, NY\, 11232\, United States
END:VEVENT
BEGIN:VEVENT
DTSTART;TZID=America/New_York:20300118T220000
DTEND;TZID=America/New_York:20300119T020000
DTSTAMP:20260421T071959
CREATED:20250820T141121Z
LAST-MODIFIED:20250820T141121Z
UID:10391018-1895004000-1895018400@golatindance.com
SUMMARY:Jukanbaila Salsa Night
DESCRIPTION:Jukanbaila Salsa Night is back for the season in Courtyard 5/6! Kick off the weekend with DJ Gagou every Friday night as we dance under the stars to salsa\, bachata\, and more. Whether you’re an experienced dancer or just beginning\, join Barrow’s Intense and Carreau Club for an exhilarating evening of culture\, community\, and connection in a welcoming\, supportive environment.
URL:https://golatindance.com/event/jukanbaila-salsa-night/2030-01-18/
LOCATION:Barrow’s Intense Tasting Room\, 86 34th St\, Brooklyn\, NY\, 11232\, United States
END:VEVENT
BEGIN:VEVENT
DTSTART;TZID=America/New_York:20300125T220000
DTEND;TZID=America/New_York:20300126T020000
DTSTAMP:20260421T071959
CREATED:20250820T141121Z
LAST-MODIFIED:20250820T141121Z
UID:10391019-1895608800-1895623200@golatindance.com
SUMMARY:Jukanbaila Salsa Night
DESCRIPTION:Jukanbaila Salsa Night is back for the season in Courtyard 5/6! Kick off the weekend with DJ Gagou every Friday night as we dance under the stars to salsa\, bachata\, and more. Whether you’re an experienced dancer or just beginning\, join Barrow’s Intense and Carreau Club for an exhilarating evening of culture\, community\, and connection in a welcoming\, supportive environment.
URL:https://golatindance.com/event/jukanbaila-salsa-night/2030-01-25/
LOCATION:Barrow’s Intense Tasting Room\, 86 34th St\, Brooklyn\, NY\, 11232\, United States
END:VEVENT
BEGIN:VEVENT
DTSTART;TZID=America/New_York:20300201T220000
DTEND;TZID=America/New_York:20300202T020000
DTSTAMP:20260421T071959
CREATED:20250820T141121Z
LAST-MODIFIED:20250820T141121Z
UID:10391020-1896213600-1896228000@golatindance.com
SUMMARY:Jukanbaila Salsa Night
DESCRIPTION:Jukanbaila Salsa Night is back for the season in Courtyard 5/6! Kick off the weekend with DJ Gagou every Friday night as we dance under the stars to salsa\, bachata\, and more. Whether you’re an experienced dancer or just beginning\, join Barrow’s Intense and Carreau Club for an exhilarating evening of culture\, community\, and connection in a welcoming\, supportive environment.
URL:https://golatindance.com/event/jukanbaila-salsa-night/2030-02-01/
LOCATION:Barrow’s Intense Tasting Room\, 86 34th St\, Brooklyn\, NY\, 11232\, United States
END:VEVENT
BEGIN:VEVENT
DTSTART;TZID=America/New_York:20300208T220000
DTEND;TZID=America/New_York:20300209T020000
DTSTAMP:20260421T071959
CREATED:20250820T141121Z
LAST-MODIFIED:20250820T141121Z
UID:10391021-1896818400-1896832800@golatindance.com
SUMMARY:Jukanbaila Salsa Night
DESCRIPTION:Jukanbaila Salsa Night is back for the season in Courtyard 5/6! Kick off the weekend with DJ Gagou every Friday night as we dance under the stars to salsa\, bachata\, and more. Whether you’re an experienced dancer or just beginning\, join Barrow’s Intense and Carreau Club for an exhilarating evening of culture\, community\, and connection in a welcoming\, supportive environment.
URL:https://golatindance.com/event/jukanbaila-salsa-night/2030-02-08/
LOCATION:Barrow’s Intense Tasting Room\, 86 34th St\, Brooklyn\, NY\, 11232\, United States
END:VEVENT
BEGIN:VEVENT
DTSTART;TZID=America/New_York:20300215T220000
DTEND;TZID=America/New_York:20300216T020000
DTSTAMP:20260421T071959
CREATED:20250820T141121Z
LAST-MODIFIED:20250820T141121Z
UID:10391022-1897423200-1897437600@golatindance.com
SUMMARY:Jukanbaila Salsa Night
DESCRIPTION:Jukanbaila Salsa Night is back for the season in Courtyard 5/6! Kick off the weekend with DJ Gagou every Friday night as we dance under the stars to salsa\, bachata\, and more. Whether you’re an experienced dancer or just beginning\, join Barrow’s Intense and Carreau Club for an exhilarating evening of culture\, community\, and connection in a welcoming\, supportive environment.
URL:https://golatindance.com/event/jukanbaila-salsa-night/2030-02-15/
LOCATION:Barrow’s Intense Tasting Room\, 86 34th St\, Brooklyn\, NY\, 11232\, United States
END:VEVENT
END:VCALENDAR