BEGIN:VCALENDAR
VERSION:2.0
PRODID:-//GO Latin Dance - ECPv6.15.18//NONSGML v1.0//EN
CALSCALE:GREGORIAN
METHOD:PUBLISH
X-WR-CALNAME:GO Latin Dance
X-ORIGINAL-URL:https://golatindance.com
X-WR-CALDESC:Events for GO Latin Dance
REFRESH-INTERVAL;VALUE=DURATION:PT1H
X-Robots-Tag:noindex
X-PUBLISHED-TTL:PT1H
BEGIN:VTIMEZONE
TZID:America/New_York
BEGIN:DAYLIGHT
TZOFFSETFROM:-0500
TZOFFSETTO:-0400
TZNAME:EDT
DTSTART:20280312T070000
END:DAYLIGHT
BEGIN:STANDARD
TZOFFSETFROM:-0400
TZOFFSETTO:-0500
TZNAME:EST
DTSTART:20281105T060000
END:STANDARD
BEGIN:DAYLIGHT
TZOFFSETFROM:-0500
TZOFFSETTO:-0400
TZNAME:EDT
DTSTART:20290311T070000
END:DAYLIGHT
BEGIN:STANDARD
TZOFFSETFROM:-0400
TZOFFSETTO:-0500
TZNAME:EST
DTSTART:20291104T060000
END:STANDARD
BEGIN:DAYLIGHT
TZOFFSETFROM:-0500
TZOFFSETTO:-0400
TZNAME:EDT
DTSTART:20300310T070000
END:DAYLIGHT
BEGIN:STANDARD
TZOFFSETFROM:-0400
TZOFFSETTO:-0500
TZNAME:EST
DTSTART:20301103T060000
END:STANDARD
BEGIN:DAYLIGHT
TZOFFSETFROM:-0500
TZOFFSETTO:-0400
TZNAME:EDT
DTSTART:20310309T070000
END:DAYLIGHT
BEGIN:STANDARD
TZOFFSETFROM:-0400
TZOFFSETTO:-0500
TZNAME:EST
DTSTART:20311102T060000
END:STANDARD
END:VTIMEZONE
BEGIN:VEVENT
DTSTART;TZID=America/New_York:20291214T220000
DTEND;TZID=America/New_York:20291215T020000
DTSTAMP:20260421T095936
CREATED:20250820T141121Z
LAST-MODIFIED:20250820T141121Z
UID:10391013-1891980000-1891994400@golatindance.com
SUMMARY:Jukanbaila Salsa Night
DESCRIPTION:Jukanbaila Salsa Night is back for the season in Courtyard 5/6! Kick off the weekend with DJ Gagou every Friday night as we dance under the stars to salsa\, bachata\, and more. Whether you’re an experienced dancer or just beginning\, join Barrow’s Intense and Carreau Club for an exhilarating evening of culture\, community\, and connection in a welcoming\, supportive environment.
URL:https://golatindance.com/event/jukanbaila-salsa-night/2029-12-14/
LOCATION:Barrow’s Intense Tasting Room\, 86 34th St\, Brooklyn\, NY\, 11232\, United States
END:VEVENT
BEGIN:VEVENT
DTSTART;TZID=America/New_York:20291221T220000
DTEND;TZID=America/New_York:20291222T020000
DTSTAMP:20260421T095936
CREATED:20250820T141121Z
LAST-MODIFIED:20250820T141121Z
UID:10391014-1892584800-1892599200@golatindance.com
SUMMARY:Jukanbaila Salsa Night
DESCRIPTION:Jukanbaila Salsa Night is back for the season in Courtyard 5/6! Kick off the weekend with DJ Gagou every Friday night as we dance under the stars to salsa\, bachata\, and more. Whether you’re an experienced dancer or just beginning\, join Barrow’s Intense and Carreau Club for an exhilarating evening of culture\, community\, and connection in a welcoming\, supportive environment.
URL:https://golatindance.com/event/jukanbaila-salsa-night/2029-12-21/
LOCATION:Barrow’s Intense Tasting Room\, 86 34th St\, Brooklyn\, NY\, 11232\, United States
END:VEVENT
BEGIN:VEVENT
DTSTART;TZID=America/New_York:20291228T220000
DTEND;TZID=America/New_York:20291229T020000
DTSTAMP:20260421T095936
CREATED:20250820T141121Z
LAST-MODIFIED:20250820T141121Z
UID:10391015-1893189600-1893204000@golatindance.com
SUMMARY:Jukanbaila Salsa Night
DESCRIPTION:Jukanbaila Salsa Night is back for the season in Courtyard 5/6! Kick off the weekend with DJ Gagou every Friday night as we dance under the stars to salsa\, bachata\, and more. Whether you’re an experienced dancer or just beginning\, join Barrow’s Intense and Carreau Club for an exhilarating evening of culture\, community\, and connection in a welcoming\, supportive environment.
URL:https://golatindance.com/event/jukanbaila-salsa-night/2029-12-28/
LOCATION:Barrow’s Intense Tasting Room\, 86 34th St\, Brooklyn\, NY\, 11232\, United States
END:VEVENT
BEGIN:VEVENT
DTSTART;TZID=America/New_York:20300104T220000
DTEND;TZID=America/New_York:20300105T020000
DTSTAMP:20260421T095936
CREATED:20250820T141121Z
LAST-MODIFIED:20250820T141121Z
UID:10391016-1893794400-1893808800@golatindance.com
SUMMARY:Jukanbaila Salsa Night
DESCRIPTION:Jukanbaila Salsa Night is back for the season in Courtyard 5/6! Kick off the weekend with DJ Gagou every Friday night as we dance under the stars to salsa\, bachata\, and more. Whether you’re an experienced dancer or just beginning\, join Barrow’s Intense and Carreau Club for an exhilarating evening of culture\, community\, and connection in a welcoming\, supportive environment.
URL:https://golatindance.com/event/jukanbaila-salsa-night/2030-01-04/
LOCATION:Barrow’s Intense Tasting Room\, 86 34th St\, Brooklyn\, NY\, 11232\, United States
END:VEVENT
BEGIN:VEVENT
DTSTART;TZID=America/New_York:20300111T220000
DTEND;TZID=America/New_York:20300112T020000
DTSTAMP:20260421T095936
CREATED:20250820T141121Z
LAST-MODIFIED:20250820T141121Z
UID:10391017-1894399200-1894413600@golatindance.com
SUMMARY:Jukanbaila Salsa Night
DESCRIPTION:Jukanbaila Salsa Night is back for the season in Courtyard 5/6! Kick off the weekend with DJ Gagou every Friday night as we dance under the stars to salsa\, bachata\, and more. Whether you’re an experienced dancer or just beginning\, join Barrow’s Intense and Carreau Club for an exhilarating evening of culture\, community\, and connection in a welcoming\, supportive environment.
URL:https://golatindance.com/event/jukanbaila-salsa-night/2030-01-11/
LOCATION:Barrow’s Intense Tasting Room\, 86 34th St\, Brooklyn\, NY\, 11232\, United States
END:VEVENT
BEGIN:VEVENT
DTSTART;TZID=America/New_York:20300118T220000
DTEND;TZID=America/New_York:20300119T020000
DTSTAMP:20260421T095936
CREATED:20250820T141121Z
LAST-MODIFIED:20250820T141121Z
UID:10391018-1895004000-1895018400@golatindance.com
SUMMARY:Jukanbaila Salsa Night
DESCRIPTION:Jukanbaila Salsa Night is back for the season in Courtyard 5/6! Kick off the weekend with DJ Gagou every Friday night as we dance under the stars to salsa\, bachata\, and more. Whether you’re an experienced dancer or just beginning\, join Barrow’s Intense and Carreau Club for an exhilarating evening of culture\, community\, and connection in a welcoming\, supportive environment.
URL:https://golatindance.com/event/jukanbaila-salsa-night/2030-01-18/
LOCATION:Barrow’s Intense Tasting Room\, 86 34th St\, Brooklyn\, NY\, 11232\, United States
END:VEVENT
BEGIN:VEVENT
DTSTART;TZID=America/New_York:20300125T220000
DTEND;TZID=America/New_York:20300126T020000
DTSTAMP:20260421T095936
CREATED:20250820T141121Z
LAST-MODIFIED:20250820T141121Z
UID:10391019-1895608800-1895623200@golatindance.com
SUMMARY:Jukanbaila Salsa Night
DESCRIPTION:Jukanbaila Salsa Night is back for the season in Courtyard 5/6! Kick off the weekend with DJ Gagou every Friday night as we dance under the stars to salsa\, bachata\, and more. Whether you’re an experienced dancer or just beginning\, join Barrow’s Intense and Carreau Club for an exhilarating evening of culture\, community\, and connection in a welcoming\, supportive environment.
URL:https://golatindance.com/event/jukanbaila-salsa-night/2030-01-25/
LOCATION:Barrow’s Intense Tasting Room\, 86 34th St\, Brooklyn\, NY\, 11232\, United States
END:VEVENT
BEGIN:VEVENT
DTSTART;TZID=America/New_York:20300201T220000
DTEND;TZID=America/New_York:20300202T020000
DTSTAMP:20260421T095936
CREATED:20250820T141121Z
LAST-MODIFIED:20250820T141121Z
UID:10391020-1896213600-1896228000@golatindance.com
SUMMARY:Jukanbaila Salsa Night
DESCRIPTION:Jukanbaila Salsa Night is back for the season in Courtyard 5/6! Kick off the weekend with DJ Gagou every Friday night as we dance under the stars to salsa\, bachata\, and more. Whether you’re an experienced dancer or just beginning\, join Barrow’s Intense and Carreau Club for an exhilarating evening of culture\, community\, and connection in a welcoming\, supportive environment.
URL:https://golatindance.com/event/jukanbaila-salsa-night/2030-02-01/
LOCATION:Barrow’s Intense Tasting Room\, 86 34th St\, Brooklyn\, NY\, 11232\, United States
END:VEVENT
BEGIN:VEVENT
DTSTART;TZID=America/New_York:20300208T220000
DTEND;TZID=America/New_York:20300209T020000
DTSTAMP:20260421T095936
CREATED:20250820T141121Z
LAST-MODIFIED:20250820T141121Z
UID:10391021-1896818400-1896832800@golatindance.com
SUMMARY:Jukanbaila Salsa Night
DESCRIPTION:Jukanbaila Salsa Night is back for the season in Courtyard 5/6! Kick off the weekend with DJ Gagou every Friday night as we dance under the stars to salsa\, bachata\, and more. Whether you’re an experienced dancer or just beginning\, join Barrow’s Intense and Carreau Club for an exhilarating evening of culture\, community\, and connection in a welcoming\, supportive environment.
URL:https://golatindance.com/event/jukanbaila-salsa-night/2030-02-08/
LOCATION:Barrow’s Intense Tasting Room\, 86 34th St\, Brooklyn\, NY\, 11232\, United States
END:VEVENT
BEGIN:VEVENT
DTSTART;TZID=America/New_York:20300215T220000
DTEND;TZID=America/New_York:20300216T020000
DTSTAMP:20260421T095936
CREATED:20250820T141121Z
LAST-MODIFIED:20250820T141121Z
UID:10391022-1897423200-1897437600@golatindance.com
SUMMARY:Jukanbaila Salsa Night
DESCRIPTION:Jukanbaila Salsa Night is back for the season in Courtyard 5/6! Kick off the weekend with DJ Gagou every Friday night as we dance under the stars to salsa\, bachata\, and more. Whether you’re an experienced dancer or just beginning\, join Barrow’s Intense and Carreau Club for an exhilarating evening of culture\, community\, and connection in a welcoming\, supportive environment.
URL:https://golatindance.com/event/jukanbaila-salsa-night/2030-02-15/
LOCATION:Barrow’s Intense Tasting Room\, 86 34th St\, Brooklyn\, NY\, 11232\, United States
END:VEVENT
BEGIN:VEVENT
DTSTART;TZID=America/New_York:20300222T220000
DTEND;TZID=America/New_York:20300223T020000
DTSTAMP:20260421T095936
CREATED:20250820T141121Z
LAST-MODIFIED:20250820T141121Z
UID:10391023-1898028000-1898042400@golatindance.com
SUMMARY:Jukanbaila Salsa Night
DESCRIPTION:Jukanbaila Salsa Night is back for the season in Courtyard 5/6! Kick off the weekend with DJ Gagou every Friday night as we dance under the stars to salsa\, bachata\, and more. Whether you’re an experienced dancer or just beginning\, join Barrow’s Intense and Carreau Club for an exhilarating evening of culture\, community\, and connection in a welcoming\, supportive environment.
URL:https://golatindance.com/event/jukanbaila-salsa-night/2030-02-22/
LOCATION:Barrow’s Intense Tasting Room\, 86 34th St\, Brooklyn\, NY\, 11232\, United States
END:VEVENT
BEGIN:VEVENT
DTSTART;TZID=America/New_York:20300301T220000
DTEND;TZID=America/New_York:20300302T020000
DTSTAMP:20260421T095936
CREATED:20250820T141121Z
LAST-MODIFIED:20250820T141121Z
UID:10391024-1898632800-1898647200@golatindance.com
SUMMARY:Jukanbaila Salsa Night
DESCRIPTION:Jukanbaila Salsa Night is back for the season in Courtyard 5/6! Kick off the weekend with DJ Gagou every Friday night as we dance under the stars to salsa\, bachata\, and more. Whether you’re an experienced dancer or just beginning\, join Barrow’s Intense and Carreau Club for an exhilarating evening of culture\, community\, and connection in a welcoming\, supportive environment.
URL:https://golatindance.com/event/jukanbaila-salsa-night/2030-03-01/
LOCATION:Barrow’s Intense Tasting Room\, 86 34th St\, Brooklyn\, NY\, 11232\, United States
END:VEVENT
BEGIN:VEVENT
DTSTART;TZID=America/New_York:20300308T220000
DTEND;TZID=America/New_York:20300309T020000
DTSTAMP:20260421T095936
CREATED:20250820T141121Z
LAST-MODIFIED:20250820T141121Z
UID:10391025-1899237600-1899252000@golatindance.com
SUMMARY:Jukanbaila Salsa Night
DESCRIPTION:Jukanbaila Salsa Night is back for the season in Courtyard 5/6! Kick off the weekend with DJ Gagou every Friday night as we dance under the stars to salsa\, bachata\, and more. Whether you’re an experienced dancer or just beginning\, join Barrow’s Intense and Carreau Club for an exhilarating evening of culture\, community\, and connection in a welcoming\, supportive environment.
URL:https://golatindance.com/event/jukanbaila-salsa-night/2030-03-08/
LOCATION:Barrow’s Intense Tasting Room\, 86 34th St\, Brooklyn\, NY\, 11232\, United States
END:VEVENT
BEGIN:VEVENT
DTSTART;TZID=America/New_York:20300315T220000
DTEND;TZID=America/New_York:20300316T020000
DTSTAMP:20260421T095936
CREATED:20250820T141121Z
LAST-MODIFIED:20250820T141121Z
UID:10391026-1899842400-1899856800@golatindance.com
SUMMARY:Jukanbaila Salsa Night
DESCRIPTION:Jukanbaila Salsa Night is back for the season in Courtyard 5/6! Kick off the weekend with DJ Gagou every Friday night as we dance under the stars to salsa\, bachata\, and more. Whether you’re an experienced dancer or just beginning\, join Barrow’s Intense and Carreau Club for an exhilarating evening of culture\, community\, and connection in a welcoming\, supportive environment.
URL:https://golatindance.com/event/jukanbaila-salsa-night/2030-03-15/
LOCATION:Barrow’s Intense Tasting Room\, 86 34th St\, Brooklyn\, NY\, 11232\, United States
END:VEVENT
BEGIN:VEVENT
DTSTART;TZID=America/New_York:20300322T220000
DTEND;TZID=America/New_York:20300323T020000
DTSTAMP:20260421T095936
CREATED:20250820T141121Z
LAST-MODIFIED:20250820T141121Z
UID:10391027-1900447200-1900461600@golatindance.com
SUMMARY:Jukanbaila Salsa Night
DESCRIPTION:Jukanbaila Salsa Night is back for the season in Courtyard 5/6! Kick off the weekend with DJ Gagou every Friday night as we dance under the stars to salsa\, bachata\, and more. Whether you’re an experienced dancer or just beginning\, join Barrow’s Intense and Carreau Club for an exhilarating evening of culture\, community\, and connection in a welcoming\, supportive environment.
URL:https://golatindance.com/event/jukanbaila-salsa-night/2030-03-22/
LOCATION:Barrow’s Intense Tasting Room\, 86 34th St\, Brooklyn\, NY\, 11232\, United States
END:VEVENT
BEGIN:VEVENT
DTSTART;TZID=America/New_York:20300329T220000
DTEND;TZID=America/New_York:20300330T020000
DTSTAMP:20260421T095936
CREATED:20250820T141121Z
LAST-MODIFIED:20250820T141121Z
UID:10391028-1901052000-1901066400@golatindance.com
SUMMARY:Jukanbaila Salsa Night
DESCRIPTION:Jukanbaila Salsa Night is back for the season in Courtyard 5/6! Kick off the weekend with DJ Gagou every Friday night as we dance under the stars to salsa\, bachata\, and more. Whether you’re an experienced dancer or just beginning\, join Barrow’s Intense and Carreau Club for an exhilarating evening of culture\, community\, and connection in a welcoming\, supportive environment.
URL:https://golatindance.com/event/jukanbaila-salsa-night/2030-03-29/
LOCATION:Barrow’s Intense Tasting Room\, 86 34th St\, Brooklyn\, NY\, 11232\, United States
END:VEVENT
BEGIN:VEVENT
DTSTART;TZID=America/New_York:20300405T220000
DTEND;TZID=America/New_York:20300406T020000
DTSTAMP:20260421T095936
CREATED:20250820T141121Z
LAST-MODIFIED:20250820T141121Z
UID:10391029-1901656800-1901671200@golatindance.com
SUMMARY:Jukanbaila Salsa Night
DESCRIPTION:Jukanbaila Salsa Night is back for the season in Courtyard 5/6! Kick off the weekend with DJ Gagou every Friday night as we dance under the stars to salsa\, bachata\, and more. Whether you’re an experienced dancer or just beginning\, join Barrow’s Intense and Carreau Club for an exhilarating evening of culture\, community\, and connection in a welcoming\, supportive environment.
URL:https://golatindance.com/event/jukanbaila-salsa-night/2030-04-05/
LOCATION:Barrow’s Intense Tasting Room\, 86 34th St\, Brooklyn\, NY\, 11232\, United States
END:VEVENT
BEGIN:VEVENT
DTSTART;TZID=America/New_York:20300412T220000
DTEND;TZID=America/New_York:20300413T020000
DTSTAMP:20260421T095936
CREATED:20250820T141121Z
LAST-MODIFIED:20250820T141121Z
UID:10391030-1902261600-1902276000@golatindance.com
SUMMARY:Jukanbaila Salsa Night
DESCRIPTION:Jukanbaila Salsa Night is back for the season in Courtyard 5/6! Kick off the weekend with DJ Gagou every Friday night as we dance under the stars to salsa\, bachata\, and more. Whether you’re an experienced dancer or just beginning\, join Barrow’s Intense and Carreau Club for an exhilarating evening of culture\, community\, and connection in a welcoming\, supportive environment.
URL:https://golatindance.com/event/jukanbaila-salsa-night/2030-04-12/
LOCATION:Barrow’s Intense Tasting Room\, 86 34th St\, Brooklyn\, NY\, 11232\, United States
END:VEVENT
BEGIN:VEVENT
DTSTART;TZID=America/New_York:20300419T220000
DTEND;TZID=America/New_York:20300420T020000
DTSTAMP:20260421T095936
CREATED:20250820T141121Z
LAST-MODIFIED:20250820T141121Z
UID:10391031-1902866400-1902880800@golatindance.com
SUMMARY:Jukanbaila Salsa Night
DESCRIPTION:Jukanbaila Salsa Night is back for the season in Courtyard 5/6! Kick off the weekend with DJ Gagou every Friday night as we dance under the stars to salsa\, bachata\, and more. Whether you’re an experienced dancer or just beginning\, join Barrow’s Intense and Carreau Club for an exhilarating evening of culture\, community\, and connection in a welcoming\, supportive environment.
URL:https://golatindance.com/event/jukanbaila-salsa-night/2030-04-19/
LOCATION:Barrow’s Intense Tasting Room\, 86 34th St\, Brooklyn\, NY\, 11232\, United States
END:VEVENT
BEGIN:VEVENT
DTSTART;TZID=America/New_York:20300426T220000
DTEND;TZID=America/New_York:20300427T020000
DTSTAMP:20260421T095936
CREATED:20250820T141121Z
LAST-MODIFIED:20250820T141121Z
UID:10391032-1903471200-1903485600@golatindance.com
SUMMARY:Jukanbaila Salsa Night
DESCRIPTION:Jukanbaila Salsa Night is back for the season in Courtyard 5/6! Kick off the weekend with DJ Gagou every Friday night as we dance under the stars to salsa\, bachata\, and more. Whether you’re an experienced dancer or just beginning\, join Barrow’s Intense and Carreau Club for an exhilarating evening of culture\, community\, and connection in a welcoming\, supportive environment.
URL:https://golatindance.com/event/jukanbaila-salsa-night/2030-04-26/
LOCATION:Barrow’s Intense Tasting Room\, 86 34th St\, Brooklyn\, NY\, 11232\, United States
END:VEVENT
BEGIN:VEVENT
DTSTART;TZID=America/New_York:20300503T220000
DTEND;TZID=America/New_York:20300504T020000
DTSTAMP:20260421T095936
CREATED:20250820T141121Z
LAST-MODIFIED:20250820T141121Z
UID:10391033-1904076000-1904090400@golatindance.com
SUMMARY:Jukanbaila Salsa Night
DESCRIPTION:Jukanbaila Salsa Night is back for the season in Courtyard 5/6! Kick off the weekend with DJ Gagou every Friday night as we dance under the stars to salsa\, bachata\, and more. Whether you’re an experienced dancer or just beginning\, join Barrow’s Intense and Carreau Club for an exhilarating evening of culture\, community\, and connection in a welcoming\, supportive environment.
URL:https://golatindance.com/event/jukanbaila-salsa-night/2030-05-03/
LOCATION:Barrow’s Intense Tasting Room\, 86 34th St\, Brooklyn\, NY\, 11232\, United States
END:VEVENT
BEGIN:VEVENT
DTSTART;TZID=America/New_York:20300510T220000
DTEND;TZID=America/New_York:20300511T020000
DTSTAMP:20260421T095936
CREATED:20250820T141121Z
LAST-MODIFIED:20250820T141121Z
UID:10391034-1904680800-1904695200@golatindance.com
SUMMARY:Jukanbaila Salsa Night
DESCRIPTION:Jukanbaila Salsa Night is back for the season in Courtyard 5/6! Kick off the weekend with DJ Gagou every Friday night as we dance under the stars to salsa\, bachata\, and more. Whether you’re an experienced dancer or just beginning\, join Barrow’s Intense and Carreau Club for an exhilarating evening of culture\, community\, and connection in a welcoming\, supportive environment.
URL:https://golatindance.com/event/jukanbaila-salsa-night/2030-05-10/
LOCATION:Barrow’s Intense Tasting Room\, 86 34th St\, Brooklyn\, NY\, 11232\, United States
END:VEVENT
BEGIN:VEVENT
DTSTART;TZID=America/New_York:20300517T220000
DTEND;TZID=America/New_York:20300518T020000
DTSTAMP:20260421T095936
CREATED:20250820T141121Z
LAST-MODIFIED:20250820T141121Z
UID:10391035-1905285600-1905300000@golatindance.com
SUMMARY:Jukanbaila Salsa Night
DESCRIPTION:Jukanbaila Salsa Night is back for the season in Courtyard 5/6! Kick off the weekend with DJ Gagou every Friday night as we dance under the stars to salsa\, bachata\, and more. Whether you’re an experienced dancer or just beginning\, join Barrow’s Intense and Carreau Club for an exhilarating evening of culture\, community\, and connection in a welcoming\, supportive environment.
URL:https://golatindance.com/event/jukanbaila-salsa-night/2030-05-17/
LOCATION:Barrow’s Intense Tasting Room\, 86 34th St\, Brooklyn\, NY\, 11232\, United States
END:VEVENT
BEGIN:VEVENT
DTSTART;TZID=America/New_York:20300524T220000
DTEND;TZID=America/New_York:20300525T020000
DTSTAMP:20260421T095936
CREATED:20250820T141121Z
LAST-MODIFIED:20250820T141121Z
UID:10391036-1905890400-1905904800@golatindance.com
SUMMARY:Jukanbaila Salsa Night
DESCRIPTION:Jukanbaila Salsa Night is back for the season in Courtyard 5/6! Kick off the weekend with DJ Gagou every Friday night as we dance under the stars to salsa\, bachata\, and more. Whether you’re an experienced dancer or just beginning\, join Barrow’s Intense and Carreau Club for an exhilarating evening of culture\, community\, and connection in a welcoming\, supportive environment.
URL:https://golatindance.com/event/jukanbaila-salsa-night/2030-05-24/
LOCATION:Barrow’s Intense Tasting Room\, 86 34th St\, Brooklyn\, NY\, 11232\, United States
END:VEVENT
BEGIN:VEVENT
DTSTART;TZID=America/New_York:20300531T220000
DTEND;TZID=America/New_York:20300601T020000
DTSTAMP:20260421T095936
CREATED:20250820T141121Z
LAST-MODIFIED:20250820T141121Z
UID:10391037-1906495200-1906509600@golatindance.com
SUMMARY:Jukanbaila Salsa Night
DESCRIPTION:Jukanbaila Salsa Night is back for the season in Courtyard 5/6! Kick off the weekend with DJ Gagou every Friday night as we dance under the stars to salsa\, bachata\, and more. Whether you’re an experienced dancer or just beginning\, join Barrow’s Intense and Carreau Club for an exhilarating evening of culture\, community\, and connection in a welcoming\, supportive environment.
URL:https://golatindance.com/event/jukanbaila-salsa-night/2030-05-31/
LOCATION:Barrow’s Intense Tasting Room\, 86 34th St\, Brooklyn\, NY\, 11232\, United States
END:VEVENT
BEGIN:VEVENT
DTSTART;TZID=America/New_York:20300607T220000
DTEND;TZID=America/New_York:20300608T020000
DTSTAMP:20260421T095936
CREATED:20250820T141121Z
LAST-MODIFIED:20250820T141121Z
UID:10391038-1907100000-1907114400@golatindance.com
SUMMARY:Jukanbaila Salsa Night
DESCRIPTION:Jukanbaila Salsa Night is back for the season in Courtyard 5/6! Kick off the weekend with DJ Gagou every Friday night as we dance under the stars to salsa\, bachata\, and more. Whether you’re an experienced dancer or just beginning\, join Barrow’s Intense and Carreau Club for an exhilarating evening of culture\, community\, and connection in a welcoming\, supportive environment.
URL:https://golatindance.com/event/jukanbaila-salsa-night/2030-06-07/
LOCATION:Barrow’s Intense Tasting Room\, 86 34th St\, Brooklyn\, NY\, 11232\, United States
END:VEVENT
BEGIN:VEVENT
DTSTART;TZID=America/New_York:20300614T220000
DTEND;TZID=America/New_York:20300615T020000
DTSTAMP:20260421T095936
CREATED:20250820T141121Z
LAST-MODIFIED:20250820T141121Z
UID:10391039-1907704800-1907719200@golatindance.com
SUMMARY:Jukanbaila Salsa Night
DESCRIPTION:Jukanbaila Salsa Night is back for the season in Courtyard 5/6! Kick off the weekend with DJ Gagou every Friday night as we dance under the stars to salsa\, bachata\, and more. Whether you’re an experienced dancer or just beginning\, join Barrow’s Intense and Carreau Club for an exhilarating evening of culture\, community\, and connection in a welcoming\, supportive environment.
URL:https://golatindance.com/event/jukanbaila-salsa-night/2030-06-14/
LOCATION:Barrow’s Intense Tasting Room\, 86 34th St\, Brooklyn\, NY\, 11232\, United States
END:VEVENT
BEGIN:VEVENT
DTSTART;TZID=America/New_York:20300621T220000
DTEND;TZID=America/New_York:20300622T020000
DTSTAMP:20260421T095936
CREATED:20250820T141121Z
LAST-MODIFIED:20250820T141121Z
UID:10391040-1908309600-1908324000@golatindance.com
SUMMARY:Jukanbaila Salsa Night
DESCRIPTION:Jukanbaila Salsa Night is back for the season in Courtyard 5/6! Kick off the weekend with DJ Gagou every Friday night as we dance under the stars to salsa\, bachata\, and more. Whether you’re an experienced dancer or just beginning\, join Barrow’s Intense and Carreau Club for an exhilarating evening of culture\, community\, and connection in a welcoming\, supportive environment.
URL:https://golatindance.com/event/jukanbaila-salsa-night/2030-06-21/
LOCATION:Barrow’s Intense Tasting Room\, 86 34th St\, Brooklyn\, NY\, 11232\, United States
END:VEVENT
BEGIN:VEVENT
DTSTART;TZID=America/New_York:20300628T220000
DTEND;TZID=America/New_York:20300629T020000
DTSTAMP:20260421T095936
CREATED:20250820T141121Z
LAST-MODIFIED:20250820T141121Z
UID:10391041-1908914400-1908928800@golatindance.com
SUMMARY:Jukanbaila Salsa Night
DESCRIPTION:Jukanbaila Salsa Night is back for the season in Courtyard 5/6! Kick off the weekend with DJ Gagou every Friday night as we dance under the stars to salsa\, bachata\, and more. Whether you’re an experienced dancer or just beginning\, join Barrow’s Intense and Carreau Club for an exhilarating evening of culture\, community\, and connection in a welcoming\, supportive environment.
URL:https://golatindance.com/event/jukanbaila-salsa-night/2030-06-28/
LOCATION:Barrow’s Intense Tasting Room\, 86 34th St\, Brooklyn\, NY\, 11232\, United States
END:VEVENT
BEGIN:VEVENT
DTSTART;TZID=America/New_York:20300705T220000
DTEND;TZID=America/New_York:20300706T020000
DTSTAMP:20260421T095936
CREATED:20250820T141121Z
LAST-MODIFIED:20250820T141121Z
UID:10391042-1909519200-1909533600@golatindance.com
SUMMARY:Jukanbaila Salsa Night
DESCRIPTION:Jukanbaila Salsa Night is back for the season in Courtyard 5/6! Kick off the weekend with DJ Gagou every Friday night as we dance under the stars to salsa\, bachata\, and more. Whether you’re an experienced dancer or just beginning\, join Barrow’s Intense and Carreau Club for an exhilarating evening of culture\, community\, and connection in a welcoming\, supportive environment.
URL:https://golatindance.com/event/jukanbaila-salsa-night/2030-07-05/
LOCATION:Barrow’s Intense Tasting Room\, 86 34th St\, Brooklyn\, NY\, 11232\, United States
END:VEVENT
END:VCALENDAR