BEGIN:VCALENDAR
VERSION:2.0
PRODID:-//GO Latin Dance - ECPv6.15.18//NONSGML v1.0//EN
CALSCALE:GREGORIAN
METHOD:PUBLISH
X-WR-CALNAME:GO Latin Dance
X-ORIGINAL-URL:https://golatindance.com
X-WR-CALDESC:Events for GO Latin Dance
REFRESH-INTERVAL;VALUE=DURATION:PT1H
X-Robots-Tag:noindex
X-PUBLISHED-TTL:PT1H
BEGIN:VTIMEZONE
TZID:America/New_York
BEGIN:DAYLIGHT
TZOFFSETFROM:-0500
TZOFFSETTO:-0400
TZNAME:EDT
DTSTART:20290311T070000
END:DAYLIGHT
BEGIN:STANDARD
TZOFFSETFROM:-0400
TZOFFSETTO:-0500
TZNAME:EST
DTSTART:20291104T060000
END:STANDARD
BEGIN:DAYLIGHT
TZOFFSETFROM:-0500
TZOFFSETTO:-0400
TZNAME:EDT
DTSTART:20300310T070000
END:DAYLIGHT
BEGIN:STANDARD
TZOFFSETFROM:-0400
TZOFFSETTO:-0500
TZNAME:EST
DTSTART:20301103T060000
END:STANDARD
BEGIN:DAYLIGHT
TZOFFSETFROM:-0500
TZOFFSETTO:-0400
TZNAME:EDT
DTSTART:20310309T070000
END:DAYLIGHT
BEGIN:STANDARD
TZOFFSETFROM:-0400
TZOFFSETTO:-0500
TZNAME:EST
DTSTART:20311102T060000
END:STANDARD
END:VTIMEZONE
BEGIN:VEVENT
DTSTART;TZID=America/New_York:20300712T220000
DTEND;TZID=America/New_York:20300713T020000
DTSTAMP:20260421T141337
CREATED:20250820T141121Z
LAST-MODIFIED:20250820T141121Z
UID:10391043-1910124000-1910138400@golatindance.com
SUMMARY:Jukanbaila Salsa Night
DESCRIPTION:Jukanbaila Salsa Night is back for the season in Courtyard 5/6! Kick off the weekend with DJ Gagou every Friday night as we dance under the stars to salsa\, bachata\, and more. Whether you’re an experienced dancer or just beginning\, join Barrow’s Intense and Carreau Club for an exhilarating evening of culture\, community\, and connection in a welcoming\, supportive environment.
URL:https://golatindance.com/event/jukanbaila-salsa-night/2030-07-12/
LOCATION:Barrow’s Intense Tasting Room\, 86 34th St\, Brooklyn\, NY\, 11232\, United States
END:VEVENT
BEGIN:VEVENT
DTSTART;TZID=America/New_York:20300719T220000
DTEND;TZID=America/New_York:20300720T020000
DTSTAMP:20260421T141337
CREATED:20250820T141121Z
LAST-MODIFIED:20250820T141121Z
UID:10391044-1910728800-1910743200@golatindance.com
SUMMARY:Jukanbaila Salsa Night
DESCRIPTION:Jukanbaila Salsa Night is back for the season in Courtyard 5/6! Kick off the weekend with DJ Gagou every Friday night as we dance under the stars to salsa\, bachata\, and more. Whether you’re an experienced dancer or just beginning\, join Barrow’s Intense and Carreau Club for an exhilarating evening of culture\, community\, and connection in a welcoming\, supportive environment.
URL:https://golatindance.com/event/jukanbaila-salsa-night/2030-07-19/
LOCATION:Barrow’s Intense Tasting Room\, 86 34th St\, Brooklyn\, NY\, 11232\, United States
END:VEVENT
BEGIN:VEVENT
DTSTART;TZID=America/New_York:20300726T220000
DTEND;TZID=America/New_York:20300727T020000
DTSTAMP:20260421T141337
CREATED:20250820T141121Z
LAST-MODIFIED:20250820T141121Z
UID:10391045-1911333600-1911348000@golatindance.com
SUMMARY:Jukanbaila Salsa Night
DESCRIPTION:Jukanbaila Salsa Night is back for the season in Courtyard 5/6! Kick off the weekend with DJ Gagou every Friday night as we dance under the stars to salsa\, bachata\, and more. Whether you’re an experienced dancer or just beginning\, join Barrow’s Intense and Carreau Club for an exhilarating evening of culture\, community\, and connection in a welcoming\, supportive environment.
URL:https://golatindance.com/event/jukanbaila-salsa-night/2030-07-26/
LOCATION:Barrow’s Intense Tasting Room\, 86 34th St\, Brooklyn\, NY\, 11232\, United States
END:VEVENT
BEGIN:VEVENT
DTSTART;TZID=America/New_York:20300802T220000
DTEND;TZID=America/New_York:20300803T020000
DTSTAMP:20260421T141337
CREATED:20250820T141121Z
LAST-MODIFIED:20250820T141121Z
UID:10391046-1911938400-1911952800@golatindance.com
SUMMARY:Jukanbaila Salsa Night
DESCRIPTION:Jukanbaila Salsa Night is back for the season in Courtyard 5/6! Kick off the weekend with DJ Gagou every Friday night as we dance under the stars to salsa\, bachata\, and more. Whether you’re an experienced dancer or just beginning\, join Barrow’s Intense and Carreau Club for an exhilarating evening of culture\, community\, and connection in a welcoming\, supportive environment.
URL:https://golatindance.com/event/jukanbaila-salsa-night/2030-08-02/
LOCATION:Barrow’s Intense Tasting Room\, 86 34th St\, Brooklyn\, NY\, 11232\, United States
END:VEVENT
BEGIN:VEVENT
DTSTART;TZID=America/New_York:20300809T220000
DTEND;TZID=America/New_York:20300810T020000
DTSTAMP:20260421T141337
CREATED:20250820T141121Z
LAST-MODIFIED:20250820T141121Z
UID:10391047-1912543200-1912557600@golatindance.com
SUMMARY:Jukanbaila Salsa Night
DESCRIPTION:Jukanbaila Salsa Night is back for the season in Courtyard 5/6! Kick off the weekend with DJ Gagou every Friday night as we dance under the stars to salsa\, bachata\, and more. Whether you’re an experienced dancer or just beginning\, join Barrow’s Intense and Carreau Club for an exhilarating evening of culture\, community\, and connection in a welcoming\, supportive environment.
URL:https://golatindance.com/event/jukanbaila-salsa-night/2030-08-09/
LOCATION:Barrow’s Intense Tasting Room\, 86 34th St\, Brooklyn\, NY\, 11232\, United States
END:VEVENT
BEGIN:VEVENT
DTSTART;TZID=America/New_York:20300816T220000
DTEND;TZID=America/New_York:20300817T020000
DTSTAMP:20260421T141337
CREATED:20250820T141121Z
LAST-MODIFIED:20250820T141121Z
UID:10391048-1913148000-1913162400@golatindance.com
SUMMARY:Jukanbaila Salsa Night
DESCRIPTION:Jukanbaila Salsa Night is back for the season in Courtyard 5/6! Kick off the weekend with DJ Gagou every Friday night as we dance under the stars to salsa\, bachata\, and more. Whether you’re an experienced dancer or just beginning\, join Barrow’s Intense and Carreau Club for an exhilarating evening of culture\, community\, and connection in a welcoming\, supportive environment.
URL:https://golatindance.com/event/jukanbaila-salsa-night/2030-08-16/
LOCATION:Barrow’s Intense Tasting Room\, 86 34th St\, Brooklyn\, NY\, 11232\, United States
END:VEVENT
END:VCALENDAR