BEGIN:VCALENDAR
VERSION:2.0
PRODID:-//GO Latin Dance - ECPv6.15.18//NONSGML v1.0//EN
CALSCALE:GREGORIAN
METHOD:PUBLISH
X-ORIGINAL-URL:https://golatindance.com
X-WR-CALDESC:Events for GO Latin Dance
REFRESH-INTERVAL;VALUE=DURATION:PT1H
X-Robots-Tag:noindex
X-PUBLISHED-TTL:PT1H
BEGIN:VTIMEZONE
TZID:America/Chicago
BEGIN:DAYLIGHT
TZOFFSETFROM:-0600
TZOFFSETTO:-0500
TZNAME:CDT
DTSTART:20250309T080000
END:DAYLIGHT
BEGIN:STANDARD
TZOFFSETFROM:-0500
TZOFFSETTO:-0600
TZNAME:CST
DTSTART:20251102T070000
END:STANDARD
BEGIN:DAYLIGHT
TZOFFSETFROM:-0600
TZOFFSETTO:-0500
TZNAME:CDT
DTSTART:20260308T080000
END:DAYLIGHT
BEGIN:STANDARD
TZOFFSETFROM:-0500
TZOFFSETTO:-0600
TZNAME:CST
DTSTART:20261101T070000
END:STANDARD
BEGIN:DAYLIGHT
TZOFFSETFROM:-0600
TZOFFSETTO:-0500
TZNAME:CDT
DTSTART:20270314T080000
END:DAYLIGHT
BEGIN:STANDARD
TZOFFSETFROM:-0500
TZOFFSETTO:-0600
TZNAME:CST
DTSTART:20271107T070000
END:STANDARD
BEGIN:DAYLIGHT
TZOFFSETFROM:-0600
TZOFFSETTO:-0500
TZNAME:CDT
DTSTART:20280312T080000
END:DAYLIGHT
BEGIN:STANDARD
TZOFFSETFROM:-0500
TZOFFSETTO:-0600
TZNAME:CST
DTSTART:20281105T070000
END:STANDARD
END:VTIMEZONE
BEGIN:VEVENT
DTSTART;TZID=America/Chicago:20260709T210000
DTEND;TZID=America/Chicago:20260710T020000
DTSTAMP:20260424T075957
CREATED:20221109T214827Z
LAST-MODIFIED:20230531T205414Z
UID:10091915-1783630800-1783648800@golatindance.com
SUMMARY:Latin Thursdays at Hangout
DESCRIPTION:Latin Saturdays at Hangout. See flyer for details.
URL:https://golatindance.com/event/latin-thursdays-at-hangout/2026-07-09/
LOCATION:Hangout\, 3554 W Airport Freeway\, Irving\, TX\, 75052\, United States
CATEGORIES:Dallas-Fort Worth
ATTACH;FMTTYPE=image/jpeg:https://golatindance.com/wp-content/uploads/2022/11/285921061_10160911067099218_180215232890565351_n.jpg
END:VEVENT
BEGIN:VEVENT
DTSTART;TZID=America/Chicago:20260716T210000
DTEND;TZID=America/Chicago:20260717T020000
DTSTAMP:20260424T075957
CREATED:20221109T214827Z
LAST-MODIFIED:20230531T205414Z
UID:10091916-1784235600-1784253600@golatindance.com
SUMMARY:Latin Thursdays at Hangout
DESCRIPTION:Latin Saturdays at Hangout. See flyer for details.
URL:https://golatindance.com/event/latin-thursdays-at-hangout/2026-07-16/
LOCATION:Hangout\, 3554 W Airport Freeway\, Irving\, TX\, 75052\, United States
CATEGORIES:Dallas-Fort Worth
ATTACH;FMTTYPE=image/jpeg:https://golatindance.com/wp-content/uploads/2022/11/285921061_10160911067099218_180215232890565351_n.jpg
END:VEVENT
BEGIN:VEVENT
DTSTART;TZID=America/Chicago:20260723T210000
DTEND;TZID=America/Chicago:20260724T020000
DTSTAMP:20260424T075957
CREATED:20221109T214827Z
LAST-MODIFIED:20230531T205414Z
UID:10091917-1784840400-1784858400@golatindance.com
SUMMARY:Latin Thursdays at Hangout
DESCRIPTION:Latin Saturdays at Hangout. See flyer for details.
URL:https://golatindance.com/event/latin-thursdays-at-hangout/2026-07-23/
LOCATION:Hangout\, 3554 W Airport Freeway\, Irving\, TX\, 75052\, United States
CATEGORIES:Dallas-Fort Worth
ATTACH;FMTTYPE=image/jpeg:https://golatindance.com/wp-content/uploads/2022/11/285921061_10160911067099218_180215232890565351_n.jpg
END:VEVENT
BEGIN:VEVENT
DTSTART;TZID=America/Chicago:20260730T210000
DTEND;TZID=America/Chicago:20260731T020000
DTSTAMP:20260424T075957
CREATED:20221109T214827Z
LAST-MODIFIED:20230531T205414Z
UID:10091918-1785445200-1785463200@golatindance.com
SUMMARY:Latin Thursdays at Hangout
DESCRIPTION:Latin Saturdays at Hangout. See flyer for details.
URL:https://golatindance.com/event/latin-thursdays-at-hangout/2026-07-30/
LOCATION:Hangout\, 3554 W Airport Freeway\, Irving\, TX\, 75052\, United States
CATEGORIES:Dallas-Fort Worth
ATTACH;FMTTYPE=image/jpeg:https://golatindance.com/wp-content/uploads/2022/11/285921061_10160911067099218_180215232890565351_n.jpg
END:VEVENT
BEGIN:VEVENT
DTSTART;TZID=America/Chicago:20260806T210000
DTEND;TZID=America/Chicago:20260807T020000
DTSTAMP:20260424T075957
CREATED:20221109T214827Z
LAST-MODIFIED:20230531T205414Z
UID:10091919-1786050000-1786068000@golatindance.com
SUMMARY:Latin Thursdays at Hangout
DESCRIPTION:Latin Saturdays at Hangout. See flyer for details.
URL:https://golatindance.com/event/latin-thursdays-at-hangout/2026-08-06/
LOCATION:Hangout\, 3554 W Airport Freeway\, Irving\, TX\, 75052\, United States
CATEGORIES:Dallas-Fort Worth
ATTACH;FMTTYPE=image/jpeg:https://golatindance.com/wp-content/uploads/2022/11/285921061_10160911067099218_180215232890565351_n.jpg
END:VEVENT
BEGIN:VEVENT
DTSTART;TZID=America/Chicago:20260813T210000
DTEND;TZID=America/Chicago:20260814T020000
DTSTAMP:20260424T075957
CREATED:20221109T214827Z
LAST-MODIFIED:20230531T205414Z
UID:10091920-1786654800-1786672800@golatindance.com
SUMMARY:Latin Thursdays at Hangout
DESCRIPTION:Latin Saturdays at Hangout. See flyer for details.
URL:https://golatindance.com/event/latin-thursdays-at-hangout/2026-08-13/
LOCATION:Hangout\, 3554 W Airport Freeway\, Irving\, TX\, 75052\, United States
CATEGORIES:Dallas-Fort Worth
ATTACH;FMTTYPE=image/jpeg:https://golatindance.com/wp-content/uploads/2022/11/285921061_10160911067099218_180215232890565351_n.jpg
END:VEVENT
BEGIN:VEVENT
DTSTART;TZID=America/Chicago:20260820T210000
DTEND;TZID=America/Chicago:20260821T020000
DTSTAMP:20260424T075957
CREATED:20221109T214827Z
LAST-MODIFIED:20230531T205414Z
UID:10091921-1787259600-1787277600@golatindance.com
SUMMARY:Latin Thursdays at Hangout
DESCRIPTION:Latin Saturdays at Hangout. See flyer for details.
URL:https://golatindance.com/event/latin-thursdays-at-hangout/2026-08-20/
LOCATION:Hangout\, 3554 W Airport Freeway\, Irving\, TX\, 75052\, United States
CATEGORIES:Dallas-Fort Worth
ATTACH;FMTTYPE=image/jpeg:https://golatindance.com/wp-content/uploads/2022/11/285921061_10160911067099218_180215232890565351_n.jpg
END:VEVENT
BEGIN:VEVENT
DTSTART;TZID=America/Chicago:20260827T210000
DTEND;TZID=America/Chicago:20260828T020000
DTSTAMP:20260424T075957
CREATED:20221109T214827Z
LAST-MODIFIED:20230531T205414Z
UID:10091922-1787864400-1787882400@golatindance.com
SUMMARY:Latin Thursdays at Hangout
DESCRIPTION:Latin Saturdays at Hangout. See flyer for details.
URL:https://golatindance.com/event/latin-thursdays-at-hangout/2026-08-27/
LOCATION:Hangout\, 3554 W Airport Freeway\, Irving\, TX\, 75052\, United States
CATEGORIES:Dallas-Fort Worth
ATTACH;FMTTYPE=image/jpeg:https://golatindance.com/wp-content/uploads/2022/11/285921061_10160911067099218_180215232890565351_n.jpg
END:VEVENT
BEGIN:VEVENT
DTSTART;TZID=America/Chicago:20260903T210000
DTEND;TZID=America/Chicago:20260904T020000
DTSTAMP:20260424T075957
CREATED:20221109T214827Z
LAST-MODIFIED:20230531T205414Z
UID:10091923-1788469200-1788487200@golatindance.com
SUMMARY:Latin Thursdays at Hangout
DESCRIPTION:Latin Saturdays at Hangout. See flyer for details.
URL:https://golatindance.com/event/latin-thursdays-at-hangout/2026-09-03/
LOCATION:Hangout\, 3554 W Airport Freeway\, Irving\, TX\, 75052\, United States
CATEGORIES:Dallas-Fort Worth
ATTACH;FMTTYPE=image/jpeg:https://golatindance.com/wp-content/uploads/2022/11/285921061_10160911067099218_180215232890565351_n.jpg
END:VEVENT
BEGIN:VEVENT
DTSTART;TZID=America/Chicago:20260910T210000
DTEND;TZID=America/Chicago:20260911T020000
DTSTAMP:20260424T075957
CREATED:20221109T214827Z
LAST-MODIFIED:20230531T205414Z
UID:10091924-1789074000-1789092000@golatindance.com
SUMMARY:Latin Thursdays at Hangout
DESCRIPTION:Latin Saturdays at Hangout. See flyer for details.
URL:https://golatindance.com/event/latin-thursdays-at-hangout/2026-09-10/
LOCATION:Hangout\, 3554 W Airport Freeway\, Irving\, TX\, 75052\, United States
CATEGORIES:Dallas-Fort Worth
ATTACH;FMTTYPE=image/jpeg:https://golatindance.com/wp-content/uploads/2022/11/285921061_10160911067099218_180215232890565351_n.jpg
END:VEVENT
BEGIN:VEVENT
DTSTART;TZID=America/Chicago:20260917T210000
DTEND;TZID=America/Chicago:20260918T020000
DTSTAMP:20260424T075957
CREATED:20221109T214827Z
LAST-MODIFIED:20230531T205414Z
UID:10091925-1789678800-1789696800@golatindance.com
SUMMARY:Latin Thursdays at Hangout
DESCRIPTION:Latin Saturdays at Hangout. See flyer for details.
URL:https://golatindance.com/event/latin-thursdays-at-hangout/2026-09-17/
LOCATION:Hangout\, 3554 W Airport Freeway\, Irving\, TX\, 75052\, United States
CATEGORIES:Dallas-Fort Worth
ATTACH;FMTTYPE=image/jpeg:https://golatindance.com/wp-content/uploads/2022/11/285921061_10160911067099218_180215232890565351_n.jpg
END:VEVENT
BEGIN:VEVENT
DTSTART;TZID=America/Chicago:20260924T210000
DTEND;TZID=America/Chicago:20260925T020000
DTSTAMP:20260424T075957
CREATED:20221109T214827Z
LAST-MODIFIED:20230531T205414Z
UID:10091926-1790283600-1790301600@golatindance.com
SUMMARY:Latin Thursdays at Hangout
DESCRIPTION:Latin Saturdays at Hangout. See flyer for details.
URL:https://golatindance.com/event/latin-thursdays-at-hangout/2026-09-24/
LOCATION:Hangout\, 3554 W Airport Freeway\, Irving\, TX\, 75052\, United States
CATEGORIES:Dallas-Fort Worth
ATTACH;FMTTYPE=image/jpeg:https://golatindance.com/wp-content/uploads/2022/11/285921061_10160911067099218_180215232890565351_n.jpg
END:VEVENT
BEGIN:VEVENT
DTSTART;TZID=America/Chicago:20261001T210000
DTEND;TZID=America/Chicago:20261002T020000
DTSTAMP:20260424T075957
CREATED:20221109T214827Z
LAST-MODIFIED:20230531T205414Z
UID:10091927-1790888400-1790906400@golatindance.com
SUMMARY:Latin Thursdays at Hangout
DESCRIPTION:Latin Saturdays at Hangout. See flyer for details.
URL:https://golatindance.com/event/latin-thursdays-at-hangout/2026-10-01/
LOCATION:Hangout\, 3554 W Airport Freeway\, Irving\, TX\, 75052\, United States
CATEGORIES:Dallas-Fort Worth
ATTACH;FMTTYPE=image/jpeg:https://golatindance.com/wp-content/uploads/2022/11/285921061_10160911067099218_180215232890565351_n.jpg
END:VEVENT
BEGIN:VEVENT
DTSTART;TZID=America/Chicago:20261008T210000
DTEND;TZID=America/Chicago:20261009T020000
DTSTAMP:20260424T075957
CREATED:20221109T214827Z
LAST-MODIFIED:20230531T205414Z
UID:10091928-1791493200-1791511200@golatindance.com
SUMMARY:Latin Thursdays at Hangout
DESCRIPTION:Latin Saturdays at Hangout. See flyer for details.
URL:https://golatindance.com/event/latin-thursdays-at-hangout/2026-10-08/
LOCATION:Hangout\, 3554 W Airport Freeway\, Irving\, TX\, 75052\, United States
CATEGORIES:Dallas-Fort Worth
ATTACH;FMTTYPE=image/jpeg:https://golatindance.com/wp-content/uploads/2022/11/285921061_10160911067099218_180215232890565351_n.jpg
END:VEVENT
BEGIN:VEVENT
DTSTART;TZID=America/Chicago:20261015T210000
DTEND;TZID=America/Chicago:20261016T020000
DTSTAMP:20260424T075957
CREATED:20221109T214827Z
LAST-MODIFIED:20230531T205414Z
UID:10091929-1792098000-1792116000@golatindance.com
SUMMARY:Latin Thursdays at Hangout
DESCRIPTION:Latin Saturdays at Hangout. See flyer for details.
URL:https://golatindance.com/event/latin-thursdays-at-hangout/2026-10-15/
LOCATION:Hangout\, 3554 W Airport Freeway\, Irving\, TX\, 75052\, United States
CATEGORIES:Dallas-Fort Worth
ATTACH;FMTTYPE=image/jpeg:https://golatindance.com/wp-content/uploads/2022/11/285921061_10160911067099218_180215232890565351_n.jpg
END:VEVENT
BEGIN:VEVENT
DTSTART;TZID=America/Chicago:20261022T210000
DTEND;TZID=America/Chicago:20261023T020000
DTSTAMP:20260424T075957
CREATED:20221109T214827Z
LAST-MODIFIED:20230531T205414Z
UID:10091930-1792702800-1792720800@golatindance.com
SUMMARY:Latin Thursdays at Hangout
DESCRIPTION:Latin Saturdays at Hangout. See flyer for details.
URL:https://golatindance.com/event/latin-thursdays-at-hangout/2026-10-22/
LOCATION:Hangout\, 3554 W Airport Freeway\, Irving\, TX\, 75052\, United States
CATEGORIES:Dallas-Fort Worth
ATTACH;FMTTYPE=image/jpeg:https://golatindance.com/wp-content/uploads/2022/11/285921061_10160911067099218_180215232890565351_n.jpg
END:VEVENT
BEGIN:VEVENT
DTSTART;TZID=America/Chicago:20261029T210000
DTEND;TZID=America/Chicago:20261030T020000
DTSTAMP:20260424T075957
CREATED:20221109T214827Z
LAST-MODIFIED:20230531T205414Z
UID:10091931-1793307600-1793325600@golatindance.com
SUMMARY:Latin Thursdays at Hangout
DESCRIPTION:Latin Saturdays at Hangout. See flyer for details.
URL:https://golatindance.com/event/latin-thursdays-at-hangout/2026-10-29/
LOCATION:Hangout\, 3554 W Airport Freeway\, Irving\, TX\, 75052\, United States
CATEGORIES:Dallas-Fort Worth
ATTACH;FMTTYPE=image/jpeg:https://golatindance.com/wp-content/uploads/2022/11/285921061_10160911067099218_180215232890565351_n.jpg
END:VEVENT
BEGIN:VEVENT
DTSTART;TZID=America/Chicago:20261105T210000
DTEND;TZID=America/Chicago:20261106T020000
DTSTAMP:20260424T075957
CREATED:20221109T214827Z
LAST-MODIFIED:20230531T205414Z
UID:10091932-1793912400-1793930400@golatindance.com
SUMMARY:Latin Thursdays at Hangout
DESCRIPTION:Latin Saturdays at Hangout. See flyer for details.
URL:https://golatindance.com/event/latin-thursdays-at-hangout/2026-11-05/
LOCATION:Hangout\, 3554 W Airport Freeway\, Irving\, TX\, 75052\, United States
CATEGORIES:Dallas-Fort Worth
ATTACH;FMTTYPE=image/jpeg:https://golatindance.com/wp-content/uploads/2022/11/285921061_10160911067099218_180215232890565351_n.jpg
END:VEVENT
BEGIN:VEVENT
DTSTART;TZID=America/Chicago:20261112T210000
DTEND;TZID=America/Chicago:20261113T020000
DTSTAMP:20260424T075957
CREATED:20221109T214827Z
LAST-MODIFIED:20230531T205414Z
UID:10091933-1794517200-1794535200@golatindance.com
SUMMARY:Latin Thursdays at Hangout
DESCRIPTION:Latin Saturdays at Hangout. See flyer for details.
URL:https://golatindance.com/event/latin-thursdays-at-hangout/2026-11-12/
LOCATION:Hangout\, 3554 W Airport Freeway\, Irving\, TX\, 75052\, United States
CATEGORIES:Dallas-Fort Worth
ATTACH;FMTTYPE=image/jpeg:https://golatindance.com/wp-content/uploads/2022/11/285921061_10160911067099218_180215232890565351_n.jpg
END:VEVENT
BEGIN:VEVENT
DTSTART;TZID=America/Chicago:20261119T210000
DTEND;TZID=America/Chicago:20261120T020000
DTSTAMP:20260424T075957
CREATED:20221109T214827Z
LAST-MODIFIED:20230531T205414Z
UID:10091934-1795122000-1795140000@golatindance.com
SUMMARY:Latin Thursdays at Hangout
DESCRIPTION:Latin Saturdays at Hangout. See flyer for details.
URL:https://golatindance.com/event/latin-thursdays-at-hangout/2026-11-19/
LOCATION:Hangout\, 3554 W Airport Freeway\, Irving\, TX\, 75052\, United States
CATEGORIES:Dallas-Fort Worth
ATTACH;FMTTYPE=image/jpeg:https://golatindance.com/wp-content/uploads/2022/11/285921061_10160911067099218_180215232890565351_n.jpg
END:VEVENT
BEGIN:VEVENT
DTSTART;TZID=America/Chicago:20261126T210000
DTEND;TZID=America/Chicago:20261127T020000
DTSTAMP:20260424T075957
CREATED:20221109T214827Z
LAST-MODIFIED:20230531T205414Z
UID:10091935-1795726800-1795744800@golatindance.com
SUMMARY:Latin Thursdays at Hangout
DESCRIPTION:Latin Saturdays at Hangout. See flyer for details.
URL:https://golatindance.com/event/latin-thursdays-at-hangout/2026-11-26/
LOCATION:Hangout\, 3554 W Airport Freeway\, Irving\, TX\, 75052\, United States
CATEGORIES:Dallas-Fort Worth
ATTACH;FMTTYPE=image/jpeg:https://golatindance.com/wp-content/uploads/2022/11/285921061_10160911067099218_180215232890565351_n.jpg
END:VEVENT
BEGIN:VEVENT
DTSTART;TZID=America/Chicago:20261203T210000
DTEND;TZID=America/Chicago:20261204T020000
DTSTAMP:20260424T075957
CREATED:20221109T214827Z
LAST-MODIFIED:20230531T205414Z
UID:10091936-1796331600-1796349600@golatindance.com
SUMMARY:Latin Thursdays at Hangout
DESCRIPTION:Latin Saturdays at Hangout. See flyer for details.
URL:https://golatindance.com/event/latin-thursdays-at-hangout/2026-12-03/
LOCATION:Hangout\, 3554 W Airport Freeway\, Irving\, TX\, 75052\, United States
CATEGORIES:Dallas-Fort Worth
ATTACH;FMTTYPE=image/jpeg:https://golatindance.com/wp-content/uploads/2022/11/285921061_10160911067099218_180215232890565351_n.jpg
END:VEVENT
BEGIN:VEVENT
DTSTART;TZID=America/Chicago:20261210T210000
DTEND;TZID=America/Chicago:20261211T020000
DTSTAMP:20260424T075957
CREATED:20221109T214827Z
LAST-MODIFIED:20230531T205414Z
UID:10091937-1796936400-1796954400@golatindance.com
SUMMARY:Latin Thursdays at Hangout
DESCRIPTION:Latin Saturdays at Hangout. See flyer for details.
URL:https://golatindance.com/event/latin-thursdays-at-hangout/2026-12-10/
LOCATION:Hangout\, 3554 W Airport Freeway\, Irving\, TX\, 75052\, United States
CATEGORIES:Dallas-Fort Worth
ATTACH;FMTTYPE=image/jpeg:https://golatindance.com/wp-content/uploads/2022/11/285921061_10160911067099218_180215232890565351_n.jpg
END:VEVENT
BEGIN:VEVENT
DTSTART;TZID=America/Chicago:20261217T210000
DTEND;TZID=America/Chicago:20261218T020000
DTSTAMP:20260424T075957
CREATED:20221109T214827Z
LAST-MODIFIED:20230531T205414Z
UID:10091938-1797541200-1797559200@golatindance.com
SUMMARY:Latin Thursdays at Hangout
DESCRIPTION:Latin Saturdays at Hangout. See flyer for details.
URL:https://golatindance.com/event/latin-thursdays-at-hangout/2026-12-17/
LOCATION:Hangout\, 3554 W Airport Freeway\, Irving\, TX\, 75052\, United States
CATEGORIES:Dallas-Fort Worth
ATTACH;FMTTYPE=image/jpeg:https://golatindance.com/wp-content/uploads/2022/11/285921061_10160911067099218_180215232890565351_n.jpg
END:VEVENT
BEGIN:VEVENT
DTSTART;TZID=America/Chicago:20261224T210000
DTEND;TZID=America/Chicago:20261225T020000
DTSTAMP:20260424T075957
CREATED:20221109T214827Z
LAST-MODIFIED:20230531T205414Z
UID:10091939-1798146000-1798164000@golatindance.com
SUMMARY:Latin Thursdays at Hangout
DESCRIPTION:Latin Saturdays at Hangout. See flyer for details.
URL:https://golatindance.com/event/latin-thursdays-at-hangout/2026-12-24/
LOCATION:Hangout\, 3554 W Airport Freeway\, Irving\, TX\, 75052\, United States
CATEGORIES:Dallas-Fort Worth
ATTACH;FMTTYPE=image/jpeg:https://golatindance.com/wp-content/uploads/2022/11/285921061_10160911067099218_180215232890565351_n.jpg
END:VEVENT
BEGIN:VEVENT
DTSTART;TZID=America/Chicago:20261231T210000
DTEND;TZID=America/Chicago:20270101T020000
DTSTAMP:20260424T075957
CREATED:20221109T214827Z
LAST-MODIFIED:20230531T205414Z
UID:10091940-1798750800-1798768800@golatindance.com
SUMMARY:Latin Thursdays at Hangout
DESCRIPTION:Latin Saturdays at Hangout. See flyer for details.
URL:https://golatindance.com/event/latin-thursdays-at-hangout/2026-12-31/
LOCATION:Hangout\, 3554 W Airport Freeway\, Irving\, TX\, 75052\, United States
CATEGORIES:Dallas-Fort Worth
ATTACH;FMTTYPE=image/jpeg:https://golatindance.com/wp-content/uploads/2022/11/285921061_10160911067099218_180215232890565351_n.jpg
END:VEVENT
BEGIN:VEVENT
DTSTART;TZID=America/Chicago:20270107T210000
DTEND;TZID=America/Chicago:20270108T020000
DTSTAMP:20260424T075958
CREATED:20221109T214827Z
LAST-MODIFIED:20230531T205414Z
UID:10091941-1799355600-1799373600@golatindance.com
SUMMARY:Latin Thursdays at Hangout
DESCRIPTION:Latin Saturdays at Hangout. See flyer for details.
URL:https://golatindance.com/event/latin-thursdays-at-hangout/2027-01-07/
LOCATION:Hangout\, 3554 W Airport Freeway\, Irving\, TX\, 75052\, United States
CATEGORIES:Dallas-Fort Worth
ATTACH;FMTTYPE=image/jpeg:https://golatindance.com/wp-content/uploads/2022/11/285921061_10160911067099218_180215232890565351_n.jpg
END:VEVENT
BEGIN:VEVENT
DTSTART;TZID=America/Chicago:20270114T210000
DTEND;TZID=America/Chicago:20270115T020000
DTSTAMP:20260424T075958
CREATED:20221109T214827Z
LAST-MODIFIED:20230531T205414Z
UID:10091942-1799960400-1799978400@golatindance.com
SUMMARY:Latin Thursdays at Hangout
DESCRIPTION:Latin Saturdays at Hangout. See flyer for details.
URL:https://golatindance.com/event/latin-thursdays-at-hangout/2027-01-14/
LOCATION:Hangout\, 3554 W Airport Freeway\, Irving\, TX\, 75052\, United States
CATEGORIES:Dallas-Fort Worth
ATTACH;FMTTYPE=image/jpeg:https://golatindance.com/wp-content/uploads/2022/11/285921061_10160911067099218_180215232890565351_n.jpg
END:VEVENT
BEGIN:VEVENT
DTSTART;TZID=America/Chicago:20270121T210000
DTEND;TZID=America/Chicago:20270122T020000
DTSTAMP:20260424T075958
CREATED:20221109T214827Z
LAST-MODIFIED:20230531T205414Z
UID:10091943-1800565200-1800583200@golatindance.com
SUMMARY:Latin Thursdays at Hangout
DESCRIPTION:Latin Saturdays at Hangout. See flyer for details.
URL:https://golatindance.com/event/latin-thursdays-at-hangout/2027-01-21/
LOCATION:Hangout\, 3554 W Airport Freeway\, Irving\, TX\, 75052\, United States
CATEGORIES:Dallas-Fort Worth
ATTACH;FMTTYPE=image/jpeg:https://golatindance.com/wp-content/uploads/2022/11/285921061_10160911067099218_180215232890565351_n.jpg
END:VEVENT
BEGIN:VEVENT
DTSTART;TZID=America/Chicago:20270128T210000
DTEND;TZID=America/Chicago:20270129T020000
DTSTAMP:20260424T075958
CREATED:20221109T214827Z
LAST-MODIFIED:20230531T205414Z
UID:10091944-1801170000-1801188000@golatindance.com
SUMMARY:Latin Thursdays at Hangout
DESCRIPTION:Latin Saturdays at Hangout. See flyer for details.
URL:https://golatindance.com/event/latin-thursdays-at-hangout/2027-01-28/
LOCATION:Hangout\, 3554 W Airport Freeway\, Irving\, TX\, 75052\, United States
CATEGORIES:Dallas-Fort Worth
ATTACH;FMTTYPE=image/jpeg:https://golatindance.com/wp-content/uploads/2022/11/285921061_10160911067099218_180215232890565351_n.jpg
END:VEVENT
END:VCALENDAR