BEGIN:VCALENDAR
VERSION:2.0
PRODID:-//GO Latin Dance - ECPv6.15.18//NONSGML v1.0//EN
CALSCALE:GREGORIAN
METHOD:PUBLISH
X-ORIGINAL-URL:https://golatindance.com
X-WR-CALDESC:Events for GO Latin Dance
REFRESH-INTERVAL;VALUE=DURATION:PT1H
X-Robots-Tag:noindex
X-PUBLISHED-TTL:PT1H
BEGIN:VTIMEZONE
TZID:America/Chicago
BEGIN:DAYLIGHT
TZOFFSETFROM:-0600
TZOFFSETTO:-0500
TZNAME:CDT
DTSTART:20250309T080000
END:DAYLIGHT
BEGIN:STANDARD
TZOFFSETFROM:-0500
TZOFFSETTO:-0600
TZNAME:CST
DTSTART:20251102T070000
END:STANDARD
BEGIN:DAYLIGHT
TZOFFSETFROM:-0600
TZOFFSETTO:-0500
TZNAME:CDT
DTSTART:20260308T080000
END:DAYLIGHT
BEGIN:STANDARD
TZOFFSETFROM:-0500
TZOFFSETTO:-0600
TZNAME:CST
DTSTART:20261101T070000
END:STANDARD
BEGIN:DAYLIGHT
TZOFFSETFROM:-0600
TZOFFSETTO:-0500
TZNAME:CDT
DTSTART:20270314T080000
END:DAYLIGHT
BEGIN:STANDARD
TZOFFSETFROM:-0500
TZOFFSETTO:-0600
TZNAME:CST
DTSTART:20271107T070000
END:STANDARD
BEGIN:DAYLIGHT
TZOFFSETFROM:-0600
TZOFFSETTO:-0500
TZNAME:CDT
DTSTART:20280312T080000
END:DAYLIGHT
BEGIN:STANDARD
TZOFFSETFROM:-0500
TZOFFSETTO:-0600
TZNAME:CST
DTSTART:20281105T070000
END:STANDARD
END:VTIMEZONE
BEGIN:VEVENT
DTSTART;TZID=America/Chicago:20261126T210000
DTEND;TZID=America/Chicago:20261127T020000
DTSTAMP:20260424T105128
CREATED:20221109T214827Z
LAST-MODIFIED:20230531T205414Z
UID:10091935-1795726800-1795744800@golatindance.com
SUMMARY:Latin Thursdays at Hangout
DESCRIPTION:Latin Saturdays at Hangout. See flyer for details.
URL:https://golatindance.com/event/latin-thursdays-at-hangout/2026-11-26/
LOCATION:Hangout\, 3554 W Airport Freeway\, Irving\, TX\, 75052\, United States
CATEGORIES:Dallas-Fort Worth
ATTACH;FMTTYPE=image/jpeg:https://golatindance.com/wp-content/uploads/2022/11/285921061_10160911067099218_180215232890565351_n.jpg
END:VEVENT
BEGIN:VEVENT
DTSTART;TZID=America/Chicago:20261203T210000
DTEND;TZID=America/Chicago:20261204T020000
DTSTAMP:20260424T105128
CREATED:20221109T214827Z
LAST-MODIFIED:20230531T205414Z
UID:10091936-1796331600-1796349600@golatindance.com
SUMMARY:Latin Thursdays at Hangout
DESCRIPTION:Latin Saturdays at Hangout. See flyer for details.
URL:https://golatindance.com/event/latin-thursdays-at-hangout/2026-12-03/
LOCATION:Hangout\, 3554 W Airport Freeway\, Irving\, TX\, 75052\, United States
CATEGORIES:Dallas-Fort Worth
ATTACH;FMTTYPE=image/jpeg:https://golatindance.com/wp-content/uploads/2022/11/285921061_10160911067099218_180215232890565351_n.jpg
END:VEVENT
BEGIN:VEVENT
DTSTART;TZID=America/Chicago:20261210T210000
DTEND;TZID=America/Chicago:20261211T020000
DTSTAMP:20260424T105128
CREATED:20221109T214827Z
LAST-MODIFIED:20230531T205414Z
UID:10091937-1796936400-1796954400@golatindance.com
SUMMARY:Latin Thursdays at Hangout
DESCRIPTION:Latin Saturdays at Hangout. See flyer for details.
URL:https://golatindance.com/event/latin-thursdays-at-hangout/2026-12-10/
LOCATION:Hangout\, 3554 W Airport Freeway\, Irving\, TX\, 75052\, United States
CATEGORIES:Dallas-Fort Worth
ATTACH;FMTTYPE=image/jpeg:https://golatindance.com/wp-content/uploads/2022/11/285921061_10160911067099218_180215232890565351_n.jpg
END:VEVENT
BEGIN:VEVENT
DTSTART;TZID=America/Chicago:20261217T210000
DTEND;TZID=America/Chicago:20261218T020000
DTSTAMP:20260424T105128
CREATED:20221109T214827Z
LAST-MODIFIED:20230531T205414Z
UID:10091938-1797541200-1797559200@golatindance.com
SUMMARY:Latin Thursdays at Hangout
DESCRIPTION:Latin Saturdays at Hangout. See flyer for details.
URL:https://golatindance.com/event/latin-thursdays-at-hangout/2026-12-17/
LOCATION:Hangout\, 3554 W Airport Freeway\, Irving\, TX\, 75052\, United States
CATEGORIES:Dallas-Fort Worth
ATTACH;FMTTYPE=image/jpeg:https://golatindance.com/wp-content/uploads/2022/11/285921061_10160911067099218_180215232890565351_n.jpg
END:VEVENT
BEGIN:VEVENT
DTSTART;TZID=America/Chicago:20261224T210000
DTEND;TZID=America/Chicago:20261225T020000
DTSTAMP:20260424T105128
CREATED:20221109T214827Z
LAST-MODIFIED:20230531T205414Z
UID:10091939-1798146000-1798164000@golatindance.com
SUMMARY:Latin Thursdays at Hangout
DESCRIPTION:Latin Saturdays at Hangout. See flyer for details.
URL:https://golatindance.com/event/latin-thursdays-at-hangout/2026-12-24/
LOCATION:Hangout\, 3554 W Airport Freeway\, Irving\, TX\, 75052\, United States
CATEGORIES:Dallas-Fort Worth
ATTACH;FMTTYPE=image/jpeg:https://golatindance.com/wp-content/uploads/2022/11/285921061_10160911067099218_180215232890565351_n.jpg
END:VEVENT
BEGIN:VEVENT
DTSTART;TZID=America/Chicago:20261231T210000
DTEND;TZID=America/Chicago:20270101T020000
DTSTAMP:20260424T105128
CREATED:20221109T214827Z
LAST-MODIFIED:20230531T205414Z
UID:10091940-1798750800-1798768800@golatindance.com
SUMMARY:Latin Thursdays at Hangout
DESCRIPTION:Latin Saturdays at Hangout. See flyer for details.
URL:https://golatindance.com/event/latin-thursdays-at-hangout/2026-12-31/
LOCATION:Hangout\, 3554 W Airport Freeway\, Irving\, TX\, 75052\, United States
CATEGORIES:Dallas-Fort Worth
ATTACH;FMTTYPE=image/jpeg:https://golatindance.com/wp-content/uploads/2022/11/285921061_10160911067099218_180215232890565351_n.jpg
END:VEVENT
BEGIN:VEVENT
DTSTART;TZID=America/Chicago:20270107T210000
DTEND;TZID=America/Chicago:20270108T020000
DTSTAMP:20260424T105128
CREATED:20221109T214827Z
LAST-MODIFIED:20230531T205414Z
UID:10091941-1799355600-1799373600@golatindance.com
SUMMARY:Latin Thursdays at Hangout
DESCRIPTION:Latin Saturdays at Hangout. See flyer for details.
URL:https://golatindance.com/event/latin-thursdays-at-hangout/2027-01-07/
LOCATION:Hangout\, 3554 W Airport Freeway\, Irving\, TX\, 75052\, United States
CATEGORIES:Dallas-Fort Worth
ATTACH;FMTTYPE=image/jpeg:https://golatindance.com/wp-content/uploads/2022/11/285921061_10160911067099218_180215232890565351_n.jpg
END:VEVENT
BEGIN:VEVENT
DTSTART;TZID=America/Chicago:20270114T210000
DTEND;TZID=America/Chicago:20270115T020000
DTSTAMP:20260424T105128
CREATED:20221109T214827Z
LAST-MODIFIED:20230531T205414Z
UID:10091942-1799960400-1799978400@golatindance.com
SUMMARY:Latin Thursdays at Hangout
DESCRIPTION:Latin Saturdays at Hangout. See flyer for details.
URL:https://golatindance.com/event/latin-thursdays-at-hangout/2027-01-14/
LOCATION:Hangout\, 3554 W Airport Freeway\, Irving\, TX\, 75052\, United States
CATEGORIES:Dallas-Fort Worth
ATTACH;FMTTYPE=image/jpeg:https://golatindance.com/wp-content/uploads/2022/11/285921061_10160911067099218_180215232890565351_n.jpg
END:VEVENT
BEGIN:VEVENT
DTSTART;TZID=America/Chicago:20270121T210000
DTEND;TZID=America/Chicago:20270122T020000
DTSTAMP:20260424T105128
CREATED:20221109T214827Z
LAST-MODIFIED:20230531T205414Z
UID:10091943-1800565200-1800583200@golatindance.com
SUMMARY:Latin Thursdays at Hangout
DESCRIPTION:Latin Saturdays at Hangout. See flyer for details.
URL:https://golatindance.com/event/latin-thursdays-at-hangout/2027-01-21/
LOCATION:Hangout\, 3554 W Airport Freeway\, Irving\, TX\, 75052\, United States
CATEGORIES:Dallas-Fort Worth
ATTACH;FMTTYPE=image/jpeg:https://golatindance.com/wp-content/uploads/2022/11/285921061_10160911067099218_180215232890565351_n.jpg
END:VEVENT
BEGIN:VEVENT
DTSTART;TZID=America/Chicago:20270128T210000
DTEND;TZID=America/Chicago:20270129T020000
DTSTAMP:20260424T105128
CREATED:20221109T214827Z
LAST-MODIFIED:20230531T205414Z
UID:10091944-1801170000-1801188000@golatindance.com
SUMMARY:Latin Thursdays at Hangout
DESCRIPTION:Latin Saturdays at Hangout. See flyer for details.
URL:https://golatindance.com/event/latin-thursdays-at-hangout/2027-01-28/
LOCATION:Hangout\, 3554 W Airport Freeway\, Irving\, TX\, 75052\, United States
CATEGORIES:Dallas-Fort Worth
ATTACH;FMTTYPE=image/jpeg:https://golatindance.com/wp-content/uploads/2022/11/285921061_10160911067099218_180215232890565351_n.jpg
END:VEVENT
BEGIN:VEVENT
DTSTART;TZID=America/Chicago:20270204T210000
DTEND;TZID=America/Chicago:20270205T020000
DTSTAMP:20260424T105128
CREATED:20221109T214827Z
LAST-MODIFIED:20230531T205414Z
UID:10091945-1801774800-1801792800@golatindance.com
SUMMARY:Latin Thursdays at Hangout
DESCRIPTION:Latin Saturdays at Hangout. See flyer for details.
URL:https://golatindance.com/event/latin-thursdays-at-hangout/2027-02-04/
LOCATION:Hangout\, 3554 W Airport Freeway\, Irving\, TX\, 75052\, United States
CATEGORIES:Dallas-Fort Worth
ATTACH;FMTTYPE=image/jpeg:https://golatindance.com/wp-content/uploads/2022/11/285921061_10160911067099218_180215232890565351_n.jpg
END:VEVENT
BEGIN:VEVENT
DTSTART;TZID=America/Chicago:20270211T210000
DTEND;TZID=America/Chicago:20270212T020000
DTSTAMP:20260424T105128
CREATED:20221109T214827Z
LAST-MODIFIED:20230531T205414Z
UID:10091946-1802379600-1802397600@golatindance.com
SUMMARY:Latin Thursdays at Hangout
DESCRIPTION:Latin Saturdays at Hangout. See flyer for details.
URL:https://golatindance.com/event/latin-thursdays-at-hangout/2027-02-11/
LOCATION:Hangout\, 3554 W Airport Freeway\, Irving\, TX\, 75052\, United States
CATEGORIES:Dallas-Fort Worth
ATTACH;FMTTYPE=image/jpeg:https://golatindance.com/wp-content/uploads/2022/11/285921061_10160911067099218_180215232890565351_n.jpg
END:VEVENT
BEGIN:VEVENT
DTSTART;TZID=America/Chicago:20270218T210000
DTEND;TZID=America/Chicago:20270219T020000
DTSTAMP:20260424T105128
CREATED:20221109T214827Z
LAST-MODIFIED:20230531T205414Z
UID:10091947-1802984400-1803002400@golatindance.com
SUMMARY:Latin Thursdays at Hangout
DESCRIPTION:Latin Saturdays at Hangout. See flyer for details.
URL:https://golatindance.com/event/latin-thursdays-at-hangout/2027-02-18/
LOCATION:Hangout\, 3554 W Airport Freeway\, Irving\, TX\, 75052\, United States
CATEGORIES:Dallas-Fort Worth
ATTACH;FMTTYPE=image/jpeg:https://golatindance.com/wp-content/uploads/2022/11/285921061_10160911067099218_180215232890565351_n.jpg
END:VEVENT
BEGIN:VEVENT
DTSTART;TZID=America/Chicago:20270225T210000
DTEND;TZID=America/Chicago:20270226T020000
DTSTAMP:20260424T105128
CREATED:20221109T214827Z
LAST-MODIFIED:20230531T205414Z
UID:10091948-1803589200-1803607200@golatindance.com
SUMMARY:Latin Thursdays at Hangout
DESCRIPTION:Latin Saturdays at Hangout. See flyer for details.
URL:https://golatindance.com/event/latin-thursdays-at-hangout/2027-02-25/
LOCATION:Hangout\, 3554 W Airport Freeway\, Irving\, TX\, 75052\, United States
CATEGORIES:Dallas-Fort Worth
ATTACH;FMTTYPE=image/jpeg:https://golatindance.com/wp-content/uploads/2022/11/285921061_10160911067099218_180215232890565351_n.jpg
END:VEVENT
BEGIN:VEVENT
DTSTART;TZID=America/Chicago:20270304T210000
DTEND;TZID=America/Chicago:20270305T020000
DTSTAMP:20260424T105128
CREATED:20221109T214827Z
LAST-MODIFIED:20230531T205414Z
UID:10091949-1804194000-1804212000@golatindance.com
SUMMARY:Latin Thursdays at Hangout
DESCRIPTION:Latin Saturdays at Hangout. See flyer for details.
URL:https://golatindance.com/event/latin-thursdays-at-hangout/2027-03-04/
LOCATION:Hangout\, 3554 W Airport Freeway\, Irving\, TX\, 75052\, United States
CATEGORIES:Dallas-Fort Worth
ATTACH;FMTTYPE=image/jpeg:https://golatindance.com/wp-content/uploads/2022/11/285921061_10160911067099218_180215232890565351_n.jpg
END:VEVENT
BEGIN:VEVENT
DTSTART;TZID=America/Chicago:20270311T210000
DTEND;TZID=America/Chicago:20270312T020000
DTSTAMP:20260424T105128
CREATED:20221109T214827Z
LAST-MODIFIED:20230531T205414Z
UID:10091950-1804798800-1804816800@golatindance.com
SUMMARY:Latin Thursdays at Hangout
DESCRIPTION:Latin Saturdays at Hangout. See flyer for details.
URL:https://golatindance.com/event/latin-thursdays-at-hangout/2027-03-11/
LOCATION:Hangout\, 3554 W Airport Freeway\, Irving\, TX\, 75052\, United States
CATEGORIES:Dallas-Fort Worth
ATTACH;FMTTYPE=image/jpeg:https://golatindance.com/wp-content/uploads/2022/11/285921061_10160911067099218_180215232890565351_n.jpg
END:VEVENT
BEGIN:VEVENT
DTSTART;TZID=America/Chicago:20270318T210000
DTEND;TZID=America/Chicago:20270319T020000
DTSTAMP:20260424T105128
CREATED:20221109T214827Z
LAST-MODIFIED:20230531T205414Z
UID:10091951-1805403600-1805421600@golatindance.com
SUMMARY:Latin Thursdays at Hangout
DESCRIPTION:Latin Saturdays at Hangout. See flyer for details.
URL:https://golatindance.com/event/latin-thursdays-at-hangout/2027-03-18/
LOCATION:Hangout\, 3554 W Airport Freeway\, Irving\, TX\, 75052\, United States
CATEGORIES:Dallas-Fort Worth
ATTACH;FMTTYPE=image/jpeg:https://golatindance.com/wp-content/uploads/2022/11/285921061_10160911067099218_180215232890565351_n.jpg
END:VEVENT
BEGIN:VEVENT
DTSTART;TZID=America/Chicago:20270325T210000
DTEND;TZID=America/Chicago:20270326T020000
DTSTAMP:20260424T105128
CREATED:20221109T214827Z
LAST-MODIFIED:20230531T205414Z
UID:10091952-1806008400-1806026400@golatindance.com
SUMMARY:Latin Thursdays at Hangout
DESCRIPTION:Latin Saturdays at Hangout. See flyer for details.
URL:https://golatindance.com/event/latin-thursdays-at-hangout/2027-03-25/
LOCATION:Hangout\, 3554 W Airport Freeway\, Irving\, TX\, 75052\, United States
CATEGORIES:Dallas-Fort Worth
ATTACH;FMTTYPE=image/jpeg:https://golatindance.com/wp-content/uploads/2022/11/285921061_10160911067099218_180215232890565351_n.jpg
END:VEVENT
BEGIN:VEVENT
DTSTART;TZID=America/Chicago:20270401T210000
DTEND;TZID=America/Chicago:20270402T020000
DTSTAMP:20260424T105128
CREATED:20221109T214827Z
LAST-MODIFIED:20230531T205414Z
UID:10091953-1806613200-1806631200@golatindance.com
SUMMARY:Latin Thursdays at Hangout
DESCRIPTION:Latin Saturdays at Hangout. See flyer for details.
URL:https://golatindance.com/event/latin-thursdays-at-hangout/2027-04-01/
LOCATION:Hangout\, 3554 W Airport Freeway\, Irving\, TX\, 75052\, United States
CATEGORIES:Dallas-Fort Worth
ATTACH;FMTTYPE=image/jpeg:https://golatindance.com/wp-content/uploads/2022/11/285921061_10160911067099218_180215232890565351_n.jpg
END:VEVENT
BEGIN:VEVENT
DTSTART;TZID=America/Chicago:20270408T210000
DTEND;TZID=America/Chicago:20270409T020000
DTSTAMP:20260424T105128
CREATED:20221109T214827Z
LAST-MODIFIED:20230531T205414Z
UID:10091954-1807218000-1807236000@golatindance.com
SUMMARY:Latin Thursdays at Hangout
DESCRIPTION:Latin Saturdays at Hangout. See flyer for details.
URL:https://golatindance.com/event/latin-thursdays-at-hangout/2027-04-08/
LOCATION:Hangout\, 3554 W Airport Freeway\, Irving\, TX\, 75052\, United States
CATEGORIES:Dallas-Fort Worth
ATTACH;FMTTYPE=image/jpeg:https://golatindance.com/wp-content/uploads/2022/11/285921061_10160911067099218_180215232890565351_n.jpg
END:VEVENT
BEGIN:VEVENT
DTSTART;TZID=America/Chicago:20270415T210000
DTEND;TZID=America/Chicago:20270416T020000
DTSTAMP:20260424T105128
CREATED:20221109T214827Z
LAST-MODIFIED:20230531T205414Z
UID:10091955-1807822800-1807840800@golatindance.com
SUMMARY:Latin Thursdays at Hangout
DESCRIPTION:Latin Saturdays at Hangout. See flyer for details.
URL:https://golatindance.com/event/latin-thursdays-at-hangout/2027-04-15/
LOCATION:Hangout\, 3554 W Airport Freeway\, Irving\, TX\, 75052\, United States
CATEGORIES:Dallas-Fort Worth
ATTACH;FMTTYPE=image/jpeg:https://golatindance.com/wp-content/uploads/2022/11/285921061_10160911067099218_180215232890565351_n.jpg
END:VEVENT
BEGIN:VEVENT
DTSTART;TZID=America/Chicago:20270422T210000
DTEND;TZID=America/Chicago:20270423T020000
DTSTAMP:20260424T105128
CREATED:20221109T214827Z
LAST-MODIFIED:20230531T205414Z
UID:10091956-1808427600-1808445600@golatindance.com
SUMMARY:Latin Thursdays at Hangout
DESCRIPTION:Latin Saturdays at Hangout. See flyer for details.
URL:https://golatindance.com/event/latin-thursdays-at-hangout/2027-04-22/
LOCATION:Hangout\, 3554 W Airport Freeway\, Irving\, TX\, 75052\, United States
CATEGORIES:Dallas-Fort Worth
ATTACH;FMTTYPE=image/jpeg:https://golatindance.com/wp-content/uploads/2022/11/285921061_10160911067099218_180215232890565351_n.jpg
END:VEVENT
BEGIN:VEVENT
DTSTART;TZID=America/Chicago:20270429T210000
DTEND;TZID=America/Chicago:20270430T020000
DTSTAMP:20260424T105128
CREATED:20221109T214827Z
LAST-MODIFIED:20230531T205414Z
UID:10091957-1809032400-1809050400@golatindance.com
SUMMARY:Latin Thursdays at Hangout
DESCRIPTION:Latin Saturdays at Hangout. See flyer for details.
URL:https://golatindance.com/event/latin-thursdays-at-hangout/2027-04-29/
LOCATION:Hangout\, 3554 W Airport Freeway\, Irving\, TX\, 75052\, United States
CATEGORIES:Dallas-Fort Worth
ATTACH;FMTTYPE=image/jpeg:https://golatindance.com/wp-content/uploads/2022/11/285921061_10160911067099218_180215232890565351_n.jpg
END:VEVENT
BEGIN:VEVENT
DTSTART;TZID=America/Chicago:20270506T210000
DTEND;TZID=America/Chicago:20270507T020000
DTSTAMP:20260424T105128
CREATED:20221109T214827Z
LAST-MODIFIED:20230531T205414Z
UID:10091958-1809637200-1809655200@golatindance.com
SUMMARY:Latin Thursdays at Hangout
DESCRIPTION:Latin Saturdays at Hangout. See flyer for details.
URL:https://golatindance.com/event/latin-thursdays-at-hangout/2027-05-06/
LOCATION:Hangout\, 3554 W Airport Freeway\, Irving\, TX\, 75052\, United States
CATEGORIES:Dallas-Fort Worth
ATTACH;FMTTYPE=image/jpeg:https://golatindance.com/wp-content/uploads/2022/11/285921061_10160911067099218_180215232890565351_n.jpg
END:VEVENT
BEGIN:VEVENT
DTSTART;TZID=America/Chicago:20270513T210000
DTEND;TZID=America/Chicago:20270514T020000
DTSTAMP:20260424T105128
CREATED:20221109T214827Z
LAST-MODIFIED:20230531T205414Z
UID:10091959-1810242000-1810260000@golatindance.com
SUMMARY:Latin Thursdays at Hangout
DESCRIPTION:Latin Saturdays at Hangout. See flyer for details.
URL:https://golatindance.com/event/latin-thursdays-at-hangout/2027-05-13/
LOCATION:Hangout\, 3554 W Airport Freeway\, Irving\, TX\, 75052\, United States
CATEGORIES:Dallas-Fort Worth
ATTACH;FMTTYPE=image/jpeg:https://golatindance.com/wp-content/uploads/2022/11/285921061_10160911067099218_180215232890565351_n.jpg
END:VEVENT
BEGIN:VEVENT
DTSTART;TZID=America/Chicago:20270520T210000
DTEND;TZID=America/Chicago:20270521T020000
DTSTAMP:20260424T105128
CREATED:20221109T214827Z
LAST-MODIFIED:20230531T205414Z
UID:10091960-1810846800-1810864800@golatindance.com
SUMMARY:Latin Thursdays at Hangout
DESCRIPTION:Latin Saturdays at Hangout. See flyer for details.
URL:https://golatindance.com/event/latin-thursdays-at-hangout/2027-05-20/
LOCATION:Hangout\, 3554 W Airport Freeway\, Irving\, TX\, 75052\, United States
CATEGORIES:Dallas-Fort Worth
ATTACH;FMTTYPE=image/jpeg:https://golatindance.com/wp-content/uploads/2022/11/285921061_10160911067099218_180215232890565351_n.jpg
END:VEVENT
BEGIN:VEVENT
DTSTART;TZID=America/Chicago:20270527T210000
DTEND;TZID=America/Chicago:20270528T020000
DTSTAMP:20260424T105128
CREATED:20221109T214827Z
LAST-MODIFIED:20230531T205414Z
UID:10091961-1811451600-1811469600@golatindance.com
SUMMARY:Latin Thursdays at Hangout
DESCRIPTION:Latin Saturdays at Hangout. See flyer for details.
URL:https://golatindance.com/event/latin-thursdays-at-hangout/2027-05-27/
LOCATION:Hangout\, 3554 W Airport Freeway\, Irving\, TX\, 75052\, United States
CATEGORIES:Dallas-Fort Worth
ATTACH;FMTTYPE=image/jpeg:https://golatindance.com/wp-content/uploads/2022/11/285921061_10160911067099218_180215232890565351_n.jpg
END:VEVENT
BEGIN:VEVENT
DTSTART;TZID=America/Chicago:20270603T210000
DTEND;TZID=America/Chicago:20270604T020000
DTSTAMP:20260424T105128
CREATED:20221109T214827Z
LAST-MODIFIED:20230531T205414Z
UID:10091962-1812056400-1812074400@golatindance.com
SUMMARY:Latin Thursdays at Hangout
DESCRIPTION:Latin Saturdays at Hangout. See flyer for details.
URL:https://golatindance.com/event/latin-thursdays-at-hangout/2027-06-03/
LOCATION:Hangout\, 3554 W Airport Freeway\, Irving\, TX\, 75052\, United States
CATEGORIES:Dallas-Fort Worth
ATTACH;FMTTYPE=image/jpeg:https://golatindance.com/wp-content/uploads/2022/11/285921061_10160911067099218_180215232890565351_n.jpg
END:VEVENT
BEGIN:VEVENT
DTSTART;TZID=America/Chicago:20270610T210000
DTEND;TZID=America/Chicago:20270611T020000
DTSTAMP:20260424T105128
CREATED:20221109T214827Z
LAST-MODIFIED:20230531T205414Z
UID:10091963-1812661200-1812679200@golatindance.com
SUMMARY:Latin Thursdays at Hangout
DESCRIPTION:Latin Saturdays at Hangout. See flyer for details.
URL:https://golatindance.com/event/latin-thursdays-at-hangout/2027-06-10/
LOCATION:Hangout\, 3554 W Airport Freeway\, Irving\, TX\, 75052\, United States
CATEGORIES:Dallas-Fort Worth
ATTACH;FMTTYPE=image/jpeg:https://golatindance.com/wp-content/uploads/2022/11/285921061_10160911067099218_180215232890565351_n.jpg
END:VEVENT
BEGIN:VEVENT
DTSTART;TZID=America/Chicago:20270617T210000
DTEND;TZID=America/Chicago:20270618T020000
DTSTAMP:20260424T105128
CREATED:20221109T214827Z
LAST-MODIFIED:20230531T205414Z
UID:10091964-1813266000-1813284000@golatindance.com
SUMMARY:Latin Thursdays at Hangout
DESCRIPTION:Latin Saturdays at Hangout. See flyer for details.
URL:https://golatindance.com/event/latin-thursdays-at-hangout/2027-06-17/
LOCATION:Hangout\, 3554 W Airport Freeway\, Irving\, TX\, 75052\, United States
CATEGORIES:Dallas-Fort Worth
ATTACH;FMTTYPE=image/jpeg:https://golatindance.com/wp-content/uploads/2022/11/285921061_10160911067099218_180215232890565351_n.jpg
END:VEVENT
END:VCALENDAR