BEGIN:VCALENDAR
VERSION:2.0
PRODID:-//GO Latin Dance - ECPv6.15.18//NONSGML v1.0//EN
CALSCALE:GREGORIAN
METHOD:PUBLISH
X-WR-CALNAME:GO Latin Dance
X-ORIGINAL-URL:https://golatindance.com
X-WR-CALDESC:Events for GO Latin Dance
REFRESH-INTERVAL;VALUE=DURATION:PT1H
X-Robots-Tag:noindex
X-PUBLISHED-TTL:PT1H
BEGIN:VTIMEZONE
TZID:America/New_York
BEGIN:DAYLIGHT
TZOFFSETFROM:-0500
TZOFFSETTO:-0400
TZNAME:EDT
DTSTART:20250309T070000
END:DAYLIGHT
BEGIN:STANDARD
TZOFFSETFROM:-0400
TZOFFSETTO:-0500
TZNAME:EST
DTSTART:20251102T060000
END:STANDARD
BEGIN:DAYLIGHT
TZOFFSETFROM:-0500
TZOFFSETTO:-0400
TZNAME:EDT
DTSTART:20260308T070000
END:DAYLIGHT
BEGIN:STANDARD
TZOFFSETFROM:-0400
TZOFFSETTO:-0500
TZNAME:EST
DTSTART:20261101T060000
END:STANDARD
BEGIN:DAYLIGHT
TZOFFSETFROM:-0500
TZOFFSETTO:-0400
TZNAME:EDT
DTSTART:20270314T070000
END:DAYLIGHT
BEGIN:STANDARD
TZOFFSETFROM:-0400
TZOFFSETTO:-0500
TZNAME:EST
DTSTART:20271107T060000
END:STANDARD
END:VTIMEZONE
BEGIN:VEVENT
DTSTART;TZID=America/New_York:20260425T190000
DTEND;TZID=America/New_York:20260425T223000
DTSTAMP:20260420T022356
CREATED:20250924T140336Z
LAST-MODIFIED:20250924T140336Z
UID:10397282-1777143600-1777156200@golatindance.com
SUMMARY:Chelsea Baila Social Club
DESCRIPTION:✨️ Chelsea Baila Social Club is back! ✨️\nOn select Saturdays we will turn Chelsea Market into a dancefloor for one more season.\nWe start at 7pm\, with a free salsa class\, open to everyone\, no partner needed. 💃🕺\nAt 7.45ish\, we start with social dancing with the one and only – 🎧 DJ Gagou spinning the very best of salsa ☆ timba ☆ bachata ☆ y mas! 🔥\nThe event is free for everyone. Hope you can join us! 🥳\nThe Fall 2025 dates:\nSeptember 27\nOctober 4\, 18\nNovember 1\, 15\, 29\nDecember 13
URL:https://golatindance.com/event/chelsea-baila-social-club/2026-04-25/
LOCATION:Chelsea Market\, 75 9th Ave\, Chelsea\, Manhattan\, NY\, 10011\, United States
END:VEVENT
BEGIN:VEVENT
DTSTART;TZID=America/New_York:20260502T190000
DTEND;TZID=America/New_York:20260502T223000
DTSTAMP:20260420T022356
CREATED:20250924T140336Z
LAST-MODIFIED:20250924T140336Z
UID:10397283-1777748400-1777761000@golatindance.com
SUMMARY:Chelsea Baila Social Club
DESCRIPTION:✨️ Chelsea Baila Social Club is back! ✨️\nOn select Saturdays we will turn Chelsea Market into a dancefloor for one more season.\nWe start at 7pm\, with a free salsa class\, open to everyone\, no partner needed. 💃🕺\nAt 7.45ish\, we start with social dancing with the one and only – 🎧 DJ Gagou spinning the very best of salsa ☆ timba ☆ bachata ☆ y mas! 🔥\nThe event is free for everyone. Hope you can join us! 🥳\nThe Fall 2025 dates:\nSeptember 27\nOctober 4\, 18\nNovember 1\, 15\, 29\nDecember 13
URL:https://golatindance.com/event/chelsea-baila-social-club/2026-05-02/
LOCATION:Chelsea Market\, 75 9th Ave\, Chelsea\, Manhattan\, NY\, 10011\, United States
END:VEVENT
BEGIN:VEVENT
DTSTART;TZID=America/New_York:20260509T190000
DTEND;TZID=America/New_York:20260509T223000
DTSTAMP:20260420T022356
CREATED:20250924T140336Z
LAST-MODIFIED:20250924T140336Z
UID:10397284-1778353200-1778365800@golatindance.com
SUMMARY:Chelsea Baila Social Club
DESCRIPTION:✨️ Chelsea Baila Social Club is back! ✨️\nOn select Saturdays we will turn Chelsea Market into a dancefloor for one more season.\nWe start at 7pm\, with a free salsa class\, open to everyone\, no partner needed. 💃🕺\nAt 7.45ish\, we start with social dancing with the one and only – 🎧 DJ Gagou spinning the very best of salsa ☆ timba ☆ bachata ☆ y mas! 🔥\nThe event is free for everyone. Hope you can join us! 🥳\nThe Fall 2025 dates:\nSeptember 27\nOctober 4\, 18\nNovember 1\, 15\, 29\nDecember 13
URL:https://golatindance.com/event/chelsea-baila-social-club/2026-05-09/
LOCATION:Chelsea Market\, 75 9th Ave\, Chelsea\, Manhattan\, NY\, 10011\, United States
END:VEVENT
BEGIN:VEVENT
DTSTART;TZID=America/New_York:20260516T190000
DTEND;TZID=America/New_York:20260516T223000
DTSTAMP:20260420T022356
CREATED:20250924T140336Z
LAST-MODIFIED:20250924T140336Z
UID:10397285-1778958000-1778970600@golatindance.com
SUMMARY:Chelsea Baila Social Club
DESCRIPTION:✨️ Chelsea Baila Social Club is back! ✨️\nOn select Saturdays we will turn Chelsea Market into a dancefloor for one more season.\nWe start at 7pm\, with a free salsa class\, open to everyone\, no partner needed. 💃🕺\nAt 7.45ish\, we start with social dancing with the one and only – 🎧 DJ Gagou spinning the very best of salsa ☆ timba ☆ bachata ☆ y mas! 🔥\nThe event is free for everyone. Hope you can join us! 🥳\nThe Fall 2025 dates:\nSeptember 27\nOctober 4\, 18\nNovember 1\, 15\, 29\nDecember 13
URL:https://golatindance.com/event/chelsea-baila-social-club/2026-05-16/
LOCATION:Chelsea Market\, 75 9th Ave\, Chelsea\, Manhattan\, NY\, 10011\, United States
END:VEVENT
BEGIN:VEVENT
DTSTART;TZID=America/New_York:20260523T190000
DTEND;TZID=America/New_York:20260523T223000
DTSTAMP:20260420T022356
CREATED:20250924T140336Z
LAST-MODIFIED:20250924T140336Z
UID:10397286-1779562800-1779575400@golatindance.com
SUMMARY:Chelsea Baila Social Club
DESCRIPTION:✨️ Chelsea Baila Social Club is back! ✨️\nOn select Saturdays we will turn Chelsea Market into a dancefloor for one more season.\nWe start at 7pm\, with a free salsa class\, open to everyone\, no partner needed. 💃🕺\nAt 7.45ish\, we start with social dancing with the one and only – 🎧 DJ Gagou spinning the very best of salsa ☆ timba ☆ bachata ☆ y mas! 🔥\nThe event is free for everyone. Hope you can join us! 🥳\nThe Fall 2025 dates:\nSeptember 27\nOctober 4\, 18\nNovember 1\, 15\, 29\nDecember 13
URL:https://golatindance.com/event/chelsea-baila-social-club/2026-05-23/
LOCATION:Chelsea Market\, 75 9th Ave\, Chelsea\, Manhattan\, NY\, 10011\, United States
END:VEVENT
BEGIN:VEVENT
DTSTART;TZID=America/New_York:20260530T190000
DTEND;TZID=America/New_York:20260530T223000
DTSTAMP:20260420T022356
CREATED:20250924T140336Z
LAST-MODIFIED:20250924T140336Z
UID:10397287-1780167600-1780180200@golatindance.com
SUMMARY:Chelsea Baila Social Club
DESCRIPTION:✨️ Chelsea Baila Social Club is back! ✨️\nOn select Saturdays we will turn Chelsea Market into a dancefloor for one more season.\nWe start at 7pm\, with a free salsa class\, open to everyone\, no partner needed. 💃🕺\nAt 7.45ish\, we start with social dancing with the one and only – 🎧 DJ Gagou spinning the very best of salsa ☆ timba ☆ bachata ☆ y mas! 🔥\nThe event is free for everyone. Hope you can join us! 🥳\nThe Fall 2025 dates:\nSeptember 27\nOctober 4\, 18\nNovember 1\, 15\, 29\nDecember 13
URL:https://golatindance.com/event/chelsea-baila-social-club/2026-05-30/
LOCATION:Chelsea Market\, 75 9th Ave\, Chelsea\, Manhattan\, NY\, 10011\, United States
END:VEVENT
BEGIN:VEVENT
DTSTART;TZID=America/New_York:20260606T190000
DTEND;TZID=America/New_York:20260606T223000
DTSTAMP:20260420T022356
CREATED:20250924T140336Z
LAST-MODIFIED:20250924T140336Z
UID:10397288-1780772400-1780785000@golatindance.com
SUMMARY:Chelsea Baila Social Club
DESCRIPTION:✨️ Chelsea Baila Social Club is back! ✨️\nOn select Saturdays we will turn Chelsea Market into a dancefloor for one more season.\nWe start at 7pm\, with a free salsa class\, open to everyone\, no partner needed. 💃🕺\nAt 7.45ish\, we start with social dancing with the one and only – 🎧 DJ Gagou spinning the very best of salsa ☆ timba ☆ bachata ☆ y mas! 🔥\nThe event is free for everyone. Hope you can join us! 🥳\nThe Fall 2025 dates:\nSeptember 27\nOctober 4\, 18\nNovember 1\, 15\, 29\nDecember 13
URL:https://golatindance.com/event/chelsea-baila-social-club/2026-06-06/
LOCATION:Chelsea Market\, 75 9th Ave\, Chelsea\, Manhattan\, NY\, 10011\, United States
END:VEVENT
BEGIN:VEVENT
DTSTART;TZID=America/New_York:20260613T190000
DTEND;TZID=America/New_York:20260613T223000
DTSTAMP:20260420T022356
CREATED:20250924T140336Z
LAST-MODIFIED:20250924T140336Z
UID:10397289-1781377200-1781389800@golatindance.com
SUMMARY:Chelsea Baila Social Club
DESCRIPTION:✨️ Chelsea Baila Social Club is back! ✨️\nOn select Saturdays we will turn Chelsea Market into a dancefloor for one more season.\nWe start at 7pm\, with a free salsa class\, open to everyone\, no partner needed. 💃🕺\nAt 7.45ish\, we start with social dancing with the one and only – 🎧 DJ Gagou spinning the very best of salsa ☆ timba ☆ bachata ☆ y mas! 🔥\nThe event is free for everyone. Hope you can join us! 🥳\nThe Fall 2025 dates:\nSeptember 27\nOctober 4\, 18\nNovember 1\, 15\, 29\nDecember 13
URL:https://golatindance.com/event/chelsea-baila-social-club/2026-06-13/
LOCATION:Chelsea Market\, 75 9th Ave\, Chelsea\, Manhattan\, NY\, 10011\, United States
END:VEVENT
BEGIN:VEVENT
DTSTART;TZID=America/New_York:20260620T190000
DTEND;TZID=America/New_York:20260620T223000
DTSTAMP:20260420T022356
CREATED:20250924T140336Z
LAST-MODIFIED:20250924T140336Z
UID:10397290-1781982000-1781994600@golatindance.com
SUMMARY:Chelsea Baila Social Club
DESCRIPTION:✨️ Chelsea Baila Social Club is back! ✨️\nOn select Saturdays we will turn Chelsea Market into a dancefloor for one more season.\nWe start at 7pm\, with a free salsa class\, open to everyone\, no partner needed. 💃🕺\nAt 7.45ish\, we start with social dancing with the one and only – 🎧 DJ Gagou spinning the very best of salsa ☆ timba ☆ bachata ☆ y mas! 🔥\nThe event is free for everyone. Hope you can join us! 🥳\nThe Fall 2025 dates:\nSeptember 27\nOctober 4\, 18\nNovember 1\, 15\, 29\nDecember 13
URL:https://golatindance.com/event/chelsea-baila-social-club/2026-06-20/
LOCATION:Chelsea Market\, 75 9th Ave\, Chelsea\, Manhattan\, NY\, 10011\, United States
END:VEVENT
BEGIN:VEVENT
DTSTART;TZID=America/New_York:20260627T190000
DTEND;TZID=America/New_York:20260627T223000
DTSTAMP:20260420T022356
CREATED:20250924T140336Z
LAST-MODIFIED:20250924T140336Z
UID:10397291-1782586800-1782599400@golatindance.com
SUMMARY:Chelsea Baila Social Club
DESCRIPTION:✨️ Chelsea Baila Social Club is back! ✨️\nOn select Saturdays we will turn Chelsea Market into a dancefloor for one more season.\nWe start at 7pm\, with a free salsa class\, open to everyone\, no partner needed. 💃🕺\nAt 7.45ish\, we start with social dancing with the one and only – 🎧 DJ Gagou spinning the very best of salsa ☆ timba ☆ bachata ☆ y mas! 🔥\nThe event is free for everyone. Hope you can join us! 🥳\nThe Fall 2025 dates:\nSeptember 27\nOctober 4\, 18\nNovember 1\, 15\, 29\nDecember 13
URL:https://golatindance.com/event/chelsea-baila-social-club/2026-06-27/
LOCATION:Chelsea Market\, 75 9th Ave\, Chelsea\, Manhattan\, NY\, 10011\, United States
END:VEVENT
BEGIN:VEVENT
DTSTART;TZID=America/New_York:20260704T190000
DTEND;TZID=America/New_York:20260704T223000
DTSTAMP:20260420T022356
CREATED:20250924T140336Z
LAST-MODIFIED:20250924T140336Z
UID:10397292-1783191600-1783204200@golatindance.com
SUMMARY:Chelsea Baila Social Club
DESCRIPTION:✨️ Chelsea Baila Social Club is back! ✨️\nOn select Saturdays we will turn Chelsea Market into a dancefloor for one more season.\nWe start at 7pm\, with a free salsa class\, open to everyone\, no partner needed. 💃🕺\nAt 7.45ish\, we start with social dancing with the one and only – 🎧 DJ Gagou spinning the very best of salsa ☆ timba ☆ bachata ☆ y mas! 🔥\nThe event is free for everyone. Hope you can join us! 🥳\nThe Fall 2025 dates:\nSeptember 27\nOctober 4\, 18\nNovember 1\, 15\, 29\nDecember 13
URL:https://golatindance.com/event/chelsea-baila-social-club/2026-07-04/
LOCATION:Chelsea Market\, 75 9th Ave\, Chelsea\, Manhattan\, NY\, 10011\, United States
END:VEVENT
BEGIN:VEVENT
DTSTART;TZID=America/New_York:20260711T190000
DTEND;TZID=America/New_York:20260711T223000
DTSTAMP:20260420T022356
CREATED:20250924T140336Z
LAST-MODIFIED:20250924T140336Z
UID:10397293-1783796400-1783809000@golatindance.com
SUMMARY:Chelsea Baila Social Club
DESCRIPTION:✨️ Chelsea Baila Social Club is back! ✨️\nOn select Saturdays we will turn Chelsea Market into a dancefloor for one more season.\nWe start at 7pm\, with a free salsa class\, open to everyone\, no partner needed. 💃🕺\nAt 7.45ish\, we start with social dancing with the one and only – 🎧 DJ Gagou spinning the very best of salsa ☆ timba ☆ bachata ☆ y mas! 🔥\nThe event is free for everyone. Hope you can join us! 🥳\nThe Fall 2025 dates:\nSeptember 27\nOctober 4\, 18\nNovember 1\, 15\, 29\nDecember 13
URL:https://golatindance.com/event/chelsea-baila-social-club/2026-07-11/
LOCATION:Chelsea Market\, 75 9th Ave\, Chelsea\, Manhattan\, NY\, 10011\, United States
END:VEVENT
BEGIN:VEVENT
DTSTART;TZID=America/New_York:20260718T190000
DTEND;TZID=America/New_York:20260718T223000
DTSTAMP:20260420T022356
CREATED:20250924T140336Z
LAST-MODIFIED:20250924T140336Z
UID:10397294-1784401200-1784413800@golatindance.com
SUMMARY:Chelsea Baila Social Club
DESCRIPTION:✨️ Chelsea Baila Social Club is back! ✨️\nOn select Saturdays we will turn Chelsea Market into a dancefloor for one more season.\nWe start at 7pm\, with a free salsa class\, open to everyone\, no partner needed. 💃🕺\nAt 7.45ish\, we start with social dancing with the one and only – 🎧 DJ Gagou spinning the very best of salsa ☆ timba ☆ bachata ☆ y mas! 🔥\nThe event is free for everyone. Hope you can join us! 🥳\nThe Fall 2025 dates:\nSeptember 27\nOctober 4\, 18\nNovember 1\, 15\, 29\nDecember 13
URL:https://golatindance.com/event/chelsea-baila-social-club/2026-07-18/
LOCATION:Chelsea Market\, 75 9th Ave\, Chelsea\, Manhattan\, NY\, 10011\, United States
END:VEVENT
BEGIN:VEVENT
DTSTART;TZID=America/New_York:20260725T190000
DTEND;TZID=America/New_York:20260725T223000
DTSTAMP:20260420T022356
CREATED:20250924T140336Z
LAST-MODIFIED:20250924T140336Z
UID:10397295-1785006000-1785018600@golatindance.com
SUMMARY:Chelsea Baila Social Club
DESCRIPTION:✨️ Chelsea Baila Social Club is back! ✨️\nOn select Saturdays we will turn Chelsea Market into a dancefloor for one more season.\nWe start at 7pm\, with a free salsa class\, open to everyone\, no partner needed. 💃🕺\nAt 7.45ish\, we start with social dancing with the one and only – 🎧 DJ Gagou spinning the very best of salsa ☆ timba ☆ bachata ☆ y mas! 🔥\nThe event is free for everyone. Hope you can join us! 🥳\nThe Fall 2025 dates:\nSeptember 27\nOctober 4\, 18\nNovember 1\, 15\, 29\nDecember 13
URL:https://golatindance.com/event/chelsea-baila-social-club/2026-07-25/
LOCATION:Chelsea Market\, 75 9th Ave\, Chelsea\, Manhattan\, NY\, 10011\, United States
END:VEVENT
BEGIN:VEVENT
DTSTART;TZID=America/New_York:20260801T190000
DTEND;TZID=America/New_York:20260801T223000
DTSTAMP:20260420T022356
CREATED:20250924T140336Z
LAST-MODIFIED:20250924T140336Z
UID:10397296-1785610800-1785623400@golatindance.com
SUMMARY:Chelsea Baila Social Club
DESCRIPTION:✨️ Chelsea Baila Social Club is back! ✨️\nOn select Saturdays we will turn Chelsea Market into a dancefloor for one more season.\nWe start at 7pm\, with a free salsa class\, open to everyone\, no partner needed. 💃🕺\nAt 7.45ish\, we start with social dancing with the one and only – 🎧 DJ Gagou spinning the very best of salsa ☆ timba ☆ bachata ☆ y mas! 🔥\nThe event is free for everyone. Hope you can join us! 🥳\nThe Fall 2025 dates:\nSeptember 27\nOctober 4\, 18\nNovember 1\, 15\, 29\nDecember 13
URL:https://golatindance.com/event/chelsea-baila-social-club/2026-08-01/
LOCATION:Chelsea Market\, 75 9th Ave\, Chelsea\, Manhattan\, NY\, 10011\, United States
END:VEVENT
BEGIN:VEVENT
DTSTART;TZID=America/New_York:20260808T190000
DTEND;TZID=America/New_York:20260808T223000
DTSTAMP:20260420T022356
CREATED:20250924T140336Z
LAST-MODIFIED:20250924T140336Z
UID:10397297-1786215600-1786228200@golatindance.com
SUMMARY:Chelsea Baila Social Club
DESCRIPTION:✨️ Chelsea Baila Social Club is back! ✨️\nOn select Saturdays we will turn Chelsea Market into a dancefloor for one more season.\nWe start at 7pm\, with a free salsa class\, open to everyone\, no partner needed. 💃🕺\nAt 7.45ish\, we start with social dancing with the one and only – 🎧 DJ Gagou spinning the very best of salsa ☆ timba ☆ bachata ☆ y mas! 🔥\nThe event is free for everyone. Hope you can join us! 🥳\nThe Fall 2025 dates:\nSeptember 27\nOctober 4\, 18\nNovember 1\, 15\, 29\nDecember 13
URL:https://golatindance.com/event/chelsea-baila-social-club/2026-08-08/
LOCATION:Chelsea Market\, 75 9th Ave\, Chelsea\, Manhattan\, NY\, 10011\, United States
END:VEVENT
BEGIN:VEVENT
DTSTART;TZID=America/New_York:20260815T190000
DTEND;TZID=America/New_York:20260815T223000
DTSTAMP:20260420T022356
CREATED:20250924T140336Z
LAST-MODIFIED:20250924T140336Z
UID:10397298-1786820400-1786833000@golatindance.com
SUMMARY:Chelsea Baila Social Club
DESCRIPTION:✨️ Chelsea Baila Social Club is back! ✨️\nOn select Saturdays we will turn Chelsea Market into a dancefloor for one more season.\nWe start at 7pm\, with a free salsa class\, open to everyone\, no partner needed. 💃🕺\nAt 7.45ish\, we start with social dancing with the one and only – 🎧 DJ Gagou spinning the very best of salsa ☆ timba ☆ bachata ☆ y mas! 🔥\nThe event is free for everyone. Hope you can join us! 🥳\nThe Fall 2025 dates:\nSeptember 27\nOctober 4\, 18\nNovember 1\, 15\, 29\nDecember 13
URL:https://golatindance.com/event/chelsea-baila-social-club/2026-08-15/
LOCATION:Chelsea Market\, 75 9th Ave\, Chelsea\, Manhattan\, NY\, 10011\, United States
END:VEVENT
BEGIN:VEVENT
DTSTART;TZID=America/New_York:20260822T190000
DTEND;TZID=America/New_York:20260822T223000
DTSTAMP:20260420T022356
CREATED:20250924T140336Z
LAST-MODIFIED:20250924T140336Z
UID:10397299-1787425200-1787437800@golatindance.com
SUMMARY:Chelsea Baila Social Club
DESCRIPTION:✨️ Chelsea Baila Social Club is back! ✨️\nOn select Saturdays we will turn Chelsea Market into a dancefloor for one more season.\nWe start at 7pm\, with a free salsa class\, open to everyone\, no partner needed. 💃🕺\nAt 7.45ish\, we start with social dancing with the one and only – 🎧 DJ Gagou spinning the very best of salsa ☆ timba ☆ bachata ☆ y mas! 🔥\nThe event is free for everyone. Hope you can join us! 🥳\nThe Fall 2025 dates:\nSeptember 27\nOctober 4\, 18\nNovember 1\, 15\, 29\nDecember 13
URL:https://golatindance.com/event/chelsea-baila-social-club/2026-08-22/
LOCATION:Chelsea Market\, 75 9th Ave\, Chelsea\, Manhattan\, NY\, 10011\, United States
END:VEVENT
BEGIN:VEVENT
DTSTART;TZID=America/New_York:20260829T190000
DTEND;TZID=America/New_York:20260829T223000
DTSTAMP:20260420T022356
CREATED:20250924T140336Z
LAST-MODIFIED:20250924T140336Z
UID:10397300-1788030000-1788042600@golatindance.com
SUMMARY:Chelsea Baila Social Club
DESCRIPTION:✨️ Chelsea Baila Social Club is back! ✨️\nOn select Saturdays we will turn Chelsea Market into a dancefloor for one more season.\nWe start at 7pm\, with a free salsa class\, open to everyone\, no partner needed. 💃🕺\nAt 7.45ish\, we start with social dancing with the one and only – 🎧 DJ Gagou spinning the very best of salsa ☆ timba ☆ bachata ☆ y mas! 🔥\nThe event is free for everyone. Hope you can join us! 🥳\nThe Fall 2025 dates:\nSeptember 27\nOctober 4\, 18\nNovember 1\, 15\, 29\nDecember 13
URL:https://golatindance.com/event/chelsea-baila-social-club/2026-08-29/
LOCATION:Chelsea Market\, 75 9th Ave\, Chelsea\, Manhattan\, NY\, 10011\, United States
END:VEVENT
BEGIN:VEVENT
DTSTART;TZID=America/New_York:20260905T190000
DTEND;TZID=America/New_York:20260905T223000
DTSTAMP:20260420T022356
CREATED:20250924T140336Z
LAST-MODIFIED:20250924T140336Z
UID:10397301-1788634800-1788647400@golatindance.com
SUMMARY:Chelsea Baila Social Club
DESCRIPTION:✨️ Chelsea Baila Social Club is back! ✨️\nOn select Saturdays we will turn Chelsea Market into a dancefloor for one more season.\nWe start at 7pm\, with a free salsa class\, open to everyone\, no partner needed. 💃🕺\nAt 7.45ish\, we start with social dancing with the one and only – 🎧 DJ Gagou spinning the very best of salsa ☆ timba ☆ bachata ☆ y mas! 🔥\nThe event is free for everyone. Hope you can join us! 🥳\nThe Fall 2025 dates:\nSeptember 27\nOctober 4\, 18\nNovember 1\, 15\, 29\nDecember 13
URL:https://golatindance.com/event/chelsea-baila-social-club/2026-09-05/
LOCATION:Chelsea Market\, 75 9th Ave\, Chelsea\, Manhattan\, NY\, 10011\, United States
END:VEVENT
BEGIN:VEVENT
DTSTART;TZID=America/New_York:20260912T190000
DTEND;TZID=America/New_York:20260912T223000
DTSTAMP:20260420T022356
CREATED:20250924T140336Z
LAST-MODIFIED:20250924T140336Z
UID:10397302-1789239600-1789252200@golatindance.com
SUMMARY:Chelsea Baila Social Club
DESCRIPTION:✨️ Chelsea Baila Social Club is back! ✨️\nOn select Saturdays we will turn Chelsea Market into a dancefloor for one more season.\nWe start at 7pm\, with a free salsa class\, open to everyone\, no partner needed. 💃🕺\nAt 7.45ish\, we start with social dancing with the one and only – 🎧 DJ Gagou spinning the very best of salsa ☆ timba ☆ bachata ☆ y mas! 🔥\nThe event is free for everyone. Hope you can join us! 🥳\nThe Fall 2025 dates:\nSeptember 27\nOctober 4\, 18\nNovember 1\, 15\, 29\nDecember 13
URL:https://golatindance.com/event/chelsea-baila-social-club/2026-09-12/
LOCATION:Chelsea Market\, 75 9th Ave\, Chelsea\, Manhattan\, NY\, 10011\, United States
END:VEVENT
BEGIN:VEVENT
DTSTART;TZID=America/New_York:20260919T190000
DTEND;TZID=America/New_York:20260919T223000
DTSTAMP:20260420T022356
CREATED:20250924T140336Z
LAST-MODIFIED:20250924T140336Z
UID:10397303-1789844400-1789857000@golatindance.com
SUMMARY:Chelsea Baila Social Club
DESCRIPTION:✨️ Chelsea Baila Social Club is back! ✨️\nOn select Saturdays we will turn Chelsea Market into a dancefloor for one more season.\nWe start at 7pm\, with a free salsa class\, open to everyone\, no partner needed. 💃🕺\nAt 7.45ish\, we start with social dancing with the one and only – 🎧 DJ Gagou spinning the very best of salsa ☆ timba ☆ bachata ☆ y mas! 🔥\nThe event is free for everyone. Hope you can join us! 🥳\nThe Fall 2025 dates:\nSeptember 27\nOctober 4\, 18\nNovember 1\, 15\, 29\nDecember 13
URL:https://golatindance.com/event/chelsea-baila-social-club/2026-09-19/
LOCATION:Chelsea Market\, 75 9th Ave\, Chelsea\, Manhattan\, NY\, 10011\, United States
END:VEVENT
BEGIN:VEVENT
DTSTART;TZID=America/New_York:20260926T190000
DTEND;TZID=America/New_York:20260926T223000
DTSTAMP:20260420T022356
CREATED:20250924T140336Z
LAST-MODIFIED:20250924T140336Z
UID:10397304-1790449200-1790461800@golatindance.com
SUMMARY:Chelsea Baila Social Club
DESCRIPTION:✨️ Chelsea Baila Social Club is back! ✨️\nOn select Saturdays we will turn Chelsea Market into a dancefloor for one more season.\nWe start at 7pm\, with a free salsa class\, open to everyone\, no partner needed. 💃🕺\nAt 7.45ish\, we start with social dancing with the one and only – 🎧 DJ Gagou spinning the very best of salsa ☆ timba ☆ bachata ☆ y mas! 🔥\nThe event is free for everyone. Hope you can join us! 🥳\nThe Fall 2025 dates:\nSeptember 27\nOctober 4\, 18\nNovember 1\, 15\, 29\nDecember 13
URL:https://golatindance.com/event/chelsea-baila-social-club/2026-09-26/
LOCATION:Chelsea Market\, 75 9th Ave\, Chelsea\, Manhattan\, NY\, 10011\, United States
END:VEVENT
BEGIN:VEVENT
DTSTART;TZID=America/New_York:20261003T190000
DTEND;TZID=America/New_York:20261003T223000
DTSTAMP:20260420T022356
CREATED:20250924T140336Z
LAST-MODIFIED:20250924T140336Z
UID:10397305-1791054000-1791066600@golatindance.com
SUMMARY:Chelsea Baila Social Club
DESCRIPTION:✨️ Chelsea Baila Social Club is back! ✨️\nOn select Saturdays we will turn Chelsea Market into a dancefloor for one more season.\nWe start at 7pm\, with a free salsa class\, open to everyone\, no partner needed. 💃🕺\nAt 7.45ish\, we start with social dancing with the one and only – 🎧 DJ Gagou spinning the very best of salsa ☆ timba ☆ bachata ☆ y mas! 🔥\nThe event is free for everyone. Hope you can join us! 🥳\nThe Fall 2025 dates:\nSeptember 27\nOctober 4\, 18\nNovember 1\, 15\, 29\nDecember 13
URL:https://golatindance.com/event/chelsea-baila-social-club/2026-10-03/
LOCATION:Chelsea Market\, 75 9th Ave\, Chelsea\, Manhattan\, NY\, 10011\, United States
END:VEVENT
BEGIN:VEVENT
DTSTART;TZID=America/New_York:20261010T190000
DTEND;TZID=America/New_York:20261010T223000
DTSTAMP:20260420T022356
CREATED:20250924T140336Z
LAST-MODIFIED:20250924T140336Z
UID:10397306-1791658800-1791671400@golatindance.com
SUMMARY:Chelsea Baila Social Club
DESCRIPTION:✨️ Chelsea Baila Social Club is back! ✨️\nOn select Saturdays we will turn Chelsea Market into a dancefloor for one more season.\nWe start at 7pm\, with a free salsa class\, open to everyone\, no partner needed. 💃🕺\nAt 7.45ish\, we start with social dancing with the one and only – 🎧 DJ Gagou spinning the very best of salsa ☆ timba ☆ bachata ☆ y mas! 🔥\nThe event is free for everyone. Hope you can join us! 🥳\nThe Fall 2025 dates:\nSeptember 27\nOctober 4\, 18\nNovember 1\, 15\, 29\nDecember 13
URL:https://golatindance.com/event/chelsea-baila-social-club/2026-10-10/
LOCATION:Chelsea Market\, 75 9th Ave\, Chelsea\, Manhattan\, NY\, 10011\, United States
END:VEVENT
BEGIN:VEVENT
DTSTART;TZID=America/New_York:20261017T190000
DTEND;TZID=America/New_York:20261017T223000
DTSTAMP:20260420T022356
CREATED:20250924T140336Z
LAST-MODIFIED:20250924T140336Z
UID:10397307-1792263600-1792276200@golatindance.com
SUMMARY:Chelsea Baila Social Club
DESCRIPTION:✨️ Chelsea Baila Social Club is back! ✨️\nOn select Saturdays we will turn Chelsea Market into a dancefloor for one more season.\nWe start at 7pm\, with a free salsa class\, open to everyone\, no partner needed. 💃🕺\nAt 7.45ish\, we start with social dancing with the one and only – 🎧 DJ Gagou spinning the very best of salsa ☆ timba ☆ bachata ☆ y mas! 🔥\nThe event is free for everyone. Hope you can join us! 🥳\nThe Fall 2025 dates:\nSeptember 27\nOctober 4\, 18\nNovember 1\, 15\, 29\nDecember 13
URL:https://golatindance.com/event/chelsea-baila-social-club/2026-10-17/
LOCATION:Chelsea Market\, 75 9th Ave\, Chelsea\, Manhattan\, NY\, 10011\, United States
END:VEVENT
BEGIN:VEVENT
DTSTART;TZID=America/New_York:20261024T190000
DTEND;TZID=America/New_York:20261024T223000
DTSTAMP:20260420T022356
CREATED:20250924T140336Z
LAST-MODIFIED:20250924T140336Z
UID:10397308-1792868400-1792881000@golatindance.com
SUMMARY:Chelsea Baila Social Club
DESCRIPTION:✨️ Chelsea Baila Social Club is back! ✨️\nOn select Saturdays we will turn Chelsea Market into a dancefloor for one more season.\nWe start at 7pm\, with a free salsa class\, open to everyone\, no partner needed. 💃🕺\nAt 7.45ish\, we start with social dancing with the one and only – 🎧 DJ Gagou spinning the very best of salsa ☆ timba ☆ bachata ☆ y mas! 🔥\nThe event is free for everyone. Hope you can join us! 🥳\nThe Fall 2025 dates:\nSeptember 27\nOctober 4\, 18\nNovember 1\, 15\, 29\nDecember 13
URL:https://golatindance.com/event/chelsea-baila-social-club/2026-10-24/
LOCATION:Chelsea Market\, 75 9th Ave\, Chelsea\, Manhattan\, NY\, 10011\, United States
END:VEVENT
BEGIN:VEVENT
DTSTART;TZID=America/New_York:20261031T190000
DTEND;TZID=America/New_York:20261031T223000
DTSTAMP:20260420T022356
CREATED:20250924T140336Z
LAST-MODIFIED:20250924T140336Z
UID:10397309-1793473200-1793485800@golatindance.com
SUMMARY:Chelsea Baila Social Club
DESCRIPTION:✨️ Chelsea Baila Social Club is back! ✨️\nOn select Saturdays we will turn Chelsea Market into a dancefloor for one more season.\nWe start at 7pm\, with a free salsa class\, open to everyone\, no partner needed. 💃🕺\nAt 7.45ish\, we start with social dancing with the one and only – 🎧 DJ Gagou spinning the very best of salsa ☆ timba ☆ bachata ☆ y mas! 🔥\nThe event is free for everyone. Hope you can join us! 🥳\nThe Fall 2025 dates:\nSeptember 27\nOctober 4\, 18\nNovember 1\, 15\, 29\nDecember 13
URL:https://golatindance.com/event/chelsea-baila-social-club/2026-10-31/
LOCATION:Chelsea Market\, 75 9th Ave\, Chelsea\, Manhattan\, NY\, 10011\, United States
END:VEVENT
BEGIN:VEVENT
DTSTART;TZID=America/New_York:20261107T190000
DTEND;TZID=America/New_York:20261107T223000
DTSTAMP:20260420T022356
CREATED:20250924T140336Z
LAST-MODIFIED:20250924T140336Z
UID:10397310-1794078000-1794090600@golatindance.com
SUMMARY:Chelsea Baila Social Club
DESCRIPTION:✨️ Chelsea Baila Social Club is back! ✨️\nOn select Saturdays we will turn Chelsea Market into a dancefloor for one more season.\nWe start at 7pm\, with a free salsa class\, open to everyone\, no partner needed. 💃🕺\nAt 7.45ish\, we start with social dancing with the one and only – 🎧 DJ Gagou spinning the very best of salsa ☆ timba ☆ bachata ☆ y mas! 🔥\nThe event is free for everyone. Hope you can join us! 🥳\nThe Fall 2025 dates:\nSeptember 27\nOctober 4\, 18\nNovember 1\, 15\, 29\nDecember 13
URL:https://golatindance.com/event/chelsea-baila-social-club/2026-11-07/
LOCATION:Chelsea Market\, 75 9th Ave\, Chelsea\, Manhattan\, NY\, 10011\, United States
END:VEVENT
BEGIN:VEVENT
DTSTART;TZID=America/New_York:20261114T190000
DTEND;TZID=America/New_York:20261114T223000
DTSTAMP:20260420T022356
CREATED:20250924T140336Z
LAST-MODIFIED:20250924T140336Z
UID:10397311-1794682800-1794695400@golatindance.com
SUMMARY:Chelsea Baila Social Club
DESCRIPTION:✨️ Chelsea Baila Social Club is back! ✨️\nOn select Saturdays we will turn Chelsea Market into a dancefloor for one more season.\nWe start at 7pm\, with a free salsa class\, open to everyone\, no partner needed. 💃🕺\nAt 7.45ish\, we start with social dancing with the one and only – 🎧 DJ Gagou spinning the very best of salsa ☆ timba ☆ bachata ☆ y mas! 🔥\nThe event is free for everyone. Hope you can join us! 🥳\nThe Fall 2025 dates:\nSeptember 27\nOctober 4\, 18\nNovember 1\, 15\, 29\nDecember 13
URL:https://golatindance.com/event/chelsea-baila-social-club/2026-11-14/
LOCATION:Chelsea Market\, 75 9th Ave\, Chelsea\, Manhattan\, NY\, 10011\, United States
END:VEVENT
END:VCALENDAR