BEGIN:VCALENDAR
VERSION:2.0
PRODID:-//GO Latin Dance - ECPv6.15.18//NONSGML v1.0//EN
CALSCALE:GREGORIAN
METHOD:PUBLISH
X-WR-CALNAME:GO Latin Dance
X-ORIGINAL-URL:https://golatindance.com
X-WR-CALDESC:Events for GO Latin Dance
REFRESH-INTERVAL;VALUE=DURATION:PT1H
X-Robots-Tag:noindex
X-PUBLISHED-TTL:PT1H
BEGIN:VTIMEZONE
TZID:America/New_York
BEGIN:DAYLIGHT
TZOFFSETFROM:-0500
TZOFFSETTO:-0400
TZNAME:EDT
DTSTART:20280312T070000
END:DAYLIGHT
BEGIN:STANDARD
TZOFFSETFROM:-0400
TZOFFSETTO:-0500
TZNAME:EST
DTSTART:20281105T060000
END:STANDARD
BEGIN:DAYLIGHT
TZOFFSETFROM:-0500
TZOFFSETTO:-0400
TZNAME:EDT
DTSTART:20290311T070000
END:DAYLIGHT
BEGIN:STANDARD
TZOFFSETFROM:-0400
TZOFFSETTO:-0500
TZNAME:EST
DTSTART:20291104T060000
END:STANDARD
BEGIN:DAYLIGHT
TZOFFSETFROM:-0500
TZOFFSETTO:-0400
TZNAME:EDT
DTSTART:20300310T070000
END:DAYLIGHT
BEGIN:STANDARD
TZOFFSETFROM:-0400
TZOFFSETTO:-0500
TZNAME:EST
DTSTART:20301103T060000
END:STANDARD
END:VTIMEZONE
BEGIN:VEVENT
DTSTART;TZID=America/New_York:20290310T190000
DTEND;TZID=America/New_York:20290310T223000
DTSTAMP:20260421T005235
CREATED:20250924T140336Z
LAST-MODIFIED:20250924T140336Z
UID:10397432-1867863600-1867876200@golatindance.com
SUMMARY:Chelsea Baila Social Club
DESCRIPTION:✨️ Chelsea Baila Social Club is back! ✨️\nOn select Saturdays we will turn Chelsea Market into a dancefloor for one more season.\nWe start at 7pm\, with a free salsa class\, open to everyone\, no partner needed. 💃🕺\nAt 7.45ish\, we start with social dancing with the one and only – 🎧 DJ Gagou spinning the very best of salsa ☆ timba ☆ bachata ☆ y mas! 🔥\nThe event is free for everyone. Hope you can join us! 🥳\nThe Fall 2025 dates:\nSeptember 27\nOctober 4\, 18\nNovember 1\, 15\, 29\nDecember 13
URL:https://golatindance.com/event/chelsea-baila-social-club/2029-03-10/
LOCATION:Chelsea Market\, 75 9th Ave\, Chelsea\, Manhattan\, NY\, 10011\, United States
END:VEVENT
BEGIN:VEVENT
DTSTART;TZID=America/New_York:20290317T190000
DTEND;TZID=America/New_York:20290317T223000
DTSTAMP:20260421T005235
CREATED:20250924T140336Z
LAST-MODIFIED:20250924T140336Z
UID:10397433-1868468400-1868481000@golatindance.com
SUMMARY:Chelsea Baila Social Club
DESCRIPTION:✨️ Chelsea Baila Social Club is back! ✨️\nOn select Saturdays we will turn Chelsea Market into a dancefloor for one more season.\nWe start at 7pm\, with a free salsa class\, open to everyone\, no partner needed. 💃🕺\nAt 7.45ish\, we start with social dancing with the one and only – 🎧 DJ Gagou spinning the very best of salsa ☆ timba ☆ bachata ☆ y mas! 🔥\nThe event is free for everyone. Hope you can join us! 🥳\nThe Fall 2025 dates:\nSeptember 27\nOctober 4\, 18\nNovember 1\, 15\, 29\nDecember 13
URL:https://golatindance.com/event/chelsea-baila-social-club/2029-03-17/
LOCATION:Chelsea Market\, 75 9th Ave\, Chelsea\, Manhattan\, NY\, 10011\, United States
END:VEVENT
BEGIN:VEVENT
DTSTART;TZID=America/New_York:20290324T190000
DTEND;TZID=America/New_York:20290324T223000
DTSTAMP:20260421T005235
CREATED:20250924T140336Z
LAST-MODIFIED:20250924T140336Z
UID:10397434-1869073200-1869085800@golatindance.com
SUMMARY:Chelsea Baila Social Club
DESCRIPTION:✨️ Chelsea Baila Social Club is back! ✨️\nOn select Saturdays we will turn Chelsea Market into a dancefloor for one more season.\nWe start at 7pm\, with a free salsa class\, open to everyone\, no partner needed. 💃🕺\nAt 7.45ish\, we start with social dancing with the one and only – 🎧 DJ Gagou spinning the very best of salsa ☆ timba ☆ bachata ☆ y mas! 🔥\nThe event is free for everyone. Hope you can join us! 🥳\nThe Fall 2025 dates:\nSeptember 27\nOctober 4\, 18\nNovember 1\, 15\, 29\nDecember 13
URL:https://golatindance.com/event/chelsea-baila-social-club/2029-03-24/
LOCATION:Chelsea Market\, 75 9th Ave\, Chelsea\, Manhattan\, NY\, 10011\, United States
END:VEVENT
BEGIN:VEVENT
DTSTART;TZID=America/New_York:20290331T190000
DTEND;TZID=America/New_York:20290331T223000
DTSTAMP:20260421T005235
CREATED:20250924T140336Z
LAST-MODIFIED:20250924T140336Z
UID:10397435-1869678000-1869690600@golatindance.com
SUMMARY:Chelsea Baila Social Club
DESCRIPTION:✨️ Chelsea Baila Social Club is back! ✨️\nOn select Saturdays we will turn Chelsea Market into a dancefloor for one more season.\nWe start at 7pm\, with a free salsa class\, open to everyone\, no partner needed. 💃🕺\nAt 7.45ish\, we start with social dancing with the one and only – 🎧 DJ Gagou spinning the very best of salsa ☆ timba ☆ bachata ☆ y mas! 🔥\nThe event is free for everyone. Hope you can join us! 🥳\nThe Fall 2025 dates:\nSeptember 27\nOctober 4\, 18\nNovember 1\, 15\, 29\nDecember 13
URL:https://golatindance.com/event/chelsea-baila-social-club/2029-03-31/
LOCATION:Chelsea Market\, 75 9th Ave\, Chelsea\, Manhattan\, NY\, 10011\, United States
END:VEVENT
BEGIN:VEVENT
DTSTART;TZID=America/New_York:20290407T190000
DTEND;TZID=America/New_York:20290407T223000
DTSTAMP:20260421T005235
CREATED:20250924T140336Z
LAST-MODIFIED:20250924T140336Z
UID:10397436-1870282800-1870295400@golatindance.com
SUMMARY:Chelsea Baila Social Club
DESCRIPTION:✨️ Chelsea Baila Social Club is back! ✨️\nOn select Saturdays we will turn Chelsea Market into a dancefloor for one more season.\nWe start at 7pm\, with a free salsa class\, open to everyone\, no partner needed. 💃🕺\nAt 7.45ish\, we start with social dancing with the one and only – 🎧 DJ Gagou spinning the very best of salsa ☆ timba ☆ bachata ☆ y mas! 🔥\nThe event is free for everyone. Hope you can join us! 🥳\nThe Fall 2025 dates:\nSeptember 27\nOctober 4\, 18\nNovember 1\, 15\, 29\nDecember 13
URL:https://golatindance.com/event/chelsea-baila-social-club/2029-04-07/
LOCATION:Chelsea Market\, 75 9th Ave\, Chelsea\, Manhattan\, NY\, 10011\, United States
END:VEVENT
BEGIN:VEVENT
DTSTART;TZID=America/New_York:20290414T190000
DTEND;TZID=America/New_York:20290414T223000
DTSTAMP:20260421T005235
CREATED:20250924T140336Z
LAST-MODIFIED:20250924T140336Z
UID:10397437-1870887600-1870900200@golatindance.com
SUMMARY:Chelsea Baila Social Club
DESCRIPTION:✨️ Chelsea Baila Social Club is back! ✨️\nOn select Saturdays we will turn Chelsea Market into a dancefloor for one more season.\nWe start at 7pm\, with a free salsa class\, open to everyone\, no partner needed. 💃🕺\nAt 7.45ish\, we start with social dancing with the one and only – 🎧 DJ Gagou spinning the very best of salsa ☆ timba ☆ bachata ☆ y mas! 🔥\nThe event is free for everyone. Hope you can join us! 🥳\nThe Fall 2025 dates:\nSeptember 27\nOctober 4\, 18\nNovember 1\, 15\, 29\nDecember 13
URL:https://golatindance.com/event/chelsea-baila-social-club/2029-04-14/
LOCATION:Chelsea Market\, 75 9th Ave\, Chelsea\, Manhattan\, NY\, 10011\, United States
END:VEVENT
BEGIN:VEVENT
DTSTART;TZID=America/New_York:20290421T190000
DTEND;TZID=America/New_York:20290421T223000
DTSTAMP:20260421T005235
CREATED:20250924T140336Z
LAST-MODIFIED:20250924T140336Z
UID:10397438-1871492400-1871505000@golatindance.com
SUMMARY:Chelsea Baila Social Club
DESCRIPTION:✨️ Chelsea Baila Social Club is back! ✨️\nOn select Saturdays we will turn Chelsea Market into a dancefloor for one more season.\nWe start at 7pm\, with a free salsa class\, open to everyone\, no partner needed. 💃🕺\nAt 7.45ish\, we start with social dancing with the one and only – 🎧 DJ Gagou spinning the very best of salsa ☆ timba ☆ bachata ☆ y mas! 🔥\nThe event is free for everyone. Hope you can join us! 🥳\nThe Fall 2025 dates:\nSeptember 27\nOctober 4\, 18\nNovember 1\, 15\, 29\nDecember 13
URL:https://golatindance.com/event/chelsea-baila-social-club/2029-04-21/
LOCATION:Chelsea Market\, 75 9th Ave\, Chelsea\, Manhattan\, NY\, 10011\, United States
END:VEVENT
BEGIN:VEVENT
DTSTART;TZID=America/New_York:20290428T190000
DTEND;TZID=America/New_York:20290428T223000
DTSTAMP:20260421T005235
CREATED:20250924T140336Z
LAST-MODIFIED:20250924T140336Z
UID:10397439-1872097200-1872109800@golatindance.com
SUMMARY:Chelsea Baila Social Club
DESCRIPTION:✨️ Chelsea Baila Social Club is back! ✨️\nOn select Saturdays we will turn Chelsea Market into a dancefloor for one more season.\nWe start at 7pm\, with a free salsa class\, open to everyone\, no partner needed. 💃🕺\nAt 7.45ish\, we start with social dancing with the one and only – 🎧 DJ Gagou spinning the very best of salsa ☆ timba ☆ bachata ☆ y mas! 🔥\nThe event is free for everyone. Hope you can join us! 🥳\nThe Fall 2025 dates:\nSeptember 27\nOctober 4\, 18\nNovember 1\, 15\, 29\nDecember 13
URL:https://golatindance.com/event/chelsea-baila-social-club/2029-04-28/
LOCATION:Chelsea Market\, 75 9th Ave\, Chelsea\, Manhattan\, NY\, 10011\, United States
END:VEVENT
BEGIN:VEVENT
DTSTART;TZID=America/New_York:20290505T190000
DTEND;TZID=America/New_York:20290505T223000
DTSTAMP:20260421T005235
CREATED:20250924T140336Z
LAST-MODIFIED:20250924T140336Z
UID:10397440-1872702000-1872714600@golatindance.com
SUMMARY:Chelsea Baila Social Club
DESCRIPTION:✨️ Chelsea Baila Social Club is back! ✨️\nOn select Saturdays we will turn Chelsea Market into a dancefloor for one more season.\nWe start at 7pm\, with a free salsa class\, open to everyone\, no partner needed. 💃🕺\nAt 7.45ish\, we start with social dancing with the one and only – 🎧 DJ Gagou spinning the very best of salsa ☆ timba ☆ bachata ☆ y mas! 🔥\nThe event is free for everyone. Hope you can join us! 🥳\nThe Fall 2025 dates:\nSeptember 27\nOctober 4\, 18\nNovember 1\, 15\, 29\nDecember 13
URL:https://golatindance.com/event/chelsea-baila-social-club/2029-05-05/
LOCATION:Chelsea Market\, 75 9th Ave\, Chelsea\, Manhattan\, NY\, 10011\, United States
END:VEVENT
BEGIN:VEVENT
DTSTART;TZID=America/New_York:20290512T190000
DTEND;TZID=America/New_York:20290512T223000
DTSTAMP:20260421T005235
CREATED:20250924T140336Z
LAST-MODIFIED:20250924T140336Z
UID:10397441-1873306800-1873319400@golatindance.com
SUMMARY:Chelsea Baila Social Club
DESCRIPTION:✨️ Chelsea Baila Social Club is back! ✨️\nOn select Saturdays we will turn Chelsea Market into a dancefloor for one more season.\nWe start at 7pm\, with a free salsa class\, open to everyone\, no partner needed. 💃🕺\nAt 7.45ish\, we start with social dancing with the one and only – 🎧 DJ Gagou spinning the very best of salsa ☆ timba ☆ bachata ☆ y mas! 🔥\nThe event is free for everyone. Hope you can join us! 🥳\nThe Fall 2025 dates:\nSeptember 27\nOctober 4\, 18\nNovember 1\, 15\, 29\nDecember 13
URL:https://golatindance.com/event/chelsea-baila-social-club/2029-05-12/
LOCATION:Chelsea Market\, 75 9th Ave\, Chelsea\, Manhattan\, NY\, 10011\, United States
END:VEVENT
BEGIN:VEVENT
DTSTART;TZID=America/New_York:20290519T190000
DTEND;TZID=America/New_York:20290519T223000
DTSTAMP:20260421T005235
CREATED:20250924T140336Z
LAST-MODIFIED:20250924T140336Z
UID:10397442-1873911600-1873924200@golatindance.com
SUMMARY:Chelsea Baila Social Club
DESCRIPTION:✨️ Chelsea Baila Social Club is back! ✨️\nOn select Saturdays we will turn Chelsea Market into a dancefloor for one more season.\nWe start at 7pm\, with a free salsa class\, open to everyone\, no partner needed. 💃🕺\nAt 7.45ish\, we start with social dancing with the one and only – 🎧 DJ Gagou spinning the very best of salsa ☆ timba ☆ bachata ☆ y mas! 🔥\nThe event is free for everyone. Hope you can join us! 🥳\nThe Fall 2025 dates:\nSeptember 27\nOctober 4\, 18\nNovember 1\, 15\, 29\nDecember 13
URL:https://golatindance.com/event/chelsea-baila-social-club/2029-05-19/
LOCATION:Chelsea Market\, 75 9th Ave\, Chelsea\, Manhattan\, NY\, 10011\, United States
END:VEVENT
BEGIN:VEVENT
DTSTART;TZID=America/New_York:20290526T190000
DTEND;TZID=America/New_York:20290526T223000
DTSTAMP:20260421T005235
CREATED:20250924T140336Z
LAST-MODIFIED:20250924T140336Z
UID:10397443-1874516400-1874529000@golatindance.com
SUMMARY:Chelsea Baila Social Club
DESCRIPTION:✨️ Chelsea Baila Social Club is back! ✨️\nOn select Saturdays we will turn Chelsea Market into a dancefloor for one more season.\nWe start at 7pm\, with a free salsa class\, open to everyone\, no partner needed. 💃🕺\nAt 7.45ish\, we start with social dancing with the one and only – 🎧 DJ Gagou spinning the very best of salsa ☆ timba ☆ bachata ☆ y mas! 🔥\nThe event is free for everyone. Hope you can join us! 🥳\nThe Fall 2025 dates:\nSeptember 27\nOctober 4\, 18\nNovember 1\, 15\, 29\nDecember 13
URL:https://golatindance.com/event/chelsea-baila-social-club/2029-05-26/
LOCATION:Chelsea Market\, 75 9th Ave\, Chelsea\, Manhattan\, NY\, 10011\, United States
END:VEVENT
BEGIN:VEVENT
DTSTART;TZID=America/New_York:20290602T190000
DTEND;TZID=America/New_York:20290602T223000
DTSTAMP:20260421T005235
CREATED:20250924T140336Z
LAST-MODIFIED:20250924T140336Z
UID:10397444-1875121200-1875133800@golatindance.com
SUMMARY:Chelsea Baila Social Club
DESCRIPTION:✨️ Chelsea Baila Social Club is back! ✨️\nOn select Saturdays we will turn Chelsea Market into a dancefloor for one more season.\nWe start at 7pm\, with a free salsa class\, open to everyone\, no partner needed. 💃🕺\nAt 7.45ish\, we start with social dancing with the one and only – 🎧 DJ Gagou spinning the very best of salsa ☆ timba ☆ bachata ☆ y mas! 🔥\nThe event is free for everyone. Hope you can join us! 🥳\nThe Fall 2025 dates:\nSeptember 27\nOctober 4\, 18\nNovember 1\, 15\, 29\nDecember 13
URL:https://golatindance.com/event/chelsea-baila-social-club/2029-06-02/
LOCATION:Chelsea Market\, 75 9th Ave\, Chelsea\, Manhattan\, NY\, 10011\, United States
END:VEVENT
BEGIN:VEVENT
DTSTART;TZID=America/New_York:20290609T190000
DTEND;TZID=America/New_York:20290609T223000
DTSTAMP:20260421T005235
CREATED:20250924T140336Z
LAST-MODIFIED:20250924T140336Z
UID:10397445-1875726000-1875738600@golatindance.com
SUMMARY:Chelsea Baila Social Club
DESCRIPTION:✨️ Chelsea Baila Social Club is back! ✨️\nOn select Saturdays we will turn Chelsea Market into a dancefloor for one more season.\nWe start at 7pm\, with a free salsa class\, open to everyone\, no partner needed. 💃🕺\nAt 7.45ish\, we start with social dancing with the one and only – 🎧 DJ Gagou spinning the very best of salsa ☆ timba ☆ bachata ☆ y mas! 🔥\nThe event is free for everyone. Hope you can join us! 🥳\nThe Fall 2025 dates:\nSeptember 27\nOctober 4\, 18\nNovember 1\, 15\, 29\nDecember 13
URL:https://golatindance.com/event/chelsea-baila-social-club/2029-06-09/
LOCATION:Chelsea Market\, 75 9th Ave\, Chelsea\, Manhattan\, NY\, 10011\, United States
END:VEVENT
BEGIN:VEVENT
DTSTART;TZID=America/New_York:20290616T190000
DTEND;TZID=America/New_York:20290616T223000
DTSTAMP:20260421T005235
CREATED:20250924T140336Z
LAST-MODIFIED:20250924T140336Z
UID:10397446-1876330800-1876343400@golatindance.com
SUMMARY:Chelsea Baila Social Club
DESCRIPTION:✨️ Chelsea Baila Social Club is back! ✨️\nOn select Saturdays we will turn Chelsea Market into a dancefloor for one more season.\nWe start at 7pm\, with a free salsa class\, open to everyone\, no partner needed. 💃🕺\nAt 7.45ish\, we start with social dancing with the one and only – 🎧 DJ Gagou spinning the very best of salsa ☆ timba ☆ bachata ☆ y mas! 🔥\nThe event is free for everyone. Hope you can join us! 🥳\nThe Fall 2025 dates:\nSeptember 27\nOctober 4\, 18\nNovember 1\, 15\, 29\nDecember 13
URL:https://golatindance.com/event/chelsea-baila-social-club/2029-06-16/
LOCATION:Chelsea Market\, 75 9th Ave\, Chelsea\, Manhattan\, NY\, 10011\, United States
END:VEVENT
BEGIN:VEVENT
DTSTART;TZID=America/New_York:20290623T190000
DTEND;TZID=America/New_York:20290623T223000
DTSTAMP:20260421T005235
CREATED:20250924T140336Z
LAST-MODIFIED:20250924T140336Z
UID:10397447-1876935600-1876948200@golatindance.com
SUMMARY:Chelsea Baila Social Club
DESCRIPTION:✨️ Chelsea Baila Social Club is back! ✨️\nOn select Saturdays we will turn Chelsea Market into a dancefloor for one more season.\nWe start at 7pm\, with a free salsa class\, open to everyone\, no partner needed. 💃🕺\nAt 7.45ish\, we start with social dancing with the one and only – 🎧 DJ Gagou spinning the very best of salsa ☆ timba ☆ bachata ☆ y mas! 🔥\nThe event is free for everyone. Hope you can join us! 🥳\nThe Fall 2025 dates:\nSeptember 27\nOctober 4\, 18\nNovember 1\, 15\, 29\nDecember 13
URL:https://golatindance.com/event/chelsea-baila-social-club/2029-06-23/
LOCATION:Chelsea Market\, 75 9th Ave\, Chelsea\, Manhattan\, NY\, 10011\, United States
END:VEVENT
BEGIN:VEVENT
DTSTART;TZID=America/New_York:20290630T190000
DTEND;TZID=America/New_York:20290630T223000
DTSTAMP:20260421T005235
CREATED:20250924T140336Z
LAST-MODIFIED:20250924T140336Z
UID:10397448-1877540400-1877553000@golatindance.com
SUMMARY:Chelsea Baila Social Club
DESCRIPTION:✨️ Chelsea Baila Social Club is back! ✨️\nOn select Saturdays we will turn Chelsea Market into a dancefloor for one more season.\nWe start at 7pm\, with a free salsa class\, open to everyone\, no partner needed. 💃🕺\nAt 7.45ish\, we start with social dancing with the one and only – 🎧 DJ Gagou spinning the very best of salsa ☆ timba ☆ bachata ☆ y mas! 🔥\nThe event is free for everyone. Hope you can join us! 🥳\nThe Fall 2025 dates:\nSeptember 27\nOctober 4\, 18\nNovember 1\, 15\, 29\nDecember 13
URL:https://golatindance.com/event/chelsea-baila-social-club/2029-06-30/
LOCATION:Chelsea Market\, 75 9th Ave\, Chelsea\, Manhattan\, NY\, 10011\, United States
END:VEVENT
BEGIN:VEVENT
DTSTART;TZID=America/New_York:20290707T190000
DTEND;TZID=America/New_York:20290707T223000
DTSTAMP:20260421T005235
CREATED:20250924T140336Z
LAST-MODIFIED:20250924T140336Z
UID:10397449-1878145200-1878157800@golatindance.com
SUMMARY:Chelsea Baila Social Club
DESCRIPTION:✨️ Chelsea Baila Social Club is back! ✨️\nOn select Saturdays we will turn Chelsea Market into a dancefloor for one more season.\nWe start at 7pm\, with a free salsa class\, open to everyone\, no partner needed. 💃🕺\nAt 7.45ish\, we start with social dancing with the one and only – 🎧 DJ Gagou spinning the very best of salsa ☆ timba ☆ bachata ☆ y mas! 🔥\nThe event is free for everyone. Hope you can join us! 🥳\nThe Fall 2025 dates:\nSeptember 27\nOctober 4\, 18\nNovember 1\, 15\, 29\nDecember 13
URL:https://golatindance.com/event/chelsea-baila-social-club/2029-07-07/
LOCATION:Chelsea Market\, 75 9th Ave\, Chelsea\, Manhattan\, NY\, 10011\, United States
END:VEVENT
BEGIN:VEVENT
DTSTART;TZID=America/New_York:20290714T190000
DTEND;TZID=America/New_York:20290714T223000
DTSTAMP:20260421T005235
CREATED:20250924T140336Z
LAST-MODIFIED:20250924T140336Z
UID:10397450-1878750000-1878762600@golatindance.com
SUMMARY:Chelsea Baila Social Club
DESCRIPTION:✨️ Chelsea Baila Social Club is back! ✨️\nOn select Saturdays we will turn Chelsea Market into a dancefloor for one more season.\nWe start at 7pm\, with a free salsa class\, open to everyone\, no partner needed. 💃🕺\nAt 7.45ish\, we start with social dancing with the one and only – 🎧 DJ Gagou spinning the very best of salsa ☆ timba ☆ bachata ☆ y mas! 🔥\nThe event is free for everyone. Hope you can join us! 🥳\nThe Fall 2025 dates:\nSeptember 27\nOctober 4\, 18\nNovember 1\, 15\, 29\nDecember 13
URL:https://golatindance.com/event/chelsea-baila-social-club/2029-07-14/
LOCATION:Chelsea Market\, 75 9th Ave\, Chelsea\, Manhattan\, NY\, 10011\, United States
END:VEVENT
BEGIN:VEVENT
DTSTART;TZID=America/New_York:20290721T190000
DTEND;TZID=America/New_York:20290721T223000
DTSTAMP:20260421T005235
CREATED:20250924T140336Z
LAST-MODIFIED:20250924T140336Z
UID:10397451-1879354800-1879367400@golatindance.com
SUMMARY:Chelsea Baila Social Club
DESCRIPTION:✨️ Chelsea Baila Social Club is back! ✨️\nOn select Saturdays we will turn Chelsea Market into a dancefloor for one more season.\nWe start at 7pm\, with a free salsa class\, open to everyone\, no partner needed. 💃🕺\nAt 7.45ish\, we start with social dancing with the one and only – 🎧 DJ Gagou spinning the very best of salsa ☆ timba ☆ bachata ☆ y mas! 🔥\nThe event is free for everyone. Hope you can join us! 🥳\nThe Fall 2025 dates:\nSeptember 27\nOctober 4\, 18\nNovember 1\, 15\, 29\nDecember 13
URL:https://golatindance.com/event/chelsea-baila-social-club/2029-07-21/
LOCATION:Chelsea Market\, 75 9th Ave\, Chelsea\, Manhattan\, NY\, 10011\, United States
END:VEVENT
BEGIN:VEVENT
DTSTART;TZID=America/New_York:20290728T190000
DTEND;TZID=America/New_York:20290728T223000
DTSTAMP:20260421T005235
CREATED:20250924T140336Z
LAST-MODIFIED:20250924T140336Z
UID:10397452-1879959600-1879972200@golatindance.com
SUMMARY:Chelsea Baila Social Club
DESCRIPTION:✨️ Chelsea Baila Social Club is back! ✨️\nOn select Saturdays we will turn Chelsea Market into a dancefloor for one more season.\nWe start at 7pm\, with a free salsa class\, open to everyone\, no partner needed. 💃🕺\nAt 7.45ish\, we start with social dancing with the one and only – 🎧 DJ Gagou spinning the very best of salsa ☆ timba ☆ bachata ☆ y mas! 🔥\nThe event is free for everyone. Hope you can join us! 🥳\nThe Fall 2025 dates:\nSeptember 27\nOctober 4\, 18\nNovember 1\, 15\, 29\nDecember 13
URL:https://golatindance.com/event/chelsea-baila-social-club/2029-07-28/
LOCATION:Chelsea Market\, 75 9th Ave\, Chelsea\, Manhattan\, NY\, 10011\, United States
END:VEVENT
BEGIN:VEVENT
DTSTART;TZID=America/New_York:20290804T190000
DTEND;TZID=America/New_York:20290804T223000
DTSTAMP:20260421T005235
CREATED:20250924T140336Z
LAST-MODIFIED:20250924T140336Z
UID:10397453-1880564400-1880577000@golatindance.com
SUMMARY:Chelsea Baila Social Club
DESCRIPTION:✨️ Chelsea Baila Social Club is back! ✨️\nOn select Saturdays we will turn Chelsea Market into a dancefloor for one more season.\nWe start at 7pm\, with a free salsa class\, open to everyone\, no partner needed. 💃🕺\nAt 7.45ish\, we start with social dancing with the one and only – 🎧 DJ Gagou spinning the very best of salsa ☆ timba ☆ bachata ☆ y mas! 🔥\nThe event is free for everyone. Hope you can join us! 🥳\nThe Fall 2025 dates:\nSeptember 27\nOctober 4\, 18\nNovember 1\, 15\, 29\nDecember 13
URL:https://golatindance.com/event/chelsea-baila-social-club/2029-08-04/
LOCATION:Chelsea Market\, 75 9th Ave\, Chelsea\, Manhattan\, NY\, 10011\, United States
END:VEVENT
BEGIN:VEVENT
DTSTART;TZID=America/New_York:20290811T190000
DTEND;TZID=America/New_York:20290811T223000
DTSTAMP:20260421T005235
CREATED:20250924T140336Z
LAST-MODIFIED:20250924T140336Z
UID:10397454-1881169200-1881181800@golatindance.com
SUMMARY:Chelsea Baila Social Club
DESCRIPTION:✨️ Chelsea Baila Social Club is back! ✨️\nOn select Saturdays we will turn Chelsea Market into a dancefloor for one more season.\nWe start at 7pm\, with a free salsa class\, open to everyone\, no partner needed. 💃🕺\nAt 7.45ish\, we start with social dancing with the one and only – 🎧 DJ Gagou spinning the very best of salsa ☆ timba ☆ bachata ☆ y mas! 🔥\nThe event is free for everyone. Hope you can join us! 🥳\nThe Fall 2025 dates:\nSeptember 27\nOctober 4\, 18\nNovember 1\, 15\, 29\nDecember 13
URL:https://golatindance.com/event/chelsea-baila-social-club/2029-08-11/
LOCATION:Chelsea Market\, 75 9th Ave\, Chelsea\, Manhattan\, NY\, 10011\, United States
END:VEVENT
BEGIN:VEVENT
DTSTART;TZID=America/New_York:20290818T190000
DTEND;TZID=America/New_York:20290818T223000
DTSTAMP:20260421T005235
CREATED:20250924T140336Z
LAST-MODIFIED:20250924T140336Z
UID:10397455-1881774000-1881786600@golatindance.com
SUMMARY:Chelsea Baila Social Club
DESCRIPTION:✨️ Chelsea Baila Social Club is back! ✨️\nOn select Saturdays we will turn Chelsea Market into a dancefloor for one more season.\nWe start at 7pm\, with a free salsa class\, open to everyone\, no partner needed. 💃🕺\nAt 7.45ish\, we start with social dancing with the one and only – 🎧 DJ Gagou spinning the very best of salsa ☆ timba ☆ bachata ☆ y mas! 🔥\nThe event is free for everyone. Hope you can join us! 🥳\nThe Fall 2025 dates:\nSeptember 27\nOctober 4\, 18\nNovember 1\, 15\, 29\nDecember 13
URL:https://golatindance.com/event/chelsea-baila-social-club/2029-08-18/
LOCATION:Chelsea Market\, 75 9th Ave\, Chelsea\, Manhattan\, NY\, 10011\, United States
END:VEVENT
BEGIN:VEVENT
DTSTART;TZID=America/New_York:20290825T190000
DTEND;TZID=America/New_York:20290825T223000
DTSTAMP:20260421T005235
CREATED:20250924T140336Z
LAST-MODIFIED:20250924T140336Z
UID:10397456-1882378800-1882391400@golatindance.com
SUMMARY:Chelsea Baila Social Club
DESCRIPTION:✨️ Chelsea Baila Social Club is back! ✨️\nOn select Saturdays we will turn Chelsea Market into a dancefloor for one more season.\nWe start at 7pm\, with a free salsa class\, open to everyone\, no partner needed. 💃🕺\nAt 7.45ish\, we start with social dancing with the one and only – 🎧 DJ Gagou spinning the very best of salsa ☆ timba ☆ bachata ☆ y mas! 🔥\nThe event is free for everyone. Hope you can join us! 🥳\nThe Fall 2025 dates:\nSeptember 27\nOctober 4\, 18\nNovember 1\, 15\, 29\nDecember 13
URL:https://golatindance.com/event/chelsea-baila-social-club/2029-08-25/
LOCATION:Chelsea Market\, 75 9th Ave\, Chelsea\, Manhattan\, NY\, 10011\, United States
END:VEVENT
BEGIN:VEVENT
DTSTART;TZID=America/New_York:20290901T190000
DTEND;TZID=America/New_York:20290901T223000
DTSTAMP:20260421T005235
CREATED:20250924T140336Z
LAST-MODIFIED:20250924T140336Z
UID:10397457-1882983600-1882996200@golatindance.com
SUMMARY:Chelsea Baila Social Club
DESCRIPTION:✨️ Chelsea Baila Social Club is back! ✨️\nOn select Saturdays we will turn Chelsea Market into a dancefloor for one more season.\nWe start at 7pm\, with a free salsa class\, open to everyone\, no partner needed. 💃🕺\nAt 7.45ish\, we start with social dancing with the one and only – 🎧 DJ Gagou spinning the very best of salsa ☆ timba ☆ bachata ☆ y mas! 🔥\nThe event is free for everyone. Hope you can join us! 🥳\nThe Fall 2025 dates:\nSeptember 27\nOctober 4\, 18\nNovember 1\, 15\, 29\nDecember 13
URL:https://golatindance.com/event/chelsea-baila-social-club/2029-09-01/
LOCATION:Chelsea Market\, 75 9th Ave\, Chelsea\, Manhattan\, NY\, 10011\, United States
END:VEVENT
BEGIN:VEVENT
DTSTART;TZID=America/New_York:20290908T190000
DTEND;TZID=America/New_York:20290908T223000
DTSTAMP:20260421T005235
CREATED:20250924T140336Z
LAST-MODIFIED:20250924T140336Z
UID:10397458-1883588400-1883601000@golatindance.com
SUMMARY:Chelsea Baila Social Club
DESCRIPTION:✨️ Chelsea Baila Social Club is back! ✨️\nOn select Saturdays we will turn Chelsea Market into a dancefloor for one more season.\nWe start at 7pm\, with a free salsa class\, open to everyone\, no partner needed. 💃🕺\nAt 7.45ish\, we start with social dancing with the one and only – 🎧 DJ Gagou spinning the very best of salsa ☆ timba ☆ bachata ☆ y mas! 🔥\nThe event is free for everyone. Hope you can join us! 🥳\nThe Fall 2025 dates:\nSeptember 27\nOctober 4\, 18\nNovember 1\, 15\, 29\nDecember 13
URL:https://golatindance.com/event/chelsea-baila-social-club/2029-09-08/
LOCATION:Chelsea Market\, 75 9th Ave\, Chelsea\, Manhattan\, NY\, 10011\, United States
END:VEVENT
BEGIN:VEVENT
DTSTART;TZID=America/New_York:20290915T190000
DTEND;TZID=America/New_York:20290915T223000
DTSTAMP:20260421T005235
CREATED:20250924T140336Z
LAST-MODIFIED:20250924T140336Z
UID:10397459-1884193200-1884205800@golatindance.com
SUMMARY:Chelsea Baila Social Club
DESCRIPTION:✨️ Chelsea Baila Social Club is back! ✨️\nOn select Saturdays we will turn Chelsea Market into a dancefloor for one more season.\nWe start at 7pm\, with a free salsa class\, open to everyone\, no partner needed. 💃🕺\nAt 7.45ish\, we start with social dancing with the one and only – 🎧 DJ Gagou spinning the very best of salsa ☆ timba ☆ bachata ☆ y mas! 🔥\nThe event is free for everyone. Hope you can join us! 🥳\nThe Fall 2025 dates:\nSeptember 27\nOctober 4\, 18\nNovember 1\, 15\, 29\nDecember 13
URL:https://golatindance.com/event/chelsea-baila-social-club/2029-09-15/
LOCATION:Chelsea Market\, 75 9th Ave\, Chelsea\, Manhattan\, NY\, 10011\, United States
END:VEVENT
BEGIN:VEVENT
DTSTART;TZID=America/New_York:20290922T190000
DTEND;TZID=America/New_York:20290922T223000
DTSTAMP:20260421T005235
CREATED:20250924T140336Z
LAST-MODIFIED:20250924T140336Z
UID:10397460-1884798000-1884810600@golatindance.com
SUMMARY:Chelsea Baila Social Club
DESCRIPTION:✨️ Chelsea Baila Social Club is back! ✨️\nOn select Saturdays we will turn Chelsea Market into a dancefloor for one more season.\nWe start at 7pm\, with a free salsa class\, open to everyone\, no partner needed. 💃🕺\nAt 7.45ish\, we start with social dancing with the one and only – 🎧 DJ Gagou spinning the very best of salsa ☆ timba ☆ bachata ☆ y mas! 🔥\nThe event is free for everyone. Hope you can join us! 🥳\nThe Fall 2025 dates:\nSeptember 27\nOctober 4\, 18\nNovember 1\, 15\, 29\nDecember 13
URL:https://golatindance.com/event/chelsea-baila-social-club/2029-09-22/
LOCATION:Chelsea Market\, 75 9th Ave\, Chelsea\, Manhattan\, NY\, 10011\, United States
END:VEVENT
BEGIN:VEVENT
DTSTART;TZID=America/New_York:20290929T190000
DTEND;TZID=America/New_York:20290929T223000
DTSTAMP:20260421T005235
CREATED:20250924T140336Z
LAST-MODIFIED:20250924T140336Z
UID:10397461-1885402800-1885415400@golatindance.com
SUMMARY:Chelsea Baila Social Club
DESCRIPTION:✨️ Chelsea Baila Social Club is back! ✨️\nOn select Saturdays we will turn Chelsea Market into a dancefloor for one more season.\nWe start at 7pm\, with a free salsa class\, open to everyone\, no partner needed. 💃🕺\nAt 7.45ish\, we start with social dancing with the one and only – 🎧 DJ Gagou spinning the very best of salsa ☆ timba ☆ bachata ☆ y mas! 🔥\nThe event is free for everyone. Hope you can join us! 🥳\nThe Fall 2025 dates:\nSeptember 27\nOctober 4\, 18\nNovember 1\, 15\, 29\nDecember 13
URL:https://golatindance.com/event/chelsea-baila-social-club/2029-09-29/
LOCATION:Chelsea Market\, 75 9th Ave\, Chelsea\, Manhattan\, NY\, 10011\, United States
END:VEVENT
END:VCALENDAR