BEGIN:VCALENDAR
VERSION:2.0
PRODID:-//GO Latin Dance - ECPv6.15.18//NONSGML v1.0//EN
CALSCALE:GREGORIAN
METHOD:PUBLISH
X-ORIGINAL-URL:https://golatindance.com
X-WR-CALDESC:Events for GO Latin Dance
REFRESH-INTERVAL;VALUE=DURATION:PT1H
X-Robots-Tag:noindex
X-PUBLISHED-TTL:PT1H
BEGIN:VTIMEZONE
TZID:America/New_York
BEGIN:DAYLIGHT
TZOFFSETFROM:-0500
TZOFFSETTO:-0400
TZNAME:EDT
DTSTART:20240310T070000
END:DAYLIGHT
BEGIN:STANDARD
TZOFFSETFROM:-0400
TZOFFSETTO:-0500
TZNAME:EST
DTSTART:20241103T060000
END:STANDARD
BEGIN:DAYLIGHT
TZOFFSETFROM:-0500
TZOFFSETTO:-0400
TZNAME:EDT
DTSTART:20250309T070000
END:DAYLIGHT
BEGIN:STANDARD
TZOFFSETFROM:-0400
TZOFFSETTO:-0500
TZNAME:EST
DTSTART:20251102T060000
END:STANDARD
BEGIN:DAYLIGHT
TZOFFSETFROM:-0500
TZOFFSETTO:-0400
TZNAME:EDT
DTSTART:20260308T070000
END:DAYLIGHT
BEGIN:STANDARD
TZOFFSETFROM:-0400
TZOFFSETTO:-0500
TZNAME:EST
DTSTART:20261101T060000
END:STANDARD
END:VTIMEZONE
BEGIN:VEVENT
DTSTART;TZID=America/New_York:20251115T190000
DTEND;TZID=America/New_York:20251115T223000
DTSTAMP:20260420T064146
CREATED:20250924T140336Z
LAST-MODIFIED:20250924T140336Z
UID:10397261-1763233200-1763245800@golatindance.com
SUMMARY:Chelsea Baila Social Club
DESCRIPTION:✨️ Chelsea Baila Social Club is back! ✨️\nOn select Saturdays we will turn Chelsea Market into a dancefloor for one more season.\nWe start at 7pm\, with a free salsa class\, open to everyone\, no partner needed. 💃🕺\nAt 7.45ish\, we start with social dancing with the one and only – 🎧 DJ Gagou spinning the very best of salsa ☆ timba ☆ bachata ☆ y mas! 🔥\nThe event is free for everyone. Hope you can join us! 🥳\nThe Fall 2025 dates:\nSeptember 27\nOctober 4\, 18\nNovember 1\, 15\, 29\nDecember 13
URL:https://golatindance.com/event/chelsea-baila-social-club/2025-11-15/
LOCATION:Chelsea Market\, 75 9th Ave\, Chelsea\, Manhattan\, NY\, 10011\, United States
END:VEVENT
BEGIN:VEVENT
DTSTART;TZID=America/New_York:20251101T190000
DTEND;TZID=America/New_York:20251101T223000
DTSTAMP:20260420T064146
CREATED:20250924T140336Z
LAST-MODIFIED:20250924T140336Z
UID:10397260-1762023600-1762036200@golatindance.com
SUMMARY:Chelsea Baila Social Club
DESCRIPTION:✨️ Chelsea Baila Social Club is back! ✨️\nOn select Saturdays we will turn Chelsea Market into a dancefloor for one more season.\nWe start at 7pm\, with a free salsa class\, open to everyone\, no partner needed. 💃🕺\nAt 7.45ish\, we start with social dancing with the one and only – 🎧 DJ Gagou spinning the very best of salsa ☆ timba ☆ bachata ☆ y mas! 🔥\nThe event is free for everyone. Hope you can join us! 🥳\nThe Fall 2025 dates:\nSeptember 27\nOctober 4\, 18\nNovember 1\, 15\, 29\nDecember 13
URL:https://golatindance.com/event/chelsea-baila-social-club/2025-11-01/
LOCATION:Chelsea Market\, 75 9th Ave\, Chelsea\, Manhattan\, NY\, 10011\, United States
END:VEVENT
BEGIN:VEVENT
DTSTART;TZID=America/New_York:20251018T190000
DTEND;TZID=America/New_York:20251018T223000
DTSTAMP:20260420T064146
CREATED:20250924T140336Z
LAST-MODIFIED:20250924T140336Z
UID:10397259-1760814000-1760826600@golatindance.com
SUMMARY:Chelsea Baila Social Club
DESCRIPTION:✨️ Chelsea Baila Social Club is back! ✨️\nOn select Saturdays we will turn Chelsea Market into a dancefloor for one more season.\nWe start at 7pm\, with a free salsa class\, open to everyone\, no partner needed. 💃🕺\nAt 7.45ish\, we start with social dancing with the one and only – 🎧 DJ Gagou spinning the very best of salsa ☆ timba ☆ bachata ☆ y mas! 🔥\nThe event is free for everyone. Hope you can join us! 🥳\nThe Fall 2025 dates:\nSeptember 27\nOctober 4\, 18\nNovember 1\, 15\, 29\nDecember 13
URL:https://golatindance.com/event/chelsea-baila-social-club/2025-10-18/
LOCATION:Chelsea Market\, 75 9th Ave\, Chelsea\, Manhattan\, NY\, 10011\, United States
END:VEVENT
BEGIN:VEVENT
DTSTART;TZID=America/New_York:20251011T190000
DTEND;TZID=America/New_York:20251011T223000
DTSTAMP:20260420T064146
CREATED:20250924T140336Z
LAST-MODIFIED:20250924T140336Z
UID:10397258-1760209200-1760221800@golatindance.com
SUMMARY:Chelsea Baila Social Club
DESCRIPTION:✨️ Chelsea Baila Social Club is back! ✨️\nOn select Saturdays we will turn Chelsea Market into a dancefloor for one more season.\nWe start at 7pm\, with a free salsa class\, open to everyone\, no partner needed. 💃🕺\nAt 7.45ish\, we start with social dancing with the one and only – 🎧 DJ Gagou spinning the very best of salsa ☆ timba ☆ bachata ☆ y mas! 🔥\nThe event is free for everyone. Hope you can join us! 🥳\nThe Fall 2025 dates:\nSeptember 27\nOctober 4\, 18\nNovember 1\, 15\, 29\nDecember 13
URL:https://golatindance.com/event/chelsea-baila-social-club/2025-10-11/
LOCATION:Chelsea Market\, 75 9th Ave\, Chelsea\, Manhattan\, NY\, 10011\, United States
END:VEVENT
BEGIN:VEVENT
DTSTART;TZID=America/New_York:20251004T190000
DTEND;TZID=America/New_York:20251004T223000
DTSTAMP:20260420T064146
CREATED:20250924T140336Z
LAST-MODIFIED:20250924T140336Z
UID:10397257-1759604400-1759617000@golatindance.com
SUMMARY:Chelsea Baila Social Club
DESCRIPTION:✨️ Chelsea Baila Social Club is back! ✨️\nOn select Saturdays we will turn Chelsea Market into a dancefloor for one more season.\nWe start at 7pm\, with a free salsa class\, open to everyone\, no partner needed. 💃🕺\nAt 7.45ish\, we start with social dancing with the one and only – 🎧 DJ Gagou spinning the very best of salsa ☆ timba ☆ bachata ☆ y mas! 🔥\nThe event is free for everyone. Hope you can join us! 🥳\nThe Fall 2025 dates:\nSeptember 27\nOctober 4\, 18\nNovember 1\, 15\, 29\nDecember 13
URL:https://golatindance.com/event/chelsea-baila-social-club/2025-10-04/
LOCATION:Chelsea Market\, 75 9th Ave\, Chelsea\, Manhattan\, NY\, 10011\, United States
END:VEVENT
BEGIN:VEVENT
DTSTART;TZID=America/New_York:20250927T190000
DTEND;TZID=America/New_York:20250927T223000
DTSTAMP:20260420T064146
CREATED:20250924T140336Z
LAST-MODIFIED:20250924T140336Z
UID:10397256-1758999600-1759012200@golatindance.com
SUMMARY:Chelsea Baila Social Club
DESCRIPTION:✨️ Chelsea Baila Social Club is back! ✨️\nOn select Saturdays we will turn Chelsea Market into a dancefloor for one more season.\nWe start at 7pm\, with a free salsa class\, open to everyone\, no partner needed. 💃🕺\nAt 7.45ish\, we start with social dancing with the one and only – 🎧 DJ Gagou spinning the very best of salsa ☆ timba ☆ bachata ☆ y mas! 🔥\nThe event is free for everyone. Hope you can join us! 🥳\nThe Fall 2025 dates:\nSeptember 27\nOctober 4\, 18\nNovember 1\, 15\, 29\nDecember 13
URL:https://golatindance.com/event/chelsea-baila-social-club/2025-09-27/
LOCATION:Chelsea Market\, 75 9th Ave\, Chelsea\, Manhattan\, NY\, 10011\, United States
END:VEVENT
END:VCALENDAR