BEGIN:VCALENDAR
VERSION:2.0
PRODID:-//GO Latin Dance - ECPv6.15.18//NONSGML v1.0//EN
CALSCALE:GREGORIAN
METHOD:PUBLISH
X-WR-CALNAME:GO Latin Dance
X-ORIGINAL-URL:https://golatindance.com
X-WR-CALDESC:Events for GO Latin Dance
REFRESH-INTERVAL;VALUE=DURATION:PT1H
X-Robots-Tag:noindex
X-PUBLISHED-TTL:PT1H
BEGIN:VTIMEZONE
TZID:America/Chicago
BEGIN:DAYLIGHT
TZOFFSETFROM:-0600
TZOFFSETTO:-0500
TZNAME:CDT
DTSTART:20250309T080000
END:DAYLIGHT
BEGIN:STANDARD
TZOFFSETFROM:-0500
TZOFFSETTO:-0600
TZNAME:CST
DTSTART:20251102T070000
END:STANDARD
BEGIN:DAYLIGHT
TZOFFSETFROM:-0600
TZOFFSETTO:-0500
TZNAME:CDT
DTSTART:20260308T080000
END:DAYLIGHT
BEGIN:STANDARD
TZOFFSETFROM:-0500
TZOFFSETTO:-0600
TZNAME:CST
DTSTART:20261101T070000
END:STANDARD
BEGIN:DAYLIGHT
TZOFFSETFROM:-0600
TZOFFSETTO:-0500
TZNAME:CDT
DTSTART:20270314T080000
END:DAYLIGHT
BEGIN:STANDARD
TZOFFSETFROM:-0500
TZOFFSETTO:-0600
TZNAME:CST
DTSTART:20271107T070000
END:STANDARD
END:VTIMEZONE
BEGIN:VEVENT
DTSTART;TZID=America/Chicago:20260403T210000
DTEND;TZID=America/Chicago:20260404T003000
DTSTAMP:20260421T093511
CREATED:20260102T164847Z
LAST-MODIFIED:20260226T143327Z
UID:10428035-1775250000-1775262600@golatindance.com
SUMMARY:Friday Salsa and Bachata Dance Party with Keri Simonson Dance!
DESCRIPTION:Keri Simonson Dance Presents:\nFRIDAY SALSA and BACHATA Social with a Bachata Lesson!\n(Every 1st\, 3rd Fridays!)\nAt *Four Seasons Dance Studio (entrance in the alleyway)\n1637 Hennepin Ave. Minneapolis 55403\n30 Min Bachata Lesson at the start of the night at 9:00/9:10pm this week. Followed by DJ Keri with 50/50 Salsa and Bachata\, plus some Cumbia\, Merengue mixed in! Early start time. \n$15 CASH Cover at the door\nOR *Prepay $12 no later then 5pm on the day of the event.\n**Venmo: KeriSimonsonDance (please Do NOT mark as “Goods and Services” or “turn on for buyer protection”\, I will ask you to re do it if you do. This adds fees). Thank you.\n** PayPal: send via “Friends and Family” to kerisimonson@yahoo.com\nI also do Facebook pay and Zelle. (DM to get Zelle info or try my email at kerisimonson@yahoo.com) \nParking Lot close by\, at the corner. Also plenty of street meters (only pay till 10pm). \n*Four Seasons Dance Studio is located next to Lurcat Restaurant. Look for the cobblestone ALLEY WAY\, next to the restaurant. Which is directly facing Loring Park. You will see the entrance to the studio in the alley.
URL:https://golatindance.com/event/friday-salsa-and-bachata-dance-party-with-keri-simonson-dance-2/2026-04-03/
LOCATION:Four Seasons Dance Studio\, 1637 Hennepin Ave\, Minneapolis\, MN\, 55403\, US
CATEGORIES:Minneapolis
ATTACH;FMTTYPE=image/jpeg:https://golatindance.com/wp-content/uploads/2026/01/588500646_1464499055676582_766840883837420654_n.jpg
END:VEVENT
BEGIN:VEVENT
DTSTART;TZID=America/Chicago:20260320T210000
DTEND;TZID=America/Chicago:20260321T003000
DTSTAMP:20260421T093511
CREATED:20260102T164847Z
LAST-MODIFIED:20260226T143327Z
UID:10449639-1774040400-1774053000@golatindance.com
SUMMARY:Friday Salsa and Bachata Dance Party with Keri Simonson Dance!
DESCRIPTION:Keri Simonson Dance Presents:\nFRIDAY SALSA and BACHATA Social with a Bachata Lesson!\n(Every 1st\, 3rd Fridays!)\nAt *Four Seasons Dance Studio (entrance in the alleyway)\n1637 Hennepin Ave. Minneapolis 55403\n30 Min Bachata Lesson at the start of the night at 9:00/9:10pm this week. Followed by DJ Keri with 50/50 Salsa and Bachata\, plus some Cumbia\, Merengue mixed in! Early start time. \n$15 CASH Cover at the door\nOR *Prepay $12 no later then 5pm on the day of the event.\n**Venmo: KeriSimonsonDance (please Do NOT mark as “Goods and Services” or “turn on for buyer protection”\, I will ask you to re do it if you do. This adds fees). Thank you.\n** PayPal: send via “Friends and Family” to kerisimonson@yahoo.com\nI also do Facebook pay and Zelle. (DM to get Zelle info or try my email at kerisimonson@yahoo.com) \nParking Lot close by\, at the corner. Also plenty of street meters (only pay till 10pm). \n*Four Seasons Dance Studio is located next to Lurcat Restaurant. Look for the cobblestone ALLEY WAY\, next to the restaurant. Which is directly facing Loring Park. You will see the entrance to the studio in the alley.
URL:https://golatindance.com/event/friday-salsa-and-bachata-dance-party-with-keri-simonson-dance-2/2026-03-20/
LOCATION:Four Seasons Dance Studio\, 1637 Hennepin Ave\, Minneapolis\, MN\, 55403\, US
CATEGORIES:Minneapolis
ATTACH;FMTTYPE=image/jpeg:https://golatindance.com/wp-content/uploads/2026/01/588500646_1464499055676582_766840883837420654_n.jpg
END:VEVENT
BEGIN:VEVENT
DTSTART;TZID=America/Chicago:20260206T210000
DTEND;TZID=America/Chicago:20260207T003000
DTSTAMP:20260421T093511
CREATED:20260102T164847Z
LAST-MODIFIED:20260226T143327Z
UID:10428032-1770411600-1770424200@golatindance.com
SUMMARY:Friday Salsa and Bachata Dance Party with Keri Simonson Dance!
DESCRIPTION:Keri Simonson Dance Presents:\nFRIDAY SALSA and BACHATA Social with a Bachata Lesson!\n(Every 1st\, 3rd Fridays!)\nAt *Four Seasons Dance Studio (entrance in the alleyway)\n1637 Hennepin Ave. Minneapolis 55403\n30 Min Bachata Lesson at the start of the night at 9:00/9:10pm this week. Followed by DJ Keri with 50/50 Salsa and Bachata\, plus some Cumbia\, Merengue mixed in! Early start time. \n$15 CASH Cover at the door\nOR *Prepay $12 no later then 5pm on the day of the event.\n**Venmo: KeriSimonsonDance (please Do NOT mark as “Goods and Services” or “turn on for buyer protection”\, I will ask you to re do it if you do. This adds fees). Thank you.\n** PayPal: send via “Friends and Family” to kerisimonson@yahoo.com\nI also do Facebook pay and Zelle. (DM to get Zelle info or try my email at kerisimonson@yahoo.com) \nParking Lot close by\, at the corner. Also plenty of street meters (only pay till 10pm). \n*Four Seasons Dance Studio is located next to Lurcat Restaurant. Look for the cobblestone ALLEY WAY\, next to the restaurant. Which is directly facing Loring Park. You will see the entrance to the studio in the alley.
URL:https://golatindance.com/event/friday-salsa-and-bachata-dance-party-with-keri-simonson-dance-2/2026-02-06/
LOCATION:Four Seasons Dance Studio\, 1637 Hennepin Ave\, Minneapolis\, MN\, 55403\, US
CATEGORIES:Minneapolis
ATTACH;FMTTYPE=image/jpeg:https://golatindance.com/wp-content/uploads/2026/01/588500646_1464499055676582_766840883837420654_n.jpg
END:VEVENT
END:VCALENDAR