BEGIN:VCALENDAR
VERSION:2.0
PRODID:-//GO Latin Dance - ECPv6.15.18//NONSGML v1.0//EN
CALSCALE:GREGORIAN
METHOD:PUBLISH
X-WR-CALNAME:GO Latin Dance
X-ORIGINAL-URL:https://golatindance.com
X-WR-CALDESC:Events for GO Latin Dance
REFRESH-INTERVAL;VALUE=DURATION:PT1H
X-Robots-Tag:noindex
X-PUBLISHED-TTL:PT1H
BEGIN:VTIMEZONE
TZID:America/Denver
BEGIN:DAYLIGHT
TZOFFSETFROM:-0700
TZOFFSETTO:-0600
TZNAME:MDT
DTSTART:20260308T090000
END:DAYLIGHT
BEGIN:STANDARD
TZOFFSETFROM:-0600
TZOFFSETTO:-0700
TZNAME:MST
DTSTART:20261101T080000
END:STANDARD
BEGIN:DAYLIGHT
TZOFFSETFROM:-0700
TZOFFSETTO:-0600
TZNAME:MDT
DTSTART:20270314T090000
END:DAYLIGHT
BEGIN:STANDARD
TZOFFSETFROM:-0600
TZOFFSETTO:-0700
TZNAME:MST
DTSTART:20271107T080000
END:STANDARD
BEGIN:DAYLIGHT
TZOFFSETFROM:-0700
TZOFFSETTO:-0600
TZNAME:MDT
DTSTART:20280312T090000
END:DAYLIGHT
BEGIN:STANDARD
TZOFFSETFROM:-0600
TZOFFSETTO:-0700
TZNAME:MST
DTSTART:20281105T080000
END:STANDARD
BEGIN:DAYLIGHT
TZOFFSETFROM:-0700
TZOFFSETTO:-0600
TZNAME:MDT
DTSTART:20290311T090000
END:DAYLIGHT
BEGIN:STANDARD
TZOFFSETFROM:-0600
TZOFFSETTO:-0700
TZNAME:MST
DTSTART:20291104T080000
END:STANDARD
END:VTIMEZONE
BEGIN:VEVENT
DTSTART;TZID=America/Denver:20270829T190000
DTEND;TZID=America/Denver:20270830T003000
DTSTAMP:20260420T082827
CREATED:20230224T175726Z
LAST-MODIFIED:20240315T154359Z
UID:10202014-1819566000-1819585800@golatindance.com
SUMMARY:Salsa Bachata Sundays at La Rumba
DESCRIPTION:Put on your dancing shoes and come heat up the floor tonight at La Rumba with ALL your favorite salsa\, bachata and more. \nTonight’s Happenings\n7:00 pm  Doors and bar open\n7:00ish pm – 8:00 pm Beginning/ Intermediate Sensual Bachata Lesson\n8:00 pm – 9:00 pm Beginning/ Intermediate Salsa Lesson=\n9:00 pm – 12:30 am  DJs
URL:https://golatindance.com/event/salsa-sundays-at-la-rumba/2027-08-29/
LOCATION:La Rumba\, 99 W. 9th Ave\, Denver\, CO 80204\, Denver\, CO\, 80204\, US
CATEGORIES:Denver
ATTACH;FMTTYPE=image/jpeg:https://golatindance.com/wp-content/uploads/2023/02/417681044_7030642097014685_6370717221699319249_n.jpg
END:VEVENT
BEGIN:VEVENT
DTSTART;TZID=America/Denver:20270905T190000
DTEND;TZID=America/Denver:20270906T003000
DTSTAMP:20260420T082827
CREATED:20230224T175726Z
LAST-MODIFIED:20240315T154359Z
UID:10202015-1820170800-1820190600@golatindance.com
SUMMARY:Salsa Bachata Sundays at La Rumba
DESCRIPTION:Put on your dancing shoes and come heat up the floor tonight at La Rumba with ALL your favorite salsa\, bachata and more. \nTonight’s Happenings\n7:00 pm  Doors and bar open\n7:00ish pm – 8:00 pm Beginning/ Intermediate Sensual Bachata Lesson\n8:00 pm – 9:00 pm Beginning/ Intermediate Salsa Lesson=\n9:00 pm – 12:30 am  DJs
URL:https://golatindance.com/event/salsa-sundays-at-la-rumba/2027-09-05/
LOCATION:La Rumba\, 99 W. 9th Ave\, Denver\, CO 80204\, Denver\, CO\, 80204\, US
CATEGORIES:Denver
ATTACH;FMTTYPE=image/jpeg:https://golatindance.com/wp-content/uploads/2023/02/417681044_7030642097014685_6370717221699319249_n.jpg
END:VEVENT
BEGIN:VEVENT
DTSTART;TZID=America/Denver:20270912T190000
DTEND;TZID=America/Denver:20270913T003000
DTSTAMP:20260420T082827
CREATED:20230224T175726Z
LAST-MODIFIED:20240315T154359Z
UID:10202016-1820775600-1820795400@golatindance.com
SUMMARY:Salsa Bachata Sundays at La Rumba
DESCRIPTION:Put on your dancing shoes and come heat up the floor tonight at La Rumba with ALL your favorite salsa\, bachata and more. \nTonight’s Happenings\n7:00 pm  Doors and bar open\n7:00ish pm – 8:00 pm Beginning/ Intermediate Sensual Bachata Lesson\n8:00 pm – 9:00 pm Beginning/ Intermediate Salsa Lesson=\n9:00 pm – 12:30 am  DJs
URL:https://golatindance.com/event/salsa-sundays-at-la-rumba/2027-09-12/
LOCATION:La Rumba\, 99 W. 9th Ave\, Denver\, CO 80204\, Denver\, CO\, 80204\, US
CATEGORIES:Denver
ATTACH;FMTTYPE=image/jpeg:https://golatindance.com/wp-content/uploads/2023/02/417681044_7030642097014685_6370717221699319249_n.jpg
END:VEVENT
BEGIN:VEVENT
DTSTART;TZID=America/Denver:20270919T190000
DTEND;TZID=America/Denver:20270920T003000
DTSTAMP:20260420T082827
CREATED:20230224T175726Z
LAST-MODIFIED:20240315T154359Z
UID:10202017-1821380400-1821400200@golatindance.com
SUMMARY:Salsa Bachata Sundays at La Rumba
DESCRIPTION:Put on your dancing shoes and come heat up the floor tonight at La Rumba with ALL your favorite salsa\, bachata and more. \nTonight’s Happenings\n7:00 pm  Doors and bar open\n7:00ish pm – 8:00 pm Beginning/ Intermediate Sensual Bachata Lesson\n8:00 pm – 9:00 pm Beginning/ Intermediate Salsa Lesson=\n9:00 pm – 12:30 am  DJs
URL:https://golatindance.com/event/salsa-sundays-at-la-rumba/2027-09-19/
LOCATION:La Rumba\, 99 W. 9th Ave\, Denver\, CO 80204\, Denver\, CO\, 80204\, US
CATEGORIES:Denver
ATTACH;FMTTYPE=image/jpeg:https://golatindance.com/wp-content/uploads/2023/02/417681044_7030642097014685_6370717221699319249_n.jpg
END:VEVENT
BEGIN:VEVENT
DTSTART;TZID=America/Denver:20270926T190000
DTEND;TZID=America/Denver:20270927T003000
DTSTAMP:20260420T082827
CREATED:20230224T175726Z
LAST-MODIFIED:20240315T154359Z
UID:10202018-1821985200-1822005000@golatindance.com
SUMMARY:Salsa Bachata Sundays at La Rumba
DESCRIPTION:Put on your dancing shoes and come heat up the floor tonight at La Rumba with ALL your favorite salsa\, bachata and more. \nTonight’s Happenings\n7:00 pm  Doors and bar open\n7:00ish pm – 8:00 pm Beginning/ Intermediate Sensual Bachata Lesson\n8:00 pm – 9:00 pm Beginning/ Intermediate Salsa Lesson=\n9:00 pm – 12:30 am  DJs
URL:https://golatindance.com/event/salsa-sundays-at-la-rumba/2027-09-26/
LOCATION:La Rumba\, 99 W. 9th Ave\, Denver\, CO 80204\, Denver\, CO\, 80204\, US
CATEGORIES:Denver
ATTACH;FMTTYPE=image/jpeg:https://golatindance.com/wp-content/uploads/2023/02/417681044_7030642097014685_6370717221699319249_n.jpg
END:VEVENT
BEGIN:VEVENT
DTSTART;TZID=America/Denver:20271003T190000
DTEND;TZID=America/Denver:20271004T003000
DTSTAMP:20260420T082827
CREATED:20230224T175726Z
LAST-MODIFIED:20240315T154359Z
UID:10202019-1822590000-1822609800@golatindance.com
SUMMARY:Salsa Bachata Sundays at La Rumba
DESCRIPTION:Put on your dancing shoes and come heat up the floor tonight at La Rumba with ALL your favorite salsa\, bachata and more. \nTonight’s Happenings\n7:00 pm  Doors and bar open\n7:00ish pm – 8:00 pm Beginning/ Intermediate Sensual Bachata Lesson\n8:00 pm – 9:00 pm Beginning/ Intermediate Salsa Lesson=\n9:00 pm – 12:30 am  DJs
URL:https://golatindance.com/event/salsa-sundays-at-la-rumba/2027-10-03/
LOCATION:La Rumba\, 99 W. 9th Ave\, Denver\, CO 80204\, Denver\, CO\, 80204\, US
CATEGORIES:Denver
ATTACH;FMTTYPE=image/jpeg:https://golatindance.com/wp-content/uploads/2023/02/417681044_7030642097014685_6370717221699319249_n.jpg
END:VEVENT
BEGIN:VEVENT
DTSTART;TZID=America/Denver:20271010T190000
DTEND;TZID=America/Denver:20271011T003000
DTSTAMP:20260420T082827
CREATED:20230224T175726Z
LAST-MODIFIED:20240315T154359Z
UID:10202020-1823194800-1823214600@golatindance.com
SUMMARY:Salsa Bachata Sundays at La Rumba
DESCRIPTION:Put on your dancing shoes and come heat up the floor tonight at La Rumba with ALL your favorite salsa\, bachata and more. \nTonight’s Happenings\n7:00 pm  Doors and bar open\n7:00ish pm – 8:00 pm Beginning/ Intermediate Sensual Bachata Lesson\n8:00 pm – 9:00 pm Beginning/ Intermediate Salsa Lesson=\n9:00 pm – 12:30 am  DJs
URL:https://golatindance.com/event/salsa-sundays-at-la-rumba/2027-10-10/
LOCATION:La Rumba\, 99 W. 9th Ave\, Denver\, CO 80204\, Denver\, CO\, 80204\, US
CATEGORIES:Denver
ATTACH;FMTTYPE=image/jpeg:https://golatindance.com/wp-content/uploads/2023/02/417681044_7030642097014685_6370717221699319249_n.jpg
END:VEVENT
BEGIN:VEVENT
DTSTART;TZID=America/Denver:20271017T190000
DTEND;TZID=America/Denver:20271018T003000
DTSTAMP:20260420T082827
CREATED:20230224T175726Z
LAST-MODIFIED:20240315T154359Z
UID:10202021-1823799600-1823819400@golatindance.com
SUMMARY:Salsa Bachata Sundays at La Rumba
DESCRIPTION:Put on your dancing shoes and come heat up the floor tonight at La Rumba with ALL your favorite salsa\, bachata and more. \nTonight’s Happenings\n7:00 pm  Doors and bar open\n7:00ish pm – 8:00 pm Beginning/ Intermediate Sensual Bachata Lesson\n8:00 pm – 9:00 pm Beginning/ Intermediate Salsa Lesson=\n9:00 pm – 12:30 am  DJs
URL:https://golatindance.com/event/salsa-sundays-at-la-rumba/2027-10-17/
LOCATION:La Rumba\, 99 W. 9th Ave\, Denver\, CO 80204\, Denver\, CO\, 80204\, US
CATEGORIES:Denver
ATTACH;FMTTYPE=image/jpeg:https://golatindance.com/wp-content/uploads/2023/02/417681044_7030642097014685_6370717221699319249_n.jpg
END:VEVENT
BEGIN:VEVENT
DTSTART;TZID=America/Denver:20271024T190000
DTEND;TZID=America/Denver:20271025T003000
DTSTAMP:20260420T082827
CREATED:20230224T175726Z
LAST-MODIFIED:20240315T154359Z
UID:10202022-1824404400-1824424200@golatindance.com
SUMMARY:Salsa Bachata Sundays at La Rumba
DESCRIPTION:Put on your dancing shoes and come heat up the floor tonight at La Rumba with ALL your favorite salsa\, bachata and more. \nTonight’s Happenings\n7:00 pm  Doors and bar open\n7:00ish pm – 8:00 pm Beginning/ Intermediate Sensual Bachata Lesson\n8:00 pm – 9:00 pm Beginning/ Intermediate Salsa Lesson=\n9:00 pm – 12:30 am  DJs
URL:https://golatindance.com/event/salsa-sundays-at-la-rumba/2027-10-24/
LOCATION:La Rumba\, 99 W. 9th Ave\, Denver\, CO 80204\, Denver\, CO\, 80204\, US
CATEGORIES:Denver
ATTACH;FMTTYPE=image/jpeg:https://golatindance.com/wp-content/uploads/2023/02/417681044_7030642097014685_6370717221699319249_n.jpg
END:VEVENT
BEGIN:VEVENT
DTSTART;TZID=America/Denver:20271031T190000
DTEND;TZID=America/Denver:20271101T003000
DTSTAMP:20260420T082827
CREATED:20230224T175726Z
LAST-MODIFIED:20240315T154359Z
UID:10202023-1825009200-1825029000@golatindance.com
SUMMARY:Salsa Bachata Sundays at La Rumba
DESCRIPTION:Put on your dancing shoes and come heat up the floor tonight at La Rumba with ALL your favorite salsa\, bachata and more. \nTonight’s Happenings\n7:00 pm  Doors and bar open\n7:00ish pm – 8:00 pm Beginning/ Intermediate Sensual Bachata Lesson\n8:00 pm – 9:00 pm Beginning/ Intermediate Salsa Lesson=\n9:00 pm – 12:30 am  DJs
URL:https://golatindance.com/event/salsa-sundays-at-la-rumba/2027-10-31/
LOCATION:La Rumba\, 99 W. 9th Ave\, Denver\, CO 80204\, Denver\, CO\, 80204\, US
CATEGORIES:Denver
ATTACH;FMTTYPE=image/jpeg:https://golatindance.com/wp-content/uploads/2023/02/417681044_7030642097014685_6370717221699319249_n.jpg
END:VEVENT
BEGIN:VEVENT
DTSTART;TZID=America/Denver:20271107T190000
DTEND;TZID=America/Denver:20271108T003000
DTSTAMP:20260420T082827
CREATED:20230224T175726Z
LAST-MODIFIED:20240315T154359Z
UID:10202024-1825614000-1825633800@golatindance.com
SUMMARY:Salsa Bachata Sundays at La Rumba
DESCRIPTION:Put on your dancing shoes and come heat up the floor tonight at La Rumba with ALL your favorite salsa\, bachata and more. \nTonight’s Happenings\n7:00 pm  Doors and bar open\n7:00ish pm – 8:00 pm Beginning/ Intermediate Sensual Bachata Lesson\n8:00 pm – 9:00 pm Beginning/ Intermediate Salsa Lesson=\n9:00 pm – 12:30 am  DJs
URL:https://golatindance.com/event/salsa-sundays-at-la-rumba/2027-11-07/
LOCATION:La Rumba\, 99 W. 9th Ave\, Denver\, CO 80204\, Denver\, CO\, 80204\, US
CATEGORIES:Denver
ATTACH;FMTTYPE=image/jpeg:https://golatindance.com/wp-content/uploads/2023/02/417681044_7030642097014685_6370717221699319249_n.jpg
END:VEVENT
BEGIN:VEVENT
DTSTART;TZID=America/Denver:20271114T190000
DTEND;TZID=America/Denver:20271115T003000
DTSTAMP:20260420T082827
CREATED:20230224T175726Z
LAST-MODIFIED:20240315T154359Z
UID:10202025-1826218800-1826238600@golatindance.com
SUMMARY:Salsa Bachata Sundays at La Rumba
DESCRIPTION:Put on your dancing shoes and come heat up the floor tonight at La Rumba with ALL your favorite salsa\, bachata and more. \nTonight’s Happenings\n7:00 pm  Doors and bar open\n7:00ish pm – 8:00 pm Beginning/ Intermediate Sensual Bachata Lesson\n8:00 pm – 9:00 pm Beginning/ Intermediate Salsa Lesson=\n9:00 pm – 12:30 am  DJs
URL:https://golatindance.com/event/salsa-sundays-at-la-rumba/2027-11-14/
LOCATION:La Rumba\, 99 W. 9th Ave\, Denver\, CO 80204\, Denver\, CO\, 80204\, US
CATEGORIES:Denver
ATTACH;FMTTYPE=image/jpeg:https://golatindance.com/wp-content/uploads/2023/02/417681044_7030642097014685_6370717221699319249_n.jpg
END:VEVENT
BEGIN:VEVENT
DTSTART;TZID=America/Denver:20271121T190000
DTEND;TZID=America/Denver:20271122T003000
DTSTAMP:20260420T082827
CREATED:20230224T175726Z
LAST-MODIFIED:20240315T154359Z
UID:10202026-1826823600-1826843400@golatindance.com
SUMMARY:Salsa Bachata Sundays at La Rumba
DESCRIPTION:Put on your dancing shoes and come heat up the floor tonight at La Rumba with ALL your favorite salsa\, bachata and more. \nTonight’s Happenings\n7:00 pm  Doors and bar open\n7:00ish pm – 8:00 pm Beginning/ Intermediate Sensual Bachata Lesson\n8:00 pm – 9:00 pm Beginning/ Intermediate Salsa Lesson=\n9:00 pm – 12:30 am  DJs
URL:https://golatindance.com/event/salsa-sundays-at-la-rumba/2027-11-21/
LOCATION:La Rumba\, 99 W. 9th Ave\, Denver\, CO 80204\, Denver\, CO\, 80204\, US
CATEGORIES:Denver
ATTACH;FMTTYPE=image/jpeg:https://golatindance.com/wp-content/uploads/2023/02/417681044_7030642097014685_6370717221699319249_n.jpg
END:VEVENT
BEGIN:VEVENT
DTSTART;TZID=America/Denver:20271128T190000
DTEND;TZID=America/Denver:20271129T003000
DTSTAMP:20260420T082827
CREATED:20230224T175726Z
LAST-MODIFIED:20240315T154359Z
UID:10202027-1827428400-1827448200@golatindance.com
SUMMARY:Salsa Bachata Sundays at La Rumba
DESCRIPTION:Put on your dancing shoes and come heat up the floor tonight at La Rumba with ALL your favorite salsa\, bachata and more. \nTonight’s Happenings\n7:00 pm  Doors and bar open\n7:00ish pm – 8:00 pm Beginning/ Intermediate Sensual Bachata Lesson\n8:00 pm – 9:00 pm Beginning/ Intermediate Salsa Lesson=\n9:00 pm – 12:30 am  DJs
URL:https://golatindance.com/event/salsa-sundays-at-la-rumba/2027-11-28/
LOCATION:La Rumba\, 99 W. 9th Ave\, Denver\, CO 80204\, Denver\, CO\, 80204\, US
CATEGORIES:Denver
ATTACH;FMTTYPE=image/jpeg:https://golatindance.com/wp-content/uploads/2023/02/417681044_7030642097014685_6370717221699319249_n.jpg
END:VEVENT
BEGIN:VEVENT
DTSTART;TZID=America/Denver:20271205T190000
DTEND;TZID=America/Denver:20271206T003000
DTSTAMP:20260420T082827
CREATED:20230224T175726Z
LAST-MODIFIED:20240315T154359Z
UID:10202028-1828033200-1828053000@golatindance.com
SUMMARY:Salsa Bachata Sundays at La Rumba
DESCRIPTION:Put on your dancing shoes and come heat up the floor tonight at La Rumba with ALL your favorite salsa\, bachata and more. \nTonight’s Happenings\n7:00 pm  Doors and bar open\n7:00ish pm – 8:00 pm Beginning/ Intermediate Sensual Bachata Lesson\n8:00 pm – 9:00 pm Beginning/ Intermediate Salsa Lesson=\n9:00 pm – 12:30 am  DJs
URL:https://golatindance.com/event/salsa-sundays-at-la-rumba/2027-12-05/
LOCATION:La Rumba\, 99 W. 9th Ave\, Denver\, CO 80204\, Denver\, CO\, 80204\, US
CATEGORIES:Denver
ATTACH;FMTTYPE=image/jpeg:https://golatindance.com/wp-content/uploads/2023/02/417681044_7030642097014685_6370717221699319249_n.jpg
END:VEVENT
BEGIN:VEVENT
DTSTART;TZID=America/Denver:20271212T190000
DTEND;TZID=America/Denver:20271213T003000
DTSTAMP:20260420T082827
CREATED:20230224T175726Z
LAST-MODIFIED:20240315T154359Z
UID:10202029-1828638000-1828657800@golatindance.com
SUMMARY:Salsa Bachata Sundays at La Rumba
DESCRIPTION:Put on your dancing shoes and come heat up the floor tonight at La Rumba with ALL your favorite salsa\, bachata and more. \nTonight’s Happenings\n7:00 pm  Doors and bar open\n7:00ish pm – 8:00 pm Beginning/ Intermediate Sensual Bachata Lesson\n8:00 pm – 9:00 pm Beginning/ Intermediate Salsa Lesson=\n9:00 pm – 12:30 am  DJs
URL:https://golatindance.com/event/salsa-sundays-at-la-rumba/2027-12-12/
LOCATION:La Rumba\, 99 W. 9th Ave\, Denver\, CO 80204\, Denver\, CO\, 80204\, US
CATEGORIES:Denver
ATTACH;FMTTYPE=image/jpeg:https://golatindance.com/wp-content/uploads/2023/02/417681044_7030642097014685_6370717221699319249_n.jpg
END:VEVENT
BEGIN:VEVENT
DTSTART;TZID=America/Denver:20271219T190000
DTEND;TZID=America/Denver:20271220T003000
DTSTAMP:20260420T082827
CREATED:20230224T175726Z
LAST-MODIFIED:20240315T154359Z
UID:10202030-1829242800-1829262600@golatindance.com
SUMMARY:Salsa Bachata Sundays at La Rumba
DESCRIPTION:Put on your dancing shoes and come heat up the floor tonight at La Rumba with ALL your favorite salsa\, bachata and more. \nTonight’s Happenings\n7:00 pm  Doors and bar open\n7:00ish pm – 8:00 pm Beginning/ Intermediate Sensual Bachata Lesson\n8:00 pm – 9:00 pm Beginning/ Intermediate Salsa Lesson=\n9:00 pm – 12:30 am  DJs
URL:https://golatindance.com/event/salsa-sundays-at-la-rumba/2027-12-19/
LOCATION:La Rumba\, 99 W. 9th Ave\, Denver\, CO 80204\, Denver\, CO\, 80204\, US
CATEGORIES:Denver
ATTACH;FMTTYPE=image/jpeg:https://golatindance.com/wp-content/uploads/2023/02/417681044_7030642097014685_6370717221699319249_n.jpg
END:VEVENT
BEGIN:VEVENT
DTSTART;TZID=America/Denver:20271226T190000
DTEND;TZID=America/Denver:20271227T003000
DTSTAMP:20260420T082827
CREATED:20230224T175726Z
LAST-MODIFIED:20240315T154359Z
UID:10202031-1829847600-1829867400@golatindance.com
SUMMARY:Salsa Bachata Sundays at La Rumba
DESCRIPTION:Put on your dancing shoes and come heat up the floor tonight at La Rumba with ALL your favorite salsa\, bachata and more. \nTonight’s Happenings\n7:00 pm  Doors and bar open\n7:00ish pm – 8:00 pm Beginning/ Intermediate Sensual Bachata Lesson\n8:00 pm – 9:00 pm Beginning/ Intermediate Salsa Lesson=\n9:00 pm – 12:30 am  DJs
URL:https://golatindance.com/event/salsa-sundays-at-la-rumba/2027-12-26/
LOCATION:La Rumba\, 99 W. 9th Ave\, Denver\, CO 80204\, Denver\, CO\, 80204\, US
CATEGORIES:Denver
ATTACH;FMTTYPE=image/jpeg:https://golatindance.com/wp-content/uploads/2023/02/417681044_7030642097014685_6370717221699319249_n.jpg
END:VEVENT
BEGIN:VEVENT
DTSTART;TZID=America/Denver:20280102T190000
DTEND;TZID=America/Denver:20280103T003000
DTSTAMP:20260420T082827
CREATED:20230224T175726Z
LAST-MODIFIED:20240315T154359Z
UID:10202032-1830452400-1830472200@golatindance.com
SUMMARY:Salsa Bachata Sundays at La Rumba
DESCRIPTION:Put on your dancing shoes and come heat up the floor tonight at La Rumba with ALL your favorite salsa\, bachata and more. \nTonight’s Happenings\n7:00 pm  Doors and bar open\n7:00ish pm – 8:00 pm Beginning/ Intermediate Sensual Bachata Lesson\n8:00 pm – 9:00 pm Beginning/ Intermediate Salsa Lesson=\n9:00 pm – 12:30 am  DJs
URL:https://golatindance.com/event/salsa-sundays-at-la-rumba/2028-01-02/
LOCATION:La Rumba\, 99 W. 9th Ave\, Denver\, CO 80204\, Denver\, CO\, 80204\, US
CATEGORIES:Denver
ATTACH;FMTTYPE=image/jpeg:https://golatindance.com/wp-content/uploads/2023/02/417681044_7030642097014685_6370717221699319249_n.jpg
END:VEVENT
BEGIN:VEVENT
DTSTART;TZID=America/Denver:20280109T190000
DTEND;TZID=America/Denver:20280110T003000
DTSTAMP:20260420T082827
CREATED:20230224T175726Z
LAST-MODIFIED:20240315T154359Z
UID:10202033-1831057200-1831077000@golatindance.com
SUMMARY:Salsa Bachata Sundays at La Rumba
DESCRIPTION:Put on your dancing shoes and come heat up the floor tonight at La Rumba with ALL your favorite salsa\, bachata and more. \nTonight’s Happenings\n7:00 pm  Doors and bar open\n7:00ish pm – 8:00 pm Beginning/ Intermediate Sensual Bachata Lesson\n8:00 pm – 9:00 pm Beginning/ Intermediate Salsa Lesson=\n9:00 pm – 12:30 am  DJs
URL:https://golatindance.com/event/salsa-sundays-at-la-rumba/2028-01-09/
LOCATION:La Rumba\, 99 W. 9th Ave\, Denver\, CO 80204\, Denver\, CO\, 80204\, US
CATEGORIES:Denver
ATTACH;FMTTYPE=image/jpeg:https://golatindance.com/wp-content/uploads/2023/02/417681044_7030642097014685_6370717221699319249_n.jpg
END:VEVENT
BEGIN:VEVENT
DTSTART;TZID=America/Denver:20280116T190000
DTEND;TZID=America/Denver:20280117T003000
DTSTAMP:20260420T082827
CREATED:20230224T175726Z
LAST-MODIFIED:20240315T154359Z
UID:10202034-1831662000-1831681800@golatindance.com
SUMMARY:Salsa Bachata Sundays at La Rumba
DESCRIPTION:Put on your dancing shoes and come heat up the floor tonight at La Rumba with ALL your favorite salsa\, bachata and more. \nTonight’s Happenings\n7:00 pm  Doors and bar open\n7:00ish pm – 8:00 pm Beginning/ Intermediate Sensual Bachata Lesson\n8:00 pm – 9:00 pm Beginning/ Intermediate Salsa Lesson=\n9:00 pm – 12:30 am  DJs
URL:https://golatindance.com/event/salsa-sundays-at-la-rumba/2028-01-16/
LOCATION:La Rumba\, 99 W. 9th Ave\, Denver\, CO 80204\, Denver\, CO\, 80204\, US
CATEGORIES:Denver
ATTACH;FMTTYPE=image/jpeg:https://golatindance.com/wp-content/uploads/2023/02/417681044_7030642097014685_6370717221699319249_n.jpg
END:VEVENT
BEGIN:VEVENT
DTSTART;TZID=America/Denver:20280123T190000
DTEND;TZID=America/Denver:20280124T003000
DTSTAMP:20260420T082827
CREATED:20230224T175726Z
LAST-MODIFIED:20240315T154359Z
UID:10202035-1832266800-1832286600@golatindance.com
SUMMARY:Salsa Bachata Sundays at La Rumba
DESCRIPTION:Put on your dancing shoes and come heat up the floor tonight at La Rumba with ALL your favorite salsa\, bachata and more. \nTonight’s Happenings\n7:00 pm  Doors and bar open\n7:00ish pm – 8:00 pm Beginning/ Intermediate Sensual Bachata Lesson\n8:00 pm – 9:00 pm Beginning/ Intermediate Salsa Lesson=\n9:00 pm – 12:30 am  DJs
URL:https://golatindance.com/event/salsa-sundays-at-la-rumba/2028-01-23/
LOCATION:La Rumba\, 99 W. 9th Ave\, Denver\, CO 80204\, Denver\, CO\, 80204\, US
CATEGORIES:Denver
ATTACH;FMTTYPE=image/jpeg:https://golatindance.com/wp-content/uploads/2023/02/417681044_7030642097014685_6370717221699319249_n.jpg
END:VEVENT
BEGIN:VEVENT
DTSTART;TZID=America/Denver:20280130T190000
DTEND;TZID=America/Denver:20280131T003000
DTSTAMP:20260420T082827
CREATED:20230224T175726Z
LAST-MODIFIED:20240315T154359Z
UID:10202036-1832871600-1832891400@golatindance.com
SUMMARY:Salsa Bachata Sundays at La Rumba
DESCRIPTION:Put on your dancing shoes and come heat up the floor tonight at La Rumba with ALL your favorite salsa\, bachata and more. \nTonight’s Happenings\n7:00 pm  Doors and bar open\n7:00ish pm – 8:00 pm Beginning/ Intermediate Sensual Bachata Lesson\n8:00 pm – 9:00 pm Beginning/ Intermediate Salsa Lesson=\n9:00 pm – 12:30 am  DJs
URL:https://golatindance.com/event/salsa-sundays-at-la-rumba/2028-01-30/
LOCATION:La Rumba\, 99 W. 9th Ave\, Denver\, CO 80204\, Denver\, CO\, 80204\, US
CATEGORIES:Denver
ATTACH;FMTTYPE=image/jpeg:https://golatindance.com/wp-content/uploads/2023/02/417681044_7030642097014685_6370717221699319249_n.jpg
END:VEVENT
BEGIN:VEVENT
DTSTART;TZID=America/Denver:20280206T190000
DTEND;TZID=America/Denver:20280207T003000
DTSTAMP:20260420T082827
CREATED:20230224T175726Z
LAST-MODIFIED:20240315T154359Z
UID:10202037-1833476400-1833496200@golatindance.com
SUMMARY:Salsa Bachata Sundays at La Rumba
DESCRIPTION:Put on your dancing shoes and come heat up the floor tonight at La Rumba with ALL your favorite salsa\, bachata and more. \nTonight’s Happenings\n7:00 pm  Doors and bar open\n7:00ish pm – 8:00 pm Beginning/ Intermediate Sensual Bachata Lesson\n8:00 pm – 9:00 pm Beginning/ Intermediate Salsa Lesson=\n9:00 pm – 12:30 am  DJs
URL:https://golatindance.com/event/salsa-sundays-at-la-rumba/2028-02-06/
LOCATION:La Rumba\, 99 W. 9th Ave\, Denver\, CO 80204\, Denver\, CO\, 80204\, US
CATEGORIES:Denver
ATTACH;FMTTYPE=image/jpeg:https://golatindance.com/wp-content/uploads/2023/02/417681044_7030642097014685_6370717221699319249_n.jpg
END:VEVENT
BEGIN:VEVENT
DTSTART;TZID=America/Denver:20280213T190000
DTEND;TZID=America/Denver:20280214T003000
DTSTAMP:20260420T082827
CREATED:20230224T175726Z
LAST-MODIFIED:20240315T154359Z
UID:10202038-1834081200-1834101000@golatindance.com
SUMMARY:Salsa Bachata Sundays at La Rumba
DESCRIPTION:Put on your dancing shoes and come heat up the floor tonight at La Rumba with ALL your favorite salsa\, bachata and more. \nTonight’s Happenings\n7:00 pm  Doors and bar open\n7:00ish pm – 8:00 pm Beginning/ Intermediate Sensual Bachata Lesson\n8:00 pm – 9:00 pm Beginning/ Intermediate Salsa Lesson=\n9:00 pm – 12:30 am  DJs
URL:https://golatindance.com/event/salsa-sundays-at-la-rumba/2028-02-13/
LOCATION:La Rumba\, 99 W. 9th Ave\, Denver\, CO 80204\, Denver\, CO\, 80204\, US
CATEGORIES:Denver
ATTACH;FMTTYPE=image/jpeg:https://golatindance.com/wp-content/uploads/2023/02/417681044_7030642097014685_6370717221699319249_n.jpg
END:VEVENT
BEGIN:VEVENT
DTSTART;TZID=America/Denver:20280220T190000
DTEND;TZID=America/Denver:20280221T003000
DTSTAMP:20260420T082827
CREATED:20230224T175726Z
LAST-MODIFIED:20240315T154359Z
UID:10202039-1834686000-1834705800@golatindance.com
SUMMARY:Salsa Bachata Sundays at La Rumba
DESCRIPTION:Put on your dancing shoes and come heat up the floor tonight at La Rumba with ALL your favorite salsa\, bachata and more. \nTonight’s Happenings\n7:00 pm  Doors and bar open\n7:00ish pm – 8:00 pm Beginning/ Intermediate Sensual Bachata Lesson\n8:00 pm – 9:00 pm Beginning/ Intermediate Salsa Lesson=\n9:00 pm – 12:30 am  DJs
URL:https://golatindance.com/event/salsa-sundays-at-la-rumba/2028-02-20/
LOCATION:La Rumba\, 99 W. 9th Ave\, Denver\, CO 80204\, Denver\, CO\, 80204\, US
CATEGORIES:Denver
ATTACH;FMTTYPE=image/jpeg:https://golatindance.com/wp-content/uploads/2023/02/417681044_7030642097014685_6370717221699319249_n.jpg
END:VEVENT
BEGIN:VEVENT
DTSTART;TZID=America/Denver:20280227T190000
DTEND;TZID=America/Denver:20280228T003000
DTSTAMP:20260420T082827
CREATED:20230224T175726Z
LAST-MODIFIED:20240315T154359Z
UID:10202040-1835290800-1835310600@golatindance.com
SUMMARY:Salsa Bachata Sundays at La Rumba
DESCRIPTION:Put on your dancing shoes and come heat up the floor tonight at La Rumba with ALL your favorite salsa\, bachata and more. \nTonight’s Happenings\n7:00 pm  Doors and bar open\n7:00ish pm – 8:00 pm Beginning/ Intermediate Sensual Bachata Lesson\n8:00 pm – 9:00 pm Beginning/ Intermediate Salsa Lesson=\n9:00 pm – 12:30 am  DJs
URL:https://golatindance.com/event/salsa-sundays-at-la-rumba/2028-02-27/
LOCATION:La Rumba\, 99 W. 9th Ave\, Denver\, CO 80204\, Denver\, CO\, 80204\, US
CATEGORIES:Denver
ATTACH;FMTTYPE=image/jpeg:https://golatindance.com/wp-content/uploads/2023/02/417681044_7030642097014685_6370717221699319249_n.jpg
END:VEVENT
BEGIN:VEVENT
DTSTART;TZID=America/Denver:20280305T190000
DTEND;TZID=America/Denver:20280306T003000
DTSTAMP:20260420T082827
CREATED:20230224T175726Z
LAST-MODIFIED:20240315T154359Z
UID:10202041-1835895600-1835915400@golatindance.com
SUMMARY:Salsa Bachata Sundays at La Rumba
DESCRIPTION:Put on your dancing shoes and come heat up the floor tonight at La Rumba with ALL your favorite salsa\, bachata and more. \nTonight’s Happenings\n7:00 pm  Doors and bar open\n7:00ish pm – 8:00 pm Beginning/ Intermediate Sensual Bachata Lesson\n8:00 pm – 9:00 pm Beginning/ Intermediate Salsa Lesson=\n9:00 pm – 12:30 am  DJs
URL:https://golatindance.com/event/salsa-sundays-at-la-rumba/2028-03-05/
LOCATION:La Rumba\, 99 W. 9th Ave\, Denver\, CO 80204\, Denver\, CO\, 80204\, US
CATEGORIES:Denver
ATTACH;FMTTYPE=image/jpeg:https://golatindance.com/wp-content/uploads/2023/02/417681044_7030642097014685_6370717221699319249_n.jpg
END:VEVENT
BEGIN:VEVENT
DTSTART;TZID=America/Denver:20280312T190000
DTEND;TZID=America/Denver:20280313T003000
DTSTAMP:20260420T082827
CREATED:20230224T175726Z
LAST-MODIFIED:20240315T154359Z
UID:10202042-1836500400-1836520200@golatindance.com
SUMMARY:Salsa Bachata Sundays at La Rumba
DESCRIPTION:Put on your dancing shoes and come heat up the floor tonight at La Rumba with ALL your favorite salsa\, bachata and more. \nTonight’s Happenings\n7:00 pm  Doors and bar open\n7:00ish pm – 8:00 pm Beginning/ Intermediate Sensual Bachata Lesson\n8:00 pm – 9:00 pm Beginning/ Intermediate Salsa Lesson=\n9:00 pm – 12:30 am  DJs
URL:https://golatindance.com/event/salsa-sundays-at-la-rumba/2028-03-12/
LOCATION:La Rumba\, 99 W. 9th Ave\, Denver\, CO 80204\, Denver\, CO\, 80204\, US
CATEGORIES:Denver
ATTACH;FMTTYPE=image/jpeg:https://golatindance.com/wp-content/uploads/2023/02/417681044_7030642097014685_6370717221699319249_n.jpg
END:VEVENT
BEGIN:VEVENT
DTSTART;TZID=America/Denver:20280319T190000
DTEND;TZID=America/Denver:20280320T003000
DTSTAMP:20260420T082827
CREATED:20230224T175726Z
LAST-MODIFIED:20240315T154359Z
UID:10202043-1837105200-1837125000@golatindance.com
SUMMARY:Salsa Bachata Sundays at La Rumba
DESCRIPTION:Put on your dancing shoes and come heat up the floor tonight at La Rumba with ALL your favorite salsa\, bachata and more. \nTonight’s Happenings\n7:00 pm  Doors and bar open\n7:00ish pm – 8:00 pm Beginning/ Intermediate Sensual Bachata Lesson\n8:00 pm – 9:00 pm Beginning/ Intermediate Salsa Lesson=\n9:00 pm – 12:30 am  DJs
URL:https://golatindance.com/event/salsa-sundays-at-la-rumba/2028-03-19/
LOCATION:La Rumba\, 99 W. 9th Ave\, Denver\, CO 80204\, Denver\, CO\, 80204\, US
CATEGORIES:Denver
ATTACH;FMTTYPE=image/jpeg:https://golatindance.com/wp-content/uploads/2023/02/417681044_7030642097014685_6370717221699319249_n.jpg
END:VEVENT
END:VCALENDAR