BEGIN:VCALENDAR
VERSION:2.0
PRODID:-//GO Latin Dance - ECPv6.15.18//NONSGML v1.0//EN
CALSCALE:GREGORIAN
METHOD:PUBLISH
X-WR-CALNAME:GO Latin Dance
X-ORIGINAL-URL:https://golatindance.com
X-WR-CALDESC:Events for GO Latin Dance
REFRESH-INTERVAL;VALUE=DURATION:PT1H
X-Robots-Tag:noindex
X-PUBLISHED-TTL:PT1H
BEGIN:VTIMEZONE
TZID:Australia/Sydney
BEGIN:STANDARD
TZOFFSETFROM:+1100
TZOFFSETTO:+1000
TZNAME:AEST
DTSTART:20290331T160000
END:STANDARD
BEGIN:DAYLIGHT
TZOFFSETFROM:+1000
TZOFFSETTO:+1100
TZNAME:AEDT
DTSTART:20291006T160000
END:DAYLIGHT
BEGIN:STANDARD
TZOFFSETFROM:+1100
TZOFFSETTO:+1000
TZNAME:AEST
DTSTART:20300406T160000
END:STANDARD
BEGIN:DAYLIGHT
TZOFFSETFROM:+1000
TZOFFSETTO:+1100
TZNAME:AEDT
DTSTART:20301005T160000
END:DAYLIGHT
BEGIN:STANDARD
TZOFFSETFROM:+1100
TZOFFSETTO:+1000
TZNAME:AEST
DTSTART:20310405T160000
END:STANDARD
BEGIN:DAYLIGHT
TZOFFSETFROM:+1000
TZOFFSETTO:+1100
TZNAME:AEDT
DTSTART:20311004T160000
END:DAYLIGHT
END:VTIMEZONE
BEGIN:VEVENT
DTSTART;TZID=Australia/Sydney:20300622T193000
DTEND;TZID=Australia/Sydney:20300623T010000
DTSTAMP:20260422T031102
CREATED:20240323T210135Z
LAST-MODIFIED:20250817T205457Z
UID:10386210-1908387000-1908406800@golatindance.com
SUMMARY:Salsa Jam
DESCRIPTION:Ready for the beautiful social experience you love at Salsa Jam? \nThe DJs you love and the party that has brought so much joy to so many on so many Saturday Nights! \nOur resident legendary DJs // 3 Rooms // 100% Salsa // 100% Bachata // 100% Kiz \nCold drinks to chill you out and beautiful people who all have the same goal\, beautiful social dancing moments. \n7:30 pm Pre-Party Workshop\n8:30 pm Social till 1 am
URL:https://golatindance.com/event/salsa-jam-2/2030-06-22/
LOCATION:Latin Junction\, 1b/10 Durdans Ave\, Rosebery\, NSW\, 2018\, Australia
CATEGORIES:Sydney
GEO:-33.9180066;151.2014108
X-APPLE-STRUCTURED-LOCATION;VALUE=URI;X-ADDRESS=Latin Junction 1b/10 Durdans Ave Rosebery NSW 2018 Australia;X-APPLE-RADIUS=500;X-TITLE=1b/10 Durdans Ave:geo:151.2014108,-33.9180066
END:VEVENT
BEGIN:VEVENT
DTSTART;TZID=Australia/Sydney:20300713T193000
DTEND;TZID=Australia/Sydney:20300714T023000
DTSTAMP:20260422T031103
CREATED:20251130T192531Z
LAST-MODIFIED:20251207T225642Z
UID:10407076-1910201400-1910226600@golatindance.com
SUMMARY:Salsa Jam
DESCRIPTION:Ready for the beautiful social experience you love at Salsa Jam? \nThe DJs you love and the party that has brought so much joy to so many on so many Saturday Nights! \nOur resident legendary DJs // 3 Rooms // 100% Salsa // 100% Bachata // 100% Kiz \nCold drinks to chill you out and beautiful people who all have the same goal\, beautiful social dancing moments. \n7:30 pm Pre-Party Workshop\n8:30 pm Social till 1 am
URL:https://golatindance.com/event/salsa-jam-salsa-bachata-kiz-3/2030-07-13/
LOCATION:Latin Junction\, 1b/10 Durdans Ave\, Rosebery\, NSW\, 2018\, Australia
CATEGORIES:Sydney
GEO:-33.9180066;151.2014108
X-APPLE-STRUCTURED-LOCATION;VALUE=URI;X-ADDRESS=Latin Junction 1b/10 Durdans Ave Rosebery NSW 2018 Australia;X-APPLE-RADIUS=500;X-TITLE=1b/10 Durdans Ave:geo:151.2014108,-33.9180066
END:VEVENT
BEGIN:VEVENT
DTSTART;TZID=Australia/Sydney:20300727T193000
DTEND;TZID=Australia/Sydney:20300728T010000
DTSTAMP:20260422T031103
CREATED:20240323T210135Z
LAST-MODIFIED:20250817T205457Z
UID:10386211-1911411000-1911430800@golatindance.com
SUMMARY:Salsa Jam
DESCRIPTION:Ready for the beautiful social experience you love at Salsa Jam? \nThe DJs you love and the party that has brought so much joy to so many on so many Saturday Nights! \nOur resident legendary DJs // 3 Rooms // 100% Salsa // 100% Bachata // 100% Kiz \nCold drinks to chill you out and beautiful people who all have the same goal\, beautiful social dancing moments. \n7:30 pm Pre-Party Workshop\n8:30 pm Social till 1 am
URL:https://golatindance.com/event/salsa-jam-2/2030-07-27/
LOCATION:Latin Junction\, 1b/10 Durdans Ave\, Rosebery\, NSW\, 2018\, Australia
CATEGORIES:Sydney
GEO:-33.9180066;151.2014108
X-APPLE-STRUCTURED-LOCATION;VALUE=URI;X-ADDRESS=Latin Junction 1b/10 Durdans Ave Rosebery NSW 2018 Australia;X-APPLE-RADIUS=500;X-TITLE=1b/10 Durdans Ave:geo:151.2014108,-33.9180066
END:VEVENT
BEGIN:VEVENT
DTSTART;TZID=Australia/Sydney:20300810T193000
DTEND;TZID=Australia/Sydney:20300811T023000
DTSTAMP:20260422T031103
CREATED:20251130T192531Z
LAST-MODIFIED:20251207T225642Z
UID:10407077-1912620600-1912645800@golatindance.com
SUMMARY:Salsa Jam
DESCRIPTION:Ready for the beautiful social experience you love at Salsa Jam? \nThe DJs you love and the party that has brought so much joy to so many on so many Saturday Nights! \nOur resident legendary DJs // 3 Rooms // 100% Salsa // 100% Bachata // 100% Kiz \nCold drinks to chill you out and beautiful people who all have the same goal\, beautiful social dancing moments. \n7:30 pm Pre-Party Workshop\n8:30 pm Social till 1 am
URL:https://golatindance.com/event/salsa-jam-salsa-bachata-kiz-3/2030-08-10/
LOCATION:Latin Junction\, 1b/10 Durdans Ave\, Rosebery\, NSW\, 2018\, Australia
CATEGORIES:Sydney
GEO:-33.9180066;151.2014108
X-APPLE-STRUCTURED-LOCATION;VALUE=URI;X-ADDRESS=Latin Junction 1b/10 Durdans Ave Rosebery NSW 2018 Australia;X-APPLE-RADIUS=500;X-TITLE=1b/10 Durdans Ave:geo:151.2014108,-33.9180066
END:VEVENT
BEGIN:VEVENT
DTSTART;TZID=Australia/Sydney:20300914T193000
DTEND;TZID=Australia/Sydney:20300915T023000
DTSTAMP:20260422T031103
CREATED:20251130T192531Z
LAST-MODIFIED:20251207T225642Z
UID:10407078-1915644600-1915669800@golatindance.com
SUMMARY:Salsa Jam
DESCRIPTION:Ready for the beautiful social experience you love at Salsa Jam? \nThe DJs you love and the party that has brought so much joy to so many on so many Saturday Nights! \nOur resident legendary DJs // 3 Rooms // 100% Salsa // 100% Bachata // 100% Kiz \nCold drinks to chill you out and beautiful people who all have the same goal\, beautiful social dancing moments. \n7:30 pm Pre-Party Workshop\n8:30 pm Social till 1 am
URL:https://golatindance.com/event/salsa-jam-salsa-bachata-kiz-3/2030-09-14/
LOCATION:Latin Junction\, 1b/10 Durdans Ave\, Rosebery\, NSW\, 2018\, Australia
CATEGORIES:Sydney
GEO:-33.9180066;151.2014108
X-APPLE-STRUCTURED-LOCATION;VALUE=URI;X-ADDRESS=Latin Junction 1b/10 Durdans Ave Rosebery NSW 2018 Australia;X-APPLE-RADIUS=500;X-TITLE=1b/10 Durdans Ave:geo:151.2014108,-33.9180066
END:VEVENT
BEGIN:VEVENT
DTSTART;TZID=Australia/Sydney:20301012T193000
DTEND;TZID=Australia/Sydney:20301013T023000
DTSTAMP:20260422T031103
CREATED:20251130T192531Z
LAST-MODIFIED:20251207T225642Z
UID:10407079-1918063800-1918089000@golatindance.com
SUMMARY:Salsa Jam
DESCRIPTION:Ready for the beautiful social experience you love at Salsa Jam? \nThe DJs you love and the party that has brought so much joy to so many on so many Saturday Nights! \nOur resident legendary DJs // 3 Rooms // 100% Salsa // 100% Bachata // 100% Kiz \nCold drinks to chill you out and beautiful people who all have the same goal\, beautiful social dancing moments. \n7:30 pm Pre-Party Workshop\n8:30 pm Social till 1 am
URL:https://golatindance.com/event/salsa-jam-salsa-bachata-kiz-3/2030-10-12/
LOCATION:Latin Junction\, 1b/10 Durdans Ave\, Rosebery\, NSW\, 2018\, Australia
CATEGORIES:Sydney
GEO:-33.9180066;151.2014108
X-APPLE-STRUCTURED-LOCATION;VALUE=URI;X-ADDRESS=Latin Junction 1b/10 Durdans Ave Rosebery NSW 2018 Australia;X-APPLE-RADIUS=500;X-TITLE=1b/10 Durdans Ave:geo:151.2014108,-33.9180066
END:VEVENT
BEGIN:VEVENT
DTSTART;TZID=Australia/Sydney:20301109T193000
DTEND;TZID=Australia/Sydney:20301110T023000
DTSTAMP:20260422T031103
CREATED:20251130T192531Z
LAST-MODIFIED:20251207T225642Z
UID:10416958-1920483000-1920508200@golatindance.com
SUMMARY:Salsa Jam
DESCRIPTION:Ready for the beautiful social experience you love at Salsa Jam? \nThe DJs you love and the party that has brought so much joy to so many on so many Saturday Nights! \nOur resident legendary DJs // 3 Rooms // 100% Salsa // 100% Bachata // 100% Kiz \nCold drinks to chill you out and beautiful people who all have the same goal\, beautiful social dancing moments. \n7:30 pm Pre-Party Workshop\n8:30 pm Social till 1 am
URL:https://golatindance.com/event/salsa-jam-salsa-bachata-kiz-3/2030-11-09/
LOCATION:Latin Junction\, 1b/10 Durdans Ave\, Rosebery\, NSW\, 2018\, Australia
CATEGORIES:Sydney
GEO:-33.9180066;151.2014108
X-APPLE-STRUCTURED-LOCATION;VALUE=URI;X-ADDRESS=Latin Junction 1b/10 Durdans Ave Rosebery NSW 2018 Australia;X-APPLE-RADIUS=500;X-TITLE=1b/10 Durdans Ave:geo:151.2014108,-33.9180066
END:VEVENT
END:VCALENDAR