BEGIN:VCALENDAR
VERSION:2.0
PRODID:-//GO Latin Dance - ECPv6.15.18//NONSGML v1.0//EN
CALSCALE:GREGORIAN
METHOD:PUBLISH
X-ORIGINAL-URL:https://golatindance.com
X-WR-CALDESC:Events for GO Latin Dance
REFRESH-INTERVAL;VALUE=DURATION:PT1H
X-Robots-Tag:noindex
X-PUBLISHED-TTL:PT1H
BEGIN:VTIMEZONE
TZID:America/Los_Angeles
BEGIN:DAYLIGHT
TZOFFSETFROM:-0800
TZOFFSETTO:-0700
TZNAME:PDT
DTSTART:20250309T100000
END:DAYLIGHT
BEGIN:STANDARD
TZOFFSETFROM:-0700
TZOFFSETTO:-0800
TZNAME:PST
DTSTART:20251102T090000
END:STANDARD
BEGIN:DAYLIGHT
TZOFFSETFROM:-0800
TZOFFSETTO:-0700
TZNAME:PDT
DTSTART:20260308T100000
END:DAYLIGHT
BEGIN:STANDARD
TZOFFSETFROM:-0700
TZOFFSETTO:-0800
TZNAME:PST
DTSTART:20261101T090000
END:STANDARD
BEGIN:DAYLIGHT
TZOFFSETFROM:-0800
TZOFFSETTO:-0700
TZNAME:PDT
DTSTART:20270314T100000
END:DAYLIGHT
BEGIN:STANDARD
TZOFFSETFROM:-0700
TZOFFSETTO:-0800
TZNAME:PST
DTSTART:20271107T090000
END:STANDARD
END:VTIMEZONE
BEGIN:VEVENT
DTSTART;TZID=America/Los_Angeles:20260419T210000
DTEND;TZID=America/Los_Angeles:20260420T020000
DTSTAMP:20260425T160353
CREATED:20260223T155028Z
LAST-MODIFIED:20260223T155331Z
UID:10448784-1776632400-1776650400@golatindance.com
SUMMARY:Latin Sundays at Providence Bar
DESCRIPTION:Latin Sundays at Providence Bar\, Every Sunday!\n\n\nRemix Events & Providence Bar presents: \nLATIN SUNDAYS at Providence Bar\nLatin Music Party Every Sunday at the Beautiful Providence Bar in San Francisco! Fiesta Latina Todos Los Domingos 💃🔥 \nTop Latin Hits\, Salsa\, Bachata\, Reggaeton\, Hip-Hop y mas!🥂🎶\n  \n🔉Music: @IMDJNOISE + @DJKLAN + Weekly Guest Djs \n🤟Hosts: @remixeventssf & @latinsundayssf \n🎟Free RSVP Guestlist before 10:00pm \n☎️ VIP Reservations – 415-366-0472 \n✅10pm-2am – 21+ Event \n  \n__________________________________________________\nLocation: \nProvidence Bar\n1351 Polk St\, San Francisco\, CA 94109\nTime: \n10pm-2am\n__________________________________________________\n  \n> Doors Open 10pm\n> FREE ENTRY before 11pm with RSVP sign up\n> Dress to Impress/Dress code inforced: No baggy clothing\, tank tops\, hoodies\, beanies\, flip-flops\, or backpacks allowed!\n> 21+ Event\n__________________________________________________\nCelebrate your special occasion with us! For VIP Tables & Bottle service txt: (415) 366-0472 or email Latinsundayssf@gmail.com\n\n*Guestlist valid until 11:00pm\, Eventbrite rsvp ticket required \n* Cover charge pricing may vary for special events and holidays \n 
URL:https://golatindance.com/event/latin-sundays-at-providence-bar/2026-04-19/
LOCATION:1351 Polk St\, 1351 Polk Street\, San Francisco\, CA 94109\, San Francisco\, CA\, 94109\, US
CATEGORIES:San Francisco
ATTACH;FMTTYPE=image/png:https://golatindance.com/wp-content/uploads/2026/02/302494_image.png
END:VEVENT
BEGIN:VEVENT
DTSTART;TZID=America/Los_Angeles:20260412T210000
DTEND;TZID=America/Los_Angeles:20260413T020000
DTSTAMP:20260425T160353
CREATED:20260223T155028Z
LAST-MODIFIED:20260223T155331Z
UID:10448783-1776027600-1776045600@golatindance.com
SUMMARY:Latin Sundays at Providence Bar
DESCRIPTION:Latin Sundays at Providence Bar\, Every Sunday!\n\n\nRemix Events & Providence Bar presents: \nLATIN SUNDAYS at Providence Bar\nLatin Music Party Every Sunday at the Beautiful Providence Bar in San Francisco! Fiesta Latina Todos Los Domingos 💃🔥 \nTop Latin Hits\, Salsa\, Bachata\, Reggaeton\, Hip-Hop y mas!🥂🎶\n  \n🔉Music: @IMDJNOISE + @DJKLAN + Weekly Guest Djs \n🤟Hosts: @remixeventssf & @latinsundayssf \n🎟Free RSVP Guestlist before 10:00pm \n☎️ VIP Reservations – 415-366-0472 \n✅10pm-2am – 21+ Event \n  \n__________________________________________________\nLocation: \nProvidence Bar\n1351 Polk St\, San Francisco\, CA 94109\nTime: \n10pm-2am\n__________________________________________________\n  \n> Doors Open 10pm\n> FREE ENTRY before 11pm with RSVP sign up\n> Dress to Impress/Dress code inforced: No baggy clothing\, tank tops\, hoodies\, beanies\, flip-flops\, or backpacks allowed!\n> 21+ Event\n__________________________________________________\nCelebrate your special occasion with us! For VIP Tables & Bottle service txt: (415) 366-0472 or email Latinsundayssf@gmail.com\n\n*Guestlist valid until 11:00pm\, Eventbrite rsvp ticket required \n* Cover charge pricing may vary for special events and holidays \n 
URL:https://golatindance.com/event/latin-sundays-at-providence-bar/2026-04-12/
LOCATION:1351 Polk St\, 1351 Polk Street\, San Francisco\, CA 94109\, San Francisco\, CA\, 94109\, US
CATEGORIES:San Francisco
ATTACH;FMTTYPE=image/png:https://golatindance.com/wp-content/uploads/2026/02/302494_image.png
END:VEVENT
BEGIN:VEVENT
DTSTART;TZID=America/Los_Angeles:20260405T210000
DTEND;TZID=America/Los_Angeles:20260406T020000
DTSTAMP:20260425T160353
CREATED:20260223T155028Z
LAST-MODIFIED:20260223T155331Z
UID:10448782-1775422800-1775440800@golatindance.com
SUMMARY:Latin Sundays at Providence Bar
DESCRIPTION:Latin Sundays at Providence Bar\, Every Sunday!\n\n\nRemix Events & Providence Bar presents: \nLATIN SUNDAYS at Providence Bar\nLatin Music Party Every Sunday at the Beautiful Providence Bar in San Francisco! Fiesta Latina Todos Los Domingos 💃🔥 \nTop Latin Hits\, Salsa\, Bachata\, Reggaeton\, Hip-Hop y mas!🥂🎶\n  \n🔉Music: @IMDJNOISE + @DJKLAN + Weekly Guest Djs \n🤟Hosts: @remixeventssf & @latinsundayssf \n🎟Free RSVP Guestlist before 10:00pm \n☎️ VIP Reservations – 415-366-0472 \n✅10pm-2am – 21+ Event \n  \n__________________________________________________\nLocation: \nProvidence Bar\n1351 Polk St\, San Francisco\, CA 94109\nTime: \n10pm-2am\n__________________________________________________\n  \n> Doors Open 10pm\n> FREE ENTRY before 11pm with RSVP sign up\n> Dress to Impress/Dress code inforced: No baggy clothing\, tank tops\, hoodies\, beanies\, flip-flops\, or backpacks allowed!\n> 21+ Event\n__________________________________________________\nCelebrate your special occasion with us! For VIP Tables & Bottle service txt: (415) 366-0472 or email Latinsundayssf@gmail.com\n\n*Guestlist valid until 11:00pm\, Eventbrite rsvp ticket required \n* Cover charge pricing may vary for special events and holidays \n 
URL:https://golatindance.com/event/latin-sundays-at-providence-bar/2026-04-05/
LOCATION:1351 Polk St\, 1351 Polk Street\, San Francisco\, CA 94109\, San Francisco\, CA\, 94109\, US
CATEGORIES:San Francisco
ATTACH;FMTTYPE=image/png:https://golatindance.com/wp-content/uploads/2026/02/302494_image.png
END:VEVENT
BEGIN:VEVENT
DTSTART;TZID=America/Los_Angeles:20260329T210000
DTEND;TZID=America/Los_Angeles:20260330T020000
DTSTAMP:20260425T160353
CREATED:20260223T155028Z
LAST-MODIFIED:20260223T155331Z
UID:10448781-1774818000-1774836000@golatindance.com
SUMMARY:Latin Sundays at Providence Bar
DESCRIPTION:Latin Sundays at Providence Bar\, Every Sunday!\n\n\nRemix Events & Providence Bar presents: \nLATIN SUNDAYS at Providence Bar\nLatin Music Party Every Sunday at the Beautiful Providence Bar in San Francisco! Fiesta Latina Todos Los Domingos 💃🔥 \nTop Latin Hits\, Salsa\, Bachata\, Reggaeton\, Hip-Hop y mas!🥂🎶\n  \n🔉Music: @IMDJNOISE + @DJKLAN + Weekly Guest Djs \n🤟Hosts: @remixeventssf & @latinsundayssf \n🎟Free RSVP Guestlist before 10:00pm \n☎️ VIP Reservations – 415-366-0472 \n✅10pm-2am – 21+ Event \n  \n__________________________________________________\nLocation: \nProvidence Bar\n1351 Polk St\, San Francisco\, CA 94109\nTime: \n10pm-2am\n__________________________________________________\n  \n> Doors Open 10pm\n> FREE ENTRY before 11pm with RSVP sign up\n> Dress to Impress/Dress code inforced: No baggy clothing\, tank tops\, hoodies\, beanies\, flip-flops\, or backpacks allowed!\n> 21+ Event\n__________________________________________________\nCelebrate your special occasion with us! For VIP Tables & Bottle service txt: (415) 366-0472 or email Latinsundayssf@gmail.com\n\n*Guestlist valid until 11:00pm\, Eventbrite rsvp ticket required \n* Cover charge pricing may vary for special events and holidays \n 
URL:https://golatindance.com/event/latin-sundays-at-providence-bar/2026-03-29/
LOCATION:1351 Polk St\, 1351 Polk Street\, San Francisco\, CA 94109\, San Francisco\, CA\, 94109\, US
CATEGORIES:San Francisco
ATTACH;FMTTYPE=image/png:https://golatindance.com/wp-content/uploads/2026/02/302494_image.png
END:VEVENT
BEGIN:VEVENT
DTSTART;TZID=America/Los_Angeles:20260322T210000
DTEND;TZID=America/Los_Angeles:20260323T020000
DTSTAMP:20260425T160353
CREATED:20260223T155028Z
LAST-MODIFIED:20260223T155331Z
UID:10448780-1774213200-1774231200@golatindance.com
SUMMARY:Latin Sundays at Providence Bar
DESCRIPTION:Latin Sundays at Providence Bar\, Every Sunday!\n\n\nRemix Events & Providence Bar presents: \nLATIN SUNDAYS at Providence Bar\nLatin Music Party Every Sunday at the Beautiful Providence Bar in San Francisco! Fiesta Latina Todos Los Domingos 💃🔥 \nTop Latin Hits\, Salsa\, Bachata\, Reggaeton\, Hip-Hop y mas!🥂🎶\n  \n🔉Music: @IMDJNOISE + @DJKLAN + Weekly Guest Djs \n🤟Hosts: @remixeventssf & @latinsundayssf \n🎟Free RSVP Guestlist before 10:00pm \n☎️ VIP Reservations – 415-366-0472 \n✅10pm-2am – 21+ Event \n  \n__________________________________________________\nLocation: \nProvidence Bar\n1351 Polk St\, San Francisco\, CA 94109\nTime: \n10pm-2am\n__________________________________________________\n  \n> Doors Open 10pm\n> FREE ENTRY before 11pm with RSVP sign up\n> Dress to Impress/Dress code inforced: No baggy clothing\, tank tops\, hoodies\, beanies\, flip-flops\, or backpacks allowed!\n> 21+ Event\n__________________________________________________\nCelebrate your special occasion with us! For VIP Tables & Bottle service txt: (415) 366-0472 or email Latinsundayssf@gmail.com\n\n*Guestlist valid until 11:00pm\, Eventbrite rsvp ticket required \n* Cover charge pricing may vary for special events and holidays \n 
URL:https://golatindance.com/event/latin-sundays-at-providence-bar/2026-03-22/
LOCATION:1351 Polk St\, 1351 Polk Street\, San Francisco\, CA 94109\, San Francisco\, CA\, 94109\, US
CATEGORIES:San Francisco
ATTACH;FMTTYPE=image/png:https://golatindance.com/wp-content/uploads/2026/02/302494_image.png
END:VEVENT
BEGIN:VEVENT
DTSTART;TZID=America/Los_Angeles:20260315T210000
DTEND;TZID=America/Los_Angeles:20260316T020000
DTSTAMP:20260425T160353
CREATED:20260223T155028Z
LAST-MODIFIED:20260223T155331Z
UID:10448779-1773608400-1773626400@golatindance.com
SUMMARY:Latin Sundays at Providence Bar
DESCRIPTION:Latin Sundays at Providence Bar\, Every Sunday!\n\n\nRemix Events & Providence Bar presents: \nLATIN SUNDAYS at Providence Bar\nLatin Music Party Every Sunday at the Beautiful Providence Bar in San Francisco! Fiesta Latina Todos Los Domingos 💃🔥 \nTop Latin Hits\, Salsa\, Bachata\, Reggaeton\, Hip-Hop y mas!🥂🎶\n  \n🔉Music: @IMDJNOISE + @DJKLAN + Weekly Guest Djs \n🤟Hosts: @remixeventssf & @latinsundayssf \n🎟Free RSVP Guestlist before 10:00pm \n☎️ VIP Reservations – 415-366-0472 \n✅10pm-2am – 21+ Event \n  \n__________________________________________________\nLocation: \nProvidence Bar\n1351 Polk St\, San Francisco\, CA 94109\nTime: \n10pm-2am\n__________________________________________________\n  \n> Doors Open 10pm\n> FREE ENTRY before 11pm with RSVP sign up\n> Dress to Impress/Dress code inforced: No baggy clothing\, tank tops\, hoodies\, beanies\, flip-flops\, or backpacks allowed!\n> 21+ Event\n__________________________________________________\nCelebrate your special occasion with us! For VIP Tables & Bottle service txt: (415) 366-0472 or email Latinsundayssf@gmail.com\n\n*Guestlist valid until 11:00pm\, Eventbrite rsvp ticket required \n* Cover charge pricing may vary for special events and holidays \n 
URL:https://golatindance.com/event/latin-sundays-at-providence-bar/2026-03-15/
LOCATION:1351 Polk St\, 1351 Polk Street\, San Francisco\, CA 94109\, San Francisco\, CA\, 94109\, US
CATEGORIES:San Francisco
ATTACH;FMTTYPE=image/png:https://golatindance.com/wp-content/uploads/2026/02/302494_image.png
END:VEVENT
BEGIN:VEVENT
DTSTART;TZID=America/Los_Angeles:20260308T210000
DTEND;TZID=America/Los_Angeles:20260309T020000
DTSTAMP:20260425T160353
CREATED:20260223T155028Z
LAST-MODIFIED:20260223T155331Z
UID:10448778-1773003600-1773021600@golatindance.com
SUMMARY:Latin Sundays at Providence Bar
DESCRIPTION:Latin Sundays at Providence Bar\, Every Sunday!\n\n\nRemix Events & Providence Bar presents: \nLATIN SUNDAYS at Providence Bar\nLatin Music Party Every Sunday at the Beautiful Providence Bar in San Francisco! Fiesta Latina Todos Los Domingos 💃🔥 \nTop Latin Hits\, Salsa\, Bachata\, Reggaeton\, Hip-Hop y mas!🥂🎶\n  \n🔉Music: @IMDJNOISE + @DJKLAN + Weekly Guest Djs \n🤟Hosts: @remixeventssf & @latinsundayssf \n🎟Free RSVP Guestlist before 10:00pm \n☎️ VIP Reservations – 415-366-0472 \n✅10pm-2am – 21+ Event \n  \n__________________________________________________\nLocation: \nProvidence Bar\n1351 Polk St\, San Francisco\, CA 94109\nTime: \n10pm-2am\n__________________________________________________\n  \n> Doors Open 10pm\n> FREE ENTRY before 11pm with RSVP sign up\n> Dress to Impress/Dress code inforced: No baggy clothing\, tank tops\, hoodies\, beanies\, flip-flops\, or backpacks allowed!\n> 21+ Event\n__________________________________________________\nCelebrate your special occasion with us! For VIP Tables & Bottle service txt: (415) 366-0472 or email Latinsundayssf@gmail.com\n\n*Guestlist valid until 11:00pm\, Eventbrite rsvp ticket required \n* Cover charge pricing may vary for special events and holidays \n 
URL:https://golatindance.com/event/latin-sundays-at-providence-bar/2026-03-08/
LOCATION:1351 Polk St\, 1351 Polk Street\, San Francisco\, CA 94109\, San Francisco\, CA\, 94109\, US
CATEGORIES:San Francisco
ATTACH;FMTTYPE=image/png:https://golatindance.com/wp-content/uploads/2026/02/302494_image.png
END:VEVENT
BEGIN:VEVENT
DTSTART;TZID=America/Los_Angeles:20260301T210000
DTEND;TZID=America/Los_Angeles:20260302T020000
DTSTAMP:20260425T160353
CREATED:20260223T155028Z
LAST-MODIFIED:20260223T155331Z
UID:10448777-1772398800-1772416800@golatindance.com
SUMMARY:Latin Sundays at Providence Bar
DESCRIPTION:Latin Sundays at Providence Bar\, Every Sunday!\n\n\nRemix Events & Providence Bar presents: \nLATIN SUNDAYS at Providence Bar\nLatin Music Party Every Sunday at the Beautiful Providence Bar in San Francisco! Fiesta Latina Todos Los Domingos 💃🔥 \nTop Latin Hits\, Salsa\, Bachata\, Reggaeton\, Hip-Hop y mas!🥂🎶\n  \n🔉Music: @IMDJNOISE + @DJKLAN + Weekly Guest Djs \n🤟Hosts: @remixeventssf & @latinsundayssf \n🎟Free RSVP Guestlist before 10:00pm \n☎️ VIP Reservations – 415-366-0472 \n✅10pm-2am – 21+ Event \n  \n__________________________________________________\nLocation: \nProvidence Bar\n1351 Polk St\, San Francisco\, CA 94109\nTime: \n10pm-2am\n__________________________________________________\n  \n> Doors Open 10pm\n> FREE ENTRY before 11pm with RSVP sign up\n> Dress to Impress/Dress code inforced: No baggy clothing\, tank tops\, hoodies\, beanies\, flip-flops\, or backpacks allowed!\n> 21+ Event\n__________________________________________________\nCelebrate your special occasion with us! For VIP Tables & Bottle service txt: (415) 366-0472 or email Latinsundayssf@gmail.com\n\n*Guestlist valid until 11:00pm\, Eventbrite rsvp ticket required \n* Cover charge pricing may vary for special events and holidays \n 
URL:https://golatindance.com/event/latin-sundays-at-providence-bar/2026-03-01/
LOCATION:1351 Polk St\, 1351 Polk Street\, San Francisco\, CA 94109\, San Francisco\, CA\, 94109\, US
CATEGORIES:San Francisco
ATTACH;FMTTYPE=image/png:https://golatindance.com/wp-content/uploads/2026/02/302494_image.png
END:VEVENT
BEGIN:VEVENT
DTSTART;TZID=America/Los_Angeles:20260222T210000
DTEND;TZID=America/Los_Angeles:20260223T020000
DTSTAMP:20260425T160353
CREATED:20260223T155028Z
LAST-MODIFIED:20260223T155331Z
UID:10448776-1771794000-1771812000@golatindance.com
SUMMARY:Latin Sundays at Providence Bar
DESCRIPTION:Latin Sundays at Providence Bar\, Every Sunday!\n\n\nRemix Events & Providence Bar presents: \nLATIN SUNDAYS at Providence Bar\nLatin Music Party Every Sunday at the Beautiful Providence Bar in San Francisco! Fiesta Latina Todos Los Domingos 💃🔥 \nTop Latin Hits\, Salsa\, Bachata\, Reggaeton\, Hip-Hop y mas!🥂🎶\n  \n🔉Music: @IMDJNOISE + @DJKLAN + Weekly Guest Djs \n🤟Hosts: @remixeventssf & @latinsundayssf \n🎟Free RSVP Guestlist before 10:00pm \n☎️ VIP Reservations – 415-366-0472 \n✅10pm-2am – 21+ Event \n  \n__________________________________________________\nLocation: \nProvidence Bar\n1351 Polk St\, San Francisco\, CA 94109\nTime: \n10pm-2am\n__________________________________________________\n  \n> Doors Open 10pm\n> FREE ENTRY before 11pm with RSVP sign up\n> Dress to Impress/Dress code inforced: No baggy clothing\, tank tops\, hoodies\, beanies\, flip-flops\, or backpacks allowed!\n> 21+ Event\n__________________________________________________\nCelebrate your special occasion with us! For VIP Tables & Bottle service txt: (415) 366-0472 or email Latinsundayssf@gmail.com\n\n*Guestlist valid until 11:00pm\, Eventbrite rsvp ticket required \n* Cover charge pricing may vary for special events and holidays \n 
URL:https://golatindance.com/event/latin-sundays-at-providence-bar/2026-02-22/
LOCATION:1351 Polk St\, 1351 Polk Street\, San Francisco\, CA 94109\, San Francisco\, CA\, 94109\, US
CATEGORIES:San Francisco
ATTACH;FMTTYPE=image/png:https://golatindance.com/wp-content/uploads/2026/02/302494_image.png
END:VEVENT
END:VCALENDAR