BEGIN:VCALENDAR
VERSION:2.0
PRODID:-//GO Latin Dance - ECPv6.15.18//NONSGML v1.0//EN
CALSCALE:GREGORIAN
METHOD:PUBLISH
X-WR-CALNAME:GO Latin Dance
X-ORIGINAL-URL:https://golatindance.com
X-WR-CALDESC:Events for GO Latin Dance
REFRESH-INTERVAL;VALUE=DURATION:PT1H
X-Robots-Tag:noindex
X-PUBLISHED-TTL:PT1H
BEGIN:VTIMEZONE
TZID:America/New_York
BEGIN:DAYLIGHT
TZOFFSETFROM:-0500
TZOFFSETTO:-0400
TZNAME:EDT
DTSTART:20250309T070000
END:DAYLIGHT
BEGIN:STANDARD
TZOFFSETFROM:-0400
TZOFFSETTO:-0500
TZNAME:EST
DTSTART:20251102T060000
END:STANDARD
BEGIN:DAYLIGHT
TZOFFSETFROM:-0500
TZOFFSETTO:-0400
TZNAME:EDT
DTSTART:20260308T070000
END:DAYLIGHT
BEGIN:STANDARD
TZOFFSETFROM:-0400
TZOFFSETTO:-0500
TZNAME:EST
DTSTART:20261101T060000
END:STANDARD
BEGIN:DAYLIGHT
TZOFFSETFROM:-0500
TZOFFSETTO:-0400
TZNAME:EDT
DTSTART:20270314T070000
END:DAYLIGHT
BEGIN:STANDARD
TZOFFSETFROM:-0400
TZOFFSETTO:-0500
TZNAME:EST
DTSTART:20271107T060000
END:STANDARD
END:VTIMEZONE
BEGIN:VEVENT
DTSTART;TZID=America/New_York:20260807T210000
DTEND;TZID=America/New_York:20260808T000000
DTSTAMP:20260424T111123
CREATED:20220504T164958Z
LAST-MODIFIED:20240515T142241Z
UID:10137763-1786136400-1786147200@golatindance.com
SUMMARY:Socials at Lorenz Dance Studio - Nassau
DESCRIPTION:9:00PM-12:00AM \nFriday Night \nLatin Social \nEvery Friday \nPlease check Events Page for any closures.
URL:https://golatindance.com/event/socials-at-lorenz-dance-studio-nassau/2026-08-07/
LOCATION:Lorenz Latin Dance Studio – Nassau\, 246-14 Jericho Turnpike\, Queens\, Floral Park\, NY\, 11001\, United States
CATEGORIES:New York City
END:VEVENT
BEGIN:VEVENT
DTSTART;TZID=America/New_York:20260807T210000
DTEND;TZID=America/New_York:20260808T000000
DTSTAMP:20260424T111123
CREATED:20221123T234338Z
LAST-MODIFIED:20240515T142257Z
UID:10138024-1786136400-1786147200@golatindance.com
SUMMARY:Socials at Lorenz Dance Studio - Glendale
DESCRIPTION:Every Friday 9pm-12am\n$10 for Registered Studio Student\n$15 for Non-Members \nPlease check Events Page for any closures
URL:https://golatindance.com/event/socials-at-lorenz-dance-studio-glendale/2026-08-07/
LOCATION:Lorenz Latin Dance Studio – Glendale\, 65-52 Myrtle Avenue\, Queens\, Glendale\, NY\, 11385\, United States
CATEGORIES:New York City
END:VEVENT
BEGIN:VEVENT
DTSTART;TZID=America/New_York:20260814T210000
DTEND;TZID=America/New_York:20260815T000000
DTSTAMP:20260424T111123
CREATED:20220504T164958Z
LAST-MODIFIED:20240515T142241Z
UID:10137764-1786741200-1786752000@golatindance.com
SUMMARY:Socials at Lorenz Dance Studio - Nassau
DESCRIPTION:9:00PM-12:00AM \nFriday Night \nLatin Social \nEvery Friday \nPlease check Events Page for any closures.
URL:https://golatindance.com/event/socials-at-lorenz-dance-studio-nassau/2026-08-14/
LOCATION:Lorenz Latin Dance Studio – Nassau\, 246-14 Jericho Turnpike\, Queens\, Floral Park\, NY\, 11001\, United States
CATEGORIES:New York City
END:VEVENT
BEGIN:VEVENT
DTSTART;TZID=America/New_York:20260814T210000
DTEND;TZID=America/New_York:20260815T000000
DTSTAMP:20260424T111123
CREATED:20221123T234338Z
LAST-MODIFIED:20240515T142257Z
UID:10138025-1786741200-1786752000@golatindance.com
SUMMARY:Socials at Lorenz Dance Studio - Glendale
DESCRIPTION:Every Friday 9pm-12am\n$10 for Registered Studio Student\n$15 for Non-Members \nPlease check Events Page for any closures
URL:https://golatindance.com/event/socials-at-lorenz-dance-studio-glendale/2026-08-14/
LOCATION:Lorenz Latin Dance Studio – Glendale\, 65-52 Myrtle Avenue\, Queens\, Glendale\, NY\, 11385\, United States
CATEGORIES:New York City
END:VEVENT
BEGIN:VEVENT
DTSTART;TZID=America/New_York:20260821T210000
DTEND;TZID=America/New_York:20260822T000000
DTSTAMP:20260424T111123
CREATED:20220504T164958Z
LAST-MODIFIED:20240515T142241Z
UID:10137765-1787346000-1787356800@golatindance.com
SUMMARY:Socials at Lorenz Dance Studio - Nassau
DESCRIPTION:9:00PM-12:00AM \nFriday Night \nLatin Social \nEvery Friday \nPlease check Events Page for any closures.
URL:https://golatindance.com/event/socials-at-lorenz-dance-studio-nassau/2026-08-21/
LOCATION:Lorenz Latin Dance Studio – Nassau\, 246-14 Jericho Turnpike\, Queens\, Floral Park\, NY\, 11001\, United States
CATEGORIES:New York City
END:VEVENT
BEGIN:VEVENT
DTSTART;TZID=America/New_York:20260821T210000
DTEND;TZID=America/New_York:20260822T000000
DTSTAMP:20260424T111123
CREATED:20221123T234338Z
LAST-MODIFIED:20240515T142257Z
UID:10138026-1787346000-1787356800@golatindance.com
SUMMARY:Socials at Lorenz Dance Studio - Glendale
DESCRIPTION:Every Friday 9pm-12am\n$10 for Registered Studio Student\n$15 for Non-Members \nPlease check Events Page for any closures
URL:https://golatindance.com/event/socials-at-lorenz-dance-studio-glendale/2026-08-21/
LOCATION:Lorenz Latin Dance Studio – Glendale\, 65-52 Myrtle Avenue\, Queens\, Glendale\, NY\, 11385\, United States
CATEGORIES:New York City
END:VEVENT
BEGIN:VEVENT
DTSTART;TZID=America/New_York:20260828T210000
DTEND;TZID=America/New_York:20260829T000000
DTSTAMP:20260424T111123
CREATED:20220504T164958Z
LAST-MODIFIED:20240515T142241Z
UID:10137766-1787950800-1787961600@golatindance.com
SUMMARY:Socials at Lorenz Dance Studio - Nassau
DESCRIPTION:9:00PM-12:00AM \nFriday Night \nLatin Social \nEvery Friday \nPlease check Events Page for any closures.
URL:https://golatindance.com/event/socials-at-lorenz-dance-studio-nassau/2026-08-28/
LOCATION:Lorenz Latin Dance Studio – Nassau\, 246-14 Jericho Turnpike\, Queens\, Floral Park\, NY\, 11001\, United States
CATEGORIES:New York City
END:VEVENT
BEGIN:VEVENT
DTSTART;TZID=America/New_York:20260828T210000
DTEND;TZID=America/New_York:20260829T000000
DTSTAMP:20260424T111123
CREATED:20221123T234338Z
LAST-MODIFIED:20240515T142257Z
UID:10138027-1787950800-1787961600@golatindance.com
SUMMARY:Socials at Lorenz Dance Studio - Glendale
DESCRIPTION:Every Friday 9pm-12am\n$10 for Registered Studio Student\n$15 for Non-Members \nPlease check Events Page for any closures
URL:https://golatindance.com/event/socials-at-lorenz-dance-studio-glendale/2026-08-28/
LOCATION:Lorenz Latin Dance Studio – Glendale\, 65-52 Myrtle Avenue\, Queens\, Glendale\, NY\, 11385\, United States
CATEGORIES:New York City
END:VEVENT
BEGIN:VEVENT
DTSTART;TZID=America/New_York:20260904T210000
DTEND;TZID=America/New_York:20260905T000000
DTSTAMP:20260424T111123
CREATED:20220504T164958Z
LAST-MODIFIED:20240515T142241Z
UID:10137767-1788555600-1788566400@golatindance.com
SUMMARY:Socials at Lorenz Dance Studio - Nassau
DESCRIPTION:9:00PM-12:00AM \nFriday Night \nLatin Social \nEvery Friday \nPlease check Events Page for any closures.
URL:https://golatindance.com/event/socials-at-lorenz-dance-studio-nassau/2026-09-04/
LOCATION:Lorenz Latin Dance Studio – Nassau\, 246-14 Jericho Turnpike\, Queens\, Floral Park\, NY\, 11001\, United States
CATEGORIES:New York City
END:VEVENT
BEGIN:VEVENT
DTSTART;TZID=America/New_York:20260904T210000
DTEND;TZID=America/New_York:20260905T000000
DTSTAMP:20260424T111123
CREATED:20221123T234338Z
LAST-MODIFIED:20240515T142257Z
UID:10138028-1788555600-1788566400@golatindance.com
SUMMARY:Socials at Lorenz Dance Studio - Glendale
DESCRIPTION:Every Friday 9pm-12am\n$10 for Registered Studio Student\n$15 for Non-Members \nPlease check Events Page for any closures
URL:https://golatindance.com/event/socials-at-lorenz-dance-studio-glendale/2026-09-04/
LOCATION:Lorenz Latin Dance Studio – Glendale\, 65-52 Myrtle Avenue\, Queens\, Glendale\, NY\, 11385\, United States
CATEGORIES:New York City
END:VEVENT
BEGIN:VEVENT
DTSTART;TZID=America/New_York:20260911T210000
DTEND;TZID=America/New_York:20260912T000000
DTSTAMP:20260424T111123
CREATED:20220504T164958Z
LAST-MODIFIED:20240515T142241Z
UID:10137768-1789160400-1789171200@golatindance.com
SUMMARY:Socials at Lorenz Dance Studio - Nassau
DESCRIPTION:9:00PM-12:00AM \nFriday Night \nLatin Social \nEvery Friday \nPlease check Events Page for any closures.
URL:https://golatindance.com/event/socials-at-lorenz-dance-studio-nassau/2026-09-11/
LOCATION:Lorenz Latin Dance Studio – Nassau\, 246-14 Jericho Turnpike\, Queens\, Floral Park\, NY\, 11001\, United States
CATEGORIES:New York City
END:VEVENT
BEGIN:VEVENT
DTSTART;TZID=America/New_York:20260911T210000
DTEND;TZID=America/New_York:20260912T000000
DTSTAMP:20260424T111123
CREATED:20221123T234338Z
LAST-MODIFIED:20240515T142257Z
UID:10138029-1789160400-1789171200@golatindance.com
SUMMARY:Socials at Lorenz Dance Studio - Glendale
DESCRIPTION:Every Friday 9pm-12am\n$10 for Registered Studio Student\n$15 for Non-Members \nPlease check Events Page for any closures
URL:https://golatindance.com/event/socials-at-lorenz-dance-studio-glendale/2026-09-11/
LOCATION:Lorenz Latin Dance Studio – Glendale\, 65-52 Myrtle Avenue\, Queens\, Glendale\, NY\, 11385\, United States
CATEGORIES:New York City
END:VEVENT
BEGIN:VEVENT
DTSTART;TZID=America/New_York:20260918T210000
DTEND;TZID=America/New_York:20260919T000000
DTSTAMP:20260424T111123
CREATED:20220504T164958Z
LAST-MODIFIED:20240515T142241Z
UID:10137769-1789765200-1789776000@golatindance.com
SUMMARY:Socials at Lorenz Dance Studio - Nassau
DESCRIPTION:9:00PM-12:00AM \nFriday Night \nLatin Social \nEvery Friday \nPlease check Events Page for any closures.
URL:https://golatindance.com/event/socials-at-lorenz-dance-studio-nassau/2026-09-18/
LOCATION:Lorenz Latin Dance Studio – Nassau\, 246-14 Jericho Turnpike\, Queens\, Floral Park\, NY\, 11001\, United States
CATEGORIES:New York City
END:VEVENT
BEGIN:VEVENT
DTSTART;TZID=America/New_York:20260918T210000
DTEND;TZID=America/New_York:20260919T000000
DTSTAMP:20260424T111123
CREATED:20221123T234338Z
LAST-MODIFIED:20240515T142257Z
UID:10138030-1789765200-1789776000@golatindance.com
SUMMARY:Socials at Lorenz Dance Studio - Glendale
DESCRIPTION:Every Friday 9pm-12am\n$10 for Registered Studio Student\n$15 for Non-Members \nPlease check Events Page for any closures
URL:https://golatindance.com/event/socials-at-lorenz-dance-studio-glendale/2026-09-18/
LOCATION:Lorenz Latin Dance Studio – Glendale\, 65-52 Myrtle Avenue\, Queens\, Glendale\, NY\, 11385\, United States
CATEGORIES:New York City
END:VEVENT
BEGIN:VEVENT
DTSTART;TZID=America/New_York:20260925T210000
DTEND;TZID=America/New_York:20260926T000000
DTSTAMP:20260424T111123
CREATED:20220504T164958Z
LAST-MODIFIED:20240515T142241Z
UID:10137770-1790370000-1790380800@golatindance.com
SUMMARY:Socials at Lorenz Dance Studio - Nassau
DESCRIPTION:9:00PM-12:00AM \nFriday Night \nLatin Social \nEvery Friday \nPlease check Events Page for any closures.
URL:https://golatindance.com/event/socials-at-lorenz-dance-studio-nassau/2026-09-25/
LOCATION:Lorenz Latin Dance Studio – Nassau\, 246-14 Jericho Turnpike\, Queens\, Floral Park\, NY\, 11001\, United States
CATEGORIES:New York City
END:VEVENT
BEGIN:VEVENT
DTSTART;TZID=America/New_York:20260925T210000
DTEND;TZID=America/New_York:20260926T000000
DTSTAMP:20260424T111123
CREATED:20221123T234338Z
LAST-MODIFIED:20240515T142257Z
UID:10138031-1790370000-1790380800@golatindance.com
SUMMARY:Socials at Lorenz Dance Studio - Glendale
DESCRIPTION:Every Friday 9pm-12am\n$10 for Registered Studio Student\n$15 for Non-Members \nPlease check Events Page for any closures
URL:https://golatindance.com/event/socials-at-lorenz-dance-studio-glendale/2026-09-25/
LOCATION:Lorenz Latin Dance Studio – Glendale\, 65-52 Myrtle Avenue\, Queens\, Glendale\, NY\, 11385\, United States
CATEGORIES:New York City
END:VEVENT
BEGIN:VEVENT
DTSTART;TZID=America/New_York:20261002T210000
DTEND;TZID=America/New_York:20261003T000000
DTSTAMP:20260424T111123
CREATED:20220504T164958Z
LAST-MODIFIED:20240515T142241Z
UID:10137771-1790974800-1790985600@golatindance.com
SUMMARY:Socials at Lorenz Dance Studio - Nassau
DESCRIPTION:9:00PM-12:00AM \nFriday Night \nLatin Social \nEvery Friday \nPlease check Events Page for any closures.
URL:https://golatindance.com/event/socials-at-lorenz-dance-studio-nassau/2026-10-02/
LOCATION:Lorenz Latin Dance Studio – Nassau\, 246-14 Jericho Turnpike\, Queens\, Floral Park\, NY\, 11001\, United States
CATEGORIES:New York City
END:VEVENT
BEGIN:VEVENT
DTSTART;TZID=America/New_York:20261002T210000
DTEND;TZID=America/New_York:20261003T000000
DTSTAMP:20260424T111123
CREATED:20221123T234338Z
LAST-MODIFIED:20240515T142257Z
UID:10138032-1790974800-1790985600@golatindance.com
SUMMARY:Socials at Lorenz Dance Studio - Glendale
DESCRIPTION:Every Friday 9pm-12am\n$10 for Registered Studio Student\n$15 for Non-Members \nPlease check Events Page for any closures
URL:https://golatindance.com/event/socials-at-lorenz-dance-studio-glendale/2026-10-02/
LOCATION:Lorenz Latin Dance Studio – Glendale\, 65-52 Myrtle Avenue\, Queens\, Glendale\, NY\, 11385\, United States
CATEGORIES:New York City
END:VEVENT
BEGIN:VEVENT
DTSTART;TZID=America/New_York:20261009T210000
DTEND;TZID=America/New_York:20261010T000000
DTSTAMP:20260424T111123
CREATED:20220504T164958Z
LAST-MODIFIED:20240515T142241Z
UID:10137772-1791579600-1791590400@golatindance.com
SUMMARY:Socials at Lorenz Dance Studio - Nassau
DESCRIPTION:9:00PM-12:00AM \nFriday Night \nLatin Social \nEvery Friday \nPlease check Events Page for any closures.
URL:https://golatindance.com/event/socials-at-lorenz-dance-studio-nassau/2026-10-09/
LOCATION:Lorenz Latin Dance Studio – Nassau\, 246-14 Jericho Turnpike\, Queens\, Floral Park\, NY\, 11001\, United States
CATEGORIES:New York City
END:VEVENT
BEGIN:VEVENT
DTSTART;TZID=America/New_York:20261009T210000
DTEND;TZID=America/New_York:20261010T000000
DTSTAMP:20260424T111123
CREATED:20221123T234338Z
LAST-MODIFIED:20240515T142257Z
UID:10138033-1791579600-1791590400@golatindance.com
SUMMARY:Socials at Lorenz Dance Studio - Glendale
DESCRIPTION:Every Friday 9pm-12am\n$10 for Registered Studio Student\n$15 for Non-Members \nPlease check Events Page for any closures
URL:https://golatindance.com/event/socials-at-lorenz-dance-studio-glendale/2026-10-09/
LOCATION:Lorenz Latin Dance Studio – Glendale\, 65-52 Myrtle Avenue\, Queens\, Glendale\, NY\, 11385\, United States
CATEGORIES:New York City
END:VEVENT
BEGIN:VEVENT
DTSTART;TZID=America/New_York:20261016T210000
DTEND;TZID=America/New_York:20261017T000000
DTSTAMP:20260424T111123
CREATED:20220504T164958Z
LAST-MODIFIED:20240515T142241Z
UID:10137773-1792184400-1792195200@golatindance.com
SUMMARY:Socials at Lorenz Dance Studio - Nassau
DESCRIPTION:9:00PM-12:00AM \nFriday Night \nLatin Social \nEvery Friday \nPlease check Events Page for any closures.
URL:https://golatindance.com/event/socials-at-lorenz-dance-studio-nassau/2026-10-16/
LOCATION:Lorenz Latin Dance Studio – Nassau\, 246-14 Jericho Turnpike\, Queens\, Floral Park\, NY\, 11001\, United States
CATEGORIES:New York City
END:VEVENT
BEGIN:VEVENT
DTSTART;TZID=America/New_York:20261016T210000
DTEND;TZID=America/New_York:20261017T000000
DTSTAMP:20260424T111123
CREATED:20221123T234338Z
LAST-MODIFIED:20240515T142257Z
UID:10138034-1792184400-1792195200@golatindance.com
SUMMARY:Socials at Lorenz Dance Studio - Glendale
DESCRIPTION:Every Friday 9pm-12am\n$10 for Registered Studio Student\n$15 for Non-Members \nPlease check Events Page for any closures
URL:https://golatindance.com/event/socials-at-lorenz-dance-studio-glendale/2026-10-16/
LOCATION:Lorenz Latin Dance Studio – Glendale\, 65-52 Myrtle Avenue\, Queens\, Glendale\, NY\, 11385\, United States
CATEGORIES:New York City
END:VEVENT
BEGIN:VEVENT
DTSTART;TZID=America/New_York:20261023T210000
DTEND;TZID=America/New_York:20261024T000000
DTSTAMP:20260424T111123
CREATED:20220504T164958Z
LAST-MODIFIED:20240515T142241Z
UID:10137774-1792789200-1792800000@golatindance.com
SUMMARY:Socials at Lorenz Dance Studio - Nassau
DESCRIPTION:9:00PM-12:00AM \nFriday Night \nLatin Social \nEvery Friday \nPlease check Events Page for any closures.
URL:https://golatindance.com/event/socials-at-lorenz-dance-studio-nassau/2026-10-23/
LOCATION:Lorenz Latin Dance Studio – Nassau\, 246-14 Jericho Turnpike\, Queens\, Floral Park\, NY\, 11001\, United States
CATEGORIES:New York City
END:VEVENT
BEGIN:VEVENT
DTSTART;TZID=America/New_York:20261023T210000
DTEND;TZID=America/New_York:20261024T000000
DTSTAMP:20260424T111123
CREATED:20221123T234338Z
LAST-MODIFIED:20240515T142257Z
UID:10138035-1792789200-1792800000@golatindance.com
SUMMARY:Socials at Lorenz Dance Studio - Glendale
DESCRIPTION:Every Friday 9pm-12am\n$10 for Registered Studio Student\n$15 for Non-Members \nPlease check Events Page for any closures
URL:https://golatindance.com/event/socials-at-lorenz-dance-studio-glendale/2026-10-23/
LOCATION:Lorenz Latin Dance Studio – Glendale\, 65-52 Myrtle Avenue\, Queens\, Glendale\, NY\, 11385\, United States
CATEGORIES:New York City
END:VEVENT
BEGIN:VEVENT
DTSTART;TZID=America/New_York:20261030T210000
DTEND;TZID=America/New_York:20261031T000000
DTSTAMP:20260424T111123
CREATED:20220504T164958Z
LAST-MODIFIED:20240515T142241Z
UID:10137775-1793394000-1793404800@golatindance.com
SUMMARY:Socials at Lorenz Dance Studio - Nassau
DESCRIPTION:9:00PM-12:00AM \nFriday Night \nLatin Social \nEvery Friday \nPlease check Events Page for any closures.
URL:https://golatindance.com/event/socials-at-lorenz-dance-studio-nassau/2026-10-30/
LOCATION:Lorenz Latin Dance Studio – Nassau\, 246-14 Jericho Turnpike\, Queens\, Floral Park\, NY\, 11001\, United States
CATEGORIES:New York City
END:VEVENT
BEGIN:VEVENT
DTSTART;TZID=America/New_York:20261030T210000
DTEND;TZID=America/New_York:20261031T000000
DTSTAMP:20260424T111123
CREATED:20221123T234338Z
LAST-MODIFIED:20240515T142257Z
UID:10138036-1793394000-1793404800@golatindance.com
SUMMARY:Socials at Lorenz Dance Studio - Glendale
DESCRIPTION:Every Friday 9pm-12am\n$10 for Registered Studio Student\n$15 for Non-Members \nPlease check Events Page for any closures
URL:https://golatindance.com/event/socials-at-lorenz-dance-studio-glendale/2026-10-30/
LOCATION:Lorenz Latin Dance Studio – Glendale\, 65-52 Myrtle Avenue\, Queens\, Glendale\, NY\, 11385\, United States
CATEGORIES:New York City
END:VEVENT
BEGIN:VEVENT
DTSTART;TZID=America/New_York:20261106T210000
DTEND;TZID=America/New_York:20261107T000000
DTSTAMP:20260424T111123
CREATED:20220504T164958Z
LAST-MODIFIED:20240515T142241Z
UID:10137776-1793998800-1794009600@golatindance.com
SUMMARY:Socials at Lorenz Dance Studio - Nassau
DESCRIPTION:9:00PM-12:00AM \nFriday Night \nLatin Social \nEvery Friday \nPlease check Events Page for any closures.
URL:https://golatindance.com/event/socials-at-lorenz-dance-studio-nassau/2026-11-06/
LOCATION:Lorenz Latin Dance Studio – Nassau\, 246-14 Jericho Turnpike\, Queens\, Floral Park\, NY\, 11001\, United States
CATEGORIES:New York City
END:VEVENT
BEGIN:VEVENT
DTSTART;TZID=America/New_York:20261106T210000
DTEND;TZID=America/New_York:20261107T000000
DTSTAMP:20260424T111123
CREATED:20221123T234338Z
LAST-MODIFIED:20240515T142257Z
UID:10138037-1793998800-1794009600@golatindance.com
SUMMARY:Socials at Lorenz Dance Studio - Glendale
DESCRIPTION:Every Friday 9pm-12am\n$10 for Registered Studio Student\n$15 for Non-Members \nPlease check Events Page for any closures
URL:https://golatindance.com/event/socials-at-lorenz-dance-studio-glendale/2026-11-06/
LOCATION:Lorenz Latin Dance Studio – Glendale\, 65-52 Myrtle Avenue\, Queens\, Glendale\, NY\, 11385\, United States
CATEGORIES:New York City
END:VEVENT
BEGIN:VEVENT
DTSTART;TZID=America/New_York:20261113T210000
DTEND;TZID=America/New_York:20261114T000000
DTSTAMP:20260424T111123
CREATED:20220504T164958Z
LAST-MODIFIED:20240515T142241Z
UID:10137777-1794603600-1794614400@golatindance.com
SUMMARY:Socials at Lorenz Dance Studio - Nassau
DESCRIPTION:9:00PM-12:00AM \nFriday Night \nLatin Social \nEvery Friday \nPlease check Events Page for any closures.
URL:https://golatindance.com/event/socials-at-lorenz-dance-studio-nassau/2026-11-13/
LOCATION:Lorenz Latin Dance Studio – Nassau\, 246-14 Jericho Turnpike\, Queens\, Floral Park\, NY\, 11001\, United States
CATEGORIES:New York City
END:VEVENT
BEGIN:VEVENT
DTSTART;TZID=America/New_York:20261113T210000
DTEND;TZID=America/New_York:20261114T000000
DTSTAMP:20260424T111123
CREATED:20221123T234338Z
LAST-MODIFIED:20240515T142257Z
UID:10138038-1794603600-1794614400@golatindance.com
SUMMARY:Socials at Lorenz Dance Studio - Glendale
DESCRIPTION:Every Friday 9pm-12am\n$10 for Registered Studio Student\n$15 for Non-Members \nPlease check Events Page for any closures
URL:https://golatindance.com/event/socials-at-lorenz-dance-studio-glendale/2026-11-13/
LOCATION:Lorenz Latin Dance Studio – Glendale\, 65-52 Myrtle Avenue\, Queens\, Glendale\, NY\, 11385\, United States
CATEGORIES:New York City
END:VEVENT
END:VCALENDAR