BEGIN:VCALENDAR
VERSION:2.0
PRODID:-//GO Latin Dance - ECPv6.15.18//NONSGML v1.0//EN
CALSCALE:GREGORIAN
METHOD:PUBLISH
X-ORIGINAL-URL:https://golatindance.com
X-WR-CALDESC:Events for GO Latin Dance
REFRESH-INTERVAL;VALUE=DURATION:PT1H
X-Robots-Tag:noindex
X-PUBLISHED-TTL:PT1H
BEGIN:VTIMEZONE
TZID:America/New_York
BEGIN:DAYLIGHT
TZOFFSETFROM:-0500
TZOFFSETTO:-0400
TZNAME:EDT
DTSTART:20230312T070000
END:DAYLIGHT
BEGIN:STANDARD
TZOFFSETFROM:-0400
TZOFFSETTO:-0500
TZNAME:EST
DTSTART:20231105T060000
END:STANDARD
BEGIN:DAYLIGHT
TZOFFSETFROM:-0500
TZOFFSETTO:-0400
TZNAME:EDT
DTSTART:20240310T070000
END:DAYLIGHT
BEGIN:STANDARD
TZOFFSETFROM:-0400
TZOFFSETTO:-0500
TZNAME:EST
DTSTART:20241103T060000
END:STANDARD
BEGIN:DAYLIGHT
TZOFFSETFROM:-0500
TZOFFSETTO:-0400
TZNAME:EDT
DTSTART:20250309T070000
END:DAYLIGHT
BEGIN:STANDARD
TZOFFSETFROM:-0400
TZOFFSETTO:-0500
TZNAME:EST
DTSTART:20251102T060000
END:STANDARD
END:VTIMEZONE
BEGIN:VEVENT
DTSTART;TZID=America/New_York:20240928T210000
DTEND;TZID=America/New_York:20240929T040000
DTSTAMP:20260420T221944
CREATED:20221108T001929Z
LAST-MODIFIED:20250630T152211Z
UID:10068108-1727557200-1727582400@golatindance.com
SUMMARY:Latin Fridays and Saturdays at LV Club
DESCRIPTION:Latin Fridays and Saturdays at LV Club. \nBachata\, Salsa\, Cumbia\, Hip-Hop\, Reggaeton\, Techno… \nPeriodically has live Salsa bands. Visit the LV Club Facebook page for details.
URL:https://golatindance.com/event/latin-fridays-and-saturdays-at-lv-club/2024-09-28/
LOCATION:Las Vegas Night Club\, 3702 W Armitage Rd\, Chicago\, IL\, 60647\, United States
CATEGORIES:Chicago
GEO:41.9175016;-87.7194551
X-APPLE-STRUCTURED-LOCATION;VALUE=URI;X-ADDRESS=Las Vegas Night Club 3702 W Armitage Rd Chicago IL 60647 United States;X-APPLE-RADIUS=500;X-TITLE=3702 W Armitage Rd:geo:-87.7194551,41.9175016
END:VEVENT
BEGIN:VEVENT
DTSTART;TZID=America/New_York:20240927T210000
DTEND;TZID=America/New_York:20240928T040000
DTSTAMP:20260420T221944
CREATED:20221108T001929Z
LAST-MODIFIED:20250630T152211Z
UID:10068107-1727470800-1727496000@golatindance.com
SUMMARY:Latin Fridays and Saturdays at LV Club
DESCRIPTION:Latin Fridays and Saturdays at LV Club. \nBachata\, Salsa\, Cumbia\, Hip-Hop\, Reggaeton\, Techno… \nPeriodically has live Salsa bands. Visit the LV Club Facebook page for details.
URL:https://golatindance.com/event/latin-fridays-and-saturdays-at-lv-club/2024-09-27/
LOCATION:Las Vegas Night Club\, 3702 W Armitage Rd\, Chicago\, IL\, 60647\, United States
CATEGORIES:Chicago
GEO:41.9175016;-87.7194551
X-APPLE-STRUCTURED-LOCATION;VALUE=URI;X-ADDRESS=Las Vegas Night Club 3702 W Armitage Rd Chicago IL 60647 United States;X-APPLE-RADIUS=500;X-TITLE=3702 W Armitage Rd:geo:-87.7194551,41.9175016
END:VEVENT
BEGIN:VEVENT
DTSTART;TZID=America/New_York:20240921T210000
DTEND;TZID=America/New_York:20240922T040000
DTSTAMP:20260420T221944
CREATED:20221108T001929Z
LAST-MODIFIED:20250630T152211Z
UID:10068106-1726952400-1726977600@golatindance.com
SUMMARY:Latin Fridays and Saturdays at LV Club
DESCRIPTION:Latin Fridays and Saturdays at LV Club. \nBachata\, Salsa\, Cumbia\, Hip-Hop\, Reggaeton\, Techno… \nPeriodically has live Salsa bands. Visit the LV Club Facebook page for details.
URL:https://golatindance.com/event/latin-fridays-and-saturdays-at-lv-club/2024-09-21/
LOCATION:Las Vegas Night Club\, 3702 W Armitage Rd\, Chicago\, IL\, 60647\, United States
CATEGORIES:Chicago
GEO:41.9175016;-87.7194551
X-APPLE-STRUCTURED-LOCATION;VALUE=URI;X-ADDRESS=Las Vegas Night Club 3702 W Armitage Rd Chicago IL 60647 United States;X-APPLE-RADIUS=500;X-TITLE=3702 W Armitage Rd:geo:-87.7194551,41.9175016
END:VEVENT
BEGIN:VEVENT
DTSTART;TZID=America/New_York:20240920T210000
DTEND;TZID=America/New_York:20240921T040000
DTSTAMP:20260420T221944
CREATED:20221108T001929Z
LAST-MODIFIED:20250630T152211Z
UID:10068105-1726866000-1726891200@golatindance.com
SUMMARY:Latin Fridays and Saturdays at LV Club
DESCRIPTION:Latin Fridays and Saturdays at LV Club. \nBachata\, Salsa\, Cumbia\, Hip-Hop\, Reggaeton\, Techno… \nPeriodically has live Salsa bands. Visit the LV Club Facebook page for details.
URL:https://golatindance.com/event/latin-fridays-and-saturdays-at-lv-club/2024-09-20/
LOCATION:Las Vegas Night Club\, 3702 W Armitage Rd\, Chicago\, IL\, 60647\, United States
CATEGORIES:Chicago
GEO:41.9175016;-87.7194551
X-APPLE-STRUCTURED-LOCATION;VALUE=URI;X-ADDRESS=Las Vegas Night Club 3702 W Armitage Rd Chicago IL 60647 United States;X-APPLE-RADIUS=500;X-TITLE=3702 W Armitage Rd:geo:-87.7194551,41.9175016
END:VEVENT
BEGIN:VEVENT
DTSTART;TZID=America/New_York:20240914T210000
DTEND;TZID=America/New_York:20240915T040000
DTSTAMP:20260420T221944
CREATED:20221108T001929Z
LAST-MODIFIED:20250630T152211Z
UID:10068104-1726347600-1726372800@golatindance.com
SUMMARY:Latin Fridays and Saturdays at LV Club
DESCRIPTION:Latin Fridays and Saturdays at LV Club. \nBachata\, Salsa\, Cumbia\, Hip-Hop\, Reggaeton\, Techno… \nPeriodically has live Salsa bands. Visit the LV Club Facebook page for details.
URL:https://golatindance.com/event/latin-fridays-and-saturdays-at-lv-club/2024-09-14/
LOCATION:Las Vegas Night Club\, 3702 W Armitage Rd\, Chicago\, IL\, 60647\, United States
CATEGORIES:Chicago
GEO:41.9175016;-87.7194551
X-APPLE-STRUCTURED-LOCATION;VALUE=URI;X-ADDRESS=Las Vegas Night Club 3702 W Armitage Rd Chicago IL 60647 United States;X-APPLE-RADIUS=500;X-TITLE=3702 W Armitage Rd:geo:-87.7194551,41.9175016
END:VEVENT
BEGIN:VEVENT
DTSTART;TZID=America/New_York:20240913T210000
DTEND;TZID=America/New_York:20240914T040000
DTSTAMP:20260420T221944
CREATED:20221108T001929Z
LAST-MODIFIED:20250630T152211Z
UID:10068103-1726261200-1726286400@golatindance.com
SUMMARY:Latin Fridays and Saturdays at LV Club
DESCRIPTION:Latin Fridays and Saturdays at LV Club. \nBachata\, Salsa\, Cumbia\, Hip-Hop\, Reggaeton\, Techno… \nPeriodically has live Salsa bands. Visit the LV Club Facebook page for details.
URL:https://golatindance.com/event/latin-fridays-and-saturdays-at-lv-club/2024-09-13/
LOCATION:Las Vegas Night Club\, 3702 W Armitage Rd\, Chicago\, IL\, 60647\, United States
CATEGORIES:Chicago
GEO:41.9175016;-87.7194551
X-APPLE-STRUCTURED-LOCATION;VALUE=URI;X-ADDRESS=Las Vegas Night Club 3702 W Armitage Rd Chicago IL 60647 United States;X-APPLE-RADIUS=500;X-TITLE=3702 W Armitage Rd:geo:-87.7194551,41.9175016
END:VEVENT
BEGIN:VEVENT
DTSTART;TZID=America/New_York:20240907T210000
DTEND;TZID=America/New_York:20240908T040000
DTSTAMP:20260420T221944
CREATED:20221108T001929Z
LAST-MODIFIED:20250630T152211Z
UID:10068102-1725742800-1725768000@golatindance.com
SUMMARY:Latin Fridays and Saturdays at LV Club
DESCRIPTION:Latin Fridays and Saturdays at LV Club. \nBachata\, Salsa\, Cumbia\, Hip-Hop\, Reggaeton\, Techno… \nPeriodically has live Salsa bands. Visit the LV Club Facebook page for details.
URL:https://golatindance.com/event/latin-fridays-and-saturdays-at-lv-club/2024-09-07/
LOCATION:Las Vegas Night Club\, 3702 W Armitage Rd\, Chicago\, IL\, 60647\, United States
CATEGORIES:Chicago
GEO:41.9175016;-87.7194551
X-APPLE-STRUCTURED-LOCATION;VALUE=URI;X-ADDRESS=Las Vegas Night Club 3702 W Armitage Rd Chicago IL 60647 United States;X-APPLE-RADIUS=500;X-TITLE=3702 W Armitage Rd:geo:-87.7194551,41.9175016
END:VEVENT
BEGIN:VEVENT
DTSTART;TZID=America/New_York:20240906T210000
DTEND;TZID=America/New_York:20240907T040000
DTSTAMP:20260420T221944
CREATED:20221108T001929Z
LAST-MODIFIED:20250630T152211Z
UID:10068101-1725656400-1725681600@golatindance.com
SUMMARY:Latin Fridays and Saturdays at LV Club
DESCRIPTION:Latin Fridays and Saturdays at LV Club. \nBachata\, Salsa\, Cumbia\, Hip-Hop\, Reggaeton\, Techno… \nPeriodically has live Salsa bands. Visit the LV Club Facebook page for details.
URL:https://golatindance.com/event/latin-fridays-and-saturdays-at-lv-club/2024-09-06/
LOCATION:Las Vegas Night Club\, 3702 W Armitage Rd\, Chicago\, IL\, 60647\, United States
CATEGORIES:Chicago
GEO:41.9175016;-87.7194551
X-APPLE-STRUCTURED-LOCATION;VALUE=URI;X-ADDRESS=Las Vegas Night Club 3702 W Armitage Rd Chicago IL 60647 United States;X-APPLE-RADIUS=500;X-TITLE=3702 W Armitage Rd:geo:-87.7194551,41.9175016
END:VEVENT
BEGIN:VEVENT
DTSTART;TZID=America/New_York:20240831T210000
DTEND;TZID=America/New_York:20240901T040000
DTSTAMP:20260420T221944
CREATED:20221108T001929Z
LAST-MODIFIED:20250630T152211Z
UID:10068100-1725138000-1725163200@golatindance.com
SUMMARY:Latin Fridays and Saturdays at LV Club
DESCRIPTION:Latin Fridays and Saturdays at LV Club. \nBachata\, Salsa\, Cumbia\, Hip-Hop\, Reggaeton\, Techno… \nPeriodically has live Salsa bands. Visit the LV Club Facebook page for details.
URL:https://golatindance.com/event/latin-fridays-and-saturdays-at-lv-club/2024-08-31/
LOCATION:Las Vegas Night Club\, 3702 W Armitage Rd\, Chicago\, IL\, 60647\, United States
CATEGORIES:Chicago
GEO:41.9175016;-87.7194551
X-APPLE-STRUCTURED-LOCATION;VALUE=URI;X-ADDRESS=Las Vegas Night Club 3702 W Armitage Rd Chicago IL 60647 United States;X-APPLE-RADIUS=500;X-TITLE=3702 W Armitage Rd:geo:-87.7194551,41.9175016
END:VEVENT
BEGIN:VEVENT
DTSTART;TZID=America/New_York:20240830T210000
DTEND;TZID=America/New_York:20240831T040000
DTSTAMP:20260420T221944
CREATED:20221108T001929Z
LAST-MODIFIED:20250630T152211Z
UID:10068099-1725051600-1725076800@golatindance.com
SUMMARY:Latin Fridays and Saturdays at LV Club
DESCRIPTION:Latin Fridays and Saturdays at LV Club. \nBachata\, Salsa\, Cumbia\, Hip-Hop\, Reggaeton\, Techno… \nPeriodically has live Salsa bands. Visit the LV Club Facebook page for details.
URL:https://golatindance.com/event/latin-fridays-and-saturdays-at-lv-club/2024-08-30/
LOCATION:Las Vegas Night Club\, 3702 W Armitage Rd\, Chicago\, IL\, 60647\, United States
CATEGORIES:Chicago
GEO:41.9175016;-87.7194551
X-APPLE-STRUCTURED-LOCATION;VALUE=URI;X-ADDRESS=Las Vegas Night Club 3702 W Armitage Rd Chicago IL 60647 United States;X-APPLE-RADIUS=500;X-TITLE=3702 W Armitage Rd:geo:-87.7194551,41.9175016
END:VEVENT
BEGIN:VEVENT
DTSTART;TZID=America/New_York:20240824T210000
DTEND;TZID=America/New_York:20240825T040000
DTSTAMP:20260420T221944
CREATED:20221108T001929Z
LAST-MODIFIED:20250630T152211Z
UID:10068098-1724533200-1724558400@golatindance.com
SUMMARY:Latin Fridays and Saturdays at LV Club
DESCRIPTION:Latin Fridays and Saturdays at LV Club. \nBachata\, Salsa\, Cumbia\, Hip-Hop\, Reggaeton\, Techno… \nPeriodically has live Salsa bands. Visit the LV Club Facebook page for details.
URL:https://golatindance.com/event/latin-fridays-and-saturdays-at-lv-club/2024-08-24/
LOCATION:Las Vegas Night Club\, 3702 W Armitage Rd\, Chicago\, IL\, 60647\, United States
CATEGORIES:Chicago
GEO:41.9175016;-87.7194551
X-APPLE-STRUCTURED-LOCATION;VALUE=URI;X-ADDRESS=Las Vegas Night Club 3702 W Armitage Rd Chicago IL 60647 United States;X-APPLE-RADIUS=500;X-TITLE=3702 W Armitage Rd:geo:-87.7194551,41.9175016
END:VEVENT
BEGIN:VEVENT
DTSTART;TZID=America/New_York:20240823T210000
DTEND;TZID=America/New_York:20240824T040000
DTSTAMP:20260420T221944
CREATED:20221108T001929Z
LAST-MODIFIED:20250630T152211Z
UID:10068097-1724446800-1724472000@golatindance.com
SUMMARY:Latin Fridays and Saturdays at LV Club
DESCRIPTION:Latin Fridays and Saturdays at LV Club. \nBachata\, Salsa\, Cumbia\, Hip-Hop\, Reggaeton\, Techno… \nPeriodically has live Salsa bands. Visit the LV Club Facebook page for details.
URL:https://golatindance.com/event/latin-fridays-and-saturdays-at-lv-club/2024-08-23/
LOCATION:Las Vegas Night Club\, 3702 W Armitage Rd\, Chicago\, IL\, 60647\, United States
CATEGORIES:Chicago
GEO:41.9175016;-87.7194551
X-APPLE-STRUCTURED-LOCATION;VALUE=URI;X-ADDRESS=Las Vegas Night Club 3702 W Armitage Rd Chicago IL 60647 United States;X-APPLE-RADIUS=500;X-TITLE=3702 W Armitage Rd:geo:-87.7194551,41.9175016
END:VEVENT
BEGIN:VEVENT
DTSTART;TZID=America/New_York:20240817T210000
DTEND;TZID=America/New_York:20240818T040000
DTSTAMP:20260420T221944
CREATED:20221108T001929Z
LAST-MODIFIED:20250630T152211Z
UID:10068096-1723928400-1723953600@golatindance.com
SUMMARY:Latin Fridays and Saturdays at LV Club
DESCRIPTION:Latin Fridays and Saturdays at LV Club. \nBachata\, Salsa\, Cumbia\, Hip-Hop\, Reggaeton\, Techno… \nPeriodically has live Salsa bands. Visit the LV Club Facebook page for details.
URL:https://golatindance.com/event/latin-fridays-and-saturdays-at-lv-club/2024-08-17/
LOCATION:Las Vegas Night Club\, 3702 W Armitage Rd\, Chicago\, IL\, 60647\, United States
CATEGORIES:Chicago
GEO:41.9175016;-87.7194551
X-APPLE-STRUCTURED-LOCATION;VALUE=URI;X-ADDRESS=Las Vegas Night Club 3702 W Armitage Rd Chicago IL 60647 United States;X-APPLE-RADIUS=500;X-TITLE=3702 W Armitage Rd:geo:-87.7194551,41.9175016
END:VEVENT
BEGIN:VEVENT
DTSTART;TZID=America/New_York:20240816T210000
DTEND;TZID=America/New_York:20240817T040000
DTSTAMP:20260420T221944
CREATED:20221108T001929Z
LAST-MODIFIED:20250630T152211Z
UID:10068095-1723842000-1723867200@golatindance.com
SUMMARY:Latin Fridays and Saturdays at LV Club
DESCRIPTION:Latin Fridays and Saturdays at LV Club. \nBachata\, Salsa\, Cumbia\, Hip-Hop\, Reggaeton\, Techno… \nPeriodically has live Salsa bands. Visit the LV Club Facebook page for details.
URL:https://golatindance.com/event/latin-fridays-and-saturdays-at-lv-club/2024-08-16/
LOCATION:Las Vegas Night Club\, 3702 W Armitage Rd\, Chicago\, IL\, 60647\, United States
CATEGORIES:Chicago
GEO:41.9175016;-87.7194551
X-APPLE-STRUCTURED-LOCATION;VALUE=URI;X-ADDRESS=Las Vegas Night Club 3702 W Armitage Rd Chicago IL 60647 United States;X-APPLE-RADIUS=500;X-TITLE=3702 W Armitage Rd:geo:-87.7194551,41.9175016
END:VEVENT
BEGIN:VEVENT
DTSTART;TZID=America/New_York:20240810T210000
DTEND;TZID=America/New_York:20240811T040000
DTSTAMP:20260420T221944
CREATED:20221108T001929Z
LAST-MODIFIED:20250630T152211Z
UID:10068094-1723323600-1723348800@golatindance.com
SUMMARY:Latin Fridays and Saturdays at LV Club
DESCRIPTION:Latin Fridays and Saturdays at LV Club. \nBachata\, Salsa\, Cumbia\, Hip-Hop\, Reggaeton\, Techno… \nPeriodically has live Salsa bands. Visit the LV Club Facebook page for details.
URL:https://golatindance.com/event/latin-fridays-and-saturdays-at-lv-club/2024-08-10/
LOCATION:Las Vegas Night Club\, 3702 W Armitage Rd\, Chicago\, IL\, 60647\, United States
CATEGORIES:Chicago
GEO:41.9175016;-87.7194551
X-APPLE-STRUCTURED-LOCATION;VALUE=URI;X-ADDRESS=Las Vegas Night Club 3702 W Armitage Rd Chicago IL 60647 United States;X-APPLE-RADIUS=500;X-TITLE=3702 W Armitage Rd:geo:-87.7194551,41.9175016
END:VEVENT
BEGIN:VEVENT
DTSTART;TZID=America/New_York:20240809T210000
DTEND;TZID=America/New_York:20240810T040000
DTSTAMP:20260420T221944
CREATED:20221108T001929Z
LAST-MODIFIED:20250630T152211Z
UID:10068093-1723237200-1723262400@golatindance.com
SUMMARY:Latin Fridays and Saturdays at LV Club
DESCRIPTION:Latin Fridays and Saturdays at LV Club. \nBachata\, Salsa\, Cumbia\, Hip-Hop\, Reggaeton\, Techno… \nPeriodically has live Salsa bands. Visit the LV Club Facebook page for details.
URL:https://golatindance.com/event/latin-fridays-and-saturdays-at-lv-club/2024-08-09/
LOCATION:Las Vegas Night Club\, 3702 W Armitage Rd\, Chicago\, IL\, 60647\, United States
CATEGORIES:Chicago
GEO:41.9175016;-87.7194551
X-APPLE-STRUCTURED-LOCATION;VALUE=URI;X-ADDRESS=Las Vegas Night Club 3702 W Armitage Rd Chicago IL 60647 United States;X-APPLE-RADIUS=500;X-TITLE=3702 W Armitage Rd:geo:-87.7194551,41.9175016
END:VEVENT
BEGIN:VEVENT
DTSTART;TZID=America/New_York:20240803T210000
DTEND;TZID=America/New_York:20240804T040000
DTSTAMP:20260420T221944
CREATED:20221108T001929Z
LAST-MODIFIED:20250630T152211Z
UID:10068092-1722718800-1722744000@golatindance.com
SUMMARY:Latin Fridays and Saturdays at LV Club
DESCRIPTION:Latin Fridays and Saturdays at LV Club. \nBachata\, Salsa\, Cumbia\, Hip-Hop\, Reggaeton\, Techno… \nPeriodically has live Salsa bands. Visit the LV Club Facebook page for details.
URL:https://golatindance.com/event/latin-fridays-and-saturdays-at-lv-club/2024-08-03/
LOCATION:Las Vegas Night Club\, 3702 W Armitage Rd\, Chicago\, IL\, 60647\, United States
CATEGORIES:Chicago
GEO:41.9175016;-87.7194551
X-APPLE-STRUCTURED-LOCATION;VALUE=URI;X-ADDRESS=Las Vegas Night Club 3702 W Armitage Rd Chicago IL 60647 United States;X-APPLE-RADIUS=500;X-TITLE=3702 W Armitage Rd:geo:-87.7194551,41.9175016
END:VEVENT
BEGIN:VEVENT
DTSTART;TZID=America/New_York:20240802T210000
DTEND;TZID=America/New_York:20240803T040000
DTSTAMP:20260420T221944
CREATED:20221108T001929Z
LAST-MODIFIED:20250630T152211Z
UID:10068091-1722632400-1722657600@golatindance.com
SUMMARY:Latin Fridays and Saturdays at LV Club
DESCRIPTION:Latin Fridays and Saturdays at LV Club. \nBachata\, Salsa\, Cumbia\, Hip-Hop\, Reggaeton\, Techno… \nPeriodically has live Salsa bands. Visit the LV Club Facebook page for details.
URL:https://golatindance.com/event/latin-fridays-and-saturdays-at-lv-club/2024-08-02/
LOCATION:Las Vegas Night Club\, 3702 W Armitage Rd\, Chicago\, IL\, 60647\, United States
CATEGORIES:Chicago
GEO:41.9175016;-87.7194551
X-APPLE-STRUCTURED-LOCATION;VALUE=URI;X-ADDRESS=Las Vegas Night Club 3702 W Armitage Rd Chicago IL 60647 United States;X-APPLE-RADIUS=500;X-TITLE=3702 W Armitage Rd:geo:-87.7194551,41.9175016
END:VEVENT
BEGIN:VEVENT
DTSTART;TZID=America/New_York:20240727T210000
DTEND;TZID=America/New_York:20240728T040000
DTSTAMP:20260420T221944
CREATED:20221108T001929Z
LAST-MODIFIED:20250630T152211Z
UID:10068090-1722114000-1722139200@golatindance.com
SUMMARY:Latin Fridays and Saturdays at LV Club
DESCRIPTION:Latin Fridays and Saturdays at LV Club. \nBachata\, Salsa\, Cumbia\, Hip-Hop\, Reggaeton\, Techno… \nPeriodically has live Salsa bands. Visit the LV Club Facebook page for details.
URL:https://golatindance.com/event/latin-fridays-and-saturdays-at-lv-club/2024-07-27/
LOCATION:Las Vegas Night Club\, 3702 W Armitage Rd\, Chicago\, IL\, 60647\, United States
CATEGORIES:Chicago
GEO:41.9175016;-87.7194551
X-APPLE-STRUCTURED-LOCATION;VALUE=URI;X-ADDRESS=Las Vegas Night Club 3702 W Armitage Rd Chicago IL 60647 United States;X-APPLE-RADIUS=500;X-TITLE=3702 W Armitage Rd:geo:-87.7194551,41.9175016
END:VEVENT
BEGIN:VEVENT
DTSTART;TZID=America/New_York:20240726T210000
DTEND;TZID=America/New_York:20240727T040000
DTSTAMP:20260420T221944
CREATED:20221108T001929Z
LAST-MODIFIED:20250630T152211Z
UID:10068089-1722027600-1722052800@golatindance.com
SUMMARY:Latin Fridays and Saturdays at LV Club
DESCRIPTION:Latin Fridays and Saturdays at LV Club. \nBachata\, Salsa\, Cumbia\, Hip-Hop\, Reggaeton\, Techno… \nPeriodically has live Salsa bands. Visit the LV Club Facebook page for details.
URL:https://golatindance.com/event/latin-fridays-and-saturdays-at-lv-club/2024-07-26/
LOCATION:Las Vegas Night Club\, 3702 W Armitage Rd\, Chicago\, IL\, 60647\, United States
CATEGORIES:Chicago
GEO:41.9175016;-87.7194551
X-APPLE-STRUCTURED-LOCATION;VALUE=URI;X-ADDRESS=Las Vegas Night Club 3702 W Armitage Rd Chicago IL 60647 United States;X-APPLE-RADIUS=500;X-TITLE=3702 W Armitage Rd:geo:-87.7194551,41.9175016
END:VEVENT
BEGIN:VEVENT
DTSTART;TZID=America/New_York:20240720T210000
DTEND;TZID=America/New_York:20240721T040000
DTSTAMP:20260420T221944
CREATED:20221108T001929Z
LAST-MODIFIED:20250630T152211Z
UID:10068088-1721509200-1721534400@golatindance.com
SUMMARY:Latin Fridays and Saturdays at LV Club
DESCRIPTION:Latin Fridays and Saturdays at LV Club. \nBachata\, Salsa\, Cumbia\, Hip-Hop\, Reggaeton\, Techno… \nPeriodically has live Salsa bands. Visit the LV Club Facebook page for details.
URL:https://golatindance.com/event/latin-fridays-and-saturdays-at-lv-club/2024-07-20/
LOCATION:Las Vegas Night Club\, 3702 W Armitage Rd\, Chicago\, IL\, 60647\, United States
CATEGORIES:Chicago
GEO:41.9175016;-87.7194551
X-APPLE-STRUCTURED-LOCATION;VALUE=URI;X-ADDRESS=Las Vegas Night Club 3702 W Armitage Rd Chicago IL 60647 United States;X-APPLE-RADIUS=500;X-TITLE=3702 W Armitage Rd:geo:-87.7194551,41.9175016
END:VEVENT
BEGIN:VEVENT
DTSTART;TZID=America/New_York:20240719T210000
DTEND;TZID=America/New_York:20240720T040000
DTSTAMP:20260420T221944
CREATED:20221108T001929Z
LAST-MODIFIED:20250630T152211Z
UID:10068087-1721422800-1721448000@golatindance.com
SUMMARY:Latin Fridays and Saturdays at LV Club
DESCRIPTION:Latin Fridays and Saturdays at LV Club. \nBachata\, Salsa\, Cumbia\, Hip-Hop\, Reggaeton\, Techno… \nPeriodically has live Salsa bands. Visit the LV Club Facebook page for details.
URL:https://golatindance.com/event/latin-fridays-and-saturdays-at-lv-club/2024-07-19/
LOCATION:Las Vegas Night Club\, 3702 W Armitage Rd\, Chicago\, IL\, 60647\, United States
CATEGORIES:Chicago
GEO:41.9175016;-87.7194551
X-APPLE-STRUCTURED-LOCATION;VALUE=URI;X-ADDRESS=Las Vegas Night Club 3702 W Armitage Rd Chicago IL 60647 United States;X-APPLE-RADIUS=500;X-TITLE=3702 W Armitage Rd:geo:-87.7194551,41.9175016
END:VEVENT
BEGIN:VEVENT
DTSTART;TZID=America/New_York:20240713T210000
DTEND;TZID=America/New_York:20240714T040000
DTSTAMP:20260420T221944
CREATED:20221108T001929Z
LAST-MODIFIED:20250630T152211Z
UID:10068086-1720904400-1720929600@golatindance.com
SUMMARY:Latin Fridays and Saturdays at LV Club
DESCRIPTION:Latin Fridays and Saturdays at LV Club. \nBachata\, Salsa\, Cumbia\, Hip-Hop\, Reggaeton\, Techno… \nPeriodically has live Salsa bands. Visit the LV Club Facebook page for details.
URL:https://golatindance.com/event/latin-fridays-and-saturdays-at-lv-club/2024-07-13/
LOCATION:Las Vegas Night Club\, 3702 W Armitage Rd\, Chicago\, IL\, 60647\, United States
CATEGORIES:Chicago
GEO:41.9175016;-87.7194551
X-APPLE-STRUCTURED-LOCATION;VALUE=URI;X-ADDRESS=Las Vegas Night Club 3702 W Armitage Rd Chicago IL 60647 United States;X-APPLE-RADIUS=500;X-TITLE=3702 W Armitage Rd:geo:-87.7194551,41.9175016
END:VEVENT
BEGIN:VEVENT
DTSTART;TZID=America/New_York:20240712T210000
DTEND;TZID=America/New_York:20240713T040000
DTSTAMP:20260420T221944
CREATED:20221108T001929Z
LAST-MODIFIED:20250630T152211Z
UID:10068085-1720818000-1720843200@golatindance.com
SUMMARY:Latin Fridays and Saturdays at LV Club
DESCRIPTION:Latin Fridays and Saturdays at LV Club. \nBachata\, Salsa\, Cumbia\, Hip-Hop\, Reggaeton\, Techno… \nPeriodically has live Salsa bands. Visit the LV Club Facebook page for details.
URL:https://golatindance.com/event/latin-fridays-and-saturdays-at-lv-club/2024-07-12/
LOCATION:Las Vegas Night Club\, 3702 W Armitage Rd\, Chicago\, IL\, 60647\, United States
CATEGORIES:Chicago
GEO:41.9175016;-87.7194551
X-APPLE-STRUCTURED-LOCATION;VALUE=URI;X-ADDRESS=Las Vegas Night Club 3702 W Armitage Rd Chicago IL 60647 United States;X-APPLE-RADIUS=500;X-TITLE=3702 W Armitage Rd:geo:-87.7194551,41.9175016
END:VEVENT
BEGIN:VEVENT
DTSTART;TZID=America/New_York:20240706T210000
DTEND;TZID=America/New_York:20240707T040000
DTSTAMP:20260420T221944
CREATED:20221108T001929Z
LAST-MODIFIED:20250630T152211Z
UID:10375886-1720299600-1720324800@golatindance.com
SUMMARY:Latin Fridays and Saturdays at LV Club
DESCRIPTION:Latin Fridays and Saturdays at LV Club. \nBachata\, Salsa\, Cumbia\, Hip-Hop\, Reggaeton\, Techno… \nPeriodically has live Salsa bands. Visit the LV Club Facebook page for details.
URL:https://golatindance.com/event/latin-fridays-and-saturdays-at-lv-club/2024-07-06/
LOCATION:Las Vegas Night Club\, 3702 W Armitage Rd\, Chicago\, IL\, 60647\, United States
CATEGORIES:Chicago
GEO:41.9175016;-87.7194551
X-APPLE-STRUCTURED-LOCATION;VALUE=URI;X-ADDRESS=Las Vegas Night Club 3702 W Armitage Rd Chicago IL 60647 United States;X-APPLE-RADIUS=500;X-TITLE=3702 W Armitage Rd:geo:-87.7194551,41.9175016
END:VEVENT
BEGIN:VEVENT
DTSTART;TZID=America/New_York:20240705T210000
DTEND;TZID=America/New_York:20240706T040000
DTSTAMP:20260420T221944
CREATED:20221108T001929Z
LAST-MODIFIED:20250630T152211Z
UID:10375885-1720213200-1720238400@golatindance.com
SUMMARY:Latin Fridays and Saturdays at LV Club
DESCRIPTION:Latin Fridays and Saturdays at LV Club. \nBachata\, Salsa\, Cumbia\, Hip-Hop\, Reggaeton\, Techno… \nPeriodically has live Salsa bands. Visit the LV Club Facebook page for details.
URL:https://golatindance.com/event/latin-fridays-and-saturdays-at-lv-club/2024-07-05/
LOCATION:Las Vegas Night Club\, 3702 W Armitage Rd\, Chicago\, IL\, 60647\, United States
CATEGORIES:Chicago
GEO:41.9175016;-87.7194551
X-APPLE-STRUCTURED-LOCATION;VALUE=URI;X-ADDRESS=Las Vegas Night Club 3702 W Armitage Rd Chicago IL 60647 United States;X-APPLE-RADIUS=500;X-TITLE=3702 W Armitage Rd:geo:-87.7194551,41.9175016
END:VEVENT
BEGIN:VEVENT
DTSTART;TZID=America/New_York:20240629T210000
DTEND;TZID=America/New_York:20240630T040000
DTSTAMP:20260420T221944
CREATED:20221108T001929Z
LAST-MODIFIED:20250630T152211Z
UID:10068082-1719694800-1719720000@golatindance.com
SUMMARY:Latin Fridays and Saturdays at LV Club
DESCRIPTION:Latin Fridays and Saturdays at LV Club. \nBachata\, Salsa\, Cumbia\, Hip-Hop\, Reggaeton\, Techno… \nPeriodically has live Salsa bands. Visit the LV Club Facebook page for details.
URL:https://golatindance.com/event/latin-fridays-and-saturdays-at-lv-club/2024-06-29/
LOCATION:Las Vegas Night Club\, 3702 W Armitage Rd\, Chicago\, IL\, 60647\, United States
CATEGORIES:Chicago
GEO:41.9175016;-87.7194551
X-APPLE-STRUCTURED-LOCATION;VALUE=URI;X-ADDRESS=Las Vegas Night Club 3702 W Armitage Rd Chicago IL 60647 United States;X-APPLE-RADIUS=500;X-TITLE=3702 W Armitage Rd:geo:-87.7194551,41.9175016
END:VEVENT
BEGIN:VEVENT
DTSTART;TZID=America/New_York:20240628T210000
DTEND;TZID=America/New_York:20240629T040000
DTSTAMP:20260420T221944
CREATED:20221108T001929Z
LAST-MODIFIED:20250630T152211Z
UID:10068081-1719608400-1719633600@golatindance.com
SUMMARY:Latin Fridays and Saturdays at LV Club
DESCRIPTION:Latin Fridays and Saturdays at LV Club. \nBachata\, Salsa\, Cumbia\, Hip-Hop\, Reggaeton\, Techno… \nPeriodically has live Salsa bands. Visit the LV Club Facebook page for details.
URL:https://golatindance.com/event/latin-fridays-and-saturdays-at-lv-club/2024-06-28/
LOCATION:Las Vegas Night Club\, 3702 W Armitage Rd\, Chicago\, IL\, 60647\, United States
CATEGORIES:Chicago
GEO:41.9175016;-87.7194551
X-APPLE-STRUCTURED-LOCATION;VALUE=URI;X-ADDRESS=Las Vegas Night Club 3702 W Armitage Rd Chicago IL 60647 United States;X-APPLE-RADIUS=500;X-TITLE=3702 W Armitage Rd:geo:-87.7194551,41.9175016
END:VEVENT
BEGIN:VEVENT
DTSTART;TZID=America/New_York:20240622T210000
DTEND;TZID=America/New_York:20240623T040000
DTSTAMP:20260420T221944
CREATED:20221108T001929Z
LAST-MODIFIED:20250630T152211Z
UID:10068080-1719090000-1719115200@golatindance.com
SUMMARY:Latin Fridays and Saturdays at LV Club
DESCRIPTION:Latin Fridays and Saturdays at LV Club. \nBachata\, Salsa\, Cumbia\, Hip-Hop\, Reggaeton\, Techno… \nPeriodically has live Salsa bands. Visit the LV Club Facebook page for details.
URL:https://golatindance.com/event/latin-fridays-and-saturdays-at-lv-club/2024-06-22/
LOCATION:Las Vegas Night Club\, 3702 W Armitage Rd\, Chicago\, IL\, 60647\, United States
CATEGORIES:Chicago
GEO:41.9175016;-87.7194551
X-APPLE-STRUCTURED-LOCATION;VALUE=URI;X-ADDRESS=Las Vegas Night Club 3702 W Armitage Rd Chicago IL 60647 United States;X-APPLE-RADIUS=500;X-TITLE=3702 W Armitage Rd:geo:-87.7194551,41.9175016
END:VEVENT
BEGIN:VEVENT
DTSTART;TZID=America/New_York:20240621T210000
DTEND;TZID=America/New_York:20240622T040000
DTSTAMP:20260420T221944
CREATED:20221108T001929Z
LAST-MODIFIED:20250630T152211Z
UID:10068079-1719003600-1719028800@golatindance.com
SUMMARY:Latin Fridays and Saturdays at LV Club
DESCRIPTION:Latin Fridays and Saturdays at LV Club. \nBachata\, Salsa\, Cumbia\, Hip-Hop\, Reggaeton\, Techno… \nPeriodically has live Salsa bands. Visit the LV Club Facebook page for details.
URL:https://golatindance.com/event/latin-fridays-and-saturdays-at-lv-club/2024-06-21/
LOCATION:Las Vegas Night Club\, 3702 W Armitage Rd\, Chicago\, IL\, 60647\, United States
CATEGORIES:Chicago
GEO:41.9175016;-87.7194551
X-APPLE-STRUCTURED-LOCATION;VALUE=URI;X-ADDRESS=Las Vegas Night Club 3702 W Armitage Rd Chicago IL 60647 United States;X-APPLE-RADIUS=500;X-TITLE=3702 W Armitage Rd:geo:-87.7194551,41.9175016
END:VEVENT
END:VCALENDAR