BEGIN:VCALENDAR
VERSION:2.0
PRODID:-//GO Latin Dance - ECPv6.15.18//NONSGML v1.0//EN
CALSCALE:GREGORIAN
METHOD:PUBLISH
X-WR-CALNAME:GO Latin Dance
X-ORIGINAL-URL:https://golatindance.com
X-WR-CALDESC:Events for GO Latin Dance
REFRESH-INTERVAL;VALUE=DURATION:PT1H
X-Robots-Tag:noindex
X-PUBLISHED-TTL:PT1H
BEGIN:VTIMEZONE
TZID:America/New_York
BEGIN:DAYLIGHT
TZOFFSETFROM:-0500
TZOFFSETTO:-0400
TZNAME:EDT
DTSTART:20230312T070000
END:DAYLIGHT
BEGIN:STANDARD
TZOFFSETFROM:-0400
TZOFFSETTO:-0500
TZNAME:EST
DTSTART:20231105T060000
END:STANDARD
BEGIN:DAYLIGHT
TZOFFSETFROM:-0500
TZOFFSETTO:-0400
TZNAME:EDT
DTSTART:20240310T070000
END:DAYLIGHT
BEGIN:STANDARD
TZOFFSETFROM:-0400
TZOFFSETTO:-0500
TZNAME:EST
DTSTART:20241103T060000
END:STANDARD
BEGIN:DAYLIGHT
TZOFFSETFROM:-0500
TZOFFSETTO:-0400
TZNAME:EDT
DTSTART:20250309T070000
END:DAYLIGHT
BEGIN:STANDARD
TZOFFSETFROM:-0400
TZOFFSETTO:-0500
TZNAME:EST
DTSTART:20251102T060000
END:STANDARD
END:VTIMEZONE
BEGIN:VEVENT
DTSTART;TZID=America/New_York:20240720T210000
DTEND;TZID=America/New_York:20240721T040000
DTSTAMP:20260421T005348
CREATED:20221108T001929Z
LAST-MODIFIED:20250630T152211Z
UID:10068088-1721509200-1721534400@golatindance.com
SUMMARY:Latin Fridays and Saturdays at LV Club
DESCRIPTION:Latin Fridays and Saturdays at LV Club. \nBachata\, Salsa\, Cumbia\, Hip-Hop\, Reggaeton\, Techno… \nPeriodically has live Salsa bands. Visit the LV Club Facebook page for details.
URL:https://golatindance.com/event/latin-fridays-and-saturdays-at-lv-club/2024-07-20/
LOCATION:Las Vegas Night Club\, 3702 W Armitage Rd\, Chicago\, IL\, 60647\, United States
CATEGORIES:Chicago
GEO:41.9175016;-87.7194551
X-APPLE-STRUCTURED-LOCATION;VALUE=URI;X-ADDRESS=Las Vegas Night Club 3702 W Armitage Rd Chicago IL 60647 United States;X-APPLE-RADIUS=500;X-TITLE=3702 W Armitage Rd:geo:-87.7194551,41.9175016
END:VEVENT
BEGIN:VEVENT
DTSTART;TZID=America/New_York:20240719T210000
DTEND;TZID=America/New_York:20240720T040000
DTSTAMP:20260421T005348
CREATED:20221108T001929Z
LAST-MODIFIED:20250630T152211Z
UID:10068087-1721422800-1721448000@golatindance.com
SUMMARY:Latin Fridays and Saturdays at LV Club
DESCRIPTION:Latin Fridays and Saturdays at LV Club. \nBachata\, Salsa\, Cumbia\, Hip-Hop\, Reggaeton\, Techno… \nPeriodically has live Salsa bands. Visit the LV Club Facebook page for details.
URL:https://golatindance.com/event/latin-fridays-and-saturdays-at-lv-club/2024-07-19/
LOCATION:Las Vegas Night Club\, 3702 W Armitage Rd\, Chicago\, IL\, 60647\, United States
CATEGORIES:Chicago
GEO:41.9175016;-87.7194551
X-APPLE-STRUCTURED-LOCATION;VALUE=URI;X-ADDRESS=Las Vegas Night Club 3702 W Armitage Rd Chicago IL 60647 United States;X-APPLE-RADIUS=500;X-TITLE=3702 W Armitage Rd:geo:-87.7194551,41.9175016
END:VEVENT
BEGIN:VEVENT
DTSTART;TZID=America/New_York:20240713T210000
DTEND;TZID=America/New_York:20240714T040000
DTSTAMP:20260421T005348
CREATED:20221108T001929Z
LAST-MODIFIED:20250630T152211Z
UID:10068086-1720904400-1720929600@golatindance.com
SUMMARY:Latin Fridays and Saturdays at LV Club
DESCRIPTION:Latin Fridays and Saturdays at LV Club. \nBachata\, Salsa\, Cumbia\, Hip-Hop\, Reggaeton\, Techno… \nPeriodically has live Salsa bands. Visit the LV Club Facebook page for details.
URL:https://golatindance.com/event/latin-fridays-and-saturdays-at-lv-club/2024-07-13/
LOCATION:Las Vegas Night Club\, 3702 W Armitage Rd\, Chicago\, IL\, 60647\, United States
CATEGORIES:Chicago
GEO:41.9175016;-87.7194551
X-APPLE-STRUCTURED-LOCATION;VALUE=URI;X-ADDRESS=Las Vegas Night Club 3702 W Armitage Rd Chicago IL 60647 United States;X-APPLE-RADIUS=500;X-TITLE=3702 W Armitage Rd:geo:-87.7194551,41.9175016
END:VEVENT
BEGIN:VEVENT
DTSTART;TZID=America/New_York:20240712T210000
DTEND;TZID=America/New_York:20240713T040000
DTSTAMP:20260421T005348
CREATED:20221108T001929Z
LAST-MODIFIED:20250630T152211Z
UID:10068085-1720818000-1720843200@golatindance.com
SUMMARY:Latin Fridays and Saturdays at LV Club
DESCRIPTION:Latin Fridays and Saturdays at LV Club. \nBachata\, Salsa\, Cumbia\, Hip-Hop\, Reggaeton\, Techno… \nPeriodically has live Salsa bands. Visit the LV Club Facebook page for details.
URL:https://golatindance.com/event/latin-fridays-and-saturdays-at-lv-club/2024-07-12/
LOCATION:Las Vegas Night Club\, 3702 W Armitage Rd\, Chicago\, IL\, 60647\, United States
CATEGORIES:Chicago
GEO:41.9175016;-87.7194551
X-APPLE-STRUCTURED-LOCATION;VALUE=URI;X-ADDRESS=Las Vegas Night Club 3702 W Armitage Rd Chicago IL 60647 United States;X-APPLE-RADIUS=500;X-TITLE=3702 W Armitage Rd:geo:-87.7194551,41.9175016
END:VEVENT
BEGIN:VEVENT
DTSTART;TZID=America/New_York:20240706T210000
DTEND;TZID=America/New_York:20240707T040000
DTSTAMP:20260421T005348
CREATED:20221108T001929Z
LAST-MODIFIED:20250630T152211Z
UID:10375886-1720299600-1720324800@golatindance.com
SUMMARY:Latin Fridays and Saturdays at LV Club
DESCRIPTION:Latin Fridays and Saturdays at LV Club. \nBachata\, Salsa\, Cumbia\, Hip-Hop\, Reggaeton\, Techno… \nPeriodically has live Salsa bands. Visit the LV Club Facebook page for details.
URL:https://golatindance.com/event/latin-fridays-and-saturdays-at-lv-club/2024-07-06/
LOCATION:Las Vegas Night Club\, 3702 W Armitage Rd\, Chicago\, IL\, 60647\, United States
CATEGORIES:Chicago
GEO:41.9175016;-87.7194551
X-APPLE-STRUCTURED-LOCATION;VALUE=URI;X-ADDRESS=Las Vegas Night Club 3702 W Armitage Rd Chicago IL 60647 United States;X-APPLE-RADIUS=500;X-TITLE=3702 W Armitage Rd:geo:-87.7194551,41.9175016
END:VEVENT
BEGIN:VEVENT
DTSTART;TZID=America/New_York:20240705T210000
DTEND;TZID=America/New_York:20240706T040000
DTSTAMP:20260421T005348
CREATED:20221108T001929Z
LAST-MODIFIED:20250630T152211Z
UID:10375885-1720213200-1720238400@golatindance.com
SUMMARY:Latin Fridays and Saturdays at LV Club
DESCRIPTION:Latin Fridays and Saturdays at LV Club. \nBachata\, Salsa\, Cumbia\, Hip-Hop\, Reggaeton\, Techno… \nPeriodically has live Salsa bands. Visit the LV Club Facebook page for details.
URL:https://golatindance.com/event/latin-fridays-and-saturdays-at-lv-club/2024-07-05/
LOCATION:Las Vegas Night Club\, 3702 W Armitage Rd\, Chicago\, IL\, 60647\, United States
CATEGORIES:Chicago
GEO:41.9175016;-87.7194551
X-APPLE-STRUCTURED-LOCATION;VALUE=URI;X-ADDRESS=Las Vegas Night Club 3702 W Armitage Rd Chicago IL 60647 United States;X-APPLE-RADIUS=500;X-TITLE=3702 W Armitage Rd:geo:-87.7194551,41.9175016
END:VEVENT
BEGIN:VEVENT
DTSTART;TZID=America/New_York:20240629T210000
DTEND;TZID=America/New_York:20240630T040000
DTSTAMP:20260421T005348
CREATED:20221108T001929Z
LAST-MODIFIED:20250630T152211Z
UID:10068082-1719694800-1719720000@golatindance.com
SUMMARY:Latin Fridays and Saturdays at LV Club
DESCRIPTION:Latin Fridays and Saturdays at LV Club. \nBachata\, Salsa\, Cumbia\, Hip-Hop\, Reggaeton\, Techno… \nPeriodically has live Salsa bands. Visit the LV Club Facebook page for details.
URL:https://golatindance.com/event/latin-fridays-and-saturdays-at-lv-club/2024-06-29/
LOCATION:Las Vegas Night Club\, 3702 W Armitage Rd\, Chicago\, IL\, 60647\, United States
CATEGORIES:Chicago
GEO:41.9175016;-87.7194551
X-APPLE-STRUCTURED-LOCATION;VALUE=URI;X-ADDRESS=Las Vegas Night Club 3702 W Armitage Rd Chicago IL 60647 United States;X-APPLE-RADIUS=500;X-TITLE=3702 W Armitage Rd:geo:-87.7194551,41.9175016
END:VEVENT
BEGIN:VEVENT
DTSTART;TZID=America/New_York:20240628T210000
DTEND;TZID=America/New_York:20240629T040000
DTSTAMP:20260421T005348
CREATED:20221108T001929Z
LAST-MODIFIED:20250630T152211Z
UID:10068081-1719608400-1719633600@golatindance.com
SUMMARY:Latin Fridays and Saturdays at LV Club
DESCRIPTION:Latin Fridays and Saturdays at LV Club. \nBachata\, Salsa\, Cumbia\, Hip-Hop\, Reggaeton\, Techno… \nPeriodically has live Salsa bands. Visit the LV Club Facebook page for details.
URL:https://golatindance.com/event/latin-fridays-and-saturdays-at-lv-club/2024-06-28/
LOCATION:Las Vegas Night Club\, 3702 W Armitage Rd\, Chicago\, IL\, 60647\, United States
CATEGORIES:Chicago
GEO:41.9175016;-87.7194551
X-APPLE-STRUCTURED-LOCATION;VALUE=URI;X-ADDRESS=Las Vegas Night Club 3702 W Armitage Rd Chicago IL 60647 United States;X-APPLE-RADIUS=500;X-TITLE=3702 W Armitage Rd:geo:-87.7194551,41.9175016
END:VEVENT
BEGIN:VEVENT
DTSTART;TZID=America/New_York:20240622T210000
DTEND;TZID=America/New_York:20240623T040000
DTSTAMP:20260421T005348
CREATED:20221108T001929Z
LAST-MODIFIED:20250630T152211Z
UID:10068080-1719090000-1719115200@golatindance.com
SUMMARY:Latin Fridays and Saturdays at LV Club
DESCRIPTION:Latin Fridays and Saturdays at LV Club. \nBachata\, Salsa\, Cumbia\, Hip-Hop\, Reggaeton\, Techno… \nPeriodically has live Salsa bands. Visit the LV Club Facebook page for details.
URL:https://golatindance.com/event/latin-fridays-and-saturdays-at-lv-club/2024-06-22/
LOCATION:Las Vegas Night Club\, 3702 W Armitage Rd\, Chicago\, IL\, 60647\, United States
CATEGORIES:Chicago
GEO:41.9175016;-87.7194551
X-APPLE-STRUCTURED-LOCATION;VALUE=URI;X-ADDRESS=Las Vegas Night Club 3702 W Armitage Rd Chicago IL 60647 United States;X-APPLE-RADIUS=500;X-TITLE=3702 W Armitage Rd:geo:-87.7194551,41.9175016
END:VEVENT
BEGIN:VEVENT
DTSTART;TZID=America/New_York:20240621T210000
DTEND;TZID=America/New_York:20240622T040000
DTSTAMP:20260421T005348
CREATED:20221108T001929Z
LAST-MODIFIED:20250630T152211Z
UID:10068079-1719003600-1719028800@golatindance.com
SUMMARY:Latin Fridays and Saturdays at LV Club
DESCRIPTION:Latin Fridays and Saturdays at LV Club. \nBachata\, Salsa\, Cumbia\, Hip-Hop\, Reggaeton\, Techno… \nPeriodically has live Salsa bands. Visit the LV Club Facebook page for details.
URL:https://golatindance.com/event/latin-fridays-and-saturdays-at-lv-club/2024-06-21/
LOCATION:Las Vegas Night Club\, 3702 W Armitage Rd\, Chicago\, IL\, 60647\, United States
CATEGORIES:Chicago
GEO:41.9175016;-87.7194551
X-APPLE-STRUCTURED-LOCATION;VALUE=URI;X-ADDRESS=Las Vegas Night Club 3702 W Armitage Rd Chicago IL 60647 United States;X-APPLE-RADIUS=500;X-TITLE=3702 W Armitage Rd:geo:-87.7194551,41.9175016
END:VEVENT
BEGIN:VEVENT
DTSTART;TZID=America/New_York:20240615T210000
DTEND;TZID=America/New_York:20240616T040000
DTSTAMP:20260421T005348
CREATED:20221108T001929Z
LAST-MODIFIED:20250630T152211Z
UID:10068078-1718485200-1718510400@golatindance.com
SUMMARY:Latin Fridays and Saturdays at LV Club
DESCRIPTION:Latin Fridays and Saturdays at LV Club. \nBachata\, Salsa\, Cumbia\, Hip-Hop\, Reggaeton\, Techno… \nPeriodically has live Salsa bands. Visit the LV Club Facebook page for details.
URL:https://golatindance.com/event/latin-fridays-and-saturdays-at-lv-club/2024-06-15/
LOCATION:Las Vegas Night Club\, 3702 W Armitage Rd\, Chicago\, IL\, 60647\, United States
CATEGORIES:Chicago
GEO:41.9175016;-87.7194551
X-APPLE-STRUCTURED-LOCATION;VALUE=URI;X-ADDRESS=Las Vegas Night Club 3702 W Armitage Rd Chicago IL 60647 United States;X-APPLE-RADIUS=500;X-TITLE=3702 W Armitage Rd:geo:-87.7194551,41.9175016
END:VEVENT
BEGIN:VEVENT
DTSTART;TZID=America/New_York:20240614T210000
DTEND;TZID=America/New_York:20240615T040000
DTSTAMP:20260421T005348
CREATED:20221108T001929Z
LAST-MODIFIED:20250630T152211Z
UID:10068077-1718398800-1718424000@golatindance.com
SUMMARY:Latin Fridays and Saturdays at LV Club
DESCRIPTION:Latin Fridays and Saturdays at LV Club. \nBachata\, Salsa\, Cumbia\, Hip-Hop\, Reggaeton\, Techno… \nPeriodically has live Salsa bands. Visit the LV Club Facebook page for details.
URL:https://golatindance.com/event/latin-fridays-and-saturdays-at-lv-club/2024-06-14/
LOCATION:Las Vegas Night Club\, 3702 W Armitage Rd\, Chicago\, IL\, 60647\, United States
CATEGORIES:Chicago
GEO:41.9175016;-87.7194551
X-APPLE-STRUCTURED-LOCATION;VALUE=URI;X-ADDRESS=Las Vegas Night Club 3702 W Armitage Rd Chicago IL 60647 United States;X-APPLE-RADIUS=500;X-TITLE=3702 W Armitage Rd:geo:-87.7194551,41.9175016
END:VEVENT
BEGIN:VEVENT
DTSTART;TZID=America/New_York:20240608T210000
DTEND;TZID=America/New_York:20240609T040000
DTSTAMP:20260421T005348
CREATED:20221108T001929Z
LAST-MODIFIED:20250630T152211Z
UID:10068076-1717880400-1717905600@golatindance.com
SUMMARY:Latin Fridays and Saturdays at LV Club
DESCRIPTION:Latin Fridays and Saturdays at LV Club. \nBachata\, Salsa\, Cumbia\, Hip-Hop\, Reggaeton\, Techno… \nPeriodically has live Salsa bands. Visit the LV Club Facebook page for details.
URL:https://golatindance.com/event/latin-fridays-and-saturdays-at-lv-club/2024-06-08/
LOCATION:Las Vegas Night Club\, 3702 W Armitage Rd\, Chicago\, IL\, 60647\, United States
CATEGORIES:Chicago
GEO:41.9175016;-87.7194551
X-APPLE-STRUCTURED-LOCATION;VALUE=URI;X-ADDRESS=Las Vegas Night Club 3702 W Armitage Rd Chicago IL 60647 United States;X-APPLE-RADIUS=500;X-TITLE=3702 W Armitage Rd:geo:-87.7194551,41.9175016
END:VEVENT
BEGIN:VEVENT
DTSTART;TZID=America/New_York:20240607T210000
DTEND;TZID=America/New_York:20240608T040000
DTSTAMP:20260421T005348
CREATED:20221108T001929Z
LAST-MODIFIED:20250630T152211Z
UID:10068075-1717794000-1717819200@golatindance.com
SUMMARY:Latin Fridays and Saturdays at LV Club
DESCRIPTION:Latin Fridays and Saturdays at LV Club. \nBachata\, Salsa\, Cumbia\, Hip-Hop\, Reggaeton\, Techno… \nPeriodically has live Salsa bands. Visit the LV Club Facebook page for details.
URL:https://golatindance.com/event/latin-fridays-and-saturdays-at-lv-club/2024-06-07/
LOCATION:Las Vegas Night Club\, 3702 W Armitage Rd\, Chicago\, IL\, 60647\, United States
CATEGORIES:Chicago
GEO:41.9175016;-87.7194551
X-APPLE-STRUCTURED-LOCATION;VALUE=URI;X-ADDRESS=Las Vegas Night Club 3702 W Armitage Rd Chicago IL 60647 United States;X-APPLE-RADIUS=500;X-TITLE=3702 W Armitage Rd:geo:-87.7194551,41.9175016
END:VEVENT
BEGIN:VEVENT
DTSTART;TZID=America/New_York:20240601T210000
DTEND;TZID=America/New_York:20240602T040000
DTSTAMP:20260421T005348
CREATED:20221108T001929Z
LAST-MODIFIED:20250630T152211Z
UID:10068074-1717275600-1717300800@golatindance.com
SUMMARY:Latin Fridays and Saturdays at LV Club
DESCRIPTION:Latin Fridays and Saturdays at LV Club. \nBachata\, Salsa\, Cumbia\, Hip-Hop\, Reggaeton\, Techno… \nPeriodically has live Salsa bands. Visit the LV Club Facebook page for details.
URL:https://golatindance.com/event/latin-fridays-and-saturdays-at-lv-club/2024-06-01/
LOCATION:Las Vegas Night Club\, 3702 W Armitage Rd\, Chicago\, IL\, 60647\, United States
CATEGORIES:Chicago
GEO:41.9175016;-87.7194551
X-APPLE-STRUCTURED-LOCATION;VALUE=URI;X-ADDRESS=Las Vegas Night Club 3702 W Armitage Rd Chicago IL 60647 United States;X-APPLE-RADIUS=500;X-TITLE=3702 W Armitage Rd:geo:-87.7194551,41.9175016
END:VEVENT
BEGIN:VEVENT
DTSTART;TZID=America/New_York:20240531T210000
DTEND;TZID=America/New_York:20240601T040000
DTSTAMP:20260421T005348
CREATED:20221108T001929Z
LAST-MODIFIED:20250630T152211Z
UID:10068073-1717189200-1717214400@golatindance.com
SUMMARY:Latin Fridays and Saturdays at LV Club
DESCRIPTION:Latin Fridays and Saturdays at LV Club. \nBachata\, Salsa\, Cumbia\, Hip-Hop\, Reggaeton\, Techno… \nPeriodically has live Salsa bands. Visit the LV Club Facebook page for details.
URL:https://golatindance.com/event/latin-fridays-and-saturdays-at-lv-club/2024-05-31/
LOCATION:Las Vegas Night Club\, 3702 W Armitage Rd\, Chicago\, IL\, 60647\, United States
CATEGORIES:Chicago
GEO:41.9175016;-87.7194551
X-APPLE-STRUCTURED-LOCATION;VALUE=URI;X-ADDRESS=Las Vegas Night Club 3702 W Armitage Rd Chicago IL 60647 United States;X-APPLE-RADIUS=500;X-TITLE=3702 W Armitage Rd:geo:-87.7194551,41.9175016
END:VEVENT
BEGIN:VEVENT
DTSTART;TZID=America/New_York:20240525T210000
DTEND;TZID=America/New_York:20240526T040000
DTSTAMP:20260421T005348
CREATED:20221108T001929Z
LAST-MODIFIED:20250630T152211Z
UID:10068072-1716670800-1716696000@golatindance.com
SUMMARY:Latin Fridays and Saturdays at LV Club
DESCRIPTION:Latin Fridays and Saturdays at LV Club. \nBachata\, Salsa\, Cumbia\, Hip-Hop\, Reggaeton\, Techno… \nPeriodically has live Salsa bands. Visit the LV Club Facebook page for details.
URL:https://golatindance.com/event/latin-fridays-and-saturdays-at-lv-club/2024-05-25/
LOCATION:Las Vegas Night Club\, 3702 W Armitage Rd\, Chicago\, IL\, 60647\, United States
CATEGORIES:Chicago
GEO:41.9175016;-87.7194551
X-APPLE-STRUCTURED-LOCATION;VALUE=URI;X-ADDRESS=Las Vegas Night Club 3702 W Armitage Rd Chicago IL 60647 United States;X-APPLE-RADIUS=500;X-TITLE=3702 W Armitage Rd:geo:-87.7194551,41.9175016
END:VEVENT
BEGIN:VEVENT
DTSTART;TZID=America/New_York:20240524T210000
DTEND;TZID=America/New_York:20240525T040000
DTSTAMP:20260421T005348
CREATED:20221108T001929Z
LAST-MODIFIED:20250630T152211Z
UID:10068071-1716584400-1716609600@golatindance.com
SUMMARY:Latin Fridays and Saturdays at LV Club
DESCRIPTION:Latin Fridays and Saturdays at LV Club. \nBachata\, Salsa\, Cumbia\, Hip-Hop\, Reggaeton\, Techno… \nPeriodically has live Salsa bands. Visit the LV Club Facebook page for details.
URL:https://golatindance.com/event/latin-fridays-and-saturdays-at-lv-club/2024-05-24/
LOCATION:Las Vegas Night Club\, 3702 W Armitage Rd\, Chicago\, IL\, 60647\, United States
CATEGORIES:Chicago
GEO:41.9175016;-87.7194551
X-APPLE-STRUCTURED-LOCATION;VALUE=URI;X-ADDRESS=Las Vegas Night Club 3702 W Armitage Rd Chicago IL 60647 United States;X-APPLE-RADIUS=500;X-TITLE=3702 W Armitage Rd:geo:-87.7194551,41.9175016
END:VEVENT
BEGIN:VEVENT
DTSTART;TZID=America/New_York:20240518T210000
DTEND;TZID=America/New_York:20240519T040000
DTSTAMP:20260421T005348
CREATED:20221108T001929Z
LAST-MODIFIED:20250630T152211Z
UID:10068070-1716066000-1716091200@golatindance.com
SUMMARY:Latin Fridays and Saturdays at LV Club
DESCRIPTION:Latin Fridays and Saturdays at LV Club. \nBachata\, Salsa\, Cumbia\, Hip-Hop\, Reggaeton\, Techno… \nPeriodically has live Salsa bands. Visit the LV Club Facebook page for details.
URL:https://golatindance.com/event/latin-fridays-and-saturdays-at-lv-club/2024-05-18/
LOCATION:Las Vegas Night Club\, 3702 W Armitage Rd\, Chicago\, IL\, 60647\, United States
CATEGORIES:Chicago
GEO:41.9175016;-87.7194551
X-APPLE-STRUCTURED-LOCATION;VALUE=URI;X-ADDRESS=Las Vegas Night Club 3702 W Armitage Rd Chicago IL 60647 United States;X-APPLE-RADIUS=500;X-TITLE=3702 W Armitage Rd:geo:-87.7194551,41.9175016
END:VEVENT
BEGIN:VEVENT
DTSTART;TZID=America/New_York:20240517T210000
DTEND;TZID=America/New_York:20240518T040000
DTSTAMP:20260421T005348
CREATED:20221108T001929Z
LAST-MODIFIED:20250630T152211Z
UID:10068069-1715979600-1716004800@golatindance.com
SUMMARY:Latin Fridays and Saturdays at LV Club
DESCRIPTION:Latin Fridays and Saturdays at LV Club. \nBachata\, Salsa\, Cumbia\, Hip-Hop\, Reggaeton\, Techno… \nPeriodically has live Salsa bands. Visit the LV Club Facebook page for details.
URL:https://golatindance.com/event/latin-fridays-and-saturdays-at-lv-club/2024-05-17/
LOCATION:Las Vegas Night Club\, 3702 W Armitage Rd\, Chicago\, IL\, 60647\, United States
CATEGORIES:Chicago
GEO:41.9175016;-87.7194551
X-APPLE-STRUCTURED-LOCATION;VALUE=URI;X-ADDRESS=Las Vegas Night Club 3702 W Armitage Rd Chicago IL 60647 United States;X-APPLE-RADIUS=500;X-TITLE=3702 W Armitage Rd:geo:-87.7194551,41.9175016
END:VEVENT
BEGIN:VEVENT
DTSTART;TZID=America/New_York:20240511T210000
DTEND;TZID=America/New_York:20240512T040000
DTSTAMP:20260421T005348
CREATED:20221108T001929Z
LAST-MODIFIED:20250630T152211Z
UID:10068068-1715461200-1715486400@golatindance.com
SUMMARY:Latin Fridays and Saturdays at LV Club
DESCRIPTION:Latin Fridays and Saturdays at LV Club. \nBachata\, Salsa\, Cumbia\, Hip-Hop\, Reggaeton\, Techno… \nPeriodically has live Salsa bands. Visit the LV Club Facebook page for details.
URL:https://golatindance.com/event/latin-fridays-and-saturdays-at-lv-club/2024-05-11/
LOCATION:Las Vegas Night Club\, 3702 W Armitage Rd\, Chicago\, IL\, 60647\, United States
CATEGORIES:Chicago
GEO:41.9175016;-87.7194551
X-APPLE-STRUCTURED-LOCATION;VALUE=URI;X-ADDRESS=Las Vegas Night Club 3702 W Armitage Rd Chicago IL 60647 United States;X-APPLE-RADIUS=500;X-TITLE=3702 W Armitage Rd:geo:-87.7194551,41.9175016
END:VEVENT
BEGIN:VEVENT
DTSTART;TZID=America/New_York:20240510T210000
DTEND;TZID=America/New_York:20240511T040000
DTSTAMP:20260421T005348
CREATED:20221108T001929Z
LAST-MODIFIED:20250630T152211Z
UID:10068067-1715374800-1715400000@golatindance.com
SUMMARY:Latin Fridays and Saturdays at LV Club
DESCRIPTION:Latin Fridays and Saturdays at LV Club. \nBachata\, Salsa\, Cumbia\, Hip-Hop\, Reggaeton\, Techno… \nPeriodically has live Salsa bands. Visit the LV Club Facebook page for details.
URL:https://golatindance.com/event/latin-fridays-and-saturdays-at-lv-club/2024-05-10/
LOCATION:Las Vegas Night Club\, 3702 W Armitage Rd\, Chicago\, IL\, 60647\, United States
CATEGORIES:Chicago
GEO:41.9175016;-87.7194551
X-APPLE-STRUCTURED-LOCATION;VALUE=URI;X-ADDRESS=Las Vegas Night Club 3702 W Armitage Rd Chicago IL 60647 United States;X-APPLE-RADIUS=500;X-TITLE=3702 W Armitage Rd:geo:-87.7194551,41.9175016
END:VEVENT
BEGIN:VEVENT
DTSTART;TZID=America/New_York:20240504T210000
DTEND;TZID=America/New_York:20240505T040000
DTSTAMP:20260421T005348
CREATED:20221108T001929Z
LAST-MODIFIED:20250630T152211Z
UID:10068066-1714856400-1714881600@golatindance.com
SUMMARY:Latin Fridays and Saturdays at LV Club
DESCRIPTION:Latin Fridays and Saturdays at LV Club. \nBachata\, Salsa\, Cumbia\, Hip-Hop\, Reggaeton\, Techno… \nPeriodically has live Salsa bands. Visit the LV Club Facebook page for details.
URL:https://golatindance.com/event/latin-fridays-and-saturdays-at-lv-club/2024-05-04/
LOCATION:Las Vegas Night Club\, 3702 W Armitage Rd\, Chicago\, IL\, 60647\, United States
CATEGORIES:Chicago
GEO:41.9175016;-87.7194551
X-APPLE-STRUCTURED-LOCATION;VALUE=URI;X-ADDRESS=Las Vegas Night Club 3702 W Armitage Rd Chicago IL 60647 United States;X-APPLE-RADIUS=500;X-TITLE=3702 W Armitage Rd:geo:-87.7194551,41.9175016
END:VEVENT
BEGIN:VEVENT
DTSTART;TZID=America/New_York:20240503T210000
DTEND;TZID=America/New_York:20240504T040000
DTSTAMP:20260421T005348
CREATED:20221108T001929Z
LAST-MODIFIED:20250630T152211Z
UID:10068065-1714770000-1714795200@golatindance.com
SUMMARY:Latin Fridays and Saturdays at LV Club
DESCRIPTION:Latin Fridays and Saturdays at LV Club. \nBachata\, Salsa\, Cumbia\, Hip-Hop\, Reggaeton\, Techno… \nPeriodically has live Salsa bands. Visit the LV Club Facebook page for details.
URL:https://golatindance.com/event/latin-fridays-and-saturdays-at-lv-club/2024-05-03/
LOCATION:Las Vegas Night Club\, 3702 W Armitage Rd\, Chicago\, IL\, 60647\, United States
CATEGORIES:Chicago
GEO:41.9175016;-87.7194551
X-APPLE-STRUCTURED-LOCATION;VALUE=URI;X-ADDRESS=Las Vegas Night Club 3702 W Armitage Rd Chicago IL 60647 United States;X-APPLE-RADIUS=500;X-TITLE=3702 W Armitage Rd:geo:-87.7194551,41.9175016
END:VEVENT
BEGIN:VEVENT
DTSTART;TZID=America/New_York:20240427T210000
DTEND;TZID=America/New_York:20240428T040000
DTSTAMP:20260421T005348
CREATED:20221108T001929Z
LAST-MODIFIED:20250630T152211Z
UID:10068064-1714251600-1714276800@golatindance.com
SUMMARY:Latin Fridays and Saturdays at LV Club
DESCRIPTION:Latin Fridays and Saturdays at LV Club. \nBachata\, Salsa\, Cumbia\, Hip-Hop\, Reggaeton\, Techno… \nPeriodically has live Salsa bands. Visit the LV Club Facebook page for details.
URL:https://golatindance.com/event/latin-fridays-and-saturdays-at-lv-club/2024-04-27/
LOCATION:Las Vegas Night Club\, 3702 W Armitage Rd\, Chicago\, IL\, 60647\, United States
CATEGORIES:Chicago
GEO:41.9175016;-87.7194551
X-APPLE-STRUCTURED-LOCATION;VALUE=URI;X-ADDRESS=Las Vegas Night Club 3702 W Armitage Rd Chicago IL 60647 United States;X-APPLE-RADIUS=500;X-TITLE=3702 W Armitage Rd:geo:-87.7194551,41.9175016
END:VEVENT
BEGIN:VEVENT
DTSTART;TZID=America/New_York:20240426T210000
DTEND;TZID=America/New_York:20240427T040000
DTSTAMP:20260421T005348
CREATED:20221108T001929Z
LAST-MODIFIED:20250630T152211Z
UID:10068063-1714165200-1714190400@golatindance.com
SUMMARY:Latin Fridays and Saturdays at LV Club
DESCRIPTION:Latin Fridays and Saturdays at LV Club. \nBachata\, Salsa\, Cumbia\, Hip-Hop\, Reggaeton\, Techno… \nPeriodically has live Salsa bands. Visit the LV Club Facebook page for details.
URL:https://golatindance.com/event/latin-fridays-and-saturdays-at-lv-club/2024-04-26/
LOCATION:Las Vegas Night Club\, 3702 W Armitage Rd\, Chicago\, IL\, 60647\, United States
CATEGORIES:Chicago
GEO:41.9175016;-87.7194551
X-APPLE-STRUCTURED-LOCATION;VALUE=URI;X-ADDRESS=Las Vegas Night Club 3702 W Armitage Rd Chicago IL 60647 United States;X-APPLE-RADIUS=500;X-TITLE=3702 W Armitage Rd:geo:-87.7194551,41.9175016
END:VEVENT
BEGIN:VEVENT
DTSTART;TZID=America/New_York:20240420T210000
DTEND;TZID=America/New_York:20240421T040000
DTSTAMP:20260421T005348
CREATED:20221108T001929Z
LAST-MODIFIED:20250630T152211Z
UID:10068062-1713646800-1713672000@golatindance.com
SUMMARY:Latin Fridays and Saturdays at LV Club
DESCRIPTION:Latin Fridays and Saturdays at LV Club. \nBachata\, Salsa\, Cumbia\, Hip-Hop\, Reggaeton\, Techno… \nPeriodically has live Salsa bands. Visit the LV Club Facebook page for details.
URL:https://golatindance.com/event/latin-fridays-and-saturdays-at-lv-club/2024-04-20/
LOCATION:Las Vegas Night Club\, 3702 W Armitage Rd\, Chicago\, IL\, 60647\, United States
CATEGORIES:Chicago
GEO:41.9175016;-87.7194551
X-APPLE-STRUCTURED-LOCATION;VALUE=URI;X-ADDRESS=Las Vegas Night Club 3702 W Armitage Rd Chicago IL 60647 United States;X-APPLE-RADIUS=500;X-TITLE=3702 W Armitage Rd:geo:-87.7194551,41.9175016
END:VEVENT
BEGIN:VEVENT
DTSTART;TZID=America/New_York:20240419T210000
DTEND;TZID=America/New_York:20240420T040000
DTSTAMP:20260421T005348
CREATED:20221108T001929Z
LAST-MODIFIED:20250630T152211Z
UID:10068061-1713560400-1713585600@golatindance.com
SUMMARY:Latin Fridays and Saturdays at LV Club
DESCRIPTION:Latin Fridays and Saturdays at LV Club. \nBachata\, Salsa\, Cumbia\, Hip-Hop\, Reggaeton\, Techno… \nPeriodically has live Salsa bands. Visit the LV Club Facebook page for details.
URL:https://golatindance.com/event/latin-fridays-and-saturdays-at-lv-club/2024-04-19/
LOCATION:Las Vegas Night Club\, 3702 W Armitage Rd\, Chicago\, IL\, 60647\, United States
CATEGORIES:Chicago
GEO:41.9175016;-87.7194551
X-APPLE-STRUCTURED-LOCATION;VALUE=URI;X-ADDRESS=Las Vegas Night Club 3702 W Armitage Rd Chicago IL 60647 United States;X-APPLE-RADIUS=500;X-TITLE=3702 W Armitage Rd:geo:-87.7194551,41.9175016
END:VEVENT
BEGIN:VEVENT
DTSTART;TZID=America/New_York:20240413T210000
DTEND;TZID=America/New_York:20240414T040000
DTSTAMP:20260421T005348
CREATED:20221108T001929Z
LAST-MODIFIED:20250630T152211Z
UID:10068060-1713042000-1713067200@golatindance.com
SUMMARY:Latin Fridays and Saturdays at LV Club
DESCRIPTION:Latin Fridays and Saturdays at LV Club. \nBachata\, Salsa\, Cumbia\, Hip-Hop\, Reggaeton\, Techno… \nPeriodically has live Salsa bands. Visit the LV Club Facebook page for details.
URL:https://golatindance.com/event/latin-fridays-and-saturdays-at-lv-club/2024-04-13/
LOCATION:Las Vegas Night Club\, 3702 W Armitage Rd\, Chicago\, IL\, 60647\, United States
CATEGORIES:Chicago
GEO:41.9175016;-87.7194551
X-APPLE-STRUCTURED-LOCATION;VALUE=URI;X-ADDRESS=Las Vegas Night Club 3702 W Armitage Rd Chicago IL 60647 United States;X-APPLE-RADIUS=500;X-TITLE=3702 W Armitage Rd:geo:-87.7194551,41.9175016
END:VEVENT
BEGIN:VEVENT
DTSTART;TZID=America/New_York:20240412T210000
DTEND;TZID=America/New_York:20240413T040000
DTSTAMP:20260421T005348
CREATED:20221108T001929Z
LAST-MODIFIED:20250630T152211Z
UID:10068059-1712955600-1712980800@golatindance.com
SUMMARY:Latin Fridays and Saturdays at LV Club
DESCRIPTION:Latin Fridays and Saturdays at LV Club. \nBachata\, Salsa\, Cumbia\, Hip-Hop\, Reggaeton\, Techno… \nPeriodically has live Salsa bands. Visit the LV Club Facebook page for details.
URL:https://golatindance.com/event/latin-fridays-and-saturdays-at-lv-club/2024-04-12/
LOCATION:Las Vegas Night Club\, 3702 W Armitage Rd\, Chicago\, IL\, 60647\, United States
CATEGORIES:Chicago
GEO:41.9175016;-87.7194551
X-APPLE-STRUCTURED-LOCATION;VALUE=URI;X-ADDRESS=Las Vegas Night Club 3702 W Armitage Rd Chicago IL 60647 United States;X-APPLE-RADIUS=500;X-TITLE=3702 W Armitage Rd:geo:-87.7194551,41.9175016
END:VEVENT
END:VCALENDAR