BEGIN:VCALENDAR
VERSION:2.0
PRODID:-//GO Latin Dance - ECPv6.15.18//NONSGML v1.0//EN
CALSCALE:GREGORIAN
METHOD:PUBLISH
X-WR-CALNAME:GO Latin Dance
X-ORIGINAL-URL:https://golatindance.com
X-WR-CALDESC:Events for GO Latin Dance
REFRESH-INTERVAL;VALUE=DURATION:PT1H
X-Robots-Tag:noindex
X-PUBLISHED-TTL:PT1H
BEGIN:VTIMEZONE
TZID:America/New_York
BEGIN:DAYLIGHT
TZOFFSETFROM:-0500
TZOFFSETTO:-0400
TZNAME:EDT
DTSTART:20220313T070000
END:DAYLIGHT
BEGIN:STANDARD
TZOFFSETFROM:-0400
TZOFFSETTO:-0500
TZNAME:EST
DTSTART:20221106T060000
END:STANDARD
BEGIN:DAYLIGHT
TZOFFSETFROM:-0500
TZOFFSETTO:-0400
TZNAME:EDT
DTSTART:20230312T070000
END:DAYLIGHT
BEGIN:STANDARD
TZOFFSETFROM:-0400
TZOFFSETTO:-0500
TZNAME:EST
DTSTART:20231105T060000
END:STANDARD
BEGIN:DAYLIGHT
TZOFFSETFROM:-0500
TZOFFSETTO:-0400
TZNAME:EDT
DTSTART:20240310T070000
END:DAYLIGHT
BEGIN:STANDARD
TZOFFSETFROM:-0400
TZOFFSETTO:-0500
TZNAME:EST
DTSTART:20241103T060000
END:STANDARD
BEGIN:DAYLIGHT
TZOFFSETFROM:-0500
TZOFFSETTO:-0400
TZNAME:EDT
DTSTART:20250309T070000
END:DAYLIGHT
BEGIN:STANDARD
TZOFFSETFROM:-0400
TZOFFSETTO:-0500
TZNAME:EST
DTSTART:20251102T060000
END:STANDARD
END:VTIMEZONE
BEGIN:VEVENT
DTSTART;TZID=America/New_York:20240127T210000
DTEND;TZID=America/New_York:20240128T040000
DTSTAMP:20260421T074320
CREATED:20221108T001929Z
LAST-MODIFIED:20250630T152211Z
UID:10068038-1706389200-1706414400@golatindance.com
SUMMARY:Latin Fridays and Saturdays at LV Club
DESCRIPTION:Latin Fridays and Saturdays at LV Club. \nBachata\, Salsa\, Cumbia\, Hip-Hop\, Reggaeton\, Techno… \nPeriodically has live Salsa bands. Visit the LV Club Facebook page for details.
URL:https://golatindance.com/event/latin-fridays-and-saturdays-at-lv-club/2024-01-27/
LOCATION:Las Vegas Night Club\, 3702 W Armitage Rd\, Chicago\, IL\, 60647\, United States
CATEGORIES:Chicago
GEO:41.9175016;-87.7194551
X-APPLE-STRUCTURED-LOCATION;VALUE=URI;X-ADDRESS=Las Vegas Night Club 3702 W Armitage Rd Chicago IL 60647 United States;X-APPLE-RADIUS=500;X-TITLE=3702 W Armitage Rd:geo:-87.7194551,41.9175016
END:VEVENT
BEGIN:VEVENT
DTSTART;TZID=America/New_York:20240126T210000
DTEND;TZID=America/New_York:20240127T040000
DTSTAMP:20260421T074320
CREATED:20221108T001929Z
LAST-MODIFIED:20250630T152211Z
UID:10068037-1706302800-1706328000@golatindance.com
SUMMARY:Latin Fridays and Saturdays at LV Club
DESCRIPTION:Latin Fridays and Saturdays at LV Club. \nBachata\, Salsa\, Cumbia\, Hip-Hop\, Reggaeton\, Techno… \nPeriodically has live Salsa bands. Visit the LV Club Facebook page for details.
URL:https://golatindance.com/event/latin-fridays-and-saturdays-at-lv-club/2024-01-26/
LOCATION:Las Vegas Night Club\, 3702 W Armitage Rd\, Chicago\, IL\, 60647\, United States
CATEGORIES:Chicago
GEO:41.9175016;-87.7194551
X-APPLE-STRUCTURED-LOCATION;VALUE=URI;X-ADDRESS=Las Vegas Night Club 3702 W Armitage Rd Chicago IL 60647 United States;X-APPLE-RADIUS=500;X-TITLE=3702 W Armitage Rd:geo:-87.7194551,41.9175016
END:VEVENT
BEGIN:VEVENT
DTSTART;TZID=America/New_York:20240120T210000
DTEND;TZID=America/New_York:20240121T040000
DTSTAMP:20260421T074320
CREATED:20221108T001929Z
LAST-MODIFIED:20250630T152211Z
UID:10068036-1705784400-1705809600@golatindance.com
SUMMARY:Latin Fridays and Saturdays at LV Club
DESCRIPTION:Latin Fridays and Saturdays at LV Club. \nBachata\, Salsa\, Cumbia\, Hip-Hop\, Reggaeton\, Techno… \nPeriodically has live Salsa bands. Visit the LV Club Facebook page for details.
URL:https://golatindance.com/event/latin-fridays-and-saturdays-at-lv-club/2024-01-20/
LOCATION:Las Vegas Night Club\, 3702 W Armitage Rd\, Chicago\, IL\, 60647\, United States
CATEGORIES:Chicago
GEO:41.9175016;-87.7194551
X-APPLE-STRUCTURED-LOCATION;VALUE=URI;X-ADDRESS=Las Vegas Night Club 3702 W Armitage Rd Chicago IL 60647 United States;X-APPLE-RADIUS=500;X-TITLE=3702 W Armitage Rd:geo:-87.7194551,41.9175016
END:VEVENT
BEGIN:VEVENT
DTSTART;TZID=America/New_York:20240119T210000
DTEND;TZID=America/New_York:20240120T040000
DTSTAMP:20260421T074320
CREATED:20221108T001929Z
LAST-MODIFIED:20250630T152211Z
UID:10068035-1705698000-1705723200@golatindance.com
SUMMARY:Latin Fridays and Saturdays at LV Club
DESCRIPTION:Latin Fridays and Saturdays at LV Club. \nBachata\, Salsa\, Cumbia\, Hip-Hop\, Reggaeton\, Techno… \nPeriodically has live Salsa bands. Visit the LV Club Facebook page for details.
URL:https://golatindance.com/event/latin-fridays-and-saturdays-at-lv-club/2024-01-19/
LOCATION:Las Vegas Night Club\, 3702 W Armitage Rd\, Chicago\, IL\, 60647\, United States
CATEGORIES:Chicago
GEO:41.9175016;-87.7194551
X-APPLE-STRUCTURED-LOCATION;VALUE=URI;X-ADDRESS=Las Vegas Night Club 3702 W Armitage Rd Chicago IL 60647 United States;X-APPLE-RADIUS=500;X-TITLE=3702 W Armitage Rd:geo:-87.7194551,41.9175016
END:VEVENT
BEGIN:VEVENT
DTSTART;TZID=America/New_York:20240113T210000
DTEND;TZID=America/New_York:20240114T040000
DTSTAMP:20260421T074320
CREATED:20221108T001929Z
LAST-MODIFIED:20250630T152211Z
UID:10068034-1705179600-1705204800@golatindance.com
SUMMARY:Latin Fridays and Saturdays at LV Club
DESCRIPTION:Latin Fridays and Saturdays at LV Club. \nBachata\, Salsa\, Cumbia\, Hip-Hop\, Reggaeton\, Techno… \nPeriodically has live Salsa bands. Visit the LV Club Facebook page for details.
URL:https://golatindance.com/event/latin-fridays-and-saturdays-at-lv-club/2024-01-13/
LOCATION:Las Vegas Night Club\, 3702 W Armitage Rd\, Chicago\, IL\, 60647\, United States
CATEGORIES:Chicago
GEO:41.9175016;-87.7194551
X-APPLE-STRUCTURED-LOCATION;VALUE=URI;X-ADDRESS=Las Vegas Night Club 3702 W Armitage Rd Chicago IL 60647 United States;X-APPLE-RADIUS=500;X-TITLE=3702 W Armitage Rd:geo:-87.7194551,41.9175016
END:VEVENT
BEGIN:VEVENT
DTSTART;TZID=America/New_York:20240112T210000
DTEND;TZID=America/New_York:20240113T040000
DTSTAMP:20260421T074320
CREATED:20221108T001929Z
LAST-MODIFIED:20250630T152211Z
UID:10068033-1705093200-1705118400@golatindance.com
SUMMARY:Latin Fridays and Saturdays at LV Club
DESCRIPTION:Latin Fridays and Saturdays at LV Club. \nBachata\, Salsa\, Cumbia\, Hip-Hop\, Reggaeton\, Techno… \nPeriodically has live Salsa bands. Visit the LV Club Facebook page for details.
URL:https://golatindance.com/event/latin-fridays-and-saturdays-at-lv-club/2024-01-12/
LOCATION:Las Vegas Night Club\, 3702 W Armitage Rd\, Chicago\, IL\, 60647\, United States
CATEGORIES:Chicago
GEO:41.9175016;-87.7194551
X-APPLE-STRUCTURED-LOCATION;VALUE=URI;X-ADDRESS=Las Vegas Night Club 3702 W Armitage Rd Chicago IL 60647 United States;X-APPLE-RADIUS=500;X-TITLE=3702 W Armitage Rd:geo:-87.7194551,41.9175016
END:VEVENT
BEGIN:VEVENT
DTSTART;TZID=America/New_York:20240106T210000
DTEND;TZID=America/New_York:20240107T040000
DTSTAMP:20260421T074320
CREATED:20221108T001929Z
LAST-MODIFIED:20250630T152211Z
UID:10068032-1704574800-1704600000@golatindance.com
SUMMARY:Latin Fridays and Saturdays at LV Club
DESCRIPTION:Latin Fridays and Saturdays at LV Club. \nBachata\, Salsa\, Cumbia\, Hip-Hop\, Reggaeton\, Techno… \nPeriodically has live Salsa bands. Visit the LV Club Facebook page for details.
URL:https://golatindance.com/event/latin-fridays-and-saturdays-at-lv-club/2024-01-06/
LOCATION:Las Vegas Night Club\, 3702 W Armitage Rd\, Chicago\, IL\, 60647\, United States
CATEGORIES:Chicago
GEO:41.9175016;-87.7194551
X-APPLE-STRUCTURED-LOCATION;VALUE=URI;X-ADDRESS=Las Vegas Night Club 3702 W Armitage Rd Chicago IL 60647 United States;X-APPLE-RADIUS=500;X-TITLE=3702 W Armitage Rd:geo:-87.7194551,41.9175016
END:VEVENT
BEGIN:VEVENT
DTSTART;TZID=America/New_York:20240105T210000
DTEND;TZID=America/New_York:20240106T040000
DTSTAMP:20260421T074320
CREATED:20221108T001929Z
LAST-MODIFIED:20250630T152211Z
UID:10068031-1704488400-1704513600@golatindance.com
SUMMARY:Latin Fridays and Saturdays at LV Club
DESCRIPTION:Latin Fridays and Saturdays at LV Club. \nBachata\, Salsa\, Cumbia\, Hip-Hop\, Reggaeton\, Techno… \nPeriodically has live Salsa bands. Visit the LV Club Facebook page for details.
URL:https://golatindance.com/event/latin-fridays-and-saturdays-at-lv-club/2024-01-05/
LOCATION:Las Vegas Night Club\, 3702 W Armitage Rd\, Chicago\, IL\, 60647\, United States
CATEGORIES:Chicago
GEO:41.9175016;-87.7194551
X-APPLE-STRUCTURED-LOCATION;VALUE=URI;X-ADDRESS=Las Vegas Night Club 3702 W Armitage Rd Chicago IL 60647 United States;X-APPLE-RADIUS=500;X-TITLE=3702 W Armitage Rd:geo:-87.7194551,41.9175016
END:VEVENT
BEGIN:VEVENT
DTSTART;TZID=America/New_York:20231230T210000
DTEND;TZID=America/New_York:20231231T040000
DTSTAMP:20260421T074320
CREATED:20221108T001929Z
LAST-MODIFIED:20250630T152211Z
UID:10068030-1703970000-1703995200@golatindance.com
SUMMARY:Latin Fridays and Saturdays at LV Club
DESCRIPTION:Latin Fridays and Saturdays at LV Club. \nBachata\, Salsa\, Cumbia\, Hip-Hop\, Reggaeton\, Techno… \nPeriodically has live Salsa bands. Visit the LV Club Facebook page for details.
URL:https://golatindance.com/event/latin-fridays-and-saturdays-at-lv-club/2023-12-30/
LOCATION:Las Vegas Night Club\, 3702 W Armitage Rd\, Chicago\, IL\, 60647\, United States
CATEGORIES:Chicago
GEO:41.9175016;-87.7194551
X-APPLE-STRUCTURED-LOCATION;VALUE=URI;X-ADDRESS=Las Vegas Night Club 3702 W Armitage Rd Chicago IL 60647 United States;X-APPLE-RADIUS=500;X-TITLE=3702 W Armitage Rd:geo:-87.7194551,41.9175016
END:VEVENT
BEGIN:VEVENT
DTSTART;TZID=America/New_York:20231229T210000
DTEND;TZID=America/New_York:20231230T040000
DTSTAMP:20260421T074320
CREATED:20221108T001929Z
LAST-MODIFIED:20250630T152211Z
UID:10068029-1703883600-1703908800@golatindance.com
SUMMARY:Latin Fridays and Saturdays at LV Club
DESCRIPTION:Latin Fridays and Saturdays at LV Club. \nBachata\, Salsa\, Cumbia\, Hip-Hop\, Reggaeton\, Techno… \nPeriodically has live Salsa bands. Visit the LV Club Facebook page for details.
URL:https://golatindance.com/event/latin-fridays-and-saturdays-at-lv-club/2023-12-29/
LOCATION:Las Vegas Night Club\, 3702 W Armitage Rd\, Chicago\, IL\, 60647\, United States
CATEGORIES:Chicago
GEO:41.9175016;-87.7194551
X-APPLE-STRUCTURED-LOCATION;VALUE=URI;X-ADDRESS=Las Vegas Night Club 3702 W Armitage Rd Chicago IL 60647 United States;X-APPLE-RADIUS=500;X-TITLE=3702 W Armitage Rd:geo:-87.7194551,41.9175016
END:VEVENT
BEGIN:VEVENT
DTSTART;TZID=America/New_York:20231223T210000
DTEND;TZID=America/New_York:20231224T040000
DTSTAMP:20260421T074320
CREATED:20221108T001929Z
LAST-MODIFIED:20250630T152211Z
UID:10068028-1703365200-1703390400@golatindance.com
SUMMARY:Latin Fridays and Saturdays at LV Club
DESCRIPTION:Latin Fridays and Saturdays at LV Club. \nBachata\, Salsa\, Cumbia\, Hip-Hop\, Reggaeton\, Techno… \nPeriodically has live Salsa bands. Visit the LV Club Facebook page for details.
URL:https://golatindance.com/event/latin-fridays-and-saturdays-at-lv-club/2023-12-23/
LOCATION:Las Vegas Night Club\, 3702 W Armitage Rd\, Chicago\, IL\, 60647\, United States
CATEGORIES:Chicago
GEO:41.9175016;-87.7194551
X-APPLE-STRUCTURED-LOCATION;VALUE=URI;X-ADDRESS=Las Vegas Night Club 3702 W Armitage Rd Chicago IL 60647 United States;X-APPLE-RADIUS=500;X-TITLE=3702 W Armitage Rd:geo:-87.7194551,41.9175016
END:VEVENT
BEGIN:VEVENT
DTSTART;TZID=America/New_York:20231222T210000
DTEND;TZID=America/New_York:20231223T040000
DTSTAMP:20260421T074320
CREATED:20221108T001929Z
LAST-MODIFIED:20250630T152211Z
UID:10068027-1703278800-1703304000@golatindance.com
SUMMARY:Latin Fridays and Saturdays at LV Club
DESCRIPTION:Latin Fridays and Saturdays at LV Club. \nBachata\, Salsa\, Cumbia\, Hip-Hop\, Reggaeton\, Techno… \nPeriodically has live Salsa bands. Visit the LV Club Facebook page for details.
URL:https://golatindance.com/event/latin-fridays-and-saturdays-at-lv-club/2023-12-22/
LOCATION:Las Vegas Night Club\, 3702 W Armitage Rd\, Chicago\, IL\, 60647\, United States
CATEGORIES:Chicago
GEO:41.9175016;-87.7194551
X-APPLE-STRUCTURED-LOCATION;VALUE=URI;X-ADDRESS=Las Vegas Night Club 3702 W Armitage Rd Chicago IL 60647 United States;X-APPLE-RADIUS=500;X-TITLE=3702 W Armitage Rd:geo:-87.7194551,41.9175016
END:VEVENT
BEGIN:VEVENT
DTSTART;TZID=America/New_York:20231216T210000
DTEND;TZID=America/New_York:20231217T040000
DTSTAMP:20260421T074320
CREATED:20221108T001929Z
LAST-MODIFIED:20250630T152211Z
UID:10068026-1702760400-1702785600@golatindance.com
SUMMARY:Latin Fridays and Saturdays at LV Club
DESCRIPTION:Latin Fridays and Saturdays at LV Club. \nBachata\, Salsa\, Cumbia\, Hip-Hop\, Reggaeton\, Techno… \nPeriodically has live Salsa bands. Visit the LV Club Facebook page for details.
URL:https://golatindance.com/event/latin-fridays-and-saturdays-at-lv-club/2023-12-16/
LOCATION:Las Vegas Night Club\, 3702 W Armitage Rd\, Chicago\, IL\, 60647\, United States
CATEGORIES:Chicago
GEO:41.9175016;-87.7194551
X-APPLE-STRUCTURED-LOCATION;VALUE=URI;X-ADDRESS=Las Vegas Night Club 3702 W Armitage Rd Chicago IL 60647 United States;X-APPLE-RADIUS=500;X-TITLE=3702 W Armitage Rd:geo:-87.7194551,41.9175016
END:VEVENT
BEGIN:VEVENT
DTSTART;TZID=America/New_York:20231215T210000
DTEND;TZID=America/New_York:20231216T040000
DTSTAMP:20260421T074320
CREATED:20221108T001929Z
LAST-MODIFIED:20250630T152211Z
UID:10068025-1702674000-1702699200@golatindance.com
SUMMARY:Latin Fridays and Saturdays at LV Club
DESCRIPTION:Latin Fridays and Saturdays at LV Club. \nBachata\, Salsa\, Cumbia\, Hip-Hop\, Reggaeton\, Techno… \nPeriodically has live Salsa bands. Visit the LV Club Facebook page for details.
URL:https://golatindance.com/event/latin-fridays-and-saturdays-at-lv-club/2023-12-15/
LOCATION:Las Vegas Night Club\, 3702 W Armitage Rd\, Chicago\, IL\, 60647\, United States
CATEGORIES:Chicago
GEO:41.9175016;-87.7194551
X-APPLE-STRUCTURED-LOCATION;VALUE=URI;X-ADDRESS=Las Vegas Night Club 3702 W Armitage Rd Chicago IL 60647 United States;X-APPLE-RADIUS=500;X-TITLE=3702 W Armitage Rd:geo:-87.7194551,41.9175016
END:VEVENT
BEGIN:VEVENT
DTSTART;TZID=America/New_York:20231209T210000
DTEND;TZID=America/New_York:20231210T040000
DTSTAMP:20260421T074320
CREATED:20221108T001929Z
LAST-MODIFIED:20250630T152211Z
UID:10068024-1702155600-1702180800@golatindance.com
SUMMARY:Latin Fridays and Saturdays at LV Club
DESCRIPTION:Latin Fridays and Saturdays at LV Club. \nBachata\, Salsa\, Cumbia\, Hip-Hop\, Reggaeton\, Techno… \nPeriodically has live Salsa bands. Visit the LV Club Facebook page for details.
URL:https://golatindance.com/event/latin-fridays-and-saturdays-at-lv-club/2023-12-09/
LOCATION:Las Vegas Night Club\, 3702 W Armitage Rd\, Chicago\, IL\, 60647\, United States
CATEGORIES:Chicago
GEO:41.9175016;-87.7194551
X-APPLE-STRUCTURED-LOCATION;VALUE=URI;X-ADDRESS=Las Vegas Night Club 3702 W Armitage Rd Chicago IL 60647 United States;X-APPLE-RADIUS=500;X-TITLE=3702 W Armitage Rd:geo:-87.7194551,41.9175016
END:VEVENT
BEGIN:VEVENT
DTSTART;TZID=America/New_York:20231208T210000
DTEND;TZID=America/New_York:20231209T040000
DTSTAMP:20260421T074320
CREATED:20221108T001929Z
LAST-MODIFIED:20250630T152211Z
UID:10068023-1702069200-1702094400@golatindance.com
SUMMARY:Latin Fridays and Saturdays at LV Club
DESCRIPTION:Latin Fridays and Saturdays at LV Club. \nBachata\, Salsa\, Cumbia\, Hip-Hop\, Reggaeton\, Techno… \nPeriodically has live Salsa bands. Visit the LV Club Facebook page for details.
URL:https://golatindance.com/event/latin-fridays-and-saturdays-at-lv-club/2023-12-08/
LOCATION:Las Vegas Night Club\, 3702 W Armitage Rd\, Chicago\, IL\, 60647\, United States
CATEGORIES:Chicago
GEO:41.9175016;-87.7194551
X-APPLE-STRUCTURED-LOCATION;VALUE=URI;X-ADDRESS=Las Vegas Night Club 3702 W Armitage Rd Chicago IL 60647 United States;X-APPLE-RADIUS=500;X-TITLE=3702 W Armitage Rd:geo:-87.7194551,41.9175016
END:VEVENT
BEGIN:VEVENT
DTSTART;TZID=America/New_York:20231202T210000
DTEND;TZID=America/New_York:20231203T040000
DTSTAMP:20260421T074320
CREATED:20221108T001929Z
LAST-MODIFIED:20250630T152211Z
UID:10068022-1701550800-1701576000@golatindance.com
SUMMARY:Latin Fridays and Saturdays at LV Club
DESCRIPTION:Latin Fridays and Saturdays at LV Club. \nBachata\, Salsa\, Cumbia\, Hip-Hop\, Reggaeton\, Techno… \nPeriodically has live Salsa bands. Visit the LV Club Facebook page for details.
URL:https://golatindance.com/event/latin-fridays-and-saturdays-at-lv-club/2023-12-02/
LOCATION:Las Vegas Night Club\, 3702 W Armitage Rd\, Chicago\, IL\, 60647\, United States
CATEGORIES:Chicago
GEO:41.9175016;-87.7194551
X-APPLE-STRUCTURED-LOCATION;VALUE=URI;X-ADDRESS=Las Vegas Night Club 3702 W Armitage Rd Chicago IL 60647 United States;X-APPLE-RADIUS=500;X-TITLE=3702 W Armitage Rd:geo:-87.7194551,41.9175016
END:VEVENT
BEGIN:VEVENT
DTSTART;TZID=America/New_York:20231201T210000
DTEND;TZID=America/New_York:20231202T040000
DTSTAMP:20260421T074320
CREATED:20221108T001929Z
LAST-MODIFIED:20250630T152211Z
UID:10068021-1701464400-1701489600@golatindance.com
SUMMARY:Latin Fridays and Saturdays at LV Club
DESCRIPTION:Latin Fridays and Saturdays at LV Club. \nBachata\, Salsa\, Cumbia\, Hip-Hop\, Reggaeton\, Techno… \nPeriodically has live Salsa bands. Visit the LV Club Facebook page for details.
URL:https://golatindance.com/event/latin-fridays-and-saturdays-at-lv-club/2023-12-01/
LOCATION:Las Vegas Night Club\, 3702 W Armitage Rd\, Chicago\, IL\, 60647\, United States
CATEGORIES:Chicago
GEO:41.9175016;-87.7194551
X-APPLE-STRUCTURED-LOCATION;VALUE=URI;X-ADDRESS=Las Vegas Night Club 3702 W Armitage Rd Chicago IL 60647 United States;X-APPLE-RADIUS=500;X-TITLE=3702 W Armitage Rd:geo:-87.7194551,41.9175016
END:VEVENT
BEGIN:VEVENT
DTSTART;TZID=America/New_York:20231125T210000
DTEND;TZID=America/New_York:20231126T040000
DTSTAMP:20260421T074320
CREATED:20221108T001929Z
LAST-MODIFIED:20250630T152211Z
UID:10068020-1700946000-1700971200@golatindance.com
SUMMARY:Latin Fridays and Saturdays at LV Club
DESCRIPTION:Latin Fridays and Saturdays at LV Club. \nBachata\, Salsa\, Cumbia\, Hip-Hop\, Reggaeton\, Techno… \nPeriodically has live Salsa bands. Visit the LV Club Facebook page for details.
URL:https://golatindance.com/event/latin-fridays-and-saturdays-at-lv-club/2023-11-25/
LOCATION:Las Vegas Night Club\, 3702 W Armitage Rd\, Chicago\, IL\, 60647\, United States
CATEGORIES:Chicago
GEO:41.9175016;-87.7194551
X-APPLE-STRUCTURED-LOCATION;VALUE=URI;X-ADDRESS=Las Vegas Night Club 3702 W Armitage Rd Chicago IL 60647 United States;X-APPLE-RADIUS=500;X-TITLE=3702 W Armitage Rd:geo:-87.7194551,41.9175016
END:VEVENT
BEGIN:VEVENT
DTSTART;TZID=America/New_York:20231124T210000
DTEND;TZID=America/New_York:20231125T040000
DTSTAMP:20260421T074320
CREATED:20221108T001929Z
LAST-MODIFIED:20250630T152211Z
UID:10068019-1700859600-1700884800@golatindance.com
SUMMARY:Latin Fridays and Saturdays at LV Club
DESCRIPTION:Latin Fridays and Saturdays at LV Club. \nBachata\, Salsa\, Cumbia\, Hip-Hop\, Reggaeton\, Techno… \nPeriodically has live Salsa bands. Visit the LV Club Facebook page for details.
URL:https://golatindance.com/event/latin-fridays-and-saturdays-at-lv-club/2023-11-24/
LOCATION:Las Vegas Night Club\, 3702 W Armitage Rd\, Chicago\, IL\, 60647\, United States
CATEGORIES:Chicago
GEO:41.9175016;-87.7194551
X-APPLE-STRUCTURED-LOCATION;VALUE=URI;X-ADDRESS=Las Vegas Night Club 3702 W Armitage Rd Chicago IL 60647 United States;X-APPLE-RADIUS=500;X-TITLE=3702 W Armitage Rd:geo:-87.7194551,41.9175016
END:VEVENT
BEGIN:VEVENT
DTSTART;TZID=America/New_York:20231118T210000
DTEND;TZID=America/New_York:20231119T040000
DTSTAMP:20260421T074320
CREATED:20221108T001929Z
LAST-MODIFIED:20250630T152211Z
UID:10068018-1700341200-1700366400@golatindance.com
SUMMARY:Latin Fridays and Saturdays at LV Club
DESCRIPTION:Latin Fridays and Saturdays at LV Club. \nBachata\, Salsa\, Cumbia\, Hip-Hop\, Reggaeton\, Techno… \nPeriodically has live Salsa bands. Visit the LV Club Facebook page for details.
URL:https://golatindance.com/event/latin-fridays-and-saturdays-at-lv-club/2023-11-18/
LOCATION:Las Vegas Night Club\, 3702 W Armitage Rd\, Chicago\, IL\, 60647\, United States
CATEGORIES:Chicago
GEO:41.9175016;-87.7194551
X-APPLE-STRUCTURED-LOCATION;VALUE=URI;X-ADDRESS=Las Vegas Night Club 3702 W Armitage Rd Chicago IL 60647 United States;X-APPLE-RADIUS=500;X-TITLE=3702 W Armitage Rd:geo:-87.7194551,41.9175016
END:VEVENT
BEGIN:VEVENT
DTSTART;TZID=America/New_York:20231117T210000
DTEND;TZID=America/New_York:20231118T040000
DTSTAMP:20260421T074320
CREATED:20221108T001929Z
LAST-MODIFIED:20250630T152211Z
UID:10068017-1700254800-1700280000@golatindance.com
SUMMARY:Latin Fridays and Saturdays at LV Club
DESCRIPTION:Latin Fridays and Saturdays at LV Club. \nBachata\, Salsa\, Cumbia\, Hip-Hop\, Reggaeton\, Techno… \nPeriodically has live Salsa bands. Visit the LV Club Facebook page for details.
URL:https://golatindance.com/event/latin-fridays-and-saturdays-at-lv-club/2023-11-17/
LOCATION:Las Vegas Night Club\, 3702 W Armitage Rd\, Chicago\, IL\, 60647\, United States
CATEGORIES:Chicago
GEO:41.9175016;-87.7194551
X-APPLE-STRUCTURED-LOCATION;VALUE=URI;X-ADDRESS=Las Vegas Night Club 3702 W Armitage Rd Chicago IL 60647 United States;X-APPLE-RADIUS=500;X-TITLE=3702 W Armitage Rd:geo:-87.7194551,41.9175016
END:VEVENT
BEGIN:VEVENT
DTSTART;TZID=America/New_York:20231111T210000
DTEND;TZID=America/New_York:20231112T040000
DTSTAMP:20260421T074320
CREATED:20221108T001929Z
LAST-MODIFIED:20250630T152211Z
UID:10068016-1699736400-1699761600@golatindance.com
SUMMARY:Latin Fridays and Saturdays at LV Club
DESCRIPTION:Latin Fridays and Saturdays at LV Club. \nBachata\, Salsa\, Cumbia\, Hip-Hop\, Reggaeton\, Techno… \nPeriodically has live Salsa bands. Visit the LV Club Facebook page for details.
URL:https://golatindance.com/event/latin-fridays-and-saturdays-at-lv-club/2023-11-11/
LOCATION:Las Vegas Night Club\, 3702 W Armitage Rd\, Chicago\, IL\, 60647\, United States
CATEGORIES:Chicago
GEO:41.9175016;-87.7194551
X-APPLE-STRUCTURED-LOCATION;VALUE=URI;X-ADDRESS=Las Vegas Night Club 3702 W Armitage Rd Chicago IL 60647 United States;X-APPLE-RADIUS=500;X-TITLE=3702 W Armitage Rd:geo:-87.7194551,41.9175016
END:VEVENT
BEGIN:VEVENT
DTSTART;TZID=America/New_York:20231110T210000
DTEND;TZID=America/New_York:20231111T040000
DTSTAMP:20260421T074320
CREATED:20221108T001929Z
LAST-MODIFIED:20250630T152211Z
UID:10068015-1699650000-1699675200@golatindance.com
SUMMARY:Latin Fridays and Saturdays at LV Club
DESCRIPTION:Latin Fridays and Saturdays at LV Club. \nBachata\, Salsa\, Cumbia\, Hip-Hop\, Reggaeton\, Techno… \nPeriodically has live Salsa bands. Visit the LV Club Facebook page for details.
URL:https://golatindance.com/event/latin-fridays-and-saturdays-at-lv-club/2023-11-10/
LOCATION:Las Vegas Night Club\, 3702 W Armitage Rd\, Chicago\, IL\, 60647\, United States
CATEGORIES:Chicago
GEO:41.9175016;-87.7194551
X-APPLE-STRUCTURED-LOCATION;VALUE=URI;X-ADDRESS=Las Vegas Night Club 3702 W Armitage Rd Chicago IL 60647 United States;X-APPLE-RADIUS=500;X-TITLE=3702 W Armitage Rd:geo:-87.7194551,41.9175016
END:VEVENT
BEGIN:VEVENT
DTSTART;TZID=America/New_York:20231104T210000
DTEND;TZID=America/New_York:20231105T030000
DTSTAMP:20260421T074320
CREATED:20221108T001929Z
LAST-MODIFIED:20250630T152211Z
UID:10068014-1699131600-1699153200@golatindance.com
SUMMARY:Latin Fridays and Saturdays at LV Club
DESCRIPTION:Latin Fridays and Saturdays at LV Club. \nBachata\, Salsa\, Cumbia\, Hip-Hop\, Reggaeton\, Techno… \nPeriodically has live Salsa bands. Visit the LV Club Facebook page for details.
URL:https://golatindance.com/event/latin-fridays-and-saturdays-at-lv-club/2023-11-04/
LOCATION:Las Vegas Night Club\, 3702 W Armitage Rd\, Chicago\, IL\, 60647\, United States
CATEGORIES:Chicago
GEO:41.9175016;-87.7194551
X-APPLE-STRUCTURED-LOCATION;VALUE=URI;X-ADDRESS=Las Vegas Night Club 3702 W Armitage Rd Chicago IL 60647 United States;X-APPLE-RADIUS=500;X-TITLE=3702 W Armitage Rd:geo:-87.7194551,41.9175016
END:VEVENT
BEGIN:VEVENT
DTSTART;TZID=America/New_York:20231103T210000
DTEND;TZID=America/New_York:20231104T040000
DTSTAMP:20260421T074321
CREATED:20221108T001929Z
LAST-MODIFIED:20250630T152211Z
UID:10068013-1699045200-1699070400@golatindance.com
SUMMARY:Latin Fridays and Saturdays at LV Club
DESCRIPTION:Latin Fridays and Saturdays at LV Club. \nBachata\, Salsa\, Cumbia\, Hip-Hop\, Reggaeton\, Techno… \nPeriodically has live Salsa bands. Visit the LV Club Facebook page for details.
URL:https://golatindance.com/event/latin-fridays-and-saturdays-at-lv-club/2023-11-03/
LOCATION:Las Vegas Night Club\, 3702 W Armitage Rd\, Chicago\, IL\, 60647\, United States
CATEGORIES:Chicago
GEO:41.9175016;-87.7194551
X-APPLE-STRUCTURED-LOCATION;VALUE=URI;X-ADDRESS=Las Vegas Night Club 3702 W Armitage Rd Chicago IL 60647 United States;X-APPLE-RADIUS=500;X-TITLE=3702 W Armitage Rd:geo:-87.7194551,41.9175016
END:VEVENT
BEGIN:VEVENT
DTSTART;TZID=America/New_York:20231028T210000
DTEND;TZID=America/New_York:20231029T040000
DTSTAMP:20260421T074321
CREATED:20221108T001929Z
LAST-MODIFIED:20250630T152211Z
UID:10068012-1698526800-1698552000@golatindance.com
SUMMARY:Latin Fridays and Saturdays at LV Club
DESCRIPTION:Latin Fridays and Saturdays at LV Club. \nBachata\, Salsa\, Cumbia\, Hip-Hop\, Reggaeton\, Techno… \nPeriodically has live Salsa bands. Visit the LV Club Facebook page for details.
URL:https://golatindance.com/event/latin-fridays-and-saturdays-at-lv-club/2023-10-28/
LOCATION:Las Vegas Night Club\, 3702 W Armitage Rd\, Chicago\, IL\, 60647\, United States
CATEGORIES:Chicago
GEO:41.9175016;-87.7194551
X-APPLE-STRUCTURED-LOCATION;VALUE=URI;X-ADDRESS=Las Vegas Night Club 3702 W Armitage Rd Chicago IL 60647 United States;X-APPLE-RADIUS=500;X-TITLE=3702 W Armitage Rd:geo:-87.7194551,41.9175016
END:VEVENT
BEGIN:VEVENT
DTSTART;TZID=America/New_York:20231027T210000
DTEND;TZID=America/New_York:20231028T040000
DTSTAMP:20260421T074321
CREATED:20221108T001929Z
LAST-MODIFIED:20250630T152211Z
UID:10068011-1698440400-1698465600@golatindance.com
SUMMARY:Latin Fridays and Saturdays at LV Club
DESCRIPTION:Latin Fridays and Saturdays at LV Club. \nBachata\, Salsa\, Cumbia\, Hip-Hop\, Reggaeton\, Techno… \nPeriodically has live Salsa bands. Visit the LV Club Facebook page for details.
URL:https://golatindance.com/event/latin-fridays-and-saturdays-at-lv-club/2023-10-27/
LOCATION:Las Vegas Night Club\, 3702 W Armitage Rd\, Chicago\, IL\, 60647\, United States
CATEGORIES:Chicago
GEO:41.9175016;-87.7194551
X-APPLE-STRUCTURED-LOCATION;VALUE=URI;X-ADDRESS=Las Vegas Night Club 3702 W Armitage Rd Chicago IL 60647 United States;X-APPLE-RADIUS=500;X-TITLE=3702 W Armitage Rd:geo:-87.7194551,41.9175016
END:VEVENT
BEGIN:VEVENT
DTSTART;TZID=America/New_York:20231021T210000
DTEND;TZID=America/New_York:20231022T040000
DTSTAMP:20260421T074321
CREATED:20221108T001929Z
LAST-MODIFIED:20250630T152211Z
UID:10068010-1697922000-1697947200@golatindance.com
SUMMARY:Latin Fridays and Saturdays at LV Club
DESCRIPTION:Latin Fridays and Saturdays at LV Club. \nBachata\, Salsa\, Cumbia\, Hip-Hop\, Reggaeton\, Techno… \nPeriodically has live Salsa bands. Visit the LV Club Facebook page for details.
URL:https://golatindance.com/event/latin-fridays-and-saturdays-at-lv-club/2023-10-21/
LOCATION:Las Vegas Night Club\, 3702 W Armitage Rd\, Chicago\, IL\, 60647\, United States
CATEGORIES:Chicago
GEO:41.9175016;-87.7194551
X-APPLE-STRUCTURED-LOCATION;VALUE=URI;X-ADDRESS=Las Vegas Night Club 3702 W Armitage Rd Chicago IL 60647 United States;X-APPLE-RADIUS=500;X-TITLE=3702 W Armitage Rd:geo:-87.7194551,41.9175016
END:VEVENT
BEGIN:VEVENT
DTSTART;TZID=America/New_York:20231020T210000
DTEND;TZID=America/New_York:20231021T040000
DTSTAMP:20260421T074321
CREATED:20221108T001929Z
LAST-MODIFIED:20250630T152211Z
UID:10068009-1697835600-1697860800@golatindance.com
SUMMARY:Latin Fridays and Saturdays at LV Club
DESCRIPTION:Latin Fridays and Saturdays at LV Club. \nBachata\, Salsa\, Cumbia\, Hip-Hop\, Reggaeton\, Techno… \nPeriodically has live Salsa bands. Visit the LV Club Facebook page for details.
URL:https://golatindance.com/event/latin-fridays-and-saturdays-at-lv-club/2023-10-20/
LOCATION:Las Vegas Night Club\, 3702 W Armitage Rd\, Chicago\, IL\, 60647\, United States
CATEGORIES:Chicago
GEO:41.9175016;-87.7194551
X-APPLE-STRUCTURED-LOCATION;VALUE=URI;X-ADDRESS=Las Vegas Night Club 3702 W Armitage Rd Chicago IL 60647 United States;X-APPLE-RADIUS=500;X-TITLE=3702 W Armitage Rd:geo:-87.7194551,41.9175016
END:VEVENT
END:VCALENDAR