BEGIN:VCALENDAR
VERSION:2.0
PRODID:-//GO Latin Dance - ECPv6.15.18//NONSGML v1.0//EN
CALSCALE:GREGORIAN
METHOD:PUBLISH
X-ORIGINAL-URL:https://golatindance.com
X-WR-CALDESC:Events for GO Latin Dance
REFRESH-INTERVAL;VALUE=DURATION:PT1H
X-Robots-Tag:noindex
X-PUBLISHED-TTL:PT1H
BEGIN:VTIMEZONE
TZID:America/New_York
BEGIN:DAYLIGHT
TZOFFSETFROM:-0500
TZOFFSETTO:-0400
TZNAME:EDT
DTSTART:20210314T070000
END:DAYLIGHT
BEGIN:STANDARD
TZOFFSETFROM:-0400
TZOFFSETTO:-0500
TZNAME:EST
DTSTART:20211107T060000
END:STANDARD
BEGIN:DAYLIGHT
TZOFFSETFROM:-0500
TZOFFSETTO:-0400
TZNAME:EDT
DTSTART:20220313T070000
END:DAYLIGHT
BEGIN:STANDARD
TZOFFSETFROM:-0400
TZOFFSETTO:-0500
TZNAME:EST
DTSTART:20221106T060000
END:STANDARD
BEGIN:DAYLIGHT
TZOFFSETFROM:-0500
TZOFFSETTO:-0400
TZNAME:EDT
DTSTART:20230312T070000
END:DAYLIGHT
BEGIN:STANDARD
TZOFFSETFROM:-0400
TZOFFSETTO:-0500
TZNAME:EST
DTSTART:20231105T060000
END:STANDARD
BEGIN:DAYLIGHT
TZOFFSETFROM:-0500
TZOFFSETTO:-0400
TZNAME:EDT
DTSTART:20240310T070000
END:DAYLIGHT
BEGIN:STANDARD
TZOFFSETFROM:-0400
TZOFFSETTO:-0500
TZNAME:EST
DTSTART:20241103T060000
END:STANDARD
END:VTIMEZONE
BEGIN:VEVENT
DTSTART;TZID=America/New_York:20230211T210000
DTEND;TZID=America/New_York:20230212T040000
DTSTAMP:20260421T212436
CREATED:20221108T001929Z
LAST-MODIFIED:20250630T152211Z
UID:10032397-1676149200-1676174400@golatindance.com
SUMMARY:Latin Fridays and Saturdays at LV Club
DESCRIPTION:Latin Fridays and Saturdays at LV Club. \nBachata\, Salsa\, Cumbia\, Hip-Hop\, Reggaeton\, Techno… \nPeriodically has live Salsa bands. Visit the LV Club Facebook page for details.
URL:https://golatindance.com/event/latin-fridays-and-saturdays-at-lv-club/2023-02-11/
LOCATION:Las Vegas Night Club\, 3702 W Armitage Rd\, Chicago\, IL\, 60647\, United States
CATEGORIES:Chicago
GEO:41.9175016;-87.7194551
X-APPLE-STRUCTURED-LOCATION;VALUE=URI;X-ADDRESS=Las Vegas Night Club 3702 W Armitage Rd Chicago IL 60647 United States;X-APPLE-RADIUS=500;X-TITLE=3702 W Armitage Rd:geo:-87.7194551,41.9175016
END:VEVENT
BEGIN:VEVENT
DTSTART;TZID=America/New_York:20230210T210000
DTEND;TZID=America/New_York:20230211T040000
DTSTAMP:20260421T212436
CREATED:20221108T001929Z
LAST-MODIFIED:20250630T152211Z
UID:10032396-1676062800-1676088000@golatindance.com
SUMMARY:Latin Fridays and Saturdays at LV Club
DESCRIPTION:Latin Fridays and Saturdays at LV Club. \nBachata\, Salsa\, Cumbia\, Hip-Hop\, Reggaeton\, Techno… \nPeriodically has live Salsa bands. Visit the LV Club Facebook page for details.
URL:https://golatindance.com/event/latin-fridays-and-saturdays-at-lv-club/2023-02-10/
LOCATION:Las Vegas Night Club\, 3702 W Armitage Rd\, Chicago\, IL\, 60647\, United States
CATEGORIES:Chicago
GEO:41.9175016;-87.7194551
X-APPLE-STRUCTURED-LOCATION;VALUE=URI;X-ADDRESS=Las Vegas Night Club 3702 W Armitage Rd Chicago IL 60647 United States;X-APPLE-RADIUS=500;X-TITLE=3702 W Armitage Rd:geo:-87.7194551,41.9175016
END:VEVENT
BEGIN:VEVENT
DTSTART;TZID=America/New_York:20230204T210000
DTEND;TZID=America/New_York:20230205T040000
DTSTAMP:20260421T212436
CREATED:20221108T001929Z
LAST-MODIFIED:20250630T152211Z
UID:10032395-1675544400-1675569600@golatindance.com
SUMMARY:Latin Fridays and Saturdays at LV Club
DESCRIPTION:Latin Fridays and Saturdays at LV Club. \nBachata\, Salsa\, Cumbia\, Hip-Hop\, Reggaeton\, Techno… \nPeriodically has live Salsa bands. Visit the LV Club Facebook page for details.
URL:https://golatindance.com/event/latin-fridays-and-saturdays-at-lv-club/2023-02-04/
LOCATION:Las Vegas Night Club\, 3702 W Armitage Rd\, Chicago\, IL\, 60647\, United States
CATEGORIES:Chicago
GEO:41.9175016;-87.7194551
X-APPLE-STRUCTURED-LOCATION;VALUE=URI;X-ADDRESS=Las Vegas Night Club 3702 W Armitage Rd Chicago IL 60647 United States;X-APPLE-RADIUS=500;X-TITLE=3702 W Armitage Rd:geo:-87.7194551,41.9175016
END:VEVENT
BEGIN:VEVENT
DTSTART;TZID=America/New_York:20230203T210000
DTEND;TZID=America/New_York:20230204T040000
DTSTAMP:20260421T212436
CREATED:20221108T001929Z
LAST-MODIFIED:20250630T152211Z
UID:10032394-1675458000-1675483200@golatindance.com
SUMMARY:Latin Fridays and Saturdays at LV Club
DESCRIPTION:Latin Fridays and Saturdays at LV Club. \nBachata\, Salsa\, Cumbia\, Hip-Hop\, Reggaeton\, Techno… \nPeriodically has live Salsa bands. Visit the LV Club Facebook page for details.
URL:https://golatindance.com/event/latin-fridays-and-saturdays-at-lv-club/2023-02-03/
LOCATION:Las Vegas Night Club\, 3702 W Armitage Rd\, Chicago\, IL\, 60647\, United States
CATEGORIES:Chicago
GEO:41.9175016;-87.7194551
X-APPLE-STRUCTURED-LOCATION;VALUE=URI;X-ADDRESS=Las Vegas Night Club 3702 W Armitage Rd Chicago IL 60647 United States;X-APPLE-RADIUS=500;X-TITLE=3702 W Armitage Rd:geo:-87.7194551,41.9175016
END:VEVENT
BEGIN:VEVENT
DTSTART;TZID=America/New_York:20230128T210000
DTEND;TZID=America/New_York:20230129T040000
DTSTAMP:20260421T212436
CREATED:20221108T001929Z
LAST-MODIFIED:20250630T152211Z
UID:10032393-1674939600-1674964800@golatindance.com
SUMMARY:Latin Fridays and Saturdays at LV Club
DESCRIPTION:Latin Fridays and Saturdays at LV Club. \nBachata\, Salsa\, Cumbia\, Hip-Hop\, Reggaeton\, Techno… \nPeriodically has live Salsa bands. Visit the LV Club Facebook page for details.
URL:https://golatindance.com/event/latin-fridays-and-saturdays-at-lv-club/2023-01-28/
LOCATION:Las Vegas Night Club\, 3702 W Armitage Rd\, Chicago\, IL\, 60647\, United States
CATEGORIES:Chicago
GEO:41.9175016;-87.7194551
X-APPLE-STRUCTURED-LOCATION;VALUE=URI;X-ADDRESS=Las Vegas Night Club 3702 W Armitage Rd Chicago IL 60647 United States;X-APPLE-RADIUS=500;X-TITLE=3702 W Armitage Rd:geo:-87.7194551,41.9175016
END:VEVENT
BEGIN:VEVENT
DTSTART;TZID=America/New_York:20230127T210000
DTEND;TZID=America/New_York:20230128T040000
DTSTAMP:20260421T212436
CREATED:20221108T001929Z
LAST-MODIFIED:20250630T152211Z
UID:10029927-1674853200-1674878400@golatindance.com
SUMMARY:Latin Fridays and Saturdays at LV Club
DESCRIPTION:Latin Fridays and Saturdays at LV Club. \nBachata\, Salsa\, Cumbia\, Hip-Hop\, Reggaeton\, Techno… \nPeriodically has live Salsa bands. Visit the LV Club Facebook page for details.
URL:https://golatindance.com/event/latin-fridays-and-saturdays-at-lv-club/2023-01-27/
LOCATION:Las Vegas Night Club\, 3702 W Armitage Rd\, Chicago\, IL\, 60647\, United States
CATEGORIES:Chicago
GEO:41.9175016;-87.7194551
X-APPLE-STRUCTURED-LOCATION;VALUE=URI;X-ADDRESS=Las Vegas Night Club 3702 W Armitage Rd Chicago IL 60647 United States;X-APPLE-RADIUS=500;X-TITLE=3702 W Armitage Rd:geo:-87.7194551,41.9175016
END:VEVENT
BEGIN:VEVENT
DTSTART;TZID=America/New_York:20230121T210000
DTEND;TZID=America/New_York:20230122T040000
DTSTAMP:20260421T212436
CREATED:20221108T001929Z
LAST-MODIFIED:20250630T152211Z
UID:10029926-1674334800-1674360000@golatindance.com
SUMMARY:Latin Fridays and Saturdays at LV Club
DESCRIPTION:Latin Fridays and Saturdays at LV Club. \nBachata\, Salsa\, Cumbia\, Hip-Hop\, Reggaeton\, Techno… \nPeriodically has live Salsa bands. Visit the LV Club Facebook page for details.
URL:https://golatindance.com/event/latin-fridays-and-saturdays-at-lv-club/2023-01-21/
LOCATION:Las Vegas Night Club\, 3702 W Armitage Rd\, Chicago\, IL\, 60647\, United States
CATEGORIES:Chicago
GEO:41.9175016;-87.7194551
X-APPLE-STRUCTURED-LOCATION;VALUE=URI;X-ADDRESS=Las Vegas Night Club 3702 W Armitage Rd Chicago IL 60647 United States;X-APPLE-RADIUS=500;X-TITLE=3702 W Armitage Rd:geo:-87.7194551,41.9175016
END:VEVENT
BEGIN:VEVENT
DTSTART;TZID=America/New_York:20230120T210000
DTEND;TZID=America/New_York:20230121T040000
DTSTAMP:20260421T212436
CREATED:20221108T001929Z
LAST-MODIFIED:20250630T152211Z
UID:10029925-1674248400-1674273600@golatindance.com
SUMMARY:Latin Fridays and Saturdays at LV Club
DESCRIPTION:Latin Fridays and Saturdays at LV Club. \nBachata\, Salsa\, Cumbia\, Hip-Hop\, Reggaeton\, Techno… \nPeriodically has live Salsa bands. Visit the LV Club Facebook page for details.
URL:https://golatindance.com/event/latin-fridays-and-saturdays-at-lv-club/2023-01-20/
LOCATION:Las Vegas Night Club\, 3702 W Armitage Rd\, Chicago\, IL\, 60647\, United States
CATEGORIES:Chicago
GEO:41.9175016;-87.7194551
X-APPLE-STRUCTURED-LOCATION;VALUE=URI;X-ADDRESS=Las Vegas Night Club 3702 W Armitage Rd Chicago IL 60647 United States;X-APPLE-RADIUS=500;X-TITLE=3702 W Armitage Rd:geo:-87.7194551,41.9175016
END:VEVENT
BEGIN:VEVENT
DTSTART;TZID=America/New_York:20230114T210000
DTEND;TZID=America/New_York:20230115T040000
DTSTAMP:20260421T212436
CREATED:20221108T001929Z
LAST-MODIFIED:20250630T152211Z
UID:10029924-1673730000-1673755200@golatindance.com
SUMMARY:Latin Fridays and Saturdays at LV Club
DESCRIPTION:Latin Fridays and Saturdays at LV Club. \nBachata\, Salsa\, Cumbia\, Hip-Hop\, Reggaeton\, Techno… \nPeriodically has live Salsa bands. Visit the LV Club Facebook page for details.
URL:https://golatindance.com/event/latin-fridays-and-saturdays-at-lv-club/2023-01-14/
LOCATION:Las Vegas Night Club\, 3702 W Armitage Rd\, Chicago\, IL\, 60647\, United States
CATEGORIES:Chicago
GEO:41.9175016;-87.7194551
X-APPLE-STRUCTURED-LOCATION;VALUE=URI;X-ADDRESS=Las Vegas Night Club 3702 W Armitage Rd Chicago IL 60647 United States;X-APPLE-RADIUS=500;X-TITLE=3702 W Armitage Rd:geo:-87.7194551,41.9175016
END:VEVENT
BEGIN:VEVENT
DTSTART;TZID=America/New_York:20230113T210000
DTEND;TZID=America/New_York:20230114T040000
DTSTAMP:20260421T212436
CREATED:20221108T001929Z
LAST-MODIFIED:20250630T152211Z
UID:10029923-1673643600-1673668800@golatindance.com
SUMMARY:Latin Fridays and Saturdays at LV Club
DESCRIPTION:Latin Fridays and Saturdays at LV Club. \nBachata\, Salsa\, Cumbia\, Hip-Hop\, Reggaeton\, Techno… \nPeriodically has live Salsa bands. Visit the LV Club Facebook page for details.
URL:https://golatindance.com/event/latin-fridays-and-saturdays-at-lv-club/2023-01-13/
LOCATION:Las Vegas Night Club\, 3702 W Armitage Rd\, Chicago\, IL\, 60647\, United States
CATEGORIES:Chicago
GEO:41.9175016;-87.7194551
X-APPLE-STRUCTURED-LOCATION;VALUE=URI;X-ADDRESS=Las Vegas Night Club 3702 W Armitage Rd Chicago IL 60647 United States;X-APPLE-RADIUS=500;X-TITLE=3702 W Armitage Rd:geo:-87.7194551,41.9175016
END:VEVENT
BEGIN:VEVENT
DTSTART;TZID=America/New_York:20230107T210000
DTEND;TZID=America/New_York:20230108T040000
DTSTAMP:20260421T212436
CREATED:20221108T001929Z
LAST-MODIFIED:20250630T152211Z
UID:10029922-1673125200-1673150400@golatindance.com
SUMMARY:Latin Fridays and Saturdays at LV Club
DESCRIPTION:Latin Fridays and Saturdays at LV Club. \nBachata\, Salsa\, Cumbia\, Hip-Hop\, Reggaeton\, Techno… \nPeriodically has live Salsa bands. Visit the LV Club Facebook page for details.
URL:https://golatindance.com/event/latin-fridays-and-saturdays-at-lv-club/2023-01-07/
LOCATION:Las Vegas Night Club\, 3702 W Armitage Rd\, Chicago\, IL\, 60647\, United States
CATEGORIES:Chicago
GEO:41.9175016;-87.7194551
X-APPLE-STRUCTURED-LOCATION;VALUE=URI;X-ADDRESS=Las Vegas Night Club 3702 W Armitage Rd Chicago IL 60647 United States;X-APPLE-RADIUS=500;X-TITLE=3702 W Armitage Rd:geo:-87.7194551,41.9175016
END:VEVENT
BEGIN:VEVENT
DTSTART;TZID=America/New_York:20230106T210000
DTEND;TZID=America/New_York:20230107T040000
DTSTAMP:20260421T212436
CREATED:20221108T001929Z
LAST-MODIFIED:20250630T152211Z
UID:10029921-1673038800-1673064000@golatindance.com
SUMMARY:Latin Fridays and Saturdays at LV Club
DESCRIPTION:Latin Fridays and Saturdays at LV Club. \nBachata\, Salsa\, Cumbia\, Hip-Hop\, Reggaeton\, Techno… \nPeriodically has live Salsa bands. Visit the LV Club Facebook page for details.
URL:https://golatindance.com/event/latin-fridays-and-saturdays-at-lv-club/2023-01-06/
LOCATION:Las Vegas Night Club\, 3702 W Armitage Rd\, Chicago\, IL\, 60647\, United States
CATEGORIES:Chicago
GEO:41.9175016;-87.7194551
X-APPLE-STRUCTURED-LOCATION;VALUE=URI;X-ADDRESS=Las Vegas Night Club 3702 W Armitage Rd Chicago IL 60647 United States;X-APPLE-RADIUS=500;X-TITLE=3702 W Armitage Rd:geo:-87.7194551,41.9175016
END:VEVENT
BEGIN:VEVENT
DTSTART;TZID=America/New_York:20221231T210000
DTEND;TZID=America/New_York:20230101T040000
DTSTAMP:20260421T212436
CREATED:20221108T001929Z
LAST-MODIFIED:20250630T152211Z
UID:10035559-1672520400-1672545600@golatindance.com
SUMMARY:Latin Fridays and Saturdays at LV Club
DESCRIPTION:Latin Fridays and Saturdays at LV Club. \nBachata\, Salsa\, Cumbia\, Hip-Hop\, Reggaeton\, Techno… \nPeriodically has live Salsa bands. Visit the LV Club Facebook page for details.
URL:https://golatindance.com/event/latin-fridays-and-saturdays-at-lv-club/2022-12-31/
LOCATION:Las Vegas Night Club\, 3702 W Armitage Rd\, Chicago\, IL\, 60647\, United States
CATEGORIES:Chicago
GEO:41.9175016;-87.7194551
X-APPLE-STRUCTURED-LOCATION;VALUE=URI;X-ADDRESS=Las Vegas Night Club 3702 W Armitage Rd Chicago IL 60647 United States;X-APPLE-RADIUS=500;X-TITLE=3702 W Armitage Rd:geo:-87.7194551,41.9175016
END:VEVENT
BEGIN:VEVENT
DTSTART;TZID=America/New_York:20221230T210000
DTEND;TZID=America/New_York:20221231T040000
DTSTAMP:20260421T212436
CREATED:20221108T001929Z
LAST-MODIFIED:20250630T152211Z
UID:10029919-1672434000-1672459200@golatindance.com
SUMMARY:Latin Fridays and Saturdays at LV Club
DESCRIPTION:Latin Fridays and Saturdays at LV Club. \nBachata\, Salsa\, Cumbia\, Hip-Hop\, Reggaeton\, Techno… \nPeriodically has live Salsa bands. Visit the LV Club Facebook page for details.
URL:https://golatindance.com/event/latin-fridays-and-saturdays-at-lv-club/2022-12-30/
LOCATION:Las Vegas Night Club\, 3702 W Armitage Rd\, Chicago\, IL\, 60647\, United States
CATEGORIES:Chicago
GEO:41.9175016;-87.7194551
X-APPLE-STRUCTURED-LOCATION;VALUE=URI;X-ADDRESS=Las Vegas Night Club 3702 W Armitage Rd Chicago IL 60647 United States;X-APPLE-RADIUS=500;X-TITLE=3702 W Armitage Rd:geo:-87.7194551,41.9175016
END:VEVENT
BEGIN:VEVENT
DTSTART;TZID=America/New_York:20221224T210000
DTEND;TZID=America/New_York:20221225T040000
DTSTAMP:20260421T212436
CREATED:20221108T001929Z
LAST-MODIFIED:20250630T152211Z
UID:10029918-1671915600-1671940800@golatindance.com
SUMMARY:Latin Fridays and Saturdays at LV Club
DESCRIPTION:Latin Fridays and Saturdays at LV Club. \nBachata\, Salsa\, Cumbia\, Hip-Hop\, Reggaeton\, Techno… \nPeriodically has live Salsa bands. Visit the LV Club Facebook page for details.
URL:https://golatindance.com/event/latin-fridays-and-saturdays-at-lv-club/2022-12-24/
LOCATION:Las Vegas Night Club\, 3702 W Armitage Rd\, Chicago\, IL\, 60647\, United States
CATEGORIES:Chicago
GEO:41.9175016;-87.7194551
X-APPLE-STRUCTURED-LOCATION;VALUE=URI;X-ADDRESS=Las Vegas Night Club 3702 W Armitage Rd Chicago IL 60647 United States;X-APPLE-RADIUS=500;X-TITLE=3702 W Armitage Rd:geo:-87.7194551,41.9175016
END:VEVENT
BEGIN:VEVENT
DTSTART;TZID=America/New_York:20221223T210000
DTEND;TZID=America/New_York:20221224T040000
DTSTAMP:20260421T212436
CREATED:20221108T001929Z
LAST-MODIFIED:20250630T152211Z
UID:10029917-1671829200-1671854400@golatindance.com
SUMMARY:Latin Fridays and Saturdays at LV Club
DESCRIPTION:Latin Fridays and Saturdays at LV Club. \nBachata\, Salsa\, Cumbia\, Hip-Hop\, Reggaeton\, Techno… \nPeriodically has live Salsa bands. Visit the LV Club Facebook page for details.
URL:https://golatindance.com/event/latin-fridays-and-saturdays-at-lv-club/2022-12-23/
LOCATION:Las Vegas Night Club\, 3702 W Armitage Rd\, Chicago\, IL\, 60647\, United States
CATEGORIES:Chicago
GEO:41.9175016;-87.7194551
X-APPLE-STRUCTURED-LOCATION;VALUE=URI;X-ADDRESS=Las Vegas Night Club 3702 W Armitage Rd Chicago IL 60647 United States;X-APPLE-RADIUS=500;X-TITLE=3702 W Armitage Rd:geo:-87.7194551,41.9175016
END:VEVENT
BEGIN:VEVENT
DTSTART;TZID=America/New_York:20221217T210000
DTEND;TZID=America/New_York:20221218T040000
DTSTAMP:20260421T212436
CREATED:20221108T001929Z
LAST-MODIFIED:20250630T152211Z
UID:10029916-1671310800-1671336000@golatindance.com
SUMMARY:Latin Fridays and Saturdays at LV Club
DESCRIPTION:Latin Fridays and Saturdays at LV Club. \nBachata\, Salsa\, Cumbia\, Hip-Hop\, Reggaeton\, Techno… \nPeriodically has live Salsa bands. Visit the LV Club Facebook page for details.
URL:https://golatindance.com/event/latin-fridays-and-saturdays-at-lv-club/2022-12-17/
LOCATION:Las Vegas Night Club\, 3702 W Armitage Rd\, Chicago\, IL\, 60647\, United States
CATEGORIES:Chicago
GEO:41.9175016;-87.7194551
X-APPLE-STRUCTURED-LOCATION;VALUE=URI;X-ADDRESS=Las Vegas Night Club 3702 W Armitage Rd Chicago IL 60647 United States;X-APPLE-RADIUS=500;X-TITLE=3702 W Armitage Rd:geo:-87.7194551,41.9175016
END:VEVENT
BEGIN:VEVENT
DTSTART;TZID=America/New_York:20221216T210000
DTEND;TZID=America/New_York:20221217T040000
DTSTAMP:20260421T212436
CREATED:20221108T001929Z
LAST-MODIFIED:20250630T152211Z
UID:10029915-1671224400-1671249600@golatindance.com
SUMMARY:Latin Fridays and Saturdays at LV Club
DESCRIPTION:Latin Fridays and Saturdays at LV Club. \nBachata\, Salsa\, Cumbia\, Hip-Hop\, Reggaeton\, Techno… \nPeriodically has live Salsa bands. Visit the LV Club Facebook page for details.
URL:https://golatindance.com/event/latin-fridays-and-saturdays-at-lv-club/2022-12-16/
LOCATION:Las Vegas Night Club\, 3702 W Armitage Rd\, Chicago\, IL\, 60647\, United States
CATEGORIES:Chicago
GEO:41.9175016;-87.7194551
X-APPLE-STRUCTURED-LOCATION;VALUE=URI;X-ADDRESS=Las Vegas Night Club 3702 W Armitage Rd Chicago IL 60647 United States;X-APPLE-RADIUS=500;X-TITLE=3702 W Armitage Rd:geo:-87.7194551,41.9175016
END:VEVENT
BEGIN:VEVENT
DTSTART;TZID=America/New_York:20221210T210000
DTEND;TZID=America/New_York:20221211T040000
DTSTAMP:20260421T212436
CREATED:20221108T001929Z
LAST-MODIFIED:20250630T152211Z
UID:10029914-1670706000-1670731200@golatindance.com
SUMMARY:Latin Fridays and Saturdays at LV Club
DESCRIPTION:Latin Fridays and Saturdays at LV Club. \nBachata\, Salsa\, Cumbia\, Hip-Hop\, Reggaeton\, Techno… \nPeriodically has live Salsa bands. Visit the LV Club Facebook page for details.
URL:https://golatindance.com/event/latin-fridays-and-saturdays-at-lv-club/2022-12-10/
LOCATION:Las Vegas Night Club\, 3702 W Armitage Rd\, Chicago\, IL\, 60647\, United States
CATEGORIES:Chicago
GEO:41.9175016;-87.7194551
X-APPLE-STRUCTURED-LOCATION;VALUE=URI;X-ADDRESS=Las Vegas Night Club 3702 W Armitage Rd Chicago IL 60647 United States;X-APPLE-RADIUS=500;X-TITLE=3702 W Armitage Rd:geo:-87.7194551,41.9175016
END:VEVENT
BEGIN:VEVENT
DTSTART;TZID=America/New_York:20221209T210000
DTEND;TZID=America/New_York:20221210T040000
DTSTAMP:20260421T212436
CREATED:20221108T001929Z
LAST-MODIFIED:20250630T152211Z
UID:10029913-1670619600-1670644800@golatindance.com
SUMMARY:Latin Fridays and Saturdays at LV Club
DESCRIPTION:Latin Fridays and Saturdays at LV Club. \nBachata\, Salsa\, Cumbia\, Hip-Hop\, Reggaeton\, Techno… \nPeriodically has live Salsa bands. Visit the LV Club Facebook page for details.
URL:https://golatindance.com/event/latin-fridays-and-saturdays-at-lv-club/2022-12-09/
LOCATION:Las Vegas Night Club\, 3702 W Armitage Rd\, Chicago\, IL\, 60647\, United States
CATEGORIES:Chicago
GEO:41.9175016;-87.7194551
X-APPLE-STRUCTURED-LOCATION;VALUE=URI;X-ADDRESS=Las Vegas Night Club 3702 W Armitage Rd Chicago IL 60647 United States;X-APPLE-RADIUS=500;X-TITLE=3702 W Armitage Rd:geo:-87.7194551,41.9175016
END:VEVENT
BEGIN:VEVENT
DTSTART;TZID=America/New_York:20221203T210000
DTEND;TZID=America/New_York:20221204T040000
DTSTAMP:20260421T212436
CREATED:20221108T001929Z
LAST-MODIFIED:20250630T152211Z
UID:10026948-1670101200-1670126400@golatindance.com
SUMMARY:Latin Fridays and Saturdays at LV Club
DESCRIPTION:Latin Fridays and Saturdays at LV Club. \nBachata\, Salsa\, Cumbia\, Hip-Hop\, Reggaeton\, Techno… \nPeriodically has live Salsa bands. Visit the LV Club Facebook page for details.
URL:https://golatindance.com/event/latin-fridays-and-saturdays-at-lv-club/2022-12-03/
LOCATION:Las Vegas Night Club\, 3702 W Armitage Rd\, Chicago\, IL\, 60647\, United States
CATEGORIES:Chicago
GEO:41.9175016;-87.7194551
X-APPLE-STRUCTURED-LOCATION;VALUE=URI;X-ADDRESS=Las Vegas Night Club 3702 W Armitage Rd Chicago IL 60647 United States;X-APPLE-RADIUS=500;X-TITLE=3702 W Armitage Rd:geo:-87.7194551,41.9175016
END:VEVENT
BEGIN:VEVENT
DTSTART;TZID=America/New_York:20221202T210000
DTEND;TZID=America/New_York:20221203T040000
DTSTAMP:20260421T212436
CREATED:20221108T001929Z
LAST-MODIFIED:20250630T152211Z
UID:10026947-1670014800-1670040000@golatindance.com
SUMMARY:Latin Fridays and Saturdays at LV Club
DESCRIPTION:Latin Fridays and Saturdays at LV Club. \nBachata\, Salsa\, Cumbia\, Hip-Hop\, Reggaeton\, Techno… \nPeriodically has live Salsa bands. Visit the LV Club Facebook page for details.
URL:https://golatindance.com/event/latin-fridays-and-saturdays-at-lv-club/2022-12-02/
LOCATION:Las Vegas Night Club\, 3702 W Armitage Rd\, Chicago\, IL\, 60647\, United States
CATEGORIES:Chicago
GEO:41.9175016;-87.7194551
X-APPLE-STRUCTURED-LOCATION;VALUE=URI;X-ADDRESS=Las Vegas Night Club 3702 W Armitage Rd Chicago IL 60647 United States;X-APPLE-RADIUS=500;X-TITLE=3702 W Armitage Rd:geo:-87.7194551,41.9175016
END:VEVENT
BEGIN:VEVENT
DTSTART;TZID=America/New_York:20221126T210000
DTEND;TZID=America/New_York:20221127T040000
DTSTAMP:20260421T212436
CREATED:20221108T001929Z
LAST-MODIFIED:20250630T152211Z
UID:10026946-1669496400-1669521600@golatindance.com
SUMMARY:Latin Fridays and Saturdays at LV Club
DESCRIPTION:Latin Fridays and Saturdays at LV Club. \nBachata\, Salsa\, Cumbia\, Hip-Hop\, Reggaeton\, Techno… \nPeriodically has live Salsa bands. Visit the LV Club Facebook page for details.
URL:https://golatindance.com/event/latin-fridays-and-saturdays-at-lv-club/2022-11-26/
LOCATION:Las Vegas Night Club\, 3702 W Armitage Rd\, Chicago\, IL\, 60647\, United States
CATEGORIES:Chicago
GEO:41.9175016;-87.7194551
X-APPLE-STRUCTURED-LOCATION;VALUE=URI;X-ADDRESS=Las Vegas Night Club 3702 W Armitage Rd Chicago IL 60647 United States;X-APPLE-RADIUS=500;X-TITLE=3702 W Armitage Rd:geo:-87.7194551,41.9175016
END:VEVENT
BEGIN:VEVENT
DTSTART;TZID=America/New_York:20221125T210000
DTEND;TZID=America/New_York:20221126T040000
DTSTAMP:20260421T212436
CREATED:20221108T001929Z
LAST-MODIFIED:20250630T152211Z
UID:10026945-1669410000-1669435200@golatindance.com
SUMMARY:Latin Fridays and Saturdays at LV Club
DESCRIPTION:Latin Fridays and Saturdays at LV Club. \nBachata\, Salsa\, Cumbia\, Hip-Hop\, Reggaeton\, Techno… \nPeriodically has live Salsa bands. Visit the LV Club Facebook page for details.
URL:https://golatindance.com/event/latin-fridays-and-saturdays-at-lv-club/2022-11-25/
LOCATION:Las Vegas Night Club\, 3702 W Armitage Rd\, Chicago\, IL\, 60647\, United States
CATEGORIES:Chicago
GEO:41.9175016;-87.7194551
X-APPLE-STRUCTURED-LOCATION;VALUE=URI;X-ADDRESS=Las Vegas Night Club 3702 W Armitage Rd Chicago IL 60647 United States;X-APPLE-RADIUS=500;X-TITLE=3702 W Armitage Rd:geo:-87.7194551,41.9175016
END:VEVENT
BEGIN:VEVENT
DTSTART;TZID=America/New_York:20221119T210000
DTEND;TZID=America/New_York:20221120T040000
DTSTAMP:20260421T212436
CREATED:20221108T001929Z
LAST-MODIFIED:20250630T152211Z
UID:10026944-1668891600-1668916800@golatindance.com
SUMMARY:Latin Fridays and Saturdays at LV Club
DESCRIPTION:Latin Fridays and Saturdays at LV Club. \nBachata\, Salsa\, Cumbia\, Hip-Hop\, Reggaeton\, Techno… \nPeriodically has live Salsa bands. Visit the LV Club Facebook page for details.
URL:https://golatindance.com/event/latin-fridays-and-saturdays-at-lv-club/2022-11-19/
LOCATION:Las Vegas Night Club\, 3702 W Armitage Rd\, Chicago\, IL\, 60647\, United States
CATEGORIES:Chicago
GEO:41.9175016;-87.7194551
X-APPLE-STRUCTURED-LOCATION;VALUE=URI;X-ADDRESS=Las Vegas Night Club 3702 W Armitage Rd Chicago IL 60647 United States;X-APPLE-RADIUS=500;X-TITLE=3702 W Armitage Rd:geo:-87.7194551,41.9175016
END:VEVENT
BEGIN:VEVENT
DTSTART;TZID=America/New_York:20221118T210000
DTEND;TZID=America/New_York:20221119T040000
DTSTAMP:20260421T212436
CREATED:20221108T001929Z
LAST-MODIFIED:20250630T152211Z
UID:10026943-1668805200-1668830400@golatindance.com
SUMMARY:Latin Fridays and Saturdays at LV Club
DESCRIPTION:Latin Fridays and Saturdays at LV Club. \nBachata\, Salsa\, Cumbia\, Hip-Hop\, Reggaeton\, Techno… \nPeriodically has live Salsa bands. Visit the LV Club Facebook page for details.
URL:https://golatindance.com/event/latin-fridays-and-saturdays-at-lv-club/2022-11-18/
LOCATION:Las Vegas Night Club\, 3702 W Armitage Rd\, Chicago\, IL\, 60647\, United States
CATEGORIES:Chicago
GEO:41.9175016;-87.7194551
X-APPLE-STRUCTURED-LOCATION;VALUE=URI;X-ADDRESS=Las Vegas Night Club 3702 W Armitage Rd Chicago IL 60647 United States;X-APPLE-RADIUS=500;X-TITLE=3702 W Armitage Rd:geo:-87.7194551,41.9175016
END:VEVENT
BEGIN:VEVENT
DTSTART;TZID=America/New_York:20221112T210000
DTEND;TZID=America/New_York:20221113T040000
DTSTAMP:20260421T212436
CREATED:20221108T001929Z
LAST-MODIFIED:20250630T152211Z
UID:10026942-1668286800-1668312000@golatindance.com
SUMMARY:Latin Fridays and Saturdays at LV Club
DESCRIPTION:Latin Fridays and Saturdays at LV Club. \nBachata\, Salsa\, Cumbia\, Hip-Hop\, Reggaeton\, Techno… \nPeriodically has live Salsa bands. Visit the LV Club Facebook page for details.
URL:https://golatindance.com/event/latin-fridays-and-saturdays-at-lv-club/2022-11-12/
LOCATION:Las Vegas Night Club\, 3702 W Armitage Rd\, Chicago\, IL\, 60647\, United States
CATEGORIES:Chicago
GEO:41.9175016;-87.7194551
X-APPLE-STRUCTURED-LOCATION;VALUE=URI;X-ADDRESS=Las Vegas Night Club 3702 W Armitage Rd Chicago IL 60647 United States;X-APPLE-RADIUS=500;X-TITLE=3702 W Armitage Rd:geo:-87.7194551,41.9175016
END:VEVENT
BEGIN:VEVENT
DTSTART;TZID=America/New_York:20221111T210000
DTEND;TZID=America/New_York:20221112T040000
DTSTAMP:20260421T212436
CREATED:20221108T001929Z
LAST-MODIFIED:20250630T152211Z
UID:10026941-1668200400-1668225600@golatindance.com
SUMMARY:Latin Fridays and Saturdays at LV Club
DESCRIPTION:Latin Fridays and Saturdays at LV Club. \nBachata\, Salsa\, Cumbia\, Hip-Hop\, Reggaeton\, Techno… \nPeriodically has live Salsa bands. Visit the LV Club Facebook page for details.
URL:https://golatindance.com/event/latin-fridays-and-saturdays-at-lv-club/2022-11-11/
LOCATION:Las Vegas Night Club\, 3702 W Armitage Rd\, Chicago\, IL\, 60647\, United States
CATEGORIES:Chicago
GEO:41.9175016;-87.7194551
X-APPLE-STRUCTURED-LOCATION;VALUE=URI;X-ADDRESS=Las Vegas Night Club 3702 W Armitage Rd Chicago IL 60647 United States;X-APPLE-RADIUS=500;X-TITLE=3702 W Armitage Rd:geo:-87.7194551,41.9175016
END:VEVENT
END:VCALENDAR