BEGIN:VCALENDAR
VERSION:2.0
PRODID:-//GO Latin Dance - ECPv6.15.18//NONSGML v1.0//EN
CALSCALE:GREGORIAN
METHOD:PUBLISH
X-ORIGINAL-URL:https://golatindance.com
X-WR-CALDESC:Events for GO Latin Dance
REFRESH-INTERVAL;VALUE=DURATION:PT1H
X-Robots-Tag:noindex
X-PUBLISHED-TTL:PT1H
BEGIN:VTIMEZONE
TZID:America/New_York
BEGIN:DAYLIGHT
TZOFFSETFROM:-0500
TZOFFSETTO:-0400
TZNAME:EDT
DTSTART:20240310T070000
END:DAYLIGHT
BEGIN:STANDARD
TZOFFSETFROM:-0400
TZOFFSETTO:-0500
TZNAME:EST
DTSTART:20241103T060000
END:STANDARD
BEGIN:DAYLIGHT
TZOFFSETFROM:-0500
TZOFFSETTO:-0400
TZNAME:EDT
DTSTART:20250309T070000
END:DAYLIGHT
BEGIN:STANDARD
TZOFFSETFROM:-0400
TZOFFSETTO:-0500
TZNAME:EST
DTSTART:20251102T060000
END:STANDARD
BEGIN:DAYLIGHT
TZOFFSETFROM:-0500
TZOFFSETTO:-0400
TZNAME:EDT
DTSTART:20260308T070000
END:DAYLIGHT
BEGIN:STANDARD
TZOFFSETFROM:-0400
TZOFFSETTO:-0500
TZNAME:EST
DTSTART:20261101T060000
END:STANDARD
END:VTIMEZONE
BEGIN:VEVENT
DTSTART;TZID=America/New_York:20251025T210000
DTEND;TZID=America/New_York:20251026T040000
DTSTAMP:20260420T060124
CREATED:20221108T001929Z
LAST-MODIFIED:20250630T152211Z
UID:10068220-1761426000-1761451200@golatindance.com
SUMMARY:Latin Fridays and Saturdays at LV Club
DESCRIPTION:Latin Fridays and Saturdays at LV Club. \nBachata\, Salsa\, Cumbia\, Hip-Hop\, Reggaeton\, Techno… \nPeriodically has live Salsa bands. Visit the LV Club Facebook page for details.
URL:https://golatindance.com/event/latin-fridays-and-saturdays-at-lv-club/2025-10-25/
LOCATION:Las Vegas Night Club\, 3702 W Armitage Rd\, Chicago\, IL\, 60647\, United States
CATEGORIES:Chicago
GEO:41.9175016;-87.7194551
X-APPLE-STRUCTURED-LOCATION;VALUE=URI;X-ADDRESS=Las Vegas Night Club 3702 W Armitage Rd Chicago IL 60647 United States;X-APPLE-RADIUS=500;X-TITLE=3702 W Armitage Rd:geo:-87.7194551,41.9175016
END:VEVENT
BEGIN:VEVENT
DTSTART;TZID=America/New_York:20251024T210000
DTEND;TZID=America/New_York:20251025T040000
DTSTAMP:20260420T060124
CREATED:20221108T001929Z
LAST-MODIFIED:20250630T152211Z
UID:10068219-1761339600-1761364800@golatindance.com
SUMMARY:Latin Fridays and Saturdays at LV Club
DESCRIPTION:Latin Fridays and Saturdays at LV Club. \nBachata\, Salsa\, Cumbia\, Hip-Hop\, Reggaeton\, Techno… \nPeriodically has live Salsa bands. Visit the LV Club Facebook page for details.
URL:https://golatindance.com/event/latin-fridays-and-saturdays-at-lv-club/2025-10-24/
LOCATION:Las Vegas Night Club\, 3702 W Armitage Rd\, Chicago\, IL\, 60647\, United States
CATEGORIES:Chicago
GEO:41.9175016;-87.7194551
X-APPLE-STRUCTURED-LOCATION;VALUE=URI;X-ADDRESS=Las Vegas Night Club 3702 W Armitage Rd Chicago IL 60647 United States;X-APPLE-RADIUS=500;X-TITLE=3702 W Armitage Rd:geo:-87.7194551,41.9175016
END:VEVENT
BEGIN:VEVENT
DTSTART;TZID=America/New_York:20251018T210000
DTEND;TZID=America/New_York:20251019T040000
DTSTAMP:20260420T060124
CREATED:20221108T001929Z
LAST-MODIFIED:20250630T152211Z
UID:10068218-1760821200-1760846400@golatindance.com
SUMMARY:Latin Fridays and Saturdays at LV Club
DESCRIPTION:Latin Fridays and Saturdays at LV Club. \nBachata\, Salsa\, Cumbia\, Hip-Hop\, Reggaeton\, Techno… \nPeriodically has live Salsa bands. Visit the LV Club Facebook page for details.
URL:https://golatindance.com/event/latin-fridays-and-saturdays-at-lv-club/2025-10-18/
LOCATION:Las Vegas Night Club\, 3702 W Armitage Rd\, Chicago\, IL\, 60647\, United States
CATEGORIES:Chicago
GEO:41.9175016;-87.7194551
X-APPLE-STRUCTURED-LOCATION;VALUE=URI;X-ADDRESS=Las Vegas Night Club 3702 W Armitage Rd Chicago IL 60647 United States;X-APPLE-RADIUS=500;X-TITLE=3702 W Armitage Rd:geo:-87.7194551,41.9175016
END:VEVENT
BEGIN:VEVENT
DTSTART;TZID=America/New_York:20251017T210000
DTEND;TZID=America/New_York:20251018T040000
DTSTAMP:20260420T060124
CREATED:20221108T001929Z
LAST-MODIFIED:20250630T152211Z
UID:10068217-1760734800-1760760000@golatindance.com
SUMMARY:Latin Fridays and Saturdays at LV Club
DESCRIPTION:Latin Fridays and Saturdays at LV Club. \nBachata\, Salsa\, Cumbia\, Hip-Hop\, Reggaeton\, Techno… \nPeriodically has live Salsa bands. Visit the LV Club Facebook page for details.
URL:https://golatindance.com/event/latin-fridays-and-saturdays-at-lv-club/2025-10-17/
LOCATION:Las Vegas Night Club\, 3702 W Armitage Rd\, Chicago\, IL\, 60647\, United States
CATEGORIES:Chicago
GEO:41.9175016;-87.7194551
X-APPLE-STRUCTURED-LOCATION;VALUE=URI;X-ADDRESS=Las Vegas Night Club 3702 W Armitage Rd Chicago IL 60647 United States;X-APPLE-RADIUS=500;X-TITLE=3702 W Armitage Rd:geo:-87.7194551,41.9175016
END:VEVENT
BEGIN:VEVENT
DTSTART;TZID=America/New_York:20251011T210000
DTEND;TZID=America/New_York:20251012T040000
DTSTAMP:20260420T060124
CREATED:20221108T001929Z
LAST-MODIFIED:20250630T152211Z
UID:10068216-1760216400-1760241600@golatindance.com
SUMMARY:Latin Fridays and Saturdays at LV Club
DESCRIPTION:Latin Fridays and Saturdays at LV Club. \nBachata\, Salsa\, Cumbia\, Hip-Hop\, Reggaeton\, Techno… \nPeriodically has live Salsa bands. Visit the LV Club Facebook page for details.
URL:https://golatindance.com/event/latin-fridays-and-saturdays-at-lv-club/2025-10-11/
LOCATION:Las Vegas Night Club\, 3702 W Armitage Rd\, Chicago\, IL\, 60647\, United States
CATEGORIES:Chicago
GEO:41.9175016;-87.7194551
X-APPLE-STRUCTURED-LOCATION;VALUE=URI;X-ADDRESS=Las Vegas Night Club 3702 W Armitage Rd Chicago IL 60647 United States;X-APPLE-RADIUS=500;X-TITLE=3702 W Armitage Rd:geo:-87.7194551,41.9175016
END:VEVENT
BEGIN:VEVENT
DTSTART;TZID=America/New_York:20251010T210000
DTEND;TZID=America/New_York:20251011T040000
DTSTAMP:20260420T060124
CREATED:20221108T001929Z
LAST-MODIFIED:20250630T152211Z
UID:10068215-1760130000-1760155200@golatindance.com
SUMMARY:Latin Fridays and Saturdays at LV Club
DESCRIPTION:Latin Fridays and Saturdays at LV Club. \nBachata\, Salsa\, Cumbia\, Hip-Hop\, Reggaeton\, Techno… \nPeriodically has live Salsa bands. Visit the LV Club Facebook page for details.
URL:https://golatindance.com/event/latin-fridays-and-saturdays-at-lv-club/2025-10-10/
LOCATION:Las Vegas Night Club\, 3702 W Armitage Rd\, Chicago\, IL\, 60647\, United States
CATEGORIES:Chicago
GEO:41.9175016;-87.7194551
X-APPLE-STRUCTURED-LOCATION;VALUE=URI;X-ADDRESS=Las Vegas Night Club 3702 W Armitage Rd Chicago IL 60647 United States;X-APPLE-RADIUS=500;X-TITLE=3702 W Armitage Rd:geo:-87.7194551,41.9175016
END:VEVENT
BEGIN:VEVENT
DTSTART;TZID=America/New_York:20251004T210000
DTEND;TZID=America/New_York:20251005T040000
DTSTAMP:20260420T060124
CREATED:20221108T001929Z
LAST-MODIFIED:20250630T152211Z
UID:10068214-1759611600-1759636800@golatindance.com
SUMMARY:Latin Fridays and Saturdays at LV Club
DESCRIPTION:Latin Fridays and Saturdays at LV Club. \nBachata\, Salsa\, Cumbia\, Hip-Hop\, Reggaeton\, Techno… \nPeriodically has live Salsa bands. Visit the LV Club Facebook page for details.
URL:https://golatindance.com/event/latin-fridays-and-saturdays-at-lv-club/2025-10-04/
LOCATION:Las Vegas Night Club\, 3702 W Armitage Rd\, Chicago\, IL\, 60647\, United States
CATEGORIES:Chicago
GEO:41.9175016;-87.7194551
X-APPLE-STRUCTURED-LOCATION;VALUE=URI;X-ADDRESS=Las Vegas Night Club 3702 W Armitage Rd Chicago IL 60647 United States;X-APPLE-RADIUS=500;X-TITLE=3702 W Armitage Rd:geo:-87.7194551,41.9175016
END:VEVENT
BEGIN:VEVENT
DTSTART;TZID=America/New_York:20251003T210000
DTEND;TZID=America/New_York:20251004T040000
DTSTAMP:20260420T060124
CREATED:20221108T001929Z
LAST-MODIFIED:20250630T152211Z
UID:10068213-1759525200-1759550400@golatindance.com
SUMMARY:Latin Fridays and Saturdays at LV Club
DESCRIPTION:Latin Fridays and Saturdays at LV Club. \nBachata\, Salsa\, Cumbia\, Hip-Hop\, Reggaeton\, Techno… \nPeriodically has live Salsa bands. Visit the LV Club Facebook page for details.
URL:https://golatindance.com/event/latin-fridays-and-saturdays-at-lv-club/2025-10-03/
LOCATION:Las Vegas Night Club\, 3702 W Armitage Rd\, Chicago\, IL\, 60647\, United States
CATEGORIES:Chicago
GEO:41.9175016;-87.7194551
X-APPLE-STRUCTURED-LOCATION;VALUE=URI;X-ADDRESS=Las Vegas Night Club 3702 W Armitage Rd Chicago IL 60647 United States;X-APPLE-RADIUS=500;X-TITLE=3702 W Armitage Rd:geo:-87.7194551,41.9175016
END:VEVENT
BEGIN:VEVENT
DTSTART;TZID=America/New_York:20250927T210000
DTEND;TZID=America/New_York:20250928T040000
DTSTAMP:20260420T060124
CREATED:20221108T001929Z
LAST-MODIFIED:20250630T152211Z
UID:10068212-1759006800-1759032000@golatindance.com
SUMMARY:Latin Fridays and Saturdays at LV Club
DESCRIPTION:Latin Fridays and Saturdays at LV Club. \nBachata\, Salsa\, Cumbia\, Hip-Hop\, Reggaeton\, Techno… \nPeriodically has live Salsa bands. Visit the LV Club Facebook page for details.
URL:https://golatindance.com/event/latin-fridays-and-saturdays-at-lv-club/2025-09-27/
LOCATION:Las Vegas Night Club\, 3702 W Armitage Rd\, Chicago\, IL\, 60647\, United States
CATEGORIES:Chicago
GEO:41.9175016;-87.7194551
X-APPLE-STRUCTURED-LOCATION;VALUE=URI;X-ADDRESS=Las Vegas Night Club 3702 W Armitage Rd Chicago IL 60647 United States;X-APPLE-RADIUS=500;X-TITLE=3702 W Armitage Rd:geo:-87.7194551,41.9175016
END:VEVENT
BEGIN:VEVENT
DTSTART;TZID=America/New_York:20250926T210000
DTEND;TZID=America/New_York:20250927T040000
DTSTAMP:20260420T060124
CREATED:20221108T001929Z
LAST-MODIFIED:20250630T152211Z
UID:10068211-1758920400-1758945600@golatindance.com
SUMMARY:Latin Fridays and Saturdays at LV Club
DESCRIPTION:Latin Fridays and Saturdays at LV Club. \nBachata\, Salsa\, Cumbia\, Hip-Hop\, Reggaeton\, Techno… \nPeriodically has live Salsa bands. Visit the LV Club Facebook page for details.
URL:https://golatindance.com/event/latin-fridays-and-saturdays-at-lv-club/2025-09-26/
LOCATION:Las Vegas Night Club\, 3702 W Armitage Rd\, Chicago\, IL\, 60647\, United States
CATEGORIES:Chicago
GEO:41.9175016;-87.7194551
X-APPLE-STRUCTURED-LOCATION;VALUE=URI;X-ADDRESS=Las Vegas Night Club 3702 W Armitage Rd Chicago IL 60647 United States;X-APPLE-RADIUS=500;X-TITLE=3702 W Armitage Rd:geo:-87.7194551,41.9175016
END:VEVENT
BEGIN:VEVENT
DTSTART;TZID=America/New_York:20250920T210000
DTEND;TZID=America/New_York:20250921T040000
DTSTAMP:20260420T060124
CREATED:20221108T001929Z
LAST-MODIFIED:20250630T152211Z
UID:10068210-1758402000-1758427200@golatindance.com
SUMMARY:Latin Fridays and Saturdays at LV Club
DESCRIPTION:Latin Fridays and Saturdays at LV Club. \nBachata\, Salsa\, Cumbia\, Hip-Hop\, Reggaeton\, Techno… \nPeriodically has live Salsa bands. Visit the LV Club Facebook page for details.
URL:https://golatindance.com/event/latin-fridays-and-saturdays-at-lv-club/2025-09-20/
LOCATION:Las Vegas Night Club\, 3702 W Armitage Rd\, Chicago\, IL\, 60647\, United States
CATEGORIES:Chicago
GEO:41.9175016;-87.7194551
X-APPLE-STRUCTURED-LOCATION;VALUE=URI;X-ADDRESS=Las Vegas Night Club 3702 W Armitage Rd Chicago IL 60647 United States;X-APPLE-RADIUS=500;X-TITLE=3702 W Armitage Rd:geo:-87.7194551,41.9175016
END:VEVENT
BEGIN:VEVENT
DTSTART;TZID=America/New_York:20250919T210000
DTEND;TZID=America/New_York:20250920T040000
DTSTAMP:20260420T060124
CREATED:20221108T001929Z
LAST-MODIFIED:20250630T152211Z
UID:10068209-1758315600-1758340800@golatindance.com
SUMMARY:Latin Fridays and Saturdays at LV Club
DESCRIPTION:Latin Fridays and Saturdays at LV Club. \nBachata\, Salsa\, Cumbia\, Hip-Hop\, Reggaeton\, Techno… \nPeriodically has live Salsa bands. Visit the LV Club Facebook page for details.
URL:https://golatindance.com/event/latin-fridays-and-saturdays-at-lv-club/2025-09-19/
LOCATION:Las Vegas Night Club\, 3702 W Armitage Rd\, Chicago\, IL\, 60647\, United States
CATEGORIES:Chicago
GEO:41.9175016;-87.7194551
X-APPLE-STRUCTURED-LOCATION;VALUE=URI;X-ADDRESS=Las Vegas Night Club 3702 W Armitage Rd Chicago IL 60647 United States;X-APPLE-RADIUS=500;X-TITLE=3702 W Armitage Rd:geo:-87.7194551,41.9175016
END:VEVENT
BEGIN:VEVENT
DTSTART;TZID=America/New_York:20250913T210000
DTEND;TZID=America/New_York:20250914T040000
DTSTAMP:20260420T060124
CREATED:20221108T001929Z
LAST-MODIFIED:20250630T152211Z
UID:10068208-1757797200-1757822400@golatindance.com
SUMMARY:Latin Fridays and Saturdays at LV Club
DESCRIPTION:Latin Fridays and Saturdays at LV Club. \nBachata\, Salsa\, Cumbia\, Hip-Hop\, Reggaeton\, Techno… \nPeriodically has live Salsa bands. Visit the LV Club Facebook page for details.
URL:https://golatindance.com/event/latin-fridays-and-saturdays-at-lv-club/2025-09-13/
LOCATION:Las Vegas Night Club\, 3702 W Armitage Rd\, Chicago\, IL\, 60647\, United States
CATEGORIES:Chicago
GEO:41.9175016;-87.7194551
X-APPLE-STRUCTURED-LOCATION;VALUE=URI;X-ADDRESS=Las Vegas Night Club 3702 W Armitage Rd Chicago IL 60647 United States;X-APPLE-RADIUS=500;X-TITLE=3702 W Armitage Rd:geo:-87.7194551,41.9175016
END:VEVENT
BEGIN:VEVENT
DTSTART;TZID=America/New_York:20250912T210000
DTEND;TZID=America/New_York:20250913T040000
DTSTAMP:20260420T060124
CREATED:20221108T001929Z
LAST-MODIFIED:20250630T152211Z
UID:10068207-1757710800-1757736000@golatindance.com
SUMMARY:Latin Fridays and Saturdays at LV Club
DESCRIPTION:Latin Fridays and Saturdays at LV Club. \nBachata\, Salsa\, Cumbia\, Hip-Hop\, Reggaeton\, Techno… \nPeriodically has live Salsa bands. Visit the LV Club Facebook page for details.
URL:https://golatindance.com/event/latin-fridays-and-saturdays-at-lv-club/2025-09-12/
LOCATION:Las Vegas Night Club\, 3702 W Armitage Rd\, Chicago\, IL\, 60647\, United States
CATEGORIES:Chicago
GEO:41.9175016;-87.7194551
X-APPLE-STRUCTURED-LOCATION;VALUE=URI;X-ADDRESS=Las Vegas Night Club 3702 W Armitage Rd Chicago IL 60647 United States;X-APPLE-RADIUS=500;X-TITLE=3702 W Armitage Rd:geo:-87.7194551,41.9175016
END:VEVENT
BEGIN:VEVENT
DTSTART;TZID=America/New_York:20250906T210000
DTEND;TZID=America/New_York:20250907T040000
DTSTAMP:20260420T060124
CREATED:20221108T001929Z
LAST-MODIFIED:20250630T152211Z
UID:10068206-1757192400-1757217600@golatindance.com
SUMMARY:Latin Fridays and Saturdays at LV Club
DESCRIPTION:Latin Fridays and Saturdays at LV Club. \nBachata\, Salsa\, Cumbia\, Hip-Hop\, Reggaeton\, Techno… \nPeriodically has live Salsa bands. Visit the LV Club Facebook page for details.
URL:https://golatindance.com/event/latin-fridays-and-saturdays-at-lv-club/2025-09-06/
LOCATION:Las Vegas Night Club\, 3702 W Armitage Rd\, Chicago\, IL\, 60647\, United States
CATEGORIES:Chicago
GEO:41.9175016;-87.7194551
X-APPLE-STRUCTURED-LOCATION;VALUE=URI;X-ADDRESS=Las Vegas Night Club 3702 W Armitage Rd Chicago IL 60647 United States;X-APPLE-RADIUS=500;X-TITLE=3702 W Armitage Rd:geo:-87.7194551,41.9175016
END:VEVENT
BEGIN:VEVENT
DTSTART;TZID=America/New_York:20250905T210000
DTEND;TZID=America/New_York:20250906T040000
DTSTAMP:20260420T060124
CREATED:20221108T001929Z
LAST-MODIFIED:20250630T152211Z
UID:10068205-1757106000-1757131200@golatindance.com
SUMMARY:Latin Fridays and Saturdays at LV Club
DESCRIPTION:Latin Fridays and Saturdays at LV Club. \nBachata\, Salsa\, Cumbia\, Hip-Hop\, Reggaeton\, Techno… \nPeriodically has live Salsa bands. Visit the LV Club Facebook page for details.
URL:https://golatindance.com/event/latin-fridays-and-saturdays-at-lv-club/2025-09-05/
LOCATION:Las Vegas Night Club\, 3702 W Armitage Rd\, Chicago\, IL\, 60647\, United States
CATEGORIES:Chicago
GEO:41.9175016;-87.7194551
X-APPLE-STRUCTURED-LOCATION;VALUE=URI;X-ADDRESS=Las Vegas Night Club 3702 W Armitage Rd Chicago IL 60647 United States;X-APPLE-RADIUS=500;X-TITLE=3702 W Armitage Rd:geo:-87.7194551,41.9175016
END:VEVENT
BEGIN:VEVENT
DTSTART;TZID=America/New_York:20250830T210000
DTEND;TZID=America/New_York:20250831T040000
DTSTAMP:20260420T060124
CREATED:20221108T001929Z
LAST-MODIFIED:20250630T152211Z
UID:10068204-1756587600-1756612800@golatindance.com
SUMMARY:Latin Fridays and Saturdays at LV Club
DESCRIPTION:Latin Fridays and Saturdays at LV Club. \nBachata\, Salsa\, Cumbia\, Hip-Hop\, Reggaeton\, Techno… \nPeriodically has live Salsa bands. Visit the LV Club Facebook page for details.
URL:https://golatindance.com/event/latin-fridays-and-saturdays-at-lv-club/2025-08-30/
LOCATION:Las Vegas Night Club\, 3702 W Armitage Rd\, Chicago\, IL\, 60647\, United States
CATEGORIES:Chicago
GEO:41.9175016;-87.7194551
X-APPLE-STRUCTURED-LOCATION;VALUE=URI;X-ADDRESS=Las Vegas Night Club 3702 W Armitage Rd Chicago IL 60647 United States;X-APPLE-RADIUS=500;X-TITLE=3702 W Armitage Rd:geo:-87.7194551,41.9175016
END:VEVENT
BEGIN:VEVENT
DTSTART;TZID=America/New_York:20250829T210000
DTEND;TZID=America/New_York:20250830T040000
DTSTAMP:20260420T060124
CREATED:20221108T001929Z
LAST-MODIFIED:20250630T152211Z
UID:10068203-1756501200-1756526400@golatindance.com
SUMMARY:Latin Fridays and Saturdays at LV Club
DESCRIPTION:Latin Fridays and Saturdays at LV Club. \nBachata\, Salsa\, Cumbia\, Hip-Hop\, Reggaeton\, Techno… \nPeriodically has live Salsa bands. Visit the LV Club Facebook page for details.
URL:https://golatindance.com/event/latin-fridays-and-saturdays-at-lv-club/2025-08-29/
LOCATION:Las Vegas Night Club\, 3702 W Armitage Rd\, Chicago\, IL\, 60647\, United States
CATEGORIES:Chicago
GEO:41.9175016;-87.7194551
X-APPLE-STRUCTURED-LOCATION;VALUE=URI;X-ADDRESS=Las Vegas Night Club 3702 W Armitage Rd Chicago IL 60647 United States;X-APPLE-RADIUS=500;X-TITLE=3702 W Armitage Rd:geo:-87.7194551,41.9175016
END:VEVENT
BEGIN:VEVENT
DTSTART;TZID=America/New_York:20250823T210000
DTEND;TZID=America/New_York:20250824T040000
DTSTAMP:20260420T060124
CREATED:20221108T001929Z
LAST-MODIFIED:20250630T152211Z
UID:10068202-1755982800-1756008000@golatindance.com
SUMMARY:Latin Fridays and Saturdays at LV Club
DESCRIPTION:Latin Fridays and Saturdays at LV Club. \nBachata\, Salsa\, Cumbia\, Hip-Hop\, Reggaeton\, Techno… \nPeriodically has live Salsa bands. Visit the LV Club Facebook page for details.
URL:https://golatindance.com/event/latin-fridays-and-saturdays-at-lv-club/2025-08-23/
LOCATION:Las Vegas Night Club\, 3702 W Armitage Rd\, Chicago\, IL\, 60647\, United States
CATEGORIES:Chicago
GEO:41.9175016;-87.7194551
X-APPLE-STRUCTURED-LOCATION;VALUE=URI;X-ADDRESS=Las Vegas Night Club 3702 W Armitage Rd Chicago IL 60647 United States;X-APPLE-RADIUS=500;X-TITLE=3702 W Armitage Rd:geo:-87.7194551,41.9175016
END:VEVENT
BEGIN:VEVENT
DTSTART;TZID=America/New_York:20250822T210000
DTEND;TZID=America/New_York:20250823T040000
DTSTAMP:20260420T060124
CREATED:20221108T001929Z
LAST-MODIFIED:20250630T152211Z
UID:10068201-1755896400-1755921600@golatindance.com
SUMMARY:Latin Fridays and Saturdays at LV Club
DESCRIPTION:Latin Fridays and Saturdays at LV Club. \nBachata\, Salsa\, Cumbia\, Hip-Hop\, Reggaeton\, Techno… \nPeriodically has live Salsa bands. Visit the LV Club Facebook page for details.
URL:https://golatindance.com/event/latin-fridays-and-saturdays-at-lv-club/2025-08-22/
LOCATION:Las Vegas Night Club\, 3702 W Armitage Rd\, Chicago\, IL\, 60647\, United States
CATEGORIES:Chicago
GEO:41.9175016;-87.7194551
X-APPLE-STRUCTURED-LOCATION;VALUE=URI;X-ADDRESS=Las Vegas Night Club 3702 W Armitage Rd Chicago IL 60647 United States;X-APPLE-RADIUS=500;X-TITLE=3702 W Armitage Rd:geo:-87.7194551,41.9175016
END:VEVENT
BEGIN:VEVENT
DTSTART;TZID=America/New_York:20250816T210000
DTEND;TZID=America/New_York:20250817T040000
DTSTAMP:20260420T060124
CREATED:20221108T001929Z
LAST-MODIFIED:20250630T152211Z
UID:10068200-1755378000-1755403200@golatindance.com
SUMMARY:Latin Fridays and Saturdays at LV Club
DESCRIPTION:Latin Fridays and Saturdays at LV Club. \nBachata\, Salsa\, Cumbia\, Hip-Hop\, Reggaeton\, Techno… \nPeriodically has live Salsa bands. Visit the LV Club Facebook page for details.
URL:https://golatindance.com/event/latin-fridays-and-saturdays-at-lv-club/2025-08-16/
LOCATION:Las Vegas Night Club\, 3702 W Armitage Rd\, Chicago\, IL\, 60647\, United States
CATEGORIES:Chicago
GEO:41.9175016;-87.7194551
X-APPLE-STRUCTURED-LOCATION;VALUE=URI;X-ADDRESS=Las Vegas Night Club 3702 W Armitage Rd Chicago IL 60647 United States;X-APPLE-RADIUS=500;X-TITLE=3702 W Armitage Rd:geo:-87.7194551,41.9175016
END:VEVENT
BEGIN:VEVENT
DTSTART;TZID=America/New_York:20250815T210000
DTEND;TZID=America/New_York:20250816T040000
DTSTAMP:20260420T060124
CREATED:20221108T001929Z
LAST-MODIFIED:20250630T152211Z
UID:10068199-1755291600-1755316800@golatindance.com
SUMMARY:Latin Fridays and Saturdays at LV Club
DESCRIPTION:Latin Fridays and Saturdays at LV Club. \nBachata\, Salsa\, Cumbia\, Hip-Hop\, Reggaeton\, Techno… \nPeriodically has live Salsa bands. Visit the LV Club Facebook page for details.
URL:https://golatindance.com/event/latin-fridays-and-saturdays-at-lv-club/2025-08-15/
LOCATION:Las Vegas Night Club\, 3702 W Armitage Rd\, Chicago\, IL\, 60647\, United States
CATEGORIES:Chicago
GEO:41.9175016;-87.7194551
X-APPLE-STRUCTURED-LOCATION;VALUE=URI;X-ADDRESS=Las Vegas Night Club 3702 W Armitage Rd Chicago IL 60647 United States;X-APPLE-RADIUS=500;X-TITLE=3702 W Armitage Rd:geo:-87.7194551,41.9175016
END:VEVENT
BEGIN:VEVENT
DTSTART;TZID=America/New_York:20250809T210000
DTEND;TZID=America/New_York:20250810T040000
DTSTAMP:20260420T060124
CREATED:20221108T001929Z
LAST-MODIFIED:20250630T152211Z
UID:10068198-1754773200-1754798400@golatindance.com
SUMMARY:Latin Fridays and Saturdays at LV Club
DESCRIPTION:Latin Fridays and Saturdays at LV Club. \nBachata\, Salsa\, Cumbia\, Hip-Hop\, Reggaeton\, Techno… \nPeriodically has live Salsa bands. Visit the LV Club Facebook page for details.
URL:https://golatindance.com/event/latin-fridays-and-saturdays-at-lv-club/2025-08-09/
LOCATION:Las Vegas Night Club\, 3702 W Armitage Rd\, Chicago\, IL\, 60647\, United States
CATEGORIES:Chicago
GEO:41.9175016;-87.7194551
X-APPLE-STRUCTURED-LOCATION;VALUE=URI;X-ADDRESS=Las Vegas Night Club 3702 W Armitage Rd Chicago IL 60647 United States;X-APPLE-RADIUS=500;X-TITLE=3702 W Armitage Rd:geo:-87.7194551,41.9175016
END:VEVENT
BEGIN:VEVENT
DTSTART;TZID=America/New_York:20250808T210000
DTEND;TZID=America/New_York:20250809T040000
DTSTAMP:20260420T060124
CREATED:20221108T001929Z
LAST-MODIFIED:20250630T152211Z
UID:10068197-1754686800-1754712000@golatindance.com
SUMMARY:Latin Fridays and Saturdays at LV Club
DESCRIPTION:Latin Fridays and Saturdays at LV Club. \nBachata\, Salsa\, Cumbia\, Hip-Hop\, Reggaeton\, Techno… \nPeriodically has live Salsa bands. Visit the LV Club Facebook page for details.
URL:https://golatindance.com/event/latin-fridays-and-saturdays-at-lv-club/2025-08-08/
LOCATION:Las Vegas Night Club\, 3702 W Armitage Rd\, Chicago\, IL\, 60647\, United States
CATEGORIES:Chicago
GEO:41.9175016;-87.7194551
X-APPLE-STRUCTURED-LOCATION;VALUE=URI;X-ADDRESS=Las Vegas Night Club 3702 W Armitage Rd Chicago IL 60647 United States;X-APPLE-RADIUS=500;X-TITLE=3702 W Armitage Rd:geo:-87.7194551,41.9175016
END:VEVENT
BEGIN:VEVENT
DTSTART;TZID=America/New_York:20250802T210000
DTEND;TZID=America/New_York:20250803T040000
DTSTAMP:20260420T060124
CREATED:20221108T001929Z
LAST-MODIFIED:20250630T152211Z
UID:10068196-1754168400-1754193600@golatindance.com
SUMMARY:Latin Fridays and Saturdays at LV Club
DESCRIPTION:Latin Fridays and Saturdays at LV Club. \nBachata\, Salsa\, Cumbia\, Hip-Hop\, Reggaeton\, Techno… \nPeriodically has live Salsa bands. Visit the LV Club Facebook page for details.
URL:https://golatindance.com/event/latin-fridays-and-saturdays-at-lv-club/2025-08-02/
LOCATION:Las Vegas Night Club\, 3702 W Armitage Rd\, Chicago\, IL\, 60647\, United States
CATEGORIES:Chicago
GEO:41.9175016;-87.7194551
X-APPLE-STRUCTURED-LOCATION;VALUE=URI;X-ADDRESS=Las Vegas Night Club 3702 W Armitage Rd Chicago IL 60647 United States;X-APPLE-RADIUS=500;X-TITLE=3702 W Armitage Rd:geo:-87.7194551,41.9175016
END:VEVENT
BEGIN:VEVENT
DTSTART;TZID=America/New_York:20250801T210000
DTEND;TZID=America/New_York:20250802T040000
DTSTAMP:20260420T060124
CREATED:20221108T001929Z
LAST-MODIFIED:20250630T152211Z
UID:10068195-1754082000-1754107200@golatindance.com
SUMMARY:Latin Fridays and Saturdays at LV Club
DESCRIPTION:Latin Fridays and Saturdays at LV Club. \nBachata\, Salsa\, Cumbia\, Hip-Hop\, Reggaeton\, Techno… \nPeriodically has live Salsa bands. Visit the LV Club Facebook page for details.
URL:https://golatindance.com/event/latin-fridays-and-saturdays-at-lv-club/2025-08-01/
LOCATION:Las Vegas Night Club\, 3702 W Armitage Rd\, Chicago\, IL\, 60647\, United States
CATEGORIES:Chicago
GEO:41.9175016;-87.7194551
X-APPLE-STRUCTURED-LOCATION;VALUE=URI;X-ADDRESS=Las Vegas Night Club 3702 W Armitage Rd Chicago IL 60647 United States;X-APPLE-RADIUS=500;X-TITLE=3702 W Armitage Rd:geo:-87.7194551,41.9175016
END:VEVENT
BEGIN:VEVENT
DTSTART;TZID=America/New_York:20250726T210000
DTEND;TZID=America/New_York:20250727T040000
DTSTAMP:20260420T060124
CREATED:20221108T001929Z
LAST-MODIFIED:20250630T152211Z
UID:10068194-1753563600-1753588800@golatindance.com
SUMMARY:Latin Fridays and Saturdays at LV Club
DESCRIPTION:Latin Fridays and Saturdays at LV Club. \nBachata\, Salsa\, Cumbia\, Hip-Hop\, Reggaeton\, Techno… \nPeriodically has live Salsa bands. Visit the LV Club Facebook page for details.
URL:https://golatindance.com/event/latin-fridays-and-saturdays-at-lv-club/2025-07-26/
LOCATION:Las Vegas Night Club\, 3702 W Armitage Rd\, Chicago\, IL\, 60647\, United States
CATEGORIES:Chicago
GEO:41.9175016;-87.7194551
X-APPLE-STRUCTURED-LOCATION;VALUE=URI;X-ADDRESS=Las Vegas Night Club 3702 W Armitage Rd Chicago IL 60647 United States;X-APPLE-RADIUS=500;X-TITLE=3702 W Armitage Rd:geo:-87.7194551,41.9175016
END:VEVENT
BEGIN:VEVENT
DTSTART;TZID=America/New_York:20250725T210000
DTEND;TZID=America/New_York:20250726T040000
DTSTAMP:20260420T060124
CREATED:20221108T001929Z
LAST-MODIFIED:20250630T152211Z
UID:10068193-1753477200-1753502400@golatindance.com
SUMMARY:Latin Fridays and Saturdays at LV Club
DESCRIPTION:Latin Fridays and Saturdays at LV Club. \nBachata\, Salsa\, Cumbia\, Hip-Hop\, Reggaeton\, Techno… \nPeriodically has live Salsa bands. Visit the LV Club Facebook page for details.
URL:https://golatindance.com/event/latin-fridays-and-saturdays-at-lv-club/2025-07-25/
LOCATION:Las Vegas Night Club\, 3702 W Armitage Rd\, Chicago\, IL\, 60647\, United States
CATEGORIES:Chicago
GEO:41.9175016;-87.7194551
X-APPLE-STRUCTURED-LOCATION;VALUE=URI;X-ADDRESS=Las Vegas Night Club 3702 W Armitage Rd Chicago IL 60647 United States;X-APPLE-RADIUS=500;X-TITLE=3702 W Armitage Rd:geo:-87.7194551,41.9175016
END:VEVENT
BEGIN:VEVENT
DTSTART;TZID=America/New_York:20250719T210000
DTEND;TZID=America/New_York:20250720T040000
DTSTAMP:20260420T060124
CREATED:20221108T001929Z
LAST-MODIFIED:20250630T152211Z
UID:10068192-1752958800-1752984000@golatindance.com
SUMMARY:Latin Fridays and Saturdays at LV Club
DESCRIPTION:Latin Fridays and Saturdays at LV Club. \nBachata\, Salsa\, Cumbia\, Hip-Hop\, Reggaeton\, Techno… \nPeriodically has live Salsa bands. Visit the LV Club Facebook page for details.
URL:https://golatindance.com/event/latin-fridays-and-saturdays-at-lv-club/2025-07-19/
LOCATION:Las Vegas Night Club\, 3702 W Armitage Rd\, Chicago\, IL\, 60647\, United States
CATEGORIES:Chicago
GEO:41.9175016;-87.7194551
X-APPLE-STRUCTURED-LOCATION;VALUE=URI;X-ADDRESS=Las Vegas Night Club 3702 W Armitage Rd Chicago IL 60647 United States;X-APPLE-RADIUS=500;X-TITLE=3702 W Armitage Rd:geo:-87.7194551,41.9175016
END:VEVENT
BEGIN:VEVENT
DTSTART;TZID=America/New_York:20250718T210000
DTEND;TZID=America/New_York:20250719T040000
DTSTAMP:20260420T060124
CREATED:20221108T001929Z
LAST-MODIFIED:20250630T152211Z
UID:10068191-1752872400-1752897600@golatindance.com
SUMMARY:Latin Fridays and Saturdays at LV Club
DESCRIPTION:Latin Fridays and Saturdays at LV Club. \nBachata\, Salsa\, Cumbia\, Hip-Hop\, Reggaeton\, Techno… \nPeriodically has live Salsa bands. Visit the LV Club Facebook page for details.
URL:https://golatindance.com/event/latin-fridays-and-saturdays-at-lv-club/2025-07-18/
LOCATION:Las Vegas Night Club\, 3702 W Armitage Rd\, Chicago\, IL\, 60647\, United States
CATEGORIES:Chicago
GEO:41.9175016;-87.7194551
X-APPLE-STRUCTURED-LOCATION;VALUE=URI;X-ADDRESS=Las Vegas Night Club 3702 W Armitage Rd Chicago IL 60647 United States;X-APPLE-RADIUS=500;X-TITLE=3702 W Armitage Rd:geo:-87.7194551,41.9175016
END:VEVENT
END:VCALENDAR