BEGIN:VCALENDAR
VERSION:2.0
PRODID:-//GO Latin Dance - ECPv6.15.18//NONSGML v1.0//EN
CALSCALE:GREGORIAN
METHOD:PUBLISH
X-ORIGINAL-URL:https://golatindance.com
X-WR-CALDESC:Events for GO Latin Dance
REFRESH-INTERVAL;VALUE=DURATION:PT1H
X-Robots-Tag:noindex
X-PUBLISHED-TTL:PT1H
BEGIN:VTIMEZONE
TZID:America/Los_Angeles
BEGIN:DAYLIGHT
TZOFFSETFROM:-0800
TZOFFSETTO:-0700
TZNAME:PDT
DTSTART:20240310T100000
END:DAYLIGHT
BEGIN:STANDARD
TZOFFSETFROM:-0700
TZOFFSETTO:-0800
TZNAME:PST
DTSTART:20241103T090000
END:STANDARD
BEGIN:DAYLIGHT
TZOFFSETFROM:-0800
TZOFFSETTO:-0700
TZNAME:PDT
DTSTART:20250309T100000
END:DAYLIGHT
BEGIN:STANDARD
TZOFFSETFROM:-0700
TZOFFSETTO:-0800
TZNAME:PST
DTSTART:20251102T090000
END:STANDARD
BEGIN:DAYLIGHT
TZOFFSETFROM:-0800
TZOFFSETTO:-0700
TZNAME:PDT
DTSTART:20260308T100000
END:DAYLIGHT
BEGIN:STANDARD
TZOFFSETFROM:-0700
TZOFFSETTO:-0800
TZNAME:PST
DTSTART:20261101T090000
END:STANDARD
BEGIN:DAYLIGHT
TZOFFSETFROM:-0800
TZOFFSETTO:-0700
TZNAME:PDT
DTSTART:20270314T100000
END:DAYLIGHT
BEGIN:STANDARD
TZOFFSETFROM:-0700
TZOFFSETTO:-0800
TZNAME:PST
DTSTART:20271107T090000
END:STANDARD
END:VTIMEZONE
BEGIN:VEVENT
DTSTART;TZID=America/Los_Angeles:20260110T170000
DTEND;TZID=America/Los_Angeles:20260110T210000
DTSTAMP:20260424T193021
CREATED:20250324T170910Z
LAST-MODIFIED:20251230T212012Z
UID:10427855-1768064400-1768078800@golatindance.com
SUMMARY:Salsa and Bachata dancing at Meraki
DESCRIPTION:Join us for this special event \nSalsa & Bachata dancing at The Meraki venue @merakisd_\n5-9pm. Huge dance floor\, high ceilings\, beautiful bar\, great patio\, plush seating and ambience. \nDJ Mo Lyon 5:30-9pm\n18+\n$15 cover at entrance
URL:https://golatindance.com/event/salsa-and-bachata-dancing-at-meraki/2026-01-10/
LOCATION:Meraki\, 1648 30th St\, San Diego\, CA\, United States
CATEGORIES:San Diego
END:VEVENT
BEGIN:VEVENT
DTSTART;TZID=America/Los_Angeles:20251220T170000
DTEND;TZID=America/Los_Angeles:20251220T210000
DTSTAMP:20260424T193021
CREATED:20250324T170910Z
LAST-MODIFIED:20251230T212012Z
UID:10418050-1766250000-1766264400@golatindance.com
SUMMARY:Salsa and Bachata dancing at Meraki
DESCRIPTION:Join us for this special event \nSalsa & Bachata dancing at The Meraki venue @merakisd_\n5-9pm. Huge dance floor\, high ceilings\, beautiful bar\, great patio\, plush seating and ambience. \nDJ Mo Lyon 5:30-9pm\n18+\n$15 cover at entrance
URL:https://golatindance.com/event/salsa-and-bachata-dancing-at-meraki/2025-12-20/
LOCATION:Meraki\, 1648 30th St\, San Diego\, CA\, United States
CATEGORIES:San Diego
END:VEVENT
BEGIN:VEVENT
DTSTART;TZID=America/Los_Angeles:20251130T163000
DTEND;TZID=America/Los_Angeles:20251130T210000
DTSTAMP:20260424T193021
CREATED:20250730T022036Z
LAST-MODIFIED:20260113T164331Z
UID:10409724-1764520200-1764536400@golatindance.com
SUMMARY:Salsa and Bachata dancing in Coronado located on the golf course. Lesson and dancing
DESCRIPTION:We are doing it again!\nSalsa & Bachata on the Fareway in Coronado\n4:30-9pm\n$20 cover.\nEarly arrival suggested\nDJ Mo Lyon\nBest variety of Salsa & Bachata \nInvite your friends to join\n4:30pm Salsa lesson\nBeginner friendly\, no partner needed\nDancing 5:30-9pm\nHuge dance floor\, indoor outdoor venue\, huge patio\, Free parking\nFull bar\, great food.\nFamily friendly \nWe packed the house last our last event\, don’t miss this special event! \nLocated just over the Coronado bridge\nAt Feast and Fareway on the golf course\n2000 Visalia Row Coronado 92118
URL:https://golatindance.com/event/salsa-and-bachata-dancing-in-coronado-located-on-the-golf-course-lesson-and-dancing/2025-11-30/
LOCATION:Feast & Fareway\, 2000 Visalia Row\, Coronado\, CA\, 92118\, US
CATEGORIES:San Diego
END:VEVENT
BEGIN:VEVENT
DTSTART;TZID=America/Los_Angeles:20251109T163000
DTEND;TZID=America/Los_Angeles:20251109T210000
DTSTAMP:20260424T193021
CREATED:20251028T170256Z
LAST-MODIFIED:20260223T201356Z
UID:10409721-1762705800-1762722000@golatindance.com
SUMMARY:Salsa and Bachata dancing at Julep Venue lessons and dancing
DESCRIPTION:Special Event Salsa and Bachata dancing is back again. At The Julep Venue San Diego\nSpecial event Sunday \n4:30-9pm\n4:30pm beginner lesson\nDancing 5:30-9pm\nDJ Mo Lyon \nHuge Dance floor\, beautiful high ceilings\, out door patio\, great drinks\n$15 cover \nThis event is perfect for everyone\, all levels welcome. We host this event once a month. Don’t miss it \nFree parking\nInvite a friend to join the fun 🤩
URL:https://golatindance.com/event/salsa-and-bachata-dancing-at-julep-venue-lessons-and-dancing/2025-11-09/
LOCATION:Julep Venue\, 1735 Hancock Street\, San Diego\, CA\, 92101\, US
CATEGORIES:San Diego
END:VEVENT
BEGIN:VEVENT
DTSTART;TZID=America/Los_Angeles:20251101T190000
DTEND;TZID=America/Los_Angeles:20251101T230000
DTSTAMP:20260424T193021
CREATED:20251021T164955Z
LAST-MODIFIED:20260203T193224Z
UID:10405952-1762023600-1762038000@golatindance.com
SUMMARY:Salsa and Bachata  Vesper Venue Point Loma lesson and dancing
DESCRIPTION:San Diego are you ready for a new event? Salsa & Bachata dancing at Vesper Venue in Point Loma\n….Lesson and dancing….. \n5-9pm\n$20 entrance \n5pm Beginner lesson\nDancing 6-9pm\nDJ Mo Lyon \nSpecial performances\nHuge venue\, amazing dance space\, free parking\n-Full bar \nVesper Venue \n2875 Dewey Rd\, San Diego\, CA 92106
URL:https://golatindance.com/event/salsa-and-bachata-vesper-venue-point-loma-lesson-and-dancing/2025-11-01/
LOCATION:Vesper Venue\, 2875 Dewey Rd\, San Diego\, CA\, 92106\, United States
CATEGORIES:San Diego
END:VEVENT
BEGIN:VEVENT
DTSTART;TZID=America/Los_Angeles:20251012T163000
DTEND;TZID=America/Los_Angeles:20251012T210000
DTSTAMP:20260424T193021
CREATED:20250930T182634Z
LAST-MODIFIED:20260127T152828Z
UID:10402209-1760286600-1760302800@golatindance.com
SUMMARY:Salsa and Bachata Dancing at Adams Theater Special Event
DESCRIPTION:San Diego are you ready to dance?\nSpecial event Salsa and Bachata dancing\nAlong with a beginner lesson \n4:30-9pm\n$15 cover \nEveryone is raving about this new spot to dance 💃🏻\n4:30pm beginner lesson\nCome check out the iconic Adams Theater Venue located in Normal Heights\n3325 Adam Avenue \nDJ Mo Lyon\nSalsa\, Bachata\, Cha Cha Cha & Merengue\n18+ event\nShare and invite your friends \nHosted by Majesty in Motion\nMore information 619.917.1721
URL:https://golatindance.com/event/salsa-and-bachata-dancing-at-adams-theater-special-event/2025-10-12/
LOCATION:Adams Avenue Theater\, 3325 Adams Avenue\, San Diego\, CA\, United States
CATEGORIES:San Diego
END:VEVENT
BEGIN:VEVENT
DTSTART;TZID=America/Los_Angeles:20250817T163000
DTEND;TZID=America/Los_Angeles:20250817T210000
DTSTAMP:20260424T193021
CREATED:20250730T022036Z
LAST-MODIFIED:20260113T164331Z
UID:10383449-1755448200-1755464400@golatindance.com
SUMMARY:Salsa and Bachata dancing in Coronado located on the golf course. Lesson and dancing
DESCRIPTION:We are doing it again!\nSalsa & Bachata on the Fareway in Coronado\n4:30-9pm\n$20 cover.\nEarly arrival suggested\nDJ Mo Lyon\nBest variety of Salsa & Bachata \nInvite your friends to join\n4:30pm Salsa lesson\nBeginner friendly\, no partner needed\nDancing 5:30-9pm\nHuge dance floor\, indoor outdoor venue\, huge patio\, Free parking\nFull bar\, great food.\nFamily friendly \nWe packed the house last our last event\, don’t miss this special event! \nLocated just over the Coronado bridge\nAt Feast and Fareway on the golf course\n2000 Visalia Row Coronado 92118
URL:https://golatindance.com/event/salsa-and-bachata-dancing-in-coronado-located-on-the-golf-course-lesson-and-dancing/2025-08-17/
LOCATION:Feast & Fareway\, 2000 Visalia Row\, Coronado\, CA\, 92118\, US
CATEGORIES:San Diego
END:VEVENT
BEGIN:VEVENT
DTSTART;TZID=America/Los_Angeles:20250419T163000
DTEND;TZID=America/Los_Angeles:20250419T210000
DTSTAMP:20260424T193021
CREATED:20250324T170910Z
LAST-MODIFIED:20251230T212012Z
UID:10349610-1745080200-1745096400@golatindance.com
SUMMARY:Salsa and Bachata dancing at Meraki
DESCRIPTION:Join us for this special event \nSalsa & Bachata dancing at The Meraki venue @merakisd_\n5-9pm. Huge dance floor\, high ceilings\, beautiful bar\, great patio\, plush seating and ambience. \nDJ Mo Lyon 5:30-9pm\n18+\n$15 cover at entrance
URL:https://golatindance.com/event/salsa-and-bachata-dancing-at-meraki/2025-04-19/
LOCATION:Meraki\, 1648 30th St\, San Diego\, CA\, United States
CATEGORIES:San Diego
END:VEVENT
END:VCALENDAR