BEGIN:VCALENDAR
VERSION:2.0
PRODID:-//GO Latin Dance - ECPv6.15.18//NONSGML v1.0//EN
CALSCALE:GREGORIAN
METHOD:PUBLISH
X-WR-CALNAME:GO Latin Dance
X-ORIGINAL-URL:https://golatindance.com
X-WR-CALDESC:Events for GO Latin Dance
REFRESH-INTERVAL;VALUE=DURATION:PT1H
X-Robots-Tag:noindex
X-PUBLISHED-TTL:PT1H
BEGIN:VTIMEZONE
TZID:America/Los_Angeles
BEGIN:DAYLIGHT
TZOFFSETFROM:-0800
TZOFFSETTO:-0700
TZNAME:PDT
DTSTART:20260308T100000
END:DAYLIGHT
BEGIN:STANDARD
TZOFFSETFROM:-0700
TZOFFSETTO:-0800
TZNAME:PST
DTSTART:20261101T090000
END:STANDARD
BEGIN:DAYLIGHT
TZOFFSETFROM:-0800
TZOFFSETTO:-0700
TZNAME:PDT
DTSTART:20270314T100000
END:DAYLIGHT
BEGIN:STANDARD
TZOFFSETFROM:-0700
TZOFFSETTO:-0800
TZNAME:PST
DTSTART:20271107T090000
END:STANDARD
BEGIN:DAYLIGHT
TZOFFSETFROM:-0800
TZOFFSETTO:-0700
TZNAME:PDT
DTSTART:20280312T100000
END:DAYLIGHT
BEGIN:STANDARD
TZOFFSETFROM:-0700
TZOFFSETTO:-0800
TZNAME:PST
DTSTART:20281105T090000
END:STANDARD
BEGIN:DAYLIGHT
TZOFFSETFROM:-0800
TZOFFSETTO:-0700
TZNAME:PDT
DTSTART:20290311T100000
END:DAYLIGHT
BEGIN:STANDARD
TZOFFSETFROM:-0700
TZOFFSETTO:-0800
TZNAME:PST
DTSTART:20291104T090000
END:STANDARD
END:VTIMEZONE
BEGIN:VEVENT
DTSTART;TZID=America/Los_Angeles:20270903T200000
DTEND;TZID=America/Los_Angeles:20270904T020000
DTSTAMP:20260425T062010
CREATED:20251202T210241Z
LAST-MODIFIED:20260113T170043Z
UID:10418406-1820001600-1820023200@golatindance.com
SUMMARY:Mama Juana Nights Studio City
DESCRIPTION:Every Friday Night!\nDoors Open @8pm\nSalsa Class by Raul Santiago @9pm\nMama Juana Project Orchestra @9:45pm\nDJ Mario @11:30pm
URL:https://golatindance.com/event/mama-juana-nights-studio-city/2027-09-03/
LOCATION:3704 Cahuenga Blvd\, 3704 Cahuenga Blvd\, Studio City\, CA\, 91604\, United States
CATEGORIES:Los Angeles
ATTACH;FMTTYPE=image/jpeg:https://golatindance.com/wp-content/uploads/2025/12/470174331_122122776752571595_3628749059414569209_n.jpg
END:VEVENT
BEGIN:VEVENT
DTSTART;TZID=America/Los_Angeles:20270910T200000
DTEND;TZID=America/Los_Angeles:20270911T020000
DTSTAMP:20260425T062010
CREATED:20251202T210241Z
LAST-MODIFIED:20260113T170043Z
UID:10418407-1820606400-1820628000@golatindance.com
SUMMARY:Mama Juana Nights Studio City
DESCRIPTION:Every Friday Night!\nDoors Open @8pm\nSalsa Class by Raul Santiago @9pm\nMama Juana Project Orchestra @9:45pm\nDJ Mario @11:30pm
URL:https://golatindance.com/event/mama-juana-nights-studio-city/2027-09-10/
LOCATION:3704 Cahuenga Blvd\, 3704 Cahuenga Blvd\, Studio City\, CA\, 91604\, United States
CATEGORIES:Los Angeles
ATTACH;FMTTYPE=image/jpeg:https://golatindance.com/wp-content/uploads/2025/12/470174331_122122776752571595_3628749059414569209_n.jpg
END:VEVENT
BEGIN:VEVENT
DTSTART;TZID=America/Los_Angeles:20270917T200000
DTEND;TZID=America/Los_Angeles:20270918T020000
DTSTAMP:20260425T062010
CREATED:20251202T210241Z
LAST-MODIFIED:20260113T170043Z
UID:10418408-1821211200-1821232800@golatindance.com
SUMMARY:Mama Juana Nights Studio City
DESCRIPTION:Every Friday Night!\nDoors Open @8pm\nSalsa Class by Raul Santiago @9pm\nMama Juana Project Orchestra @9:45pm\nDJ Mario @11:30pm
URL:https://golatindance.com/event/mama-juana-nights-studio-city/2027-09-17/
LOCATION:3704 Cahuenga Blvd\, 3704 Cahuenga Blvd\, Studio City\, CA\, 91604\, United States
CATEGORIES:Los Angeles
ATTACH;FMTTYPE=image/jpeg:https://golatindance.com/wp-content/uploads/2025/12/470174331_122122776752571595_3628749059414569209_n.jpg
END:VEVENT
BEGIN:VEVENT
DTSTART;TZID=America/Los_Angeles:20270924T200000
DTEND;TZID=America/Los_Angeles:20270925T020000
DTSTAMP:20260425T062010
CREATED:20251202T210241Z
LAST-MODIFIED:20260113T170043Z
UID:10418409-1821816000-1821837600@golatindance.com
SUMMARY:Mama Juana Nights Studio City
DESCRIPTION:Every Friday Night!\nDoors Open @8pm\nSalsa Class by Raul Santiago @9pm\nMama Juana Project Orchestra @9:45pm\nDJ Mario @11:30pm
URL:https://golatindance.com/event/mama-juana-nights-studio-city/2027-09-24/
LOCATION:3704 Cahuenga Blvd\, 3704 Cahuenga Blvd\, Studio City\, CA\, 91604\, United States
CATEGORIES:Los Angeles
ATTACH;FMTTYPE=image/jpeg:https://golatindance.com/wp-content/uploads/2025/12/470174331_122122776752571595_3628749059414569209_n.jpg
END:VEVENT
BEGIN:VEVENT
DTSTART;TZID=America/Los_Angeles:20271001T200000
DTEND;TZID=America/Los_Angeles:20271002T020000
DTSTAMP:20260425T062010
CREATED:20251202T210241Z
LAST-MODIFIED:20260113T170043Z
UID:10418410-1822420800-1822442400@golatindance.com
SUMMARY:Mama Juana Nights Studio City
DESCRIPTION:Every Friday Night!\nDoors Open @8pm\nSalsa Class by Raul Santiago @9pm\nMama Juana Project Orchestra @9:45pm\nDJ Mario @11:30pm
URL:https://golatindance.com/event/mama-juana-nights-studio-city/2027-10-01/
LOCATION:3704 Cahuenga Blvd\, 3704 Cahuenga Blvd\, Studio City\, CA\, 91604\, United States
CATEGORIES:Los Angeles
ATTACH;FMTTYPE=image/jpeg:https://golatindance.com/wp-content/uploads/2025/12/470174331_122122776752571595_3628749059414569209_n.jpg
END:VEVENT
BEGIN:VEVENT
DTSTART;TZID=America/Los_Angeles:20271008T200000
DTEND;TZID=America/Los_Angeles:20271009T020000
DTSTAMP:20260425T062010
CREATED:20251202T210241Z
LAST-MODIFIED:20260113T170043Z
UID:10418411-1823025600-1823047200@golatindance.com
SUMMARY:Mama Juana Nights Studio City
DESCRIPTION:Every Friday Night!\nDoors Open @8pm\nSalsa Class by Raul Santiago @9pm\nMama Juana Project Orchestra @9:45pm\nDJ Mario @11:30pm
URL:https://golatindance.com/event/mama-juana-nights-studio-city/2027-10-08/
LOCATION:3704 Cahuenga Blvd\, 3704 Cahuenga Blvd\, Studio City\, CA\, 91604\, United States
CATEGORIES:Los Angeles
ATTACH;FMTTYPE=image/jpeg:https://golatindance.com/wp-content/uploads/2025/12/470174331_122122776752571595_3628749059414569209_n.jpg
END:VEVENT
BEGIN:VEVENT
DTSTART;TZID=America/Los_Angeles:20271015T200000
DTEND;TZID=America/Los_Angeles:20271016T020000
DTSTAMP:20260425T062010
CREATED:20251202T210241Z
LAST-MODIFIED:20260113T170043Z
UID:10418412-1823630400-1823652000@golatindance.com
SUMMARY:Mama Juana Nights Studio City
DESCRIPTION:Every Friday Night!\nDoors Open @8pm\nSalsa Class by Raul Santiago @9pm\nMama Juana Project Orchestra @9:45pm\nDJ Mario @11:30pm
URL:https://golatindance.com/event/mama-juana-nights-studio-city/2027-10-15/
LOCATION:3704 Cahuenga Blvd\, 3704 Cahuenga Blvd\, Studio City\, CA\, 91604\, United States
CATEGORIES:Los Angeles
ATTACH;FMTTYPE=image/jpeg:https://golatindance.com/wp-content/uploads/2025/12/470174331_122122776752571595_3628749059414569209_n.jpg
END:VEVENT
BEGIN:VEVENT
DTSTART;TZID=America/Los_Angeles:20271022T200000
DTEND;TZID=America/Los_Angeles:20271023T020000
DTSTAMP:20260425T062010
CREATED:20251202T210241Z
LAST-MODIFIED:20260113T170043Z
UID:10418413-1824235200-1824256800@golatindance.com
SUMMARY:Mama Juana Nights Studio City
DESCRIPTION:Every Friday Night!\nDoors Open @8pm\nSalsa Class by Raul Santiago @9pm\nMama Juana Project Orchestra @9:45pm\nDJ Mario @11:30pm
URL:https://golatindance.com/event/mama-juana-nights-studio-city/2027-10-22/
LOCATION:3704 Cahuenga Blvd\, 3704 Cahuenga Blvd\, Studio City\, CA\, 91604\, United States
CATEGORIES:Los Angeles
ATTACH;FMTTYPE=image/jpeg:https://golatindance.com/wp-content/uploads/2025/12/470174331_122122776752571595_3628749059414569209_n.jpg
END:VEVENT
BEGIN:VEVENT
DTSTART;TZID=America/Los_Angeles:20271029T200000
DTEND;TZID=America/Los_Angeles:20271030T020000
DTSTAMP:20260425T062010
CREATED:20251202T210241Z
LAST-MODIFIED:20260113T170043Z
UID:10418414-1824840000-1824861600@golatindance.com
SUMMARY:Mama Juana Nights Studio City
DESCRIPTION:Every Friday Night!\nDoors Open @8pm\nSalsa Class by Raul Santiago @9pm\nMama Juana Project Orchestra @9:45pm\nDJ Mario @11:30pm
URL:https://golatindance.com/event/mama-juana-nights-studio-city/2027-10-29/
LOCATION:3704 Cahuenga Blvd\, 3704 Cahuenga Blvd\, Studio City\, CA\, 91604\, United States
CATEGORIES:Los Angeles
ATTACH;FMTTYPE=image/jpeg:https://golatindance.com/wp-content/uploads/2025/12/470174331_122122776752571595_3628749059414569209_n.jpg
END:VEVENT
BEGIN:VEVENT
DTSTART;TZID=America/Los_Angeles:20271105T200000
DTEND;TZID=America/Los_Angeles:20271106T020000
DTSTAMP:20260425T062010
CREATED:20251202T210241Z
LAST-MODIFIED:20260113T170043Z
UID:10418415-1825444800-1825466400@golatindance.com
SUMMARY:Mama Juana Nights Studio City
DESCRIPTION:Every Friday Night!\nDoors Open @8pm\nSalsa Class by Raul Santiago @9pm\nMama Juana Project Orchestra @9:45pm\nDJ Mario @11:30pm
URL:https://golatindance.com/event/mama-juana-nights-studio-city/2027-11-05/
LOCATION:3704 Cahuenga Blvd\, 3704 Cahuenga Blvd\, Studio City\, CA\, 91604\, United States
CATEGORIES:Los Angeles
ATTACH;FMTTYPE=image/jpeg:https://golatindance.com/wp-content/uploads/2025/12/470174331_122122776752571595_3628749059414569209_n.jpg
END:VEVENT
BEGIN:VEVENT
DTSTART;TZID=America/Los_Angeles:20271112T200000
DTEND;TZID=America/Los_Angeles:20271113T020000
DTSTAMP:20260425T062010
CREATED:20251202T210241Z
LAST-MODIFIED:20260113T170043Z
UID:10418416-1826049600-1826071200@golatindance.com
SUMMARY:Mama Juana Nights Studio City
DESCRIPTION:Every Friday Night!\nDoors Open @8pm\nSalsa Class by Raul Santiago @9pm\nMama Juana Project Orchestra @9:45pm\nDJ Mario @11:30pm
URL:https://golatindance.com/event/mama-juana-nights-studio-city/2027-11-12/
LOCATION:3704 Cahuenga Blvd\, 3704 Cahuenga Blvd\, Studio City\, CA\, 91604\, United States
CATEGORIES:Los Angeles
ATTACH;FMTTYPE=image/jpeg:https://golatindance.com/wp-content/uploads/2025/12/470174331_122122776752571595_3628749059414569209_n.jpg
END:VEVENT
BEGIN:VEVENT
DTSTART;TZID=America/Los_Angeles:20271119T200000
DTEND;TZID=America/Los_Angeles:20271120T020000
DTSTAMP:20260425T062010
CREATED:20251202T210241Z
LAST-MODIFIED:20260113T170043Z
UID:10418417-1826654400-1826676000@golatindance.com
SUMMARY:Mama Juana Nights Studio City
DESCRIPTION:Every Friday Night!\nDoors Open @8pm\nSalsa Class by Raul Santiago @9pm\nMama Juana Project Orchestra @9:45pm\nDJ Mario @11:30pm
URL:https://golatindance.com/event/mama-juana-nights-studio-city/2027-11-19/
LOCATION:3704 Cahuenga Blvd\, 3704 Cahuenga Blvd\, Studio City\, CA\, 91604\, United States
CATEGORIES:Los Angeles
ATTACH;FMTTYPE=image/jpeg:https://golatindance.com/wp-content/uploads/2025/12/470174331_122122776752571595_3628749059414569209_n.jpg
END:VEVENT
BEGIN:VEVENT
DTSTART;TZID=America/Los_Angeles:20271126T200000
DTEND;TZID=America/Los_Angeles:20271127T020000
DTSTAMP:20260425T062010
CREATED:20251202T210241Z
LAST-MODIFIED:20260113T170043Z
UID:10418418-1827259200-1827280800@golatindance.com
SUMMARY:Mama Juana Nights Studio City
DESCRIPTION:Every Friday Night!\nDoors Open @8pm\nSalsa Class by Raul Santiago @9pm\nMama Juana Project Orchestra @9:45pm\nDJ Mario @11:30pm
URL:https://golatindance.com/event/mama-juana-nights-studio-city/2027-11-26/
LOCATION:3704 Cahuenga Blvd\, 3704 Cahuenga Blvd\, Studio City\, CA\, 91604\, United States
CATEGORIES:Los Angeles
ATTACH;FMTTYPE=image/jpeg:https://golatindance.com/wp-content/uploads/2025/12/470174331_122122776752571595_3628749059414569209_n.jpg
END:VEVENT
BEGIN:VEVENT
DTSTART;TZID=America/Los_Angeles:20271203T200000
DTEND;TZID=America/Los_Angeles:20271204T020000
DTSTAMP:20260425T062010
CREATED:20251202T210241Z
LAST-MODIFIED:20260113T170043Z
UID:10418419-1827864000-1827885600@golatindance.com
SUMMARY:Mama Juana Nights Studio City
DESCRIPTION:Every Friday Night!\nDoors Open @8pm\nSalsa Class by Raul Santiago @9pm\nMama Juana Project Orchestra @9:45pm\nDJ Mario @11:30pm
URL:https://golatindance.com/event/mama-juana-nights-studio-city/2027-12-03/
LOCATION:3704 Cahuenga Blvd\, 3704 Cahuenga Blvd\, Studio City\, CA\, 91604\, United States
CATEGORIES:Los Angeles
ATTACH;FMTTYPE=image/jpeg:https://golatindance.com/wp-content/uploads/2025/12/470174331_122122776752571595_3628749059414569209_n.jpg
END:VEVENT
BEGIN:VEVENT
DTSTART;TZID=America/Los_Angeles:20271210T200000
DTEND;TZID=America/Los_Angeles:20271211T020000
DTSTAMP:20260425T062010
CREATED:20251202T210241Z
LAST-MODIFIED:20260113T170043Z
UID:10418420-1828468800-1828490400@golatindance.com
SUMMARY:Mama Juana Nights Studio City
DESCRIPTION:Every Friday Night!\nDoors Open @8pm\nSalsa Class by Raul Santiago @9pm\nMama Juana Project Orchestra @9:45pm\nDJ Mario @11:30pm
URL:https://golatindance.com/event/mama-juana-nights-studio-city/2027-12-10/
LOCATION:3704 Cahuenga Blvd\, 3704 Cahuenga Blvd\, Studio City\, CA\, 91604\, United States
CATEGORIES:Los Angeles
ATTACH;FMTTYPE=image/jpeg:https://golatindance.com/wp-content/uploads/2025/12/470174331_122122776752571595_3628749059414569209_n.jpg
END:VEVENT
BEGIN:VEVENT
DTSTART;TZID=America/Los_Angeles:20271217T200000
DTEND;TZID=America/Los_Angeles:20271218T020000
DTSTAMP:20260425T062010
CREATED:20251202T210241Z
LAST-MODIFIED:20260113T170043Z
UID:10418421-1829073600-1829095200@golatindance.com
SUMMARY:Mama Juana Nights Studio City
DESCRIPTION:Every Friday Night!\nDoors Open @8pm\nSalsa Class by Raul Santiago @9pm\nMama Juana Project Orchestra @9:45pm\nDJ Mario @11:30pm
URL:https://golatindance.com/event/mama-juana-nights-studio-city/2027-12-17/
LOCATION:3704 Cahuenga Blvd\, 3704 Cahuenga Blvd\, Studio City\, CA\, 91604\, United States
CATEGORIES:Los Angeles
ATTACH;FMTTYPE=image/jpeg:https://golatindance.com/wp-content/uploads/2025/12/470174331_122122776752571595_3628749059414569209_n.jpg
END:VEVENT
BEGIN:VEVENT
DTSTART;TZID=America/Los_Angeles:20271224T200000
DTEND;TZID=America/Los_Angeles:20271225T020000
DTSTAMP:20260425T062010
CREATED:20251202T210241Z
LAST-MODIFIED:20260113T170043Z
UID:10418422-1829678400-1829700000@golatindance.com
SUMMARY:Mama Juana Nights Studio City
DESCRIPTION:Every Friday Night!\nDoors Open @8pm\nSalsa Class by Raul Santiago @9pm\nMama Juana Project Orchestra @9:45pm\nDJ Mario @11:30pm
URL:https://golatindance.com/event/mama-juana-nights-studio-city/2027-12-24/
LOCATION:3704 Cahuenga Blvd\, 3704 Cahuenga Blvd\, Studio City\, CA\, 91604\, United States
CATEGORIES:Los Angeles
ATTACH;FMTTYPE=image/jpeg:https://golatindance.com/wp-content/uploads/2025/12/470174331_122122776752571595_3628749059414569209_n.jpg
END:VEVENT
BEGIN:VEVENT
DTSTART;TZID=America/Los_Angeles:20271231T200000
DTEND;TZID=America/Los_Angeles:20280101T020000
DTSTAMP:20260425T062010
CREATED:20251202T210241Z
LAST-MODIFIED:20260113T170043Z
UID:10418423-1830283200-1830304800@golatindance.com
SUMMARY:Mama Juana Nights Studio City
DESCRIPTION:Every Friday Night!\nDoors Open @8pm\nSalsa Class by Raul Santiago @9pm\nMama Juana Project Orchestra @9:45pm\nDJ Mario @11:30pm
URL:https://golatindance.com/event/mama-juana-nights-studio-city/2027-12-31/
LOCATION:3704 Cahuenga Blvd\, 3704 Cahuenga Blvd\, Studio City\, CA\, 91604\, United States
CATEGORIES:Los Angeles
ATTACH;FMTTYPE=image/jpeg:https://golatindance.com/wp-content/uploads/2025/12/470174331_122122776752571595_3628749059414569209_n.jpg
END:VEVENT
BEGIN:VEVENT
DTSTART;TZID=America/Los_Angeles:20280107T200000
DTEND;TZID=America/Los_Angeles:20280108T020000
DTSTAMP:20260425T062010
CREATED:20251202T210241Z
LAST-MODIFIED:20260113T170043Z
UID:10418424-1830888000-1830909600@golatindance.com
SUMMARY:Mama Juana Nights Studio City
DESCRIPTION:Every Friday Night!\nDoors Open @8pm\nSalsa Class by Raul Santiago @9pm\nMama Juana Project Orchestra @9:45pm\nDJ Mario @11:30pm
URL:https://golatindance.com/event/mama-juana-nights-studio-city/2028-01-07/
LOCATION:3704 Cahuenga Blvd\, 3704 Cahuenga Blvd\, Studio City\, CA\, 91604\, United States
CATEGORIES:Los Angeles
ATTACH;FMTTYPE=image/jpeg:https://golatindance.com/wp-content/uploads/2025/12/470174331_122122776752571595_3628749059414569209_n.jpg
END:VEVENT
BEGIN:VEVENT
DTSTART;TZID=America/Los_Angeles:20280114T200000
DTEND;TZID=America/Los_Angeles:20280115T020000
DTSTAMP:20260425T062010
CREATED:20251202T210241Z
LAST-MODIFIED:20260113T170043Z
UID:10418425-1831492800-1831514400@golatindance.com
SUMMARY:Mama Juana Nights Studio City
DESCRIPTION:Every Friday Night!\nDoors Open @8pm\nSalsa Class by Raul Santiago @9pm\nMama Juana Project Orchestra @9:45pm\nDJ Mario @11:30pm
URL:https://golatindance.com/event/mama-juana-nights-studio-city/2028-01-14/
LOCATION:3704 Cahuenga Blvd\, 3704 Cahuenga Blvd\, Studio City\, CA\, 91604\, United States
CATEGORIES:Los Angeles
ATTACH;FMTTYPE=image/jpeg:https://golatindance.com/wp-content/uploads/2025/12/470174331_122122776752571595_3628749059414569209_n.jpg
END:VEVENT
BEGIN:VEVENT
DTSTART;TZID=America/Los_Angeles:20280121T200000
DTEND;TZID=America/Los_Angeles:20280122T020000
DTSTAMP:20260425T062010
CREATED:20251202T210241Z
LAST-MODIFIED:20260113T170043Z
UID:10418426-1832097600-1832119200@golatindance.com
SUMMARY:Mama Juana Nights Studio City
DESCRIPTION:Every Friday Night!\nDoors Open @8pm\nSalsa Class by Raul Santiago @9pm\nMama Juana Project Orchestra @9:45pm\nDJ Mario @11:30pm
URL:https://golatindance.com/event/mama-juana-nights-studio-city/2028-01-21/
LOCATION:3704 Cahuenga Blvd\, 3704 Cahuenga Blvd\, Studio City\, CA\, 91604\, United States
CATEGORIES:Los Angeles
ATTACH;FMTTYPE=image/jpeg:https://golatindance.com/wp-content/uploads/2025/12/470174331_122122776752571595_3628749059414569209_n.jpg
END:VEVENT
BEGIN:VEVENT
DTSTART;TZID=America/Los_Angeles:20280128T200000
DTEND;TZID=America/Los_Angeles:20280129T020000
DTSTAMP:20260425T062010
CREATED:20251202T210241Z
LAST-MODIFIED:20260113T170043Z
UID:10418427-1832702400-1832724000@golatindance.com
SUMMARY:Mama Juana Nights Studio City
DESCRIPTION:Every Friday Night!\nDoors Open @8pm\nSalsa Class by Raul Santiago @9pm\nMama Juana Project Orchestra @9:45pm\nDJ Mario @11:30pm
URL:https://golatindance.com/event/mama-juana-nights-studio-city/2028-01-28/
LOCATION:3704 Cahuenga Blvd\, 3704 Cahuenga Blvd\, Studio City\, CA\, 91604\, United States
CATEGORIES:Los Angeles
ATTACH;FMTTYPE=image/jpeg:https://golatindance.com/wp-content/uploads/2025/12/470174331_122122776752571595_3628749059414569209_n.jpg
END:VEVENT
BEGIN:VEVENT
DTSTART;TZID=America/Los_Angeles:20280204T200000
DTEND;TZID=America/Los_Angeles:20280205T020000
DTSTAMP:20260425T062010
CREATED:20251202T210241Z
LAST-MODIFIED:20260113T170043Z
UID:10418428-1833307200-1833328800@golatindance.com
SUMMARY:Mama Juana Nights Studio City
DESCRIPTION:Every Friday Night!\nDoors Open @8pm\nSalsa Class by Raul Santiago @9pm\nMama Juana Project Orchestra @9:45pm\nDJ Mario @11:30pm
URL:https://golatindance.com/event/mama-juana-nights-studio-city/2028-02-04/
LOCATION:3704 Cahuenga Blvd\, 3704 Cahuenga Blvd\, Studio City\, CA\, 91604\, United States
CATEGORIES:Los Angeles
ATTACH;FMTTYPE=image/jpeg:https://golatindance.com/wp-content/uploads/2025/12/470174331_122122776752571595_3628749059414569209_n.jpg
END:VEVENT
BEGIN:VEVENT
DTSTART;TZID=America/Los_Angeles:20280211T200000
DTEND;TZID=America/Los_Angeles:20280212T020000
DTSTAMP:20260425T062010
CREATED:20251202T210241Z
LAST-MODIFIED:20260113T170043Z
UID:10418429-1833912000-1833933600@golatindance.com
SUMMARY:Mama Juana Nights Studio City
DESCRIPTION:Every Friday Night!\nDoors Open @8pm\nSalsa Class by Raul Santiago @9pm\nMama Juana Project Orchestra @9:45pm\nDJ Mario @11:30pm
URL:https://golatindance.com/event/mama-juana-nights-studio-city/2028-02-11/
LOCATION:3704 Cahuenga Blvd\, 3704 Cahuenga Blvd\, Studio City\, CA\, 91604\, United States
CATEGORIES:Los Angeles
ATTACH;FMTTYPE=image/jpeg:https://golatindance.com/wp-content/uploads/2025/12/470174331_122122776752571595_3628749059414569209_n.jpg
END:VEVENT
BEGIN:VEVENT
DTSTART;TZID=America/Los_Angeles:20280218T200000
DTEND;TZID=America/Los_Angeles:20280219T020000
DTSTAMP:20260425T062010
CREATED:20251202T210241Z
LAST-MODIFIED:20260113T170043Z
UID:10418430-1834516800-1834538400@golatindance.com
SUMMARY:Mama Juana Nights Studio City
DESCRIPTION:Every Friday Night!\nDoors Open @8pm\nSalsa Class by Raul Santiago @9pm\nMama Juana Project Orchestra @9:45pm\nDJ Mario @11:30pm
URL:https://golatindance.com/event/mama-juana-nights-studio-city/2028-02-18/
LOCATION:3704 Cahuenga Blvd\, 3704 Cahuenga Blvd\, Studio City\, CA\, 91604\, United States
CATEGORIES:Los Angeles
ATTACH;FMTTYPE=image/jpeg:https://golatindance.com/wp-content/uploads/2025/12/470174331_122122776752571595_3628749059414569209_n.jpg
END:VEVENT
BEGIN:VEVENT
DTSTART;TZID=America/Los_Angeles:20280225T200000
DTEND;TZID=America/Los_Angeles:20280226T020000
DTSTAMP:20260425T062010
CREATED:20251202T210241Z
LAST-MODIFIED:20260113T170043Z
UID:10418431-1835121600-1835143200@golatindance.com
SUMMARY:Mama Juana Nights Studio City
DESCRIPTION:Every Friday Night!\nDoors Open @8pm\nSalsa Class by Raul Santiago @9pm\nMama Juana Project Orchestra @9:45pm\nDJ Mario @11:30pm
URL:https://golatindance.com/event/mama-juana-nights-studio-city/2028-02-25/
LOCATION:3704 Cahuenga Blvd\, 3704 Cahuenga Blvd\, Studio City\, CA\, 91604\, United States
CATEGORIES:Los Angeles
ATTACH;FMTTYPE=image/jpeg:https://golatindance.com/wp-content/uploads/2025/12/470174331_122122776752571595_3628749059414569209_n.jpg
END:VEVENT
BEGIN:VEVENT
DTSTART;TZID=America/Los_Angeles:20280303T200000
DTEND;TZID=America/Los_Angeles:20280304T020000
DTSTAMP:20260425T062010
CREATED:20251202T210241Z
LAST-MODIFIED:20260113T170043Z
UID:10418432-1835726400-1835748000@golatindance.com
SUMMARY:Mama Juana Nights Studio City
DESCRIPTION:Every Friday Night!\nDoors Open @8pm\nSalsa Class by Raul Santiago @9pm\nMama Juana Project Orchestra @9:45pm\nDJ Mario @11:30pm
URL:https://golatindance.com/event/mama-juana-nights-studio-city/2028-03-03/
LOCATION:3704 Cahuenga Blvd\, 3704 Cahuenga Blvd\, Studio City\, CA\, 91604\, United States
CATEGORIES:Los Angeles
ATTACH;FMTTYPE=image/jpeg:https://golatindance.com/wp-content/uploads/2025/12/470174331_122122776752571595_3628749059414569209_n.jpg
END:VEVENT
BEGIN:VEVENT
DTSTART;TZID=America/Los_Angeles:20280310T200000
DTEND;TZID=America/Los_Angeles:20280311T020000
DTSTAMP:20260425T062010
CREATED:20251202T210241Z
LAST-MODIFIED:20260113T170043Z
UID:10418433-1836331200-1836352800@golatindance.com
SUMMARY:Mama Juana Nights Studio City
DESCRIPTION:Every Friday Night!\nDoors Open @8pm\nSalsa Class by Raul Santiago @9pm\nMama Juana Project Orchestra @9:45pm\nDJ Mario @11:30pm
URL:https://golatindance.com/event/mama-juana-nights-studio-city/2028-03-10/
LOCATION:3704 Cahuenga Blvd\, 3704 Cahuenga Blvd\, Studio City\, CA\, 91604\, United States
CATEGORIES:Los Angeles
ATTACH;FMTTYPE=image/jpeg:https://golatindance.com/wp-content/uploads/2025/12/470174331_122122776752571595_3628749059414569209_n.jpg
END:VEVENT
BEGIN:VEVENT
DTSTART;TZID=America/Los_Angeles:20280317T200000
DTEND;TZID=America/Los_Angeles:20280318T020000
DTSTAMP:20260425T062010
CREATED:20251202T210241Z
LAST-MODIFIED:20260113T170043Z
UID:10418434-1836936000-1836957600@golatindance.com
SUMMARY:Mama Juana Nights Studio City
DESCRIPTION:Every Friday Night!\nDoors Open @8pm\nSalsa Class by Raul Santiago @9pm\nMama Juana Project Orchestra @9:45pm\nDJ Mario @11:30pm
URL:https://golatindance.com/event/mama-juana-nights-studio-city/2028-03-17/
LOCATION:3704 Cahuenga Blvd\, 3704 Cahuenga Blvd\, Studio City\, CA\, 91604\, United States
CATEGORIES:Los Angeles
ATTACH;FMTTYPE=image/jpeg:https://golatindance.com/wp-content/uploads/2025/12/470174331_122122776752571595_3628749059414569209_n.jpg
END:VEVENT
BEGIN:VEVENT
DTSTART;TZID=America/Los_Angeles:20280324T200000
DTEND;TZID=America/Los_Angeles:20280325T020000
DTSTAMP:20260425T062010
CREATED:20251202T210241Z
LAST-MODIFIED:20260113T170043Z
UID:10418435-1837540800-1837562400@golatindance.com
SUMMARY:Mama Juana Nights Studio City
DESCRIPTION:Every Friday Night!\nDoors Open @8pm\nSalsa Class by Raul Santiago @9pm\nMama Juana Project Orchestra @9:45pm\nDJ Mario @11:30pm
URL:https://golatindance.com/event/mama-juana-nights-studio-city/2028-03-24/
LOCATION:3704 Cahuenga Blvd\, 3704 Cahuenga Blvd\, Studio City\, CA\, 91604\, United States
CATEGORIES:Los Angeles
ATTACH;FMTTYPE=image/jpeg:https://golatindance.com/wp-content/uploads/2025/12/470174331_122122776752571595_3628749059414569209_n.jpg
END:VEVENT
END:VCALENDAR