BEGIN:VCALENDAR
VERSION:2.0
PRODID:-//GO Latin Dance - ECPv6.15.18//NONSGML v1.0//EN
CALSCALE:GREGORIAN
METHOD:PUBLISH
X-WR-CALNAME:GO Latin Dance
X-ORIGINAL-URL:https://golatindance.com
X-WR-CALDESC:Events for GO Latin Dance
REFRESH-INTERVAL;VALUE=DURATION:PT1H
X-Robots-Tag:noindex
X-PUBLISHED-TTL:PT1H
BEGIN:VTIMEZONE
TZID:America/Chicago
BEGIN:DAYLIGHT
TZOFFSETFROM:-0600
TZOFFSETTO:-0500
TZNAME:CDT
DTSTART:20260308T080000
END:DAYLIGHT
BEGIN:STANDARD
TZOFFSETFROM:-0500
TZOFFSETTO:-0600
TZNAME:CST
DTSTART:20261101T070000
END:STANDARD
BEGIN:DAYLIGHT
TZOFFSETFROM:-0600
TZOFFSETTO:-0500
TZNAME:CDT
DTSTART:20270314T080000
END:DAYLIGHT
BEGIN:STANDARD
TZOFFSETFROM:-0500
TZOFFSETTO:-0600
TZNAME:CST
DTSTART:20271107T070000
END:STANDARD
BEGIN:DAYLIGHT
TZOFFSETFROM:-0600
TZOFFSETTO:-0500
TZNAME:CDT
DTSTART:20280312T080000
END:DAYLIGHT
BEGIN:STANDARD
TZOFFSETFROM:-0500
TZOFFSETTO:-0600
TZNAME:CST
DTSTART:20281105T070000
END:STANDARD
END:VTIMEZONE
BEGIN:VEVENT
DTSTART;TZID=America/Chicago:20270127T210000
DTEND;TZID=America/Chicago:20270128T020000
DTSTAMP:20260420T140035
CREATED:20250910T152339Z
LAST-MODIFIED:20251203T221553Z
UID:10394726-1801083600-1801101600@golatindance.com
SUMMARY:Latin Night at Gigis
DESCRIPTION:Every Wednesday in Plano area. \nFREE Dance lesson at 9:15pm \nHappy hour all night \nKitchen is open until 1am \nMusic :salsa \,bachata \,merengue \, reggaeton
URL:https://golatindance.com/event/latin-night-at-gigis/2027-01-27/
LOCATION:Gigis\, 7300 Lone Star Drive C150\, Plano\, TX\, 75024\, United States
CATEGORIES:Dallas-Fort Worth
ATTACH;FMTTYPE=image/jpeg:https://golatindance.com/wp-content/uploads/2025/09/550222082_18534827521003216_6604010121928120421_n.jpg
END:VEVENT
BEGIN:VEVENT
DTSTART;TZID=America/Chicago:20270203T210000
DTEND;TZID=America/Chicago:20270204T020000
DTSTAMP:20260420T140035
CREATED:20250910T152339Z
LAST-MODIFIED:20251203T221553Z
UID:10394727-1801688400-1801706400@golatindance.com
SUMMARY:Latin Night at Gigis
DESCRIPTION:Every Wednesday in Plano area. \nFREE Dance lesson at 9:15pm \nHappy hour all night \nKitchen is open until 1am \nMusic :salsa \,bachata \,merengue \, reggaeton
URL:https://golatindance.com/event/latin-night-at-gigis/2027-02-03/
LOCATION:Gigis\, 7300 Lone Star Drive C150\, Plano\, TX\, 75024\, United States
CATEGORIES:Dallas-Fort Worth
ATTACH;FMTTYPE=image/jpeg:https://golatindance.com/wp-content/uploads/2025/09/550222082_18534827521003216_6604010121928120421_n.jpg
END:VEVENT
BEGIN:VEVENT
DTSTART;TZID=America/Chicago:20270210T210000
DTEND;TZID=America/Chicago:20270211T020000
DTSTAMP:20260420T140035
CREATED:20250910T152339Z
LAST-MODIFIED:20251203T221553Z
UID:10394728-1802293200-1802311200@golatindance.com
SUMMARY:Latin Night at Gigis
DESCRIPTION:Every Wednesday in Plano area. \nFREE Dance lesson at 9:15pm \nHappy hour all night \nKitchen is open until 1am \nMusic :salsa \,bachata \,merengue \, reggaeton
URL:https://golatindance.com/event/latin-night-at-gigis/2027-02-10/
LOCATION:Gigis\, 7300 Lone Star Drive C150\, Plano\, TX\, 75024\, United States
CATEGORIES:Dallas-Fort Worth
ATTACH;FMTTYPE=image/jpeg:https://golatindance.com/wp-content/uploads/2025/09/550222082_18534827521003216_6604010121928120421_n.jpg
END:VEVENT
BEGIN:VEVENT
DTSTART;TZID=America/Chicago:20270217T210000
DTEND;TZID=America/Chicago:20270218T020000
DTSTAMP:20260420T140035
CREATED:20250910T152339Z
LAST-MODIFIED:20251203T221553Z
UID:10394729-1802898000-1802916000@golatindance.com
SUMMARY:Latin Night at Gigis
DESCRIPTION:Every Wednesday in Plano area. \nFREE Dance lesson at 9:15pm \nHappy hour all night \nKitchen is open until 1am \nMusic :salsa \,bachata \,merengue \, reggaeton
URL:https://golatindance.com/event/latin-night-at-gigis/2027-02-17/
LOCATION:Gigis\, 7300 Lone Star Drive C150\, Plano\, TX\, 75024\, United States
CATEGORIES:Dallas-Fort Worth
ATTACH;FMTTYPE=image/jpeg:https://golatindance.com/wp-content/uploads/2025/09/550222082_18534827521003216_6604010121928120421_n.jpg
END:VEVENT
BEGIN:VEVENT
DTSTART;TZID=America/Chicago:20270224T210000
DTEND;TZID=America/Chicago:20270225T020000
DTSTAMP:20260420T140035
CREATED:20250910T152339Z
LAST-MODIFIED:20251203T221553Z
UID:10394730-1803502800-1803520800@golatindance.com
SUMMARY:Latin Night at Gigis
DESCRIPTION:Every Wednesday in Plano area. \nFREE Dance lesson at 9:15pm \nHappy hour all night \nKitchen is open until 1am \nMusic :salsa \,bachata \,merengue \, reggaeton
URL:https://golatindance.com/event/latin-night-at-gigis/2027-02-24/
LOCATION:Gigis\, 7300 Lone Star Drive C150\, Plano\, TX\, 75024\, United States
CATEGORIES:Dallas-Fort Worth
ATTACH;FMTTYPE=image/jpeg:https://golatindance.com/wp-content/uploads/2025/09/550222082_18534827521003216_6604010121928120421_n.jpg
END:VEVENT
BEGIN:VEVENT
DTSTART;TZID=America/Chicago:20270303T210000
DTEND;TZID=America/Chicago:20270304T020000
DTSTAMP:20260420T140035
CREATED:20250910T152339Z
LAST-MODIFIED:20251203T221553Z
UID:10394731-1804107600-1804125600@golatindance.com
SUMMARY:Latin Night at Gigis
DESCRIPTION:Every Wednesday in Plano area. \nFREE Dance lesson at 9:15pm \nHappy hour all night \nKitchen is open until 1am \nMusic :salsa \,bachata \,merengue \, reggaeton
URL:https://golatindance.com/event/latin-night-at-gigis/2027-03-03/
LOCATION:Gigis\, 7300 Lone Star Drive C150\, Plano\, TX\, 75024\, United States
CATEGORIES:Dallas-Fort Worth
ATTACH;FMTTYPE=image/jpeg:https://golatindance.com/wp-content/uploads/2025/09/550222082_18534827521003216_6604010121928120421_n.jpg
END:VEVENT
BEGIN:VEVENT
DTSTART;TZID=America/Chicago:20270310T210000
DTEND;TZID=America/Chicago:20270311T020000
DTSTAMP:20260420T140035
CREATED:20250910T152339Z
LAST-MODIFIED:20251203T221553Z
UID:10394732-1804712400-1804730400@golatindance.com
SUMMARY:Latin Night at Gigis
DESCRIPTION:Every Wednesday in Plano area. \nFREE Dance lesson at 9:15pm \nHappy hour all night \nKitchen is open until 1am \nMusic :salsa \,bachata \,merengue \, reggaeton
URL:https://golatindance.com/event/latin-night-at-gigis/2027-03-10/
LOCATION:Gigis\, 7300 Lone Star Drive C150\, Plano\, TX\, 75024\, United States
CATEGORIES:Dallas-Fort Worth
ATTACH;FMTTYPE=image/jpeg:https://golatindance.com/wp-content/uploads/2025/09/550222082_18534827521003216_6604010121928120421_n.jpg
END:VEVENT
BEGIN:VEVENT
DTSTART;TZID=America/Chicago:20270317T210000
DTEND;TZID=America/Chicago:20270318T020000
DTSTAMP:20260420T140035
CREATED:20250910T152339Z
LAST-MODIFIED:20251203T221553Z
UID:10394733-1805317200-1805335200@golatindance.com
SUMMARY:Latin Night at Gigis
DESCRIPTION:Every Wednesday in Plano area. \nFREE Dance lesson at 9:15pm \nHappy hour all night \nKitchen is open until 1am \nMusic :salsa \,bachata \,merengue \, reggaeton
URL:https://golatindance.com/event/latin-night-at-gigis/2027-03-17/
LOCATION:Gigis\, 7300 Lone Star Drive C150\, Plano\, TX\, 75024\, United States
CATEGORIES:Dallas-Fort Worth
ATTACH;FMTTYPE=image/jpeg:https://golatindance.com/wp-content/uploads/2025/09/550222082_18534827521003216_6604010121928120421_n.jpg
END:VEVENT
BEGIN:VEVENT
DTSTART;TZID=America/Chicago:20270324T210000
DTEND;TZID=America/Chicago:20270325T020000
DTSTAMP:20260420T140035
CREATED:20250910T152339Z
LAST-MODIFIED:20251203T221553Z
UID:10394734-1805922000-1805940000@golatindance.com
SUMMARY:Latin Night at Gigis
DESCRIPTION:Every Wednesday in Plano area. \nFREE Dance lesson at 9:15pm \nHappy hour all night \nKitchen is open until 1am \nMusic :salsa \,bachata \,merengue \, reggaeton
URL:https://golatindance.com/event/latin-night-at-gigis/2027-03-24/
LOCATION:Gigis\, 7300 Lone Star Drive C150\, Plano\, TX\, 75024\, United States
CATEGORIES:Dallas-Fort Worth
ATTACH;FMTTYPE=image/jpeg:https://golatindance.com/wp-content/uploads/2025/09/550222082_18534827521003216_6604010121928120421_n.jpg
END:VEVENT
BEGIN:VEVENT
DTSTART;TZID=America/Chicago:20270331T210000
DTEND;TZID=America/Chicago:20270401T020000
DTSTAMP:20260420T140035
CREATED:20250910T152339Z
LAST-MODIFIED:20251203T221553Z
UID:10394735-1806526800-1806544800@golatindance.com
SUMMARY:Latin Night at Gigis
DESCRIPTION:Every Wednesday in Plano area. \nFREE Dance lesson at 9:15pm \nHappy hour all night \nKitchen is open until 1am \nMusic :salsa \,bachata \,merengue \, reggaeton
URL:https://golatindance.com/event/latin-night-at-gigis/2027-03-31/
LOCATION:Gigis\, 7300 Lone Star Drive C150\, Plano\, TX\, 75024\, United States
CATEGORIES:Dallas-Fort Worth
ATTACH;FMTTYPE=image/jpeg:https://golatindance.com/wp-content/uploads/2025/09/550222082_18534827521003216_6604010121928120421_n.jpg
END:VEVENT
BEGIN:VEVENT
DTSTART;TZID=America/Chicago:20270407T210000
DTEND;TZID=America/Chicago:20270408T020000
DTSTAMP:20260420T140035
CREATED:20250910T152339Z
LAST-MODIFIED:20251203T221553Z
UID:10394736-1807131600-1807149600@golatindance.com
SUMMARY:Latin Night at Gigis
DESCRIPTION:Every Wednesday in Plano area. \nFREE Dance lesson at 9:15pm \nHappy hour all night \nKitchen is open until 1am \nMusic :salsa \,bachata \,merengue \, reggaeton
URL:https://golatindance.com/event/latin-night-at-gigis/2027-04-07/
LOCATION:Gigis\, 7300 Lone Star Drive C150\, Plano\, TX\, 75024\, United States
CATEGORIES:Dallas-Fort Worth
ATTACH;FMTTYPE=image/jpeg:https://golatindance.com/wp-content/uploads/2025/09/550222082_18534827521003216_6604010121928120421_n.jpg
END:VEVENT
BEGIN:VEVENT
DTSTART;TZID=America/Chicago:20270414T210000
DTEND;TZID=America/Chicago:20270415T020000
DTSTAMP:20260420T140035
CREATED:20250910T152339Z
LAST-MODIFIED:20251203T221553Z
UID:10394737-1807736400-1807754400@golatindance.com
SUMMARY:Latin Night at Gigis
DESCRIPTION:Every Wednesday in Plano area. \nFREE Dance lesson at 9:15pm \nHappy hour all night \nKitchen is open until 1am \nMusic :salsa \,bachata \,merengue \, reggaeton
URL:https://golatindance.com/event/latin-night-at-gigis/2027-04-14/
LOCATION:Gigis\, 7300 Lone Star Drive C150\, Plano\, TX\, 75024\, United States
CATEGORIES:Dallas-Fort Worth
ATTACH;FMTTYPE=image/jpeg:https://golatindance.com/wp-content/uploads/2025/09/550222082_18534827521003216_6604010121928120421_n.jpg
END:VEVENT
BEGIN:VEVENT
DTSTART;TZID=America/Chicago:20270421T210000
DTEND;TZID=America/Chicago:20270422T020000
DTSTAMP:20260420T140035
CREATED:20250910T152339Z
LAST-MODIFIED:20251203T221553Z
UID:10394738-1808341200-1808359200@golatindance.com
SUMMARY:Latin Night at Gigis
DESCRIPTION:Every Wednesday in Plano area. \nFREE Dance lesson at 9:15pm \nHappy hour all night \nKitchen is open until 1am \nMusic :salsa \,bachata \,merengue \, reggaeton
URL:https://golatindance.com/event/latin-night-at-gigis/2027-04-21/
LOCATION:Gigis\, 7300 Lone Star Drive C150\, Plano\, TX\, 75024\, United States
CATEGORIES:Dallas-Fort Worth
ATTACH;FMTTYPE=image/jpeg:https://golatindance.com/wp-content/uploads/2025/09/550222082_18534827521003216_6604010121928120421_n.jpg
END:VEVENT
BEGIN:VEVENT
DTSTART;TZID=America/Chicago:20270428T210000
DTEND;TZID=America/Chicago:20270429T020000
DTSTAMP:20260420T140035
CREATED:20250910T152339Z
LAST-MODIFIED:20251203T221553Z
UID:10394739-1808946000-1808964000@golatindance.com
SUMMARY:Latin Night at Gigis
DESCRIPTION:Every Wednesday in Plano area. \nFREE Dance lesson at 9:15pm \nHappy hour all night \nKitchen is open until 1am \nMusic :salsa \,bachata \,merengue \, reggaeton
URL:https://golatindance.com/event/latin-night-at-gigis/2027-04-28/
LOCATION:Gigis\, 7300 Lone Star Drive C150\, Plano\, TX\, 75024\, United States
CATEGORIES:Dallas-Fort Worth
ATTACH;FMTTYPE=image/jpeg:https://golatindance.com/wp-content/uploads/2025/09/550222082_18534827521003216_6604010121928120421_n.jpg
END:VEVENT
BEGIN:VEVENT
DTSTART;TZID=America/Chicago:20270505T210000
DTEND;TZID=America/Chicago:20270506T020000
DTSTAMP:20260420T140035
CREATED:20250910T152339Z
LAST-MODIFIED:20251203T221553Z
UID:10394740-1809550800-1809568800@golatindance.com
SUMMARY:Latin Night at Gigis
DESCRIPTION:Every Wednesday in Plano area. \nFREE Dance lesson at 9:15pm \nHappy hour all night \nKitchen is open until 1am \nMusic :salsa \,bachata \,merengue \, reggaeton
URL:https://golatindance.com/event/latin-night-at-gigis/2027-05-05/
LOCATION:Gigis\, 7300 Lone Star Drive C150\, Plano\, TX\, 75024\, United States
CATEGORIES:Dallas-Fort Worth
ATTACH;FMTTYPE=image/jpeg:https://golatindance.com/wp-content/uploads/2025/09/550222082_18534827521003216_6604010121928120421_n.jpg
END:VEVENT
BEGIN:VEVENT
DTSTART;TZID=America/Chicago:20270512T210000
DTEND;TZID=America/Chicago:20270513T020000
DTSTAMP:20260420T140035
CREATED:20250910T152339Z
LAST-MODIFIED:20251203T221553Z
UID:10394741-1810155600-1810173600@golatindance.com
SUMMARY:Latin Night at Gigis
DESCRIPTION:Every Wednesday in Plano area. \nFREE Dance lesson at 9:15pm \nHappy hour all night \nKitchen is open until 1am \nMusic :salsa \,bachata \,merengue \, reggaeton
URL:https://golatindance.com/event/latin-night-at-gigis/2027-05-12/
LOCATION:Gigis\, 7300 Lone Star Drive C150\, Plano\, TX\, 75024\, United States
CATEGORIES:Dallas-Fort Worth
ATTACH;FMTTYPE=image/jpeg:https://golatindance.com/wp-content/uploads/2025/09/550222082_18534827521003216_6604010121928120421_n.jpg
END:VEVENT
BEGIN:VEVENT
DTSTART;TZID=America/Chicago:20270519T210000
DTEND;TZID=America/Chicago:20270520T020000
DTSTAMP:20260420T140035
CREATED:20250910T152339Z
LAST-MODIFIED:20251203T221553Z
UID:10394742-1810760400-1810778400@golatindance.com
SUMMARY:Latin Night at Gigis
DESCRIPTION:Every Wednesday in Plano area. \nFREE Dance lesson at 9:15pm \nHappy hour all night \nKitchen is open until 1am \nMusic :salsa \,bachata \,merengue \, reggaeton
URL:https://golatindance.com/event/latin-night-at-gigis/2027-05-19/
LOCATION:Gigis\, 7300 Lone Star Drive C150\, Plano\, TX\, 75024\, United States
CATEGORIES:Dallas-Fort Worth
ATTACH;FMTTYPE=image/jpeg:https://golatindance.com/wp-content/uploads/2025/09/550222082_18534827521003216_6604010121928120421_n.jpg
END:VEVENT
BEGIN:VEVENT
DTSTART;TZID=America/Chicago:20270526T210000
DTEND;TZID=America/Chicago:20270527T020000
DTSTAMP:20260420T140035
CREATED:20250910T152339Z
LAST-MODIFIED:20251203T221553Z
UID:10394743-1811365200-1811383200@golatindance.com
SUMMARY:Latin Night at Gigis
DESCRIPTION:Every Wednesday in Plano area. \nFREE Dance lesson at 9:15pm \nHappy hour all night \nKitchen is open until 1am \nMusic :salsa \,bachata \,merengue \, reggaeton
URL:https://golatindance.com/event/latin-night-at-gigis/2027-05-26/
LOCATION:Gigis\, 7300 Lone Star Drive C150\, Plano\, TX\, 75024\, United States
CATEGORIES:Dallas-Fort Worth
ATTACH;FMTTYPE=image/jpeg:https://golatindance.com/wp-content/uploads/2025/09/550222082_18534827521003216_6604010121928120421_n.jpg
END:VEVENT
BEGIN:VEVENT
DTSTART;TZID=America/Chicago:20270602T210000
DTEND;TZID=America/Chicago:20270603T020000
DTSTAMP:20260420T140035
CREATED:20250910T152339Z
LAST-MODIFIED:20251203T221553Z
UID:10394744-1811970000-1811988000@golatindance.com
SUMMARY:Latin Night at Gigis
DESCRIPTION:Every Wednesday in Plano area. \nFREE Dance lesson at 9:15pm \nHappy hour all night \nKitchen is open until 1am \nMusic :salsa \,bachata \,merengue \, reggaeton
URL:https://golatindance.com/event/latin-night-at-gigis/2027-06-02/
LOCATION:Gigis\, 7300 Lone Star Drive C150\, Plano\, TX\, 75024\, United States
CATEGORIES:Dallas-Fort Worth
ATTACH;FMTTYPE=image/jpeg:https://golatindance.com/wp-content/uploads/2025/09/550222082_18534827521003216_6604010121928120421_n.jpg
END:VEVENT
BEGIN:VEVENT
DTSTART;TZID=America/Chicago:20270609T210000
DTEND;TZID=America/Chicago:20270610T020000
DTSTAMP:20260420T140035
CREATED:20250910T152339Z
LAST-MODIFIED:20251203T221553Z
UID:10394745-1812574800-1812592800@golatindance.com
SUMMARY:Latin Night at Gigis
DESCRIPTION:Every Wednesday in Plano area. \nFREE Dance lesson at 9:15pm \nHappy hour all night \nKitchen is open until 1am \nMusic :salsa \,bachata \,merengue \, reggaeton
URL:https://golatindance.com/event/latin-night-at-gigis/2027-06-09/
LOCATION:Gigis\, 7300 Lone Star Drive C150\, Plano\, TX\, 75024\, United States
CATEGORIES:Dallas-Fort Worth
ATTACH;FMTTYPE=image/jpeg:https://golatindance.com/wp-content/uploads/2025/09/550222082_18534827521003216_6604010121928120421_n.jpg
END:VEVENT
BEGIN:VEVENT
DTSTART;TZID=America/Chicago:20270616T210000
DTEND;TZID=America/Chicago:20270617T020000
DTSTAMP:20260420T140035
CREATED:20250910T152339Z
LAST-MODIFIED:20251203T221553Z
UID:10394746-1813179600-1813197600@golatindance.com
SUMMARY:Latin Night at Gigis
DESCRIPTION:Every Wednesday in Plano area. \nFREE Dance lesson at 9:15pm \nHappy hour all night \nKitchen is open until 1am \nMusic :salsa \,bachata \,merengue \, reggaeton
URL:https://golatindance.com/event/latin-night-at-gigis/2027-06-16/
LOCATION:Gigis\, 7300 Lone Star Drive C150\, Plano\, TX\, 75024\, United States
CATEGORIES:Dallas-Fort Worth
ATTACH;FMTTYPE=image/jpeg:https://golatindance.com/wp-content/uploads/2025/09/550222082_18534827521003216_6604010121928120421_n.jpg
END:VEVENT
BEGIN:VEVENT
DTSTART;TZID=America/Chicago:20270623T210000
DTEND;TZID=America/Chicago:20270624T020000
DTSTAMP:20260420T140035
CREATED:20250910T152339Z
LAST-MODIFIED:20251203T221553Z
UID:10394747-1813784400-1813802400@golatindance.com
SUMMARY:Latin Night at Gigis
DESCRIPTION:Every Wednesday in Plano area. \nFREE Dance lesson at 9:15pm \nHappy hour all night \nKitchen is open until 1am \nMusic :salsa \,bachata \,merengue \, reggaeton
URL:https://golatindance.com/event/latin-night-at-gigis/2027-06-23/
LOCATION:Gigis\, 7300 Lone Star Drive C150\, Plano\, TX\, 75024\, United States
CATEGORIES:Dallas-Fort Worth
ATTACH;FMTTYPE=image/jpeg:https://golatindance.com/wp-content/uploads/2025/09/550222082_18534827521003216_6604010121928120421_n.jpg
END:VEVENT
BEGIN:VEVENT
DTSTART;TZID=America/Chicago:20270630T210000
DTEND;TZID=America/Chicago:20270701T020000
DTSTAMP:20260420T140035
CREATED:20250910T152339Z
LAST-MODIFIED:20251203T221553Z
UID:10394748-1814389200-1814407200@golatindance.com
SUMMARY:Latin Night at Gigis
DESCRIPTION:Every Wednesday in Plano area. \nFREE Dance lesson at 9:15pm \nHappy hour all night \nKitchen is open until 1am \nMusic :salsa \,bachata \,merengue \, reggaeton
URL:https://golatindance.com/event/latin-night-at-gigis/2027-06-30/
LOCATION:Gigis\, 7300 Lone Star Drive C150\, Plano\, TX\, 75024\, United States
CATEGORIES:Dallas-Fort Worth
ATTACH;FMTTYPE=image/jpeg:https://golatindance.com/wp-content/uploads/2025/09/550222082_18534827521003216_6604010121928120421_n.jpg
END:VEVENT
BEGIN:VEVENT
DTSTART;TZID=America/Chicago:20270707T210000
DTEND;TZID=America/Chicago:20270708T020000
DTSTAMP:20260420T140035
CREATED:20250910T152339Z
LAST-MODIFIED:20251203T221553Z
UID:10394749-1814994000-1815012000@golatindance.com
SUMMARY:Latin Night at Gigis
DESCRIPTION:Every Wednesday in Plano area. \nFREE Dance lesson at 9:15pm \nHappy hour all night \nKitchen is open until 1am \nMusic :salsa \,bachata \,merengue \, reggaeton
URL:https://golatindance.com/event/latin-night-at-gigis/2027-07-07/
LOCATION:Gigis\, 7300 Lone Star Drive C150\, Plano\, TX\, 75024\, United States
CATEGORIES:Dallas-Fort Worth
ATTACH;FMTTYPE=image/jpeg:https://golatindance.com/wp-content/uploads/2025/09/550222082_18534827521003216_6604010121928120421_n.jpg
END:VEVENT
BEGIN:VEVENT
DTSTART;TZID=America/Chicago:20270714T210000
DTEND;TZID=America/Chicago:20270715T020000
DTSTAMP:20260420T140035
CREATED:20250910T152339Z
LAST-MODIFIED:20251203T221553Z
UID:10394750-1815598800-1815616800@golatindance.com
SUMMARY:Latin Night at Gigis
DESCRIPTION:Every Wednesday in Plano area. \nFREE Dance lesson at 9:15pm \nHappy hour all night \nKitchen is open until 1am \nMusic :salsa \,bachata \,merengue \, reggaeton
URL:https://golatindance.com/event/latin-night-at-gigis/2027-07-14/
LOCATION:Gigis\, 7300 Lone Star Drive C150\, Plano\, TX\, 75024\, United States
CATEGORIES:Dallas-Fort Worth
ATTACH;FMTTYPE=image/jpeg:https://golatindance.com/wp-content/uploads/2025/09/550222082_18534827521003216_6604010121928120421_n.jpg
END:VEVENT
BEGIN:VEVENT
DTSTART;TZID=America/Chicago:20270721T210000
DTEND;TZID=America/Chicago:20270722T020000
DTSTAMP:20260420T140035
CREATED:20250910T152339Z
LAST-MODIFIED:20251203T221553Z
UID:10394751-1816203600-1816221600@golatindance.com
SUMMARY:Latin Night at Gigis
DESCRIPTION:Every Wednesday in Plano area. \nFREE Dance lesson at 9:15pm \nHappy hour all night \nKitchen is open until 1am \nMusic :salsa \,bachata \,merengue \, reggaeton
URL:https://golatindance.com/event/latin-night-at-gigis/2027-07-21/
LOCATION:Gigis\, 7300 Lone Star Drive C150\, Plano\, TX\, 75024\, United States
CATEGORIES:Dallas-Fort Worth
ATTACH;FMTTYPE=image/jpeg:https://golatindance.com/wp-content/uploads/2025/09/550222082_18534827521003216_6604010121928120421_n.jpg
END:VEVENT
BEGIN:VEVENT
DTSTART;TZID=America/Chicago:20270728T210000
DTEND;TZID=America/Chicago:20270729T020000
DTSTAMP:20260420T140035
CREATED:20250910T152339Z
LAST-MODIFIED:20251203T221553Z
UID:10394752-1816808400-1816826400@golatindance.com
SUMMARY:Latin Night at Gigis
DESCRIPTION:Every Wednesday in Plano area. \nFREE Dance lesson at 9:15pm \nHappy hour all night \nKitchen is open until 1am \nMusic :salsa \,bachata \,merengue \, reggaeton
URL:https://golatindance.com/event/latin-night-at-gigis/2027-07-28/
LOCATION:Gigis\, 7300 Lone Star Drive C150\, Plano\, TX\, 75024\, United States
CATEGORIES:Dallas-Fort Worth
ATTACH;FMTTYPE=image/jpeg:https://golatindance.com/wp-content/uploads/2025/09/550222082_18534827521003216_6604010121928120421_n.jpg
END:VEVENT
BEGIN:VEVENT
DTSTART;TZID=America/Chicago:20270804T210000
DTEND;TZID=America/Chicago:20270805T020000
DTSTAMP:20260420T140035
CREATED:20250910T152339Z
LAST-MODIFIED:20251203T221553Z
UID:10394753-1817413200-1817431200@golatindance.com
SUMMARY:Latin Night at Gigis
DESCRIPTION:Every Wednesday in Plano area. \nFREE Dance lesson at 9:15pm \nHappy hour all night \nKitchen is open until 1am \nMusic :salsa \,bachata \,merengue \, reggaeton
URL:https://golatindance.com/event/latin-night-at-gigis/2027-08-04/
LOCATION:Gigis\, 7300 Lone Star Drive C150\, Plano\, TX\, 75024\, United States
CATEGORIES:Dallas-Fort Worth
ATTACH;FMTTYPE=image/jpeg:https://golatindance.com/wp-content/uploads/2025/09/550222082_18534827521003216_6604010121928120421_n.jpg
END:VEVENT
BEGIN:VEVENT
DTSTART;TZID=America/Chicago:20270811T210000
DTEND;TZID=America/Chicago:20270812T020000
DTSTAMP:20260420T140035
CREATED:20250910T152339Z
LAST-MODIFIED:20251203T221553Z
UID:10394754-1818018000-1818036000@golatindance.com
SUMMARY:Latin Night at Gigis
DESCRIPTION:Every Wednesday in Plano area. \nFREE Dance lesson at 9:15pm \nHappy hour all night \nKitchen is open until 1am \nMusic :salsa \,bachata \,merengue \, reggaeton
URL:https://golatindance.com/event/latin-night-at-gigis/2027-08-11/
LOCATION:Gigis\, 7300 Lone Star Drive C150\, Plano\, TX\, 75024\, United States
CATEGORIES:Dallas-Fort Worth
ATTACH;FMTTYPE=image/jpeg:https://golatindance.com/wp-content/uploads/2025/09/550222082_18534827521003216_6604010121928120421_n.jpg
END:VEVENT
BEGIN:VEVENT
DTSTART;TZID=America/Chicago:20270818T210000
DTEND;TZID=America/Chicago:20270819T020000
DTSTAMP:20260420T140035
CREATED:20250910T152339Z
LAST-MODIFIED:20251203T221553Z
UID:10394755-1818622800-1818640800@golatindance.com
SUMMARY:Latin Night at Gigis
DESCRIPTION:Every Wednesday in Plano area. \nFREE Dance lesson at 9:15pm \nHappy hour all night \nKitchen is open until 1am \nMusic :salsa \,bachata \,merengue \, reggaeton
URL:https://golatindance.com/event/latin-night-at-gigis/2027-08-18/
LOCATION:Gigis\, 7300 Lone Star Drive C150\, Plano\, TX\, 75024\, United States
CATEGORIES:Dallas-Fort Worth
ATTACH;FMTTYPE=image/jpeg:https://golatindance.com/wp-content/uploads/2025/09/550222082_18534827521003216_6604010121928120421_n.jpg
END:VEVENT
END:VCALENDAR