BEGIN:VCALENDAR
VERSION:2.0
PRODID:-//GO Latin Dance - ECPv6.15.18//NONSGML v1.0//EN
CALSCALE:GREGORIAN
METHOD:PUBLISH
X-WR-CALNAME:GO Latin Dance
X-ORIGINAL-URL:https://golatindance.com
X-WR-CALDESC:Events for GO Latin Dance
REFRESH-INTERVAL;VALUE=DURATION:PT1H
X-Robots-Tag:noindex
X-PUBLISHED-TTL:PT1H
BEGIN:VTIMEZONE
TZID:America/Chicago
BEGIN:DAYLIGHT
TZOFFSETFROM:-0600
TZOFFSETTO:-0500
TZNAME:CDT
DTSTART:20260308T080000
END:DAYLIGHT
BEGIN:STANDARD
TZOFFSETFROM:-0500
TZOFFSETTO:-0600
TZNAME:CST
DTSTART:20261101T070000
END:STANDARD
BEGIN:DAYLIGHT
TZOFFSETFROM:-0600
TZOFFSETTO:-0500
TZNAME:CDT
DTSTART:20270314T080000
END:DAYLIGHT
BEGIN:STANDARD
TZOFFSETFROM:-0500
TZOFFSETTO:-0600
TZNAME:CST
DTSTART:20271107T070000
END:STANDARD
BEGIN:DAYLIGHT
TZOFFSETFROM:-0600
TZOFFSETTO:-0500
TZNAME:CDT
DTSTART:20280312T080000
END:DAYLIGHT
BEGIN:STANDARD
TZOFFSETFROM:-0500
TZOFFSETTO:-0600
TZNAME:CST
DTSTART:20281105T070000
END:STANDARD
END:VTIMEZONE
BEGIN:VEVENT
DTSTART;TZID=America/Chicago:20270410T210000
DTEND;TZID=America/Chicago:20270411T020000
DTSTAMP:20260424T215435
CREATED:20230220T200337Z
LAST-MODIFIED:20240715T204639Z
UID:10119322-1807390800-1807408800@golatindance.com
SUMMARY:Latin Vibes Saturdays
DESCRIPTION:Bachata\, Cumbia\, Salsa and tropical beats. Dance class usually at 8:30pm or 9pm. Guest DJs.
URL:https://golatindance.com/event/latin-vibes-saturdays/2027-04-10/
LOCATION:MZ Bar\, 1550 Illinois Rte 59 #156\, Naperville\, IL\, 60563\, United States
CATEGORIES:Chicago
GEO:41.7952358;-88.2043431
X-APPLE-STRUCTURED-LOCATION;VALUE=URI;X-ADDRESS=MZ Bar 1550 Illinois Rte 59 #156 Naperville IL 60563 United States;X-APPLE-RADIUS=500;X-TITLE=1550 Illinois Rte 59 #156:geo:-88.2043431,41.7952358
END:VEVENT
BEGIN:VEVENT
DTSTART;TZID=America/Chicago:20270414T200000
DTEND;TZID=America/Chicago:20270415T010000
DTSTAMP:20260424T215435
CREATED:20240324T160241Z
LAST-MODIFIED:20250120T200402Z
UID:10228599-1807732800-1807750800@golatindance.com
SUMMARY:Bachata Sensual and Salsa Wednesdays
DESCRIPTION:One hour dance lessons every week at 8pm or 8:30pm.\nDj Porras & guest DJs\nCover $10\n18+\nFree parking
URL:https://golatindance.com/event/bachata-sensual-and-salsa-wednesdays/2027-04-14/
LOCATION:MZ Bar\, 1550 Illinois Rte 59 #156\, Naperville\, IL\, 60563\, United States
CATEGORIES:Chicago
ATTACH;FMTTYPE=image/png:https://golatindance.com/wp-content/uploads/2024/03/mz.png
GEO:41.7952358;-88.2043431
X-APPLE-STRUCTURED-LOCATION;VALUE=URI;X-ADDRESS=MZ Bar 1550 Illinois Rte 59 #156 Naperville IL 60563 United States;X-APPLE-RADIUS=500;X-TITLE=1550 Illinois Rte 59 #156:geo:-88.2043431,41.7952358
END:VEVENT
BEGIN:VEVENT
DTSTART;TZID=America/Chicago:20270417T210000
DTEND;TZID=America/Chicago:20270418T020000
DTSTAMP:20260424T215435
CREATED:20230220T200337Z
LAST-MODIFIED:20240715T204639Z
UID:10119323-1807995600-1808013600@golatindance.com
SUMMARY:Latin Vibes Saturdays
DESCRIPTION:Bachata\, Cumbia\, Salsa and tropical beats. Dance class usually at 8:30pm or 9pm. Guest DJs.
URL:https://golatindance.com/event/latin-vibes-saturdays/2027-04-17/
LOCATION:MZ Bar\, 1550 Illinois Rte 59 #156\, Naperville\, IL\, 60563\, United States
CATEGORIES:Chicago
GEO:41.7952358;-88.2043431
X-APPLE-STRUCTURED-LOCATION;VALUE=URI;X-ADDRESS=MZ Bar 1550 Illinois Rte 59 #156 Naperville IL 60563 United States;X-APPLE-RADIUS=500;X-TITLE=1550 Illinois Rte 59 #156:geo:-88.2043431,41.7952358
END:VEVENT
BEGIN:VEVENT
DTSTART;TZID=America/Chicago:20270421T200000
DTEND;TZID=America/Chicago:20270422T010000
DTSTAMP:20260424T215435
CREATED:20240324T160241Z
LAST-MODIFIED:20250120T200402Z
UID:10228600-1808337600-1808355600@golatindance.com
SUMMARY:Bachata Sensual and Salsa Wednesdays
DESCRIPTION:One hour dance lessons every week at 8pm or 8:30pm.\nDj Porras & guest DJs\nCover $10\n18+\nFree parking
URL:https://golatindance.com/event/bachata-sensual-and-salsa-wednesdays/2027-04-21/
LOCATION:MZ Bar\, 1550 Illinois Rte 59 #156\, Naperville\, IL\, 60563\, United States
CATEGORIES:Chicago
ATTACH;FMTTYPE=image/png:https://golatindance.com/wp-content/uploads/2024/03/mz.png
GEO:41.7952358;-88.2043431
X-APPLE-STRUCTURED-LOCATION;VALUE=URI;X-ADDRESS=MZ Bar 1550 Illinois Rte 59 #156 Naperville IL 60563 United States;X-APPLE-RADIUS=500;X-TITLE=1550 Illinois Rte 59 #156:geo:-88.2043431,41.7952358
END:VEVENT
BEGIN:VEVENT
DTSTART;TZID=America/Chicago:20270424T210000
DTEND;TZID=America/Chicago:20270425T020000
DTSTAMP:20260424T215435
CREATED:20230220T200337Z
LAST-MODIFIED:20240715T204639Z
UID:10119324-1808600400-1808618400@golatindance.com
SUMMARY:Latin Vibes Saturdays
DESCRIPTION:Bachata\, Cumbia\, Salsa and tropical beats. Dance class usually at 8:30pm or 9pm. Guest DJs.
URL:https://golatindance.com/event/latin-vibes-saturdays/2027-04-24/
LOCATION:MZ Bar\, 1550 Illinois Rte 59 #156\, Naperville\, IL\, 60563\, United States
CATEGORIES:Chicago
GEO:41.7952358;-88.2043431
X-APPLE-STRUCTURED-LOCATION;VALUE=URI;X-ADDRESS=MZ Bar 1550 Illinois Rte 59 #156 Naperville IL 60563 United States;X-APPLE-RADIUS=500;X-TITLE=1550 Illinois Rte 59 #156:geo:-88.2043431,41.7952358
END:VEVENT
BEGIN:VEVENT
DTSTART;TZID=America/Chicago:20270428T200000
DTEND;TZID=America/Chicago:20270429T010000
DTSTAMP:20260424T215435
CREATED:20240324T160241Z
LAST-MODIFIED:20250120T200402Z
UID:10228601-1808942400-1808960400@golatindance.com
SUMMARY:Bachata Sensual and Salsa Wednesdays
DESCRIPTION:One hour dance lessons every week at 8pm or 8:30pm.\nDj Porras & guest DJs\nCover $10\n18+\nFree parking
URL:https://golatindance.com/event/bachata-sensual-and-salsa-wednesdays/2027-04-28/
LOCATION:MZ Bar\, 1550 Illinois Rte 59 #156\, Naperville\, IL\, 60563\, United States
CATEGORIES:Chicago
ATTACH;FMTTYPE=image/png:https://golatindance.com/wp-content/uploads/2024/03/mz.png
GEO:41.7952358;-88.2043431
X-APPLE-STRUCTURED-LOCATION;VALUE=URI;X-ADDRESS=MZ Bar 1550 Illinois Rte 59 #156 Naperville IL 60563 United States;X-APPLE-RADIUS=500;X-TITLE=1550 Illinois Rte 59 #156:geo:-88.2043431,41.7952358
END:VEVENT
BEGIN:VEVENT
DTSTART;TZID=America/Chicago:20270501T210000
DTEND;TZID=America/Chicago:20270502T020000
DTSTAMP:20260424T215435
CREATED:20230220T200337Z
LAST-MODIFIED:20240715T204639Z
UID:10119325-1809205200-1809223200@golatindance.com
SUMMARY:Latin Vibes Saturdays
DESCRIPTION:Bachata\, Cumbia\, Salsa and tropical beats. Dance class usually at 8:30pm or 9pm. Guest DJs.
URL:https://golatindance.com/event/latin-vibes-saturdays/2027-05-01/
LOCATION:MZ Bar\, 1550 Illinois Rte 59 #156\, Naperville\, IL\, 60563\, United States
CATEGORIES:Chicago
GEO:41.7952358;-88.2043431
X-APPLE-STRUCTURED-LOCATION;VALUE=URI;X-ADDRESS=MZ Bar 1550 Illinois Rte 59 #156 Naperville IL 60563 United States;X-APPLE-RADIUS=500;X-TITLE=1550 Illinois Rte 59 #156:geo:-88.2043431,41.7952358
END:VEVENT
BEGIN:VEVENT
DTSTART;TZID=America/Chicago:20270505T200000
DTEND;TZID=America/Chicago:20270506T010000
DTSTAMP:20260424T215435
CREATED:20240324T160241Z
LAST-MODIFIED:20250120T200402Z
UID:10228602-1809547200-1809565200@golatindance.com
SUMMARY:Bachata Sensual and Salsa Wednesdays
DESCRIPTION:One hour dance lessons every week at 8pm or 8:30pm.\nDj Porras & guest DJs\nCover $10\n18+\nFree parking
URL:https://golatindance.com/event/bachata-sensual-and-salsa-wednesdays/2027-05-05/
LOCATION:MZ Bar\, 1550 Illinois Rte 59 #156\, Naperville\, IL\, 60563\, United States
CATEGORIES:Chicago
ATTACH;FMTTYPE=image/png:https://golatindance.com/wp-content/uploads/2024/03/mz.png
GEO:41.7952358;-88.2043431
X-APPLE-STRUCTURED-LOCATION;VALUE=URI;X-ADDRESS=MZ Bar 1550 Illinois Rte 59 #156 Naperville IL 60563 United States;X-APPLE-RADIUS=500;X-TITLE=1550 Illinois Rte 59 #156:geo:-88.2043431,41.7952358
END:VEVENT
BEGIN:VEVENT
DTSTART;TZID=America/Chicago:20270508T210000
DTEND;TZID=America/Chicago:20270509T020000
DTSTAMP:20260424T215435
CREATED:20230220T200337Z
LAST-MODIFIED:20240715T204639Z
UID:10119326-1809810000-1809828000@golatindance.com
SUMMARY:Latin Vibes Saturdays
DESCRIPTION:Bachata\, Cumbia\, Salsa and tropical beats. Dance class usually at 8:30pm or 9pm. Guest DJs.
URL:https://golatindance.com/event/latin-vibes-saturdays/2027-05-08/
LOCATION:MZ Bar\, 1550 Illinois Rte 59 #156\, Naperville\, IL\, 60563\, United States
CATEGORIES:Chicago
GEO:41.7952358;-88.2043431
X-APPLE-STRUCTURED-LOCATION;VALUE=URI;X-ADDRESS=MZ Bar 1550 Illinois Rte 59 #156 Naperville IL 60563 United States;X-APPLE-RADIUS=500;X-TITLE=1550 Illinois Rte 59 #156:geo:-88.2043431,41.7952358
END:VEVENT
BEGIN:VEVENT
DTSTART;TZID=America/Chicago:20270512T200000
DTEND;TZID=America/Chicago:20270513T010000
DTSTAMP:20260424T215435
CREATED:20240324T160241Z
LAST-MODIFIED:20250120T200402Z
UID:10228603-1810152000-1810170000@golatindance.com
SUMMARY:Bachata Sensual and Salsa Wednesdays
DESCRIPTION:One hour dance lessons every week at 8pm or 8:30pm.\nDj Porras & guest DJs\nCover $10\n18+\nFree parking
URL:https://golatindance.com/event/bachata-sensual-and-salsa-wednesdays/2027-05-12/
LOCATION:MZ Bar\, 1550 Illinois Rte 59 #156\, Naperville\, IL\, 60563\, United States
CATEGORIES:Chicago
ATTACH;FMTTYPE=image/png:https://golatindance.com/wp-content/uploads/2024/03/mz.png
GEO:41.7952358;-88.2043431
X-APPLE-STRUCTURED-LOCATION;VALUE=URI;X-ADDRESS=MZ Bar 1550 Illinois Rte 59 #156 Naperville IL 60563 United States;X-APPLE-RADIUS=500;X-TITLE=1550 Illinois Rte 59 #156:geo:-88.2043431,41.7952358
END:VEVENT
BEGIN:VEVENT
DTSTART;TZID=America/Chicago:20270515T210000
DTEND;TZID=America/Chicago:20270516T020000
DTSTAMP:20260424T215435
CREATED:20230220T200337Z
LAST-MODIFIED:20240715T204639Z
UID:10119327-1810414800-1810432800@golatindance.com
SUMMARY:Latin Vibes Saturdays
DESCRIPTION:Bachata\, Cumbia\, Salsa and tropical beats. Dance class usually at 8:30pm or 9pm. Guest DJs.
URL:https://golatindance.com/event/latin-vibes-saturdays/2027-05-15/
LOCATION:MZ Bar\, 1550 Illinois Rte 59 #156\, Naperville\, IL\, 60563\, United States
CATEGORIES:Chicago
GEO:41.7952358;-88.2043431
X-APPLE-STRUCTURED-LOCATION;VALUE=URI;X-ADDRESS=MZ Bar 1550 Illinois Rte 59 #156 Naperville IL 60563 United States;X-APPLE-RADIUS=500;X-TITLE=1550 Illinois Rte 59 #156:geo:-88.2043431,41.7952358
END:VEVENT
BEGIN:VEVENT
DTSTART;TZID=America/Chicago:20270519T200000
DTEND;TZID=America/Chicago:20270520T010000
DTSTAMP:20260424T215435
CREATED:20240324T160241Z
LAST-MODIFIED:20250120T200402Z
UID:10228604-1810756800-1810774800@golatindance.com
SUMMARY:Bachata Sensual and Salsa Wednesdays
DESCRIPTION:One hour dance lessons every week at 8pm or 8:30pm.\nDj Porras & guest DJs\nCover $10\n18+\nFree parking
URL:https://golatindance.com/event/bachata-sensual-and-salsa-wednesdays/2027-05-19/
LOCATION:MZ Bar\, 1550 Illinois Rte 59 #156\, Naperville\, IL\, 60563\, United States
CATEGORIES:Chicago
ATTACH;FMTTYPE=image/png:https://golatindance.com/wp-content/uploads/2024/03/mz.png
GEO:41.7952358;-88.2043431
X-APPLE-STRUCTURED-LOCATION;VALUE=URI;X-ADDRESS=MZ Bar 1550 Illinois Rte 59 #156 Naperville IL 60563 United States;X-APPLE-RADIUS=500;X-TITLE=1550 Illinois Rte 59 #156:geo:-88.2043431,41.7952358
END:VEVENT
BEGIN:VEVENT
DTSTART;TZID=America/Chicago:20270522T210000
DTEND;TZID=America/Chicago:20270523T020000
DTSTAMP:20260424T215435
CREATED:20230220T200337Z
LAST-MODIFIED:20240715T204639Z
UID:10119328-1811019600-1811037600@golatindance.com
SUMMARY:Latin Vibes Saturdays
DESCRIPTION:Bachata\, Cumbia\, Salsa and tropical beats. Dance class usually at 8:30pm or 9pm. Guest DJs.
URL:https://golatindance.com/event/latin-vibes-saturdays/2027-05-22/
LOCATION:MZ Bar\, 1550 Illinois Rte 59 #156\, Naperville\, IL\, 60563\, United States
CATEGORIES:Chicago
GEO:41.7952358;-88.2043431
X-APPLE-STRUCTURED-LOCATION;VALUE=URI;X-ADDRESS=MZ Bar 1550 Illinois Rte 59 #156 Naperville IL 60563 United States;X-APPLE-RADIUS=500;X-TITLE=1550 Illinois Rte 59 #156:geo:-88.2043431,41.7952358
END:VEVENT
BEGIN:VEVENT
DTSTART;TZID=America/Chicago:20270526T200000
DTEND;TZID=America/Chicago:20270527T010000
DTSTAMP:20260424T215435
CREATED:20240324T160241Z
LAST-MODIFIED:20250120T200402Z
UID:10228605-1811361600-1811379600@golatindance.com
SUMMARY:Bachata Sensual and Salsa Wednesdays
DESCRIPTION:One hour dance lessons every week at 8pm or 8:30pm.\nDj Porras & guest DJs\nCover $10\n18+\nFree parking
URL:https://golatindance.com/event/bachata-sensual-and-salsa-wednesdays/2027-05-26/
LOCATION:MZ Bar\, 1550 Illinois Rte 59 #156\, Naperville\, IL\, 60563\, United States
CATEGORIES:Chicago
ATTACH;FMTTYPE=image/png:https://golatindance.com/wp-content/uploads/2024/03/mz.png
GEO:41.7952358;-88.2043431
X-APPLE-STRUCTURED-LOCATION;VALUE=URI;X-ADDRESS=MZ Bar 1550 Illinois Rte 59 #156 Naperville IL 60563 United States;X-APPLE-RADIUS=500;X-TITLE=1550 Illinois Rte 59 #156:geo:-88.2043431,41.7952358
END:VEVENT
BEGIN:VEVENT
DTSTART;TZID=America/Chicago:20270529T210000
DTEND;TZID=America/Chicago:20270530T020000
DTSTAMP:20260424T215435
CREATED:20230220T200337Z
LAST-MODIFIED:20240715T204639Z
UID:10119329-1811624400-1811642400@golatindance.com
SUMMARY:Latin Vibes Saturdays
DESCRIPTION:Bachata\, Cumbia\, Salsa and tropical beats. Dance class usually at 8:30pm or 9pm. Guest DJs.
URL:https://golatindance.com/event/latin-vibes-saturdays/2027-05-29/
LOCATION:MZ Bar\, 1550 Illinois Rte 59 #156\, Naperville\, IL\, 60563\, United States
CATEGORIES:Chicago
GEO:41.7952358;-88.2043431
X-APPLE-STRUCTURED-LOCATION;VALUE=URI;X-ADDRESS=MZ Bar 1550 Illinois Rte 59 #156 Naperville IL 60563 United States;X-APPLE-RADIUS=500;X-TITLE=1550 Illinois Rte 59 #156:geo:-88.2043431,41.7952358
END:VEVENT
BEGIN:VEVENT
DTSTART;TZID=America/Chicago:20270602T200000
DTEND;TZID=America/Chicago:20270603T010000
DTSTAMP:20260424T215435
CREATED:20240324T160241Z
LAST-MODIFIED:20250120T200402Z
UID:10228606-1811966400-1811984400@golatindance.com
SUMMARY:Bachata Sensual and Salsa Wednesdays
DESCRIPTION:One hour dance lessons every week at 8pm or 8:30pm.\nDj Porras & guest DJs\nCover $10\n18+\nFree parking
URL:https://golatindance.com/event/bachata-sensual-and-salsa-wednesdays/2027-06-02/
LOCATION:MZ Bar\, 1550 Illinois Rte 59 #156\, Naperville\, IL\, 60563\, United States
CATEGORIES:Chicago
ATTACH;FMTTYPE=image/png:https://golatindance.com/wp-content/uploads/2024/03/mz.png
GEO:41.7952358;-88.2043431
X-APPLE-STRUCTURED-LOCATION;VALUE=URI;X-ADDRESS=MZ Bar 1550 Illinois Rte 59 #156 Naperville IL 60563 United States;X-APPLE-RADIUS=500;X-TITLE=1550 Illinois Rte 59 #156:geo:-88.2043431,41.7952358
END:VEVENT
BEGIN:VEVENT
DTSTART;TZID=America/Chicago:20270605T210000
DTEND;TZID=America/Chicago:20270606T020000
DTSTAMP:20260424T215435
CREATED:20230220T200337Z
LAST-MODIFIED:20240715T204639Z
UID:10119330-1812229200-1812247200@golatindance.com
SUMMARY:Latin Vibes Saturdays
DESCRIPTION:Bachata\, Cumbia\, Salsa and tropical beats. Dance class usually at 8:30pm or 9pm. Guest DJs.
URL:https://golatindance.com/event/latin-vibes-saturdays/2027-06-05/
LOCATION:MZ Bar\, 1550 Illinois Rte 59 #156\, Naperville\, IL\, 60563\, United States
CATEGORIES:Chicago
GEO:41.7952358;-88.2043431
X-APPLE-STRUCTURED-LOCATION;VALUE=URI;X-ADDRESS=MZ Bar 1550 Illinois Rte 59 #156 Naperville IL 60563 United States;X-APPLE-RADIUS=500;X-TITLE=1550 Illinois Rte 59 #156:geo:-88.2043431,41.7952358
END:VEVENT
BEGIN:VEVENT
DTSTART;TZID=America/Chicago:20270609T200000
DTEND;TZID=America/Chicago:20270610T010000
DTSTAMP:20260424T215435
CREATED:20240324T160241Z
LAST-MODIFIED:20250120T200402Z
UID:10228607-1812571200-1812589200@golatindance.com
SUMMARY:Bachata Sensual and Salsa Wednesdays
DESCRIPTION:One hour dance lessons every week at 8pm or 8:30pm.\nDj Porras & guest DJs\nCover $10\n18+\nFree parking
URL:https://golatindance.com/event/bachata-sensual-and-salsa-wednesdays/2027-06-09/
LOCATION:MZ Bar\, 1550 Illinois Rte 59 #156\, Naperville\, IL\, 60563\, United States
CATEGORIES:Chicago
ATTACH;FMTTYPE=image/png:https://golatindance.com/wp-content/uploads/2024/03/mz.png
GEO:41.7952358;-88.2043431
X-APPLE-STRUCTURED-LOCATION;VALUE=URI;X-ADDRESS=MZ Bar 1550 Illinois Rte 59 #156 Naperville IL 60563 United States;X-APPLE-RADIUS=500;X-TITLE=1550 Illinois Rte 59 #156:geo:-88.2043431,41.7952358
END:VEVENT
BEGIN:VEVENT
DTSTART;TZID=America/Chicago:20270612T210000
DTEND;TZID=America/Chicago:20270613T020000
DTSTAMP:20260424T215435
CREATED:20230220T200337Z
LAST-MODIFIED:20240715T204639Z
UID:10119331-1812834000-1812852000@golatindance.com
SUMMARY:Latin Vibes Saturdays
DESCRIPTION:Bachata\, Cumbia\, Salsa and tropical beats. Dance class usually at 8:30pm or 9pm. Guest DJs.
URL:https://golatindance.com/event/latin-vibes-saturdays/2027-06-12/
LOCATION:MZ Bar\, 1550 Illinois Rte 59 #156\, Naperville\, IL\, 60563\, United States
CATEGORIES:Chicago
GEO:41.7952358;-88.2043431
X-APPLE-STRUCTURED-LOCATION;VALUE=URI;X-ADDRESS=MZ Bar 1550 Illinois Rte 59 #156 Naperville IL 60563 United States;X-APPLE-RADIUS=500;X-TITLE=1550 Illinois Rte 59 #156:geo:-88.2043431,41.7952358
END:VEVENT
BEGIN:VEVENT
DTSTART;TZID=America/Chicago:20270616T200000
DTEND;TZID=America/Chicago:20270617T010000
DTSTAMP:20260424T215435
CREATED:20240324T160241Z
LAST-MODIFIED:20250120T200402Z
UID:10228608-1813176000-1813194000@golatindance.com
SUMMARY:Bachata Sensual and Salsa Wednesdays
DESCRIPTION:One hour dance lessons every week at 8pm or 8:30pm.\nDj Porras & guest DJs\nCover $10\n18+\nFree parking
URL:https://golatindance.com/event/bachata-sensual-and-salsa-wednesdays/2027-06-16/
LOCATION:MZ Bar\, 1550 Illinois Rte 59 #156\, Naperville\, IL\, 60563\, United States
CATEGORIES:Chicago
ATTACH;FMTTYPE=image/png:https://golatindance.com/wp-content/uploads/2024/03/mz.png
GEO:41.7952358;-88.2043431
X-APPLE-STRUCTURED-LOCATION;VALUE=URI;X-ADDRESS=MZ Bar 1550 Illinois Rte 59 #156 Naperville IL 60563 United States;X-APPLE-RADIUS=500;X-TITLE=1550 Illinois Rte 59 #156:geo:-88.2043431,41.7952358
END:VEVENT
BEGIN:VEVENT
DTSTART;TZID=America/Chicago:20270619T210000
DTEND;TZID=America/Chicago:20270620T020000
DTSTAMP:20260424T215435
CREATED:20230220T200337Z
LAST-MODIFIED:20240715T204639Z
UID:10119332-1813438800-1813456800@golatindance.com
SUMMARY:Latin Vibes Saturdays
DESCRIPTION:Bachata\, Cumbia\, Salsa and tropical beats. Dance class usually at 8:30pm or 9pm. Guest DJs.
URL:https://golatindance.com/event/latin-vibes-saturdays/2027-06-19/
LOCATION:MZ Bar\, 1550 Illinois Rte 59 #156\, Naperville\, IL\, 60563\, United States
CATEGORIES:Chicago
GEO:41.7952358;-88.2043431
X-APPLE-STRUCTURED-LOCATION;VALUE=URI;X-ADDRESS=MZ Bar 1550 Illinois Rte 59 #156 Naperville IL 60563 United States;X-APPLE-RADIUS=500;X-TITLE=1550 Illinois Rte 59 #156:geo:-88.2043431,41.7952358
END:VEVENT
BEGIN:VEVENT
DTSTART;TZID=America/Chicago:20270623T200000
DTEND;TZID=America/Chicago:20270624T010000
DTSTAMP:20260424T215435
CREATED:20240324T160241Z
LAST-MODIFIED:20250120T200402Z
UID:10228609-1813780800-1813798800@golatindance.com
SUMMARY:Bachata Sensual and Salsa Wednesdays
DESCRIPTION:One hour dance lessons every week at 8pm or 8:30pm.\nDj Porras & guest DJs\nCover $10\n18+\nFree parking
URL:https://golatindance.com/event/bachata-sensual-and-salsa-wednesdays/2027-06-23/
LOCATION:MZ Bar\, 1550 Illinois Rte 59 #156\, Naperville\, IL\, 60563\, United States
CATEGORIES:Chicago
ATTACH;FMTTYPE=image/png:https://golatindance.com/wp-content/uploads/2024/03/mz.png
GEO:41.7952358;-88.2043431
X-APPLE-STRUCTURED-LOCATION;VALUE=URI;X-ADDRESS=MZ Bar 1550 Illinois Rte 59 #156 Naperville IL 60563 United States;X-APPLE-RADIUS=500;X-TITLE=1550 Illinois Rte 59 #156:geo:-88.2043431,41.7952358
END:VEVENT
BEGIN:VEVENT
DTSTART;TZID=America/Chicago:20270626T210000
DTEND;TZID=America/Chicago:20270627T020000
DTSTAMP:20260424T215435
CREATED:20230220T200337Z
LAST-MODIFIED:20240715T204639Z
UID:10119333-1814043600-1814061600@golatindance.com
SUMMARY:Latin Vibes Saturdays
DESCRIPTION:Bachata\, Cumbia\, Salsa and tropical beats. Dance class usually at 8:30pm or 9pm. Guest DJs.
URL:https://golatindance.com/event/latin-vibes-saturdays/2027-06-26/
LOCATION:MZ Bar\, 1550 Illinois Rte 59 #156\, Naperville\, IL\, 60563\, United States
CATEGORIES:Chicago
GEO:41.7952358;-88.2043431
X-APPLE-STRUCTURED-LOCATION;VALUE=URI;X-ADDRESS=MZ Bar 1550 Illinois Rte 59 #156 Naperville IL 60563 United States;X-APPLE-RADIUS=500;X-TITLE=1550 Illinois Rte 59 #156:geo:-88.2043431,41.7952358
END:VEVENT
BEGIN:VEVENT
DTSTART;TZID=America/Chicago:20270630T200000
DTEND;TZID=America/Chicago:20270701T010000
DTSTAMP:20260424T215435
CREATED:20240324T160241Z
LAST-MODIFIED:20250120T200402Z
UID:10228610-1814385600-1814403600@golatindance.com
SUMMARY:Bachata Sensual and Salsa Wednesdays
DESCRIPTION:One hour dance lessons every week at 8pm or 8:30pm.\nDj Porras & guest DJs\nCover $10\n18+\nFree parking
URL:https://golatindance.com/event/bachata-sensual-and-salsa-wednesdays/2027-06-30/
LOCATION:MZ Bar\, 1550 Illinois Rte 59 #156\, Naperville\, IL\, 60563\, United States
CATEGORIES:Chicago
ATTACH;FMTTYPE=image/png:https://golatindance.com/wp-content/uploads/2024/03/mz.png
GEO:41.7952358;-88.2043431
X-APPLE-STRUCTURED-LOCATION;VALUE=URI;X-ADDRESS=MZ Bar 1550 Illinois Rte 59 #156 Naperville IL 60563 United States;X-APPLE-RADIUS=500;X-TITLE=1550 Illinois Rte 59 #156:geo:-88.2043431,41.7952358
END:VEVENT
BEGIN:VEVENT
DTSTART;TZID=America/Chicago:20270703T210000
DTEND;TZID=America/Chicago:20270704T020000
DTSTAMP:20260424T215435
CREATED:20230220T200337Z
LAST-MODIFIED:20240715T204639Z
UID:10119334-1814648400-1814666400@golatindance.com
SUMMARY:Latin Vibes Saturdays
DESCRIPTION:Bachata\, Cumbia\, Salsa and tropical beats. Dance class usually at 8:30pm or 9pm. Guest DJs.
URL:https://golatindance.com/event/latin-vibes-saturdays/2027-07-03/
LOCATION:MZ Bar\, 1550 Illinois Rte 59 #156\, Naperville\, IL\, 60563\, United States
CATEGORIES:Chicago
GEO:41.7952358;-88.2043431
X-APPLE-STRUCTURED-LOCATION;VALUE=URI;X-ADDRESS=MZ Bar 1550 Illinois Rte 59 #156 Naperville IL 60563 United States;X-APPLE-RADIUS=500;X-TITLE=1550 Illinois Rte 59 #156:geo:-88.2043431,41.7952358
END:VEVENT
BEGIN:VEVENT
DTSTART;TZID=America/Chicago:20270707T200000
DTEND;TZID=America/Chicago:20270708T010000
DTSTAMP:20260424T215436
CREATED:20240324T160241Z
LAST-MODIFIED:20250120T200402Z
UID:10228611-1814990400-1815008400@golatindance.com
SUMMARY:Bachata Sensual and Salsa Wednesdays
DESCRIPTION:One hour dance lessons every week at 8pm or 8:30pm.\nDj Porras & guest DJs\nCover $10\n18+\nFree parking
URL:https://golatindance.com/event/bachata-sensual-and-salsa-wednesdays/2027-07-07/
LOCATION:MZ Bar\, 1550 Illinois Rte 59 #156\, Naperville\, IL\, 60563\, United States
CATEGORIES:Chicago
ATTACH;FMTTYPE=image/png:https://golatindance.com/wp-content/uploads/2024/03/mz.png
GEO:41.7952358;-88.2043431
X-APPLE-STRUCTURED-LOCATION;VALUE=URI;X-ADDRESS=MZ Bar 1550 Illinois Rte 59 #156 Naperville IL 60563 United States;X-APPLE-RADIUS=500;X-TITLE=1550 Illinois Rte 59 #156:geo:-88.2043431,41.7952358
END:VEVENT
BEGIN:VEVENT
DTSTART;TZID=America/Chicago:20270710T210000
DTEND;TZID=America/Chicago:20270711T020000
DTSTAMP:20260424T215436
CREATED:20230220T200337Z
LAST-MODIFIED:20240715T204639Z
UID:10119335-1815253200-1815271200@golatindance.com
SUMMARY:Latin Vibes Saturdays
DESCRIPTION:Bachata\, Cumbia\, Salsa and tropical beats. Dance class usually at 8:30pm or 9pm. Guest DJs.
URL:https://golatindance.com/event/latin-vibes-saturdays/2027-07-10/
LOCATION:MZ Bar\, 1550 Illinois Rte 59 #156\, Naperville\, IL\, 60563\, United States
CATEGORIES:Chicago
GEO:41.7952358;-88.2043431
X-APPLE-STRUCTURED-LOCATION;VALUE=URI;X-ADDRESS=MZ Bar 1550 Illinois Rte 59 #156 Naperville IL 60563 United States;X-APPLE-RADIUS=500;X-TITLE=1550 Illinois Rte 59 #156:geo:-88.2043431,41.7952358
END:VEVENT
BEGIN:VEVENT
DTSTART;TZID=America/Chicago:20270714T200000
DTEND;TZID=America/Chicago:20270715T010000
DTSTAMP:20260424T215436
CREATED:20240324T160241Z
LAST-MODIFIED:20250120T200402Z
UID:10228612-1815595200-1815613200@golatindance.com
SUMMARY:Bachata Sensual and Salsa Wednesdays
DESCRIPTION:One hour dance lessons every week at 8pm or 8:30pm.\nDj Porras & guest DJs\nCover $10\n18+\nFree parking
URL:https://golatindance.com/event/bachata-sensual-and-salsa-wednesdays/2027-07-14/
LOCATION:MZ Bar\, 1550 Illinois Rte 59 #156\, Naperville\, IL\, 60563\, United States
CATEGORIES:Chicago
ATTACH;FMTTYPE=image/png:https://golatindance.com/wp-content/uploads/2024/03/mz.png
GEO:41.7952358;-88.2043431
X-APPLE-STRUCTURED-LOCATION;VALUE=URI;X-ADDRESS=MZ Bar 1550 Illinois Rte 59 #156 Naperville IL 60563 United States;X-APPLE-RADIUS=500;X-TITLE=1550 Illinois Rte 59 #156:geo:-88.2043431,41.7952358
END:VEVENT
BEGIN:VEVENT
DTSTART;TZID=America/Chicago:20270717T210000
DTEND;TZID=America/Chicago:20270718T020000
DTSTAMP:20260424T215436
CREATED:20230220T200337Z
LAST-MODIFIED:20240715T204639Z
UID:10119336-1815858000-1815876000@golatindance.com
SUMMARY:Latin Vibes Saturdays
DESCRIPTION:Bachata\, Cumbia\, Salsa and tropical beats. Dance class usually at 8:30pm or 9pm. Guest DJs.
URL:https://golatindance.com/event/latin-vibes-saturdays/2027-07-17/
LOCATION:MZ Bar\, 1550 Illinois Rte 59 #156\, Naperville\, IL\, 60563\, United States
CATEGORIES:Chicago
GEO:41.7952358;-88.2043431
X-APPLE-STRUCTURED-LOCATION;VALUE=URI;X-ADDRESS=MZ Bar 1550 Illinois Rte 59 #156 Naperville IL 60563 United States;X-APPLE-RADIUS=500;X-TITLE=1550 Illinois Rte 59 #156:geo:-88.2043431,41.7952358
END:VEVENT
BEGIN:VEVENT
DTSTART;TZID=America/Chicago:20270721T200000
DTEND;TZID=America/Chicago:20270722T010000
DTSTAMP:20260424T215436
CREATED:20240324T160241Z
LAST-MODIFIED:20250120T200402Z
UID:10228613-1816200000-1816218000@golatindance.com
SUMMARY:Bachata Sensual and Salsa Wednesdays
DESCRIPTION:One hour dance lessons every week at 8pm or 8:30pm.\nDj Porras & guest DJs\nCover $10\n18+\nFree parking
URL:https://golatindance.com/event/bachata-sensual-and-salsa-wednesdays/2027-07-21/
LOCATION:MZ Bar\, 1550 Illinois Rte 59 #156\, Naperville\, IL\, 60563\, United States
CATEGORIES:Chicago
ATTACH;FMTTYPE=image/png:https://golatindance.com/wp-content/uploads/2024/03/mz.png
GEO:41.7952358;-88.2043431
X-APPLE-STRUCTURED-LOCATION;VALUE=URI;X-ADDRESS=MZ Bar 1550 Illinois Rte 59 #156 Naperville IL 60563 United States;X-APPLE-RADIUS=500;X-TITLE=1550 Illinois Rte 59 #156:geo:-88.2043431,41.7952358
END:VEVENT
END:VCALENDAR