BEGIN:VCALENDAR
VERSION:2.0
PRODID:-//GO Latin Dance - ECPv6.15.18//NONSGML v1.0//EN
CALSCALE:GREGORIAN
METHOD:PUBLISH
X-WR-CALNAME:GO Latin Dance
X-ORIGINAL-URL:https://golatindance.com
X-WR-CALDESC:Events for GO Latin Dance
REFRESH-INTERVAL;VALUE=DURATION:PT1H
X-Robots-Tag:noindex
X-PUBLISHED-TTL:PT1H
BEGIN:VTIMEZONE
TZID:America/Chicago
BEGIN:DAYLIGHT
TZOFFSETFROM:-0600
TZOFFSETTO:-0500
TZNAME:CDT
DTSTART:20260308T080000
END:DAYLIGHT
BEGIN:STANDARD
TZOFFSETFROM:-0500
TZOFFSETTO:-0600
TZNAME:CST
DTSTART:20261101T070000
END:STANDARD
BEGIN:DAYLIGHT
TZOFFSETFROM:-0600
TZOFFSETTO:-0500
TZNAME:CDT
DTSTART:20270314T080000
END:DAYLIGHT
BEGIN:STANDARD
TZOFFSETFROM:-0500
TZOFFSETTO:-0600
TZNAME:CST
DTSTART:20271107T070000
END:STANDARD
BEGIN:DAYLIGHT
TZOFFSETFROM:-0600
TZOFFSETTO:-0500
TZNAME:CDT
DTSTART:20280312T080000
END:DAYLIGHT
BEGIN:STANDARD
TZOFFSETFROM:-0500
TZOFFSETTO:-0600
TZNAME:CST
DTSTART:20281105T070000
END:STANDARD
BEGIN:DAYLIGHT
TZOFFSETFROM:-0600
TZOFFSETTO:-0500
TZNAME:CDT
DTSTART:20290311T080000
END:DAYLIGHT
BEGIN:STANDARD
TZOFFSETFROM:-0500
TZOFFSETTO:-0600
TZNAME:CST
DTSTART:20291104T070000
END:STANDARD
END:VTIMEZONE
BEGIN:VEVENT
DTSTART;TZID=America/Chicago:20271211T210000
DTEND;TZID=America/Chicago:20271212T020000
DTSTAMP:20260425T063815
CREATED:20230220T200337Z
LAST-MODIFIED:20240715T204639Z
UID:10119357-1828558800-1828576800@golatindance.com
SUMMARY:Latin Vibes Saturdays
DESCRIPTION:Bachata\, Cumbia\, Salsa and tropical beats. Dance class usually at 8:30pm or 9pm. Guest DJs.
URL:https://golatindance.com/event/latin-vibes-saturdays/2027-12-11/
LOCATION:MZ Bar\, 1550 Illinois Rte 59 #156\, Naperville\, IL\, 60563\, United States
CATEGORIES:Chicago
GEO:41.7952358;-88.2043431
X-APPLE-STRUCTURED-LOCATION;VALUE=URI;X-ADDRESS=MZ Bar 1550 Illinois Rte 59 #156 Naperville IL 60563 United States;X-APPLE-RADIUS=500;X-TITLE=1550 Illinois Rte 59 #156:geo:-88.2043431,41.7952358
END:VEVENT
BEGIN:VEVENT
DTSTART;TZID=America/Chicago:20271215T200000
DTEND;TZID=America/Chicago:20271216T010000
DTSTAMP:20260425T063815
CREATED:20240324T160241Z
LAST-MODIFIED:20250120T200402Z
UID:10228634-1828900800-1828918800@golatindance.com
SUMMARY:Bachata Sensual and Salsa Wednesdays
DESCRIPTION:One hour dance lessons every week at 8pm or 8:30pm.\nDj Porras & guest DJs\nCover $10\n18+\nFree parking
URL:https://golatindance.com/event/bachata-sensual-and-salsa-wednesdays/2027-12-15/
LOCATION:MZ Bar\, 1550 Illinois Rte 59 #156\, Naperville\, IL\, 60563\, United States
CATEGORIES:Chicago
ATTACH;FMTTYPE=image/png:https://golatindance.com/wp-content/uploads/2024/03/mz.png
GEO:41.7952358;-88.2043431
X-APPLE-STRUCTURED-LOCATION;VALUE=URI;X-ADDRESS=MZ Bar 1550 Illinois Rte 59 #156 Naperville IL 60563 United States;X-APPLE-RADIUS=500;X-TITLE=1550 Illinois Rte 59 #156:geo:-88.2043431,41.7952358
END:VEVENT
BEGIN:VEVENT
DTSTART;TZID=America/Chicago:20271218T210000
DTEND;TZID=America/Chicago:20271219T020000
DTSTAMP:20260425T063815
CREATED:20230220T200337Z
LAST-MODIFIED:20240715T204639Z
UID:10119358-1829163600-1829181600@golatindance.com
SUMMARY:Latin Vibes Saturdays
DESCRIPTION:Bachata\, Cumbia\, Salsa and tropical beats. Dance class usually at 8:30pm or 9pm. Guest DJs.
URL:https://golatindance.com/event/latin-vibes-saturdays/2027-12-18/
LOCATION:MZ Bar\, 1550 Illinois Rte 59 #156\, Naperville\, IL\, 60563\, United States
CATEGORIES:Chicago
GEO:41.7952358;-88.2043431
X-APPLE-STRUCTURED-LOCATION;VALUE=URI;X-ADDRESS=MZ Bar 1550 Illinois Rte 59 #156 Naperville IL 60563 United States;X-APPLE-RADIUS=500;X-TITLE=1550 Illinois Rte 59 #156:geo:-88.2043431,41.7952358
END:VEVENT
BEGIN:VEVENT
DTSTART;TZID=America/Chicago:20271222T200000
DTEND;TZID=America/Chicago:20271223T010000
DTSTAMP:20260425T063815
CREATED:20240324T160241Z
LAST-MODIFIED:20250120T200402Z
UID:10228635-1829505600-1829523600@golatindance.com
SUMMARY:Bachata Sensual and Salsa Wednesdays
DESCRIPTION:One hour dance lessons every week at 8pm or 8:30pm.\nDj Porras & guest DJs\nCover $10\n18+\nFree parking
URL:https://golatindance.com/event/bachata-sensual-and-salsa-wednesdays/2027-12-22/
LOCATION:MZ Bar\, 1550 Illinois Rte 59 #156\, Naperville\, IL\, 60563\, United States
CATEGORIES:Chicago
ATTACH;FMTTYPE=image/png:https://golatindance.com/wp-content/uploads/2024/03/mz.png
GEO:41.7952358;-88.2043431
X-APPLE-STRUCTURED-LOCATION;VALUE=URI;X-ADDRESS=MZ Bar 1550 Illinois Rte 59 #156 Naperville IL 60563 United States;X-APPLE-RADIUS=500;X-TITLE=1550 Illinois Rte 59 #156:geo:-88.2043431,41.7952358
END:VEVENT
BEGIN:VEVENT
DTSTART;TZID=America/Chicago:20271225T210000
DTEND;TZID=America/Chicago:20271226T020000
DTSTAMP:20260425T063815
CREATED:20230220T200337Z
LAST-MODIFIED:20240715T204639Z
UID:10119359-1829768400-1829786400@golatindance.com
SUMMARY:Latin Vibes Saturdays
DESCRIPTION:Bachata\, Cumbia\, Salsa and tropical beats. Dance class usually at 8:30pm or 9pm. Guest DJs.
URL:https://golatindance.com/event/latin-vibes-saturdays/2027-12-25/
LOCATION:MZ Bar\, 1550 Illinois Rte 59 #156\, Naperville\, IL\, 60563\, United States
CATEGORIES:Chicago
GEO:41.7952358;-88.2043431
X-APPLE-STRUCTURED-LOCATION;VALUE=URI;X-ADDRESS=MZ Bar 1550 Illinois Rte 59 #156 Naperville IL 60563 United States;X-APPLE-RADIUS=500;X-TITLE=1550 Illinois Rte 59 #156:geo:-88.2043431,41.7952358
END:VEVENT
BEGIN:VEVENT
DTSTART;TZID=America/Chicago:20271229T200000
DTEND;TZID=America/Chicago:20271230T010000
DTSTAMP:20260425T063815
CREATED:20240324T160241Z
LAST-MODIFIED:20250120T200402Z
UID:10228636-1830110400-1830128400@golatindance.com
SUMMARY:Bachata Sensual and Salsa Wednesdays
DESCRIPTION:One hour dance lessons every week at 8pm or 8:30pm.\nDj Porras & guest DJs\nCover $10\n18+\nFree parking
URL:https://golatindance.com/event/bachata-sensual-and-salsa-wednesdays/2027-12-29/
LOCATION:MZ Bar\, 1550 Illinois Rte 59 #156\, Naperville\, IL\, 60563\, United States
CATEGORIES:Chicago
ATTACH;FMTTYPE=image/png:https://golatindance.com/wp-content/uploads/2024/03/mz.png
GEO:41.7952358;-88.2043431
X-APPLE-STRUCTURED-LOCATION;VALUE=URI;X-ADDRESS=MZ Bar 1550 Illinois Rte 59 #156 Naperville IL 60563 United States;X-APPLE-RADIUS=500;X-TITLE=1550 Illinois Rte 59 #156:geo:-88.2043431,41.7952358
END:VEVENT
BEGIN:VEVENT
DTSTART;TZID=America/Chicago:20280101T210000
DTEND;TZID=America/Chicago:20280102T020000
DTSTAMP:20260425T063815
CREATED:20230220T200337Z
LAST-MODIFIED:20240715T204639Z
UID:10119360-1830373200-1830391200@golatindance.com
SUMMARY:Latin Vibes Saturdays
DESCRIPTION:Bachata\, Cumbia\, Salsa and tropical beats. Dance class usually at 8:30pm or 9pm. Guest DJs.
URL:https://golatindance.com/event/latin-vibes-saturdays/2028-01-01/
LOCATION:MZ Bar\, 1550 Illinois Rte 59 #156\, Naperville\, IL\, 60563\, United States
CATEGORIES:Chicago
GEO:41.7952358;-88.2043431
X-APPLE-STRUCTURED-LOCATION;VALUE=URI;X-ADDRESS=MZ Bar 1550 Illinois Rte 59 #156 Naperville IL 60563 United States;X-APPLE-RADIUS=500;X-TITLE=1550 Illinois Rte 59 #156:geo:-88.2043431,41.7952358
END:VEVENT
BEGIN:VEVENT
DTSTART;TZID=America/Chicago:20280105T200000
DTEND;TZID=America/Chicago:20280106T010000
DTSTAMP:20260425T063815
CREATED:20240324T160241Z
LAST-MODIFIED:20250120T200402Z
UID:10228637-1830715200-1830733200@golatindance.com
SUMMARY:Bachata Sensual and Salsa Wednesdays
DESCRIPTION:One hour dance lessons every week at 8pm or 8:30pm.\nDj Porras & guest DJs\nCover $10\n18+\nFree parking
URL:https://golatindance.com/event/bachata-sensual-and-salsa-wednesdays/2028-01-05/
LOCATION:MZ Bar\, 1550 Illinois Rte 59 #156\, Naperville\, IL\, 60563\, United States
CATEGORIES:Chicago
ATTACH;FMTTYPE=image/png:https://golatindance.com/wp-content/uploads/2024/03/mz.png
GEO:41.7952358;-88.2043431
X-APPLE-STRUCTURED-LOCATION;VALUE=URI;X-ADDRESS=MZ Bar 1550 Illinois Rte 59 #156 Naperville IL 60563 United States;X-APPLE-RADIUS=500;X-TITLE=1550 Illinois Rte 59 #156:geo:-88.2043431,41.7952358
END:VEVENT
BEGIN:VEVENT
DTSTART;TZID=America/Chicago:20280108T210000
DTEND;TZID=America/Chicago:20280109T020000
DTSTAMP:20260425T063815
CREATED:20230220T200337Z
LAST-MODIFIED:20240715T204639Z
UID:10119361-1830978000-1830996000@golatindance.com
SUMMARY:Latin Vibes Saturdays
DESCRIPTION:Bachata\, Cumbia\, Salsa and tropical beats. Dance class usually at 8:30pm or 9pm. Guest DJs.
URL:https://golatindance.com/event/latin-vibes-saturdays/2028-01-08/
LOCATION:MZ Bar\, 1550 Illinois Rte 59 #156\, Naperville\, IL\, 60563\, United States
CATEGORIES:Chicago
GEO:41.7952358;-88.2043431
X-APPLE-STRUCTURED-LOCATION;VALUE=URI;X-ADDRESS=MZ Bar 1550 Illinois Rte 59 #156 Naperville IL 60563 United States;X-APPLE-RADIUS=500;X-TITLE=1550 Illinois Rte 59 #156:geo:-88.2043431,41.7952358
END:VEVENT
BEGIN:VEVENT
DTSTART;TZID=America/Chicago:20280112T200000
DTEND;TZID=America/Chicago:20280113T010000
DTSTAMP:20260425T063815
CREATED:20240324T160241Z
LAST-MODIFIED:20250120T200402Z
UID:10228638-1831320000-1831338000@golatindance.com
SUMMARY:Bachata Sensual and Salsa Wednesdays
DESCRIPTION:One hour dance lessons every week at 8pm or 8:30pm.\nDj Porras & guest DJs\nCover $10\n18+\nFree parking
URL:https://golatindance.com/event/bachata-sensual-and-salsa-wednesdays/2028-01-12/
LOCATION:MZ Bar\, 1550 Illinois Rte 59 #156\, Naperville\, IL\, 60563\, United States
CATEGORIES:Chicago
ATTACH;FMTTYPE=image/png:https://golatindance.com/wp-content/uploads/2024/03/mz.png
GEO:41.7952358;-88.2043431
X-APPLE-STRUCTURED-LOCATION;VALUE=URI;X-ADDRESS=MZ Bar 1550 Illinois Rte 59 #156 Naperville IL 60563 United States;X-APPLE-RADIUS=500;X-TITLE=1550 Illinois Rte 59 #156:geo:-88.2043431,41.7952358
END:VEVENT
BEGIN:VEVENT
DTSTART;TZID=America/Chicago:20280115T210000
DTEND;TZID=America/Chicago:20280116T020000
DTSTAMP:20260425T063815
CREATED:20230220T200337Z
LAST-MODIFIED:20240715T204639Z
UID:10119362-1831582800-1831600800@golatindance.com
SUMMARY:Latin Vibes Saturdays
DESCRIPTION:Bachata\, Cumbia\, Salsa and tropical beats. Dance class usually at 8:30pm or 9pm. Guest DJs.
URL:https://golatindance.com/event/latin-vibes-saturdays/2028-01-15/
LOCATION:MZ Bar\, 1550 Illinois Rte 59 #156\, Naperville\, IL\, 60563\, United States
CATEGORIES:Chicago
GEO:41.7952358;-88.2043431
X-APPLE-STRUCTURED-LOCATION;VALUE=URI;X-ADDRESS=MZ Bar 1550 Illinois Rte 59 #156 Naperville IL 60563 United States;X-APPLE-RADIUS=500;X-TITLE=1550 Illinois Rte 59 #156:geo:-88.2043431,41.7952358
END:VEVENT
BEGIN:VEVENT
DTSTART;TZID=America/Chicago:20280119T200000
DTEND;TZID=America/Chicago:20280120T010000
DTSTAMP:20260425T063815
CREATED:20240324T160241Z
LAST-MODIFIED:20250120T200402Z
UID:10228639-1831924800-1831942800@golatindance.com
SUMMARY:Bachata Sensual and Salsa Wednesdays
DESCRIPTION:One hour dance lessons every week at 8pm or 8:30pm.\nDj Porras & guest DJs\nCover $10\n18+\nFree parking
URL:https://golatindance.com/event/bachata-sensual-and-salsa-wednesdays/2028-01-19/
LOCATION:MZ Bar\, 1550 Illinois Rte 59 #156\, Naperville\, IL\, 60563\, United States
CATEGORIES:Chicago
ATTACH;FMTTYPE=image/png:https://golatindance.com/wp-content/uploads/2024/03/mz.png
GEO:41.7952358;-88.2043431
X-APPLE-STRUCTURED-LOCATION;VALUE=URI;X-ADDRESS=MZ Bar 1550 Illinois Rte 59 #156 Naperville IL 60563 United States;X-APPLE-RADIUS=500;X-TITLE=1550 Illinois Rte 59 #156:geo:-88.2043431,41.7952358
END:VEVENT
BEGIN:VEVENT
DTSTART;TZID=America/Chicago:20280122T210000
DTEND;TZID=America/Chicago:20280123T020000
DTSTAMP:20260425T063815
CREATED:20230220T200337Z
LAST-MODIFIED:20240715T204639Z
UID:10119363-1832187600-1832205600@golatindance.com
SUMMARY:Latin Vibes Saturdays
DESCRIPTION:Bachata\, Cumbia\, Salsa and tropical beats. Dance class usually at 8:30pm or 9pm. Guest DJs.
URL:https://golatindance.com/event/latin-vibes-saturdays/2028-01-22/
LOCATION:MZ Bar\, 1550 Illinois Rte 59 #156\, Naperville\, IL\, 60563\, United States
CATEGORIES:Chicago
GEO:41.7952358;-88.2043431
X-APPLE-STRUCTURED-LOCATION;VALUE=URI;X-ADDRESS=MZ Bar 1550 Illinois Rte 59 #156 Naperville IL 60563 United States;X-APPLE-RADIUS=500;X-TITLE=1550 Illinois Rte 59 #156:geo:-88.2043431,41.7952358
END:VEVENT
BEGIN:VEVENT
DTSTART;TZID=America/Chicago:20280126T200000
DTEND;TZID=America/Chicago:20280127T010000
DTSTAMP:20260425T063815
CREATED:20240324T160241Z
LAST-MODIFIED:20250120T200402Z
UID:10228640-1832529600-1832547600@golatindance.com
SUMMARY:Bachata Sensual and Salsa Wednesdays
DESCRIPTION:One hour dance lessons every week at 8pm or 8:30pm.\nDj Porras & guest DJs\nCover $10\n18+\nFree parking
URL:https://golatindance.com/event/bachata-sensual-and-salsa-wednesdays/2028-01-26/
LOCATION:MZ Bar\, 1550 Illinois Rte 59 #156\, Naperville\, IL\, 60563\, United States
CATEGORIES:Chicago
ATTACH;FMTTYPE=image/png:https://golatindance.com/wp-content/uploads/2024/03/mz.png
GEO:41.7952358;-88.2043431
X-APPLE-STRUCTURED-LOCATION;VALUE=URI;X-ADDRESS=MZ Bar 1550 Illinois Rte 59 #156 Naperville IL 60563 United States;X-APPLE-RADIUS=500;X-TITLE=1550 Illinois Rte 59 #156:geo:-88.2043431,41.7952358
END:VEVENT
BEGIN:VEVENT
DTSTART;TZID=America/Chicago:20280129T210000
DTEND;TZID=America/Chicago:20280130T020000
DTSTAMP:20260425T063815
CREATED:20230220T200337Z
LAST-MODIFIED:20240715T204639Z
UID:10119364-1832792400-1832810400@golatindance.com
SUMMARY:Latin Vibes Saturdays
DESCRIPTION:Bachata\, Cumbia\, Salsa and tropical beats. Dance class usually at 8:30pm or 9pm. Guest DJs.
URL:https://golatindance.com/event/latin-vibes-saturdays/2028-01-29/
LOCATION:MZ Bar\, 1550 Illinois Rte 59 #156\, Naperville\, IL\, 60563\, United States
CATEGORIES:Chicago
GEO:41.7952358;-88.2043431
X-APPLE-STRUCTURED-LOCATION;VALUE=URI;X-ADDRESS=MZ Bar 1550 Illinois Rte 59 #156 Naperville IL 60563 United States;X-APPLE-RADIUS=500;X-TITLE=1550 Illinois Rte 59 #156:geo:-88.2043431,41.7952358
END:VEVENT
BEGIN:VEVENT
DTSTART;TZID=America/Chicago:20280202T200000
DTEND;TZID=America/Chicago:20280203T010000
DTSTAMP:20260425T063815
CREATED:20240324T160241Z
LAST-MODIFIED:20250120T200402Z
UID:10228641-1833134400-1833152400@golatindance.com
SUMMARY:Bachata Sensual and Salsa Wednesdays
DESCRIPTION:One hour dance lessons every week at 8pm or 8:30pm.\nDj Porras & guest DJs\nCover $10\n18+\nFree parking
URL:https://golatindance.com/event/bachata-sensual-and-salsa-wednesdays/2028-02-02/
LOCATION:MZ Bar\, 1550 Illinois Rte 59 #156\, Naperville\, IL\, 60563\, United States
CATEGORIES:Chicago
ATTACH;FMTTYPE=image/png:https://golatindance.com/wp-content/uploads/2024/03/mz.png
GEO:41.7952358;-88.2043431
X-APPLE-STRUCTURED-LOCATION;VALUE=URI;X-ADDRESS=MZ Bar 1550 Illinois Rte 59 #156 Naperville IL 60563 United States;X-APPLE-RADIUS=500;X-TITLE=1550 Illinois Rte 59 #156:geo:-88.2043431,41.7952358
END:VEVENT
BEGIN:VEVENT
DTSTART;TZID=America/Chicago:20280205T210000
DTEND;TZID=America/Chicago:20280206T020000
DTSTAMP:20260425T063815
CREATED:20230220T200337Z
LAST-MODIFIED:20240715T204639Z
UID:10119365-1833397200-1833415200@golatindance.com
SUMMARY:Latin Vibes Saturdays
DESCRIPTION:Bachata\, Cumbia\, Salsa and tropical beats. Dance class usually at 8:30pm or 9pm. Guest DJs.
URL:https://golatindance.com/event/latin-vibes-saturdays/2028-02-05/
LOCATION:MZ Bar\, 1550 Illinois Rte 59 #156\, Naperville\, IL\, 60563\, United States
CATEGORIES:Chicago
GEO:41.7952358;-88.2043431
X-APPLE-STRUCTURED-LOCATION;VALUE=URI;X-ADDRESS=MZ Bar 1550 Illinois Rte 59 #156 Naperville IL 60563 United States;X-APPLE-RADIUS=500;X-TITLE=1550 Illinois Rte 59 #156:geo:-88.2043431,41.7952358
END:VEVENT
BEGIN:VEVENT
DTSTART;TZID=America/Chicago:20280209T200000
DTEND;TZID=America/Chicago:20280210T010000
DTSTAMP:20260425T063815
CREATED:20240324T160241Z
LAST-MODIFIED:20250120T200402Z
UID:10228642-1833739200-1833757200@golatindance.com
SUMMARY:Bachata Sensual and Salsa Wednesdays
DESCRIPTION:One hour dance lessons every week at 8pm or 8:30pm.\nDj Porras & guest DJs\nCover $10\n18+\nFree parking
URL:https://golatindance.com/event/bachata-sensual-and-salsa-wednesdays/2028-02-09/
LOCATION:MZ Bar\, 1550 Illinois Rte 59 #156\, Naperville\, IL\, 60563\, United States
CATEGORIES:Chicago
ATTACH;FMTTYPE=image/png:https://golatindance.com/wp-content/uploads/2024/03/mz.png
GEO:41.7952358;-88.2043431
X-APPLE-STRUCTURED-LOCATION;VALUE=URI;X-ADDRESS=MZ Bar 1550 Illinois Rte 59 #156 Naperville IL 60563 United States;X-APPLE-RADIUS=500;X-TITLE=1550 Illinois Rte 59 #156:geo:-88.2043431,41.7952358
END:VEVENT
BEGIN:VEVENT
DTSTART;TZID=America/Chicago:20280212T210000
DTEND;TZID=America/Chicago:20280213T020000
DTSTAMP:20260425T063815
CREATED:20230220T200337Z
LAST-MODIFIED:20240715T204639Z
UID:10119366-1834002000-1834020000@golatindance.com
SUMMARY:Latin Vibes Saturdays
DESCRIPTION:Bachata\, Cumbia\, Salsa and tropical beats. Dance class usually at 8:30pm or 9pm. Guest DJs.
URL:https://golatindance.com/event/latin-vibes-saturdays/2028-02-12/
LOCATION:MZ Bar\, 1550 Illinois Rte 59 #156\, Naperville\, IL\, 60563\, United States
CATEGORIES:Chicago
GEO:41.7952358;-88.2043431
X-APPLE-STRUCTURED-LOCATION;VALUE=URI;X-ADDRESS=MZ Bar 1550 Illinois Rte 59 #156 Naperville IL 60563 United States;X-APPLE-RADIUS=500;X-TITLE=1550 Illinois Rte 59 #156:geo:-88.2043431,41.7952358
END:VEVENT
BEGIN:VEVENT
DTSTART;TZID=America/Chicago:20280216T200000
DTEND;TZID=America/Chicago:20280217T010000
DTSTAMP:20260425T063815
CREATED:20240324T160241Z
LAST-MODIFIED:20250120T200402Z
UID:10228643-1834344000-1834362000@golatindance.com
SUMMARY:Bachata Sensual and Salsa Wednesdays
DESCRIPTION:One hour dance lessons every week at 8pm or 8:30pm.\nDj Porras & guest DJs\nCover $10\n18+\nFree parking
URL:https://golatindance.com/event/bachata-sensual-and-salsa-wednesdays/2028-02-16/
LOCATION:MZ Bar\, 1550 Illinois Rte 59 #156\, Naperville\, IL\, 60563\, United States
CATEGORIES:Chicago
ATTACH;FMTTYPE=image/png:https://golatindance.com/wp-content/uploads/2024/03/mz.png
GEO:41.7952358;-88.2043431
X-APPLE-STRUCTURED-LOCATION;VALUE=URI;X-ADDRESS=MZ Bar 1550 Illinois Rte 59 #156 Naperville IL 60563 United States;X-APPLE-RADIUS=500;X-TITLE=1550 Illinois Rte 59 #156:geo:-88.2043431,41.7952358
END:VEVENT
BEGIN:VEVENT
DTSTART;TZID=America/Chicago:20280219T210000
DTEND;TZID=America/Chicago:20280220T020000
DTSTAMP:20260425T063815
CREATED:20230220T200337Z
LAST-MODIFIED:20240715T204639Z
UID:10119367-1834606800-1834624800@golatindance.com
SUMMARY:Latin Vibes Saturdays
DESCRIPTION:Bachata\, Cumbia\, Salsa and tropical beats. Dance class usually at 8:30pm or 9pm. Guest DJs.
URL:https://golatindance.com/event/latin-vibes-saturdays/2028-02-19/
LOCATION:MZ Bar\, 1550 Illinois Rte 59 #156\, Naperville\, IL\, 60563\, United States
CATEGORIES:Chicago
GEO:41.7952358;-88.2043431
X-APPLE-STRUCTURED-LOCATION;VALUE=URI;X-ADDRESS=MZ Bar 1550 Illinois Rte 59 #156 Naperville IL 60563 United States;X-APPLE-RADIUS=500;X-TITLE=1550 Illinois Rte 59 #156:geo:-88.2043431,41.7952358
END:VEVENT
BEGIN:VEVENT
DTSTART;TZID=America/Chicago:20280223T200000
DTEND;TZID=America/Chicago:20280224T010000
DTSTAMP:20260425T063815
CREATED:20240324T160241Z
LAST-MODIFIED:20250120T200402Z
UID:10228644-1834948800-1834966800@golatindance.com
SUMMARY:Bachata Sensual and Salsa Wednesdays
DESCRIPTION:One hour dance lessons every week at 8pm or 8:30pm.\nDj Porras & guest DJs\nCover $10\n18+\nFree parking
URL:https://golatindance.com/event/bachata-sensual-and-salsa-wednesdays/2028-02-23/
LOCATION:MZ Bar\, 1550 Illinois Rte 59 #156\, Naperville\, IL\, 60563\, United States
CATEGORIES:Chicago
ATTACH;FMTTYPE=image/png:https://golatindance.com/wp-content/uploads/2024/03/mz.png
GEO:41.7952358;-88.2043431
X-APPLE-STRUCTURED-LOCATION;VALUE=URI;X-ADDRESS=MZ Bar 1550 Illinois Rte 59 #156 Naperville IL 60563 United States;X-APPLE-RADIUS=500;X-TITLE=1550 Illinois Rte 59 #156:geo:-88.2043431,41.7952358
END:VEVENT
BEGIN:VEVENT
DTSTART;TZID=America/Chicago:20280226T210000
DTEND;TZID=America/Chicago:20280227T020000
DTSTAMP:20260425T063815
CREATED:20230220T200337Z
LAST-MODIFIED:20240715T204639Z
UID:10119368-1835211600-1835229600@golatindance.com
SUMMARY:Latin Vibes Saturdays
DESCRIPTION:Bachata\, Cumbia\, Salsa and tropical beats. Dance class usually at 8:30pm or 9pm. Guest DJs.
URL:https://golatindance.com/event/latin-vibes-saturdays/2028-02-26/
LOCATION:MZ Bar\, 1550 Illinois Rte 59 #156\, Naperville\, IL\, 60563\, United States
CATEGORIES:Chicago
GEO:41.7952358;-88.2043431
X-APPLE-STRUCTURED-LOCATION;VALUE=URI;X-ADDRESS=MZ Bar 1550 Illinois Rte 59 #156 Naperville IL 60563 United States;X-APPLE-RADIUS=500;X-TITLE=1550 Illinois Rte 59 #156:geo:-88.2043431,41.7952358
END:VEVENT
BEGIN:VEVENT
DTSTART;TZID=America/Chicago:20280301T200000
DTEND;TZID=America/Chicago:20280302T010000
DTSTAMP:20260425T063815
CREATED:20240324T160241Z
LAST-MODIFIED:20250120T200402Z
UID:10228645-1835553600-1835571600@golatindance.com
SUMMARY:Bachata Sensual and Salsa Wednesdays
DESCRIPTION:One hour dance lessons every week at 8pm or 8:30pm.\nDj Porras & guest DJs\nCover $10\n18+\nFree parking
URL:https://golatindance.com/event/bachata-sensual-and-salsa-wednesdays/2028-03-01/
LOCATION:MZ Bar\, 1550 Illinois Rte 59 #156\, Naperville\, IL\, 60563\, United States
CATEGORIES:Chicago
ATTACH;FMTTYPE=image/png:https://golatindance.com/wp-content/uploads/2024/03/mz.png
GEO:41.7952358;-88.2043431
X-APPLE-STRUCTURED-LOCATION;VALUE=URI;X-ADDRESS=MZ Bar 1550 Illinois Rte 59 #156 Naperville IL 60563 United States;X-APPLE-RADIUS=500;X-TITLE=1550 Illinois Rte 59 #156:geo:-88.2043431,41.7952358
END:VEVENT
BEGIN:VEVENT
DTSTART;TZID=America/Chicago:20280304T210000
DTEND;TZID=America/Chicago:20280305T020000
DTSTAMP:20260425T063815
CREATED:20230220T200337Z
LAST-MODIFIED:20240715T204639Z
UID:10119369-1835816400-1835834400@golatindance.com
SUMMARY:Latin Vibes Saturdays
DESCRIPTION:Bachata\, Cumbia\, Salsa and tropical beats. Dance class usually at 8:30pm or 9pm. Guest DJs.
URL:https://golatindance.com/event/latin-vibes-saturdays/2028-03-04/
LOCATION:MZ Bar\, 1550 Illinois Rte 59 #156\, Naperville\, IL\, 60563\, United States
CATEGORIES:Chicago
GEO:41.7952358;-88.2043431
X-APPLE-STRUCTURED-LOCATION;VALUE=URI;X-ADDRESS=MZ Bar 1550 Illinois Rte 59 #156 Naperville IL 60563 United States;X-APPLE-RADIUS=500;X-TITLE=1550 Illinois Rte 59 #156:geo:-88.2043431,41.7952358
END:VEVENT
BEGIN:VEVENT
DTSTART;TZID=America/Chicago:20280308T200000
DTEND;TZID=America/Chicago:20280309T010000
DTSTAMP:20260425T063815
CREATED:20240324T160241Z
LAST-MODIFIED:20250120T200402Z
UID:10228646-1836158400-1836176400@golatindance.com
SUMMARY:Bachata Sensual and Salsa Wednesdays
DESCRIPTION:One hour dance lessons every week at 8pm or 8:30pm.\nDj Porras & guest DJs\nCover $10\n18+\nFree parking
URL:https://golatindance.com/event/bachata-sensual-and-salsa-wednesdays/2028-03-08/
LOCATION:MZ Bar\, 1550 Illinois Rte 59 #156\, Naperville\, IL\, 60563\, United States
CATEGORIES:Chicago
ATTACH;FMTTYPE=image/png:https://golatindance.com/wp-content/uploads/2024/03/mz.png
GEO:41.7952358;-88.2043431
X-APPLE-STRUCTURED-LOCATION;VALUE=URI;X-ADDRESS=MZ Bar 1550 Illinois Rte 59 #156 Naperville IL 60563 United States;X-APPLE-RADIUS=500;X-TITLE=1550 Illinois Rte 59 #156:geo:-88.2043431,41.7952358
END:VEVENT
BEGIN:VEVENT
DTSTART;TZID=America/Chicago:20280311T210000
DTEND;TZID=America/Chicago:20280312T030000
DTSTAMP:20260425T063815
CREATED:20230220T200337Z
LAST-MODIFIED:20240715T204639Z
UID:10119370-1836421200-1836442800@golatindance.com
SUMMARY:Latin Vibes Saturdays
DESCRIPTION:Bachata\, Cumbia\, Salsa and tropical beats. Dance class usually at 8:30pm or 9pm. Guest DJs.
URL:https://golatindance.com/event/latin-vibes-saturdays/2028-03-11/
LOCATION:MZ Bar\, 1550 Illinois Rte 59 #156\, Naperville\, IL\, 60563\, United States
CATEGORIES:Chicago
GEO:41.7952358;-88.2043431
X-APPLE-STRUCTURED-LOCATION;VALUE=URI;X-ADDRESS=MZ Bar 1550 Illinois Rte 59 #156 Naperville IL 60563 United States;X-APPLE-RADIUS=500;X-TITLE=1550 Illinois Rte 59 #156:geo:-88.2043431,41.7952358
END:VEVENT
BEGIN:VEVENT
DTSTART;TZID=America/Chicago:20280315T200000
DTEND;TZID=America/Chicago:20280316T010000
DTSTAMP:20260425T063815
CREATED:20240324T160241Z
LAST-MODIFIED:20250120T200402Z
UID:10228647-1836763200-1836781200@golatindance.com
SUMMARY:Bachata Sensual and Salsa Wednesdays
DESCRIPTION:One hour dance lessons every week at 8pm or 8:30pm.\nDj Porras & guest DJs\nCover $10\n18+\nFree parking
URL:https://golatindance.com/event/bachata-sensual-and-salsa-wednesdays/2028-03-15/
LOCATION:MZ Bar\, 1550 Illinois Rte 59 #156\, Naperville\, IL\, 60563\, United States
CATEGORIES:Chicago
ATTACH;FMTTYPE=image/png:https://golatindance.com/wp-content/uploads/2024/03/mz.png
GEO:41.7952358;-88.2043431
X-APPLE-STRUCTURED-LOCATION;VALUE=URI;X-ADDRESS=MZ Bar 1550 Illinois Rte 59 #156 Naperville IL 60563 United States;X-APPLE-RADIUS=500;X-TITLE=1550 Illinois Rte 59 #156:geo:-88.2043431,41.7952358
END:VEVENT
BEGIN:VEVENT
DTSTART;TZID=America/Chicago:20280318T210000
DTEND;TZID=America/Chicago:20280319T020000
DTSTAMP:20260425T063815
CREATED:20230220T200337Z
LAST-MODIFIED:20240715T204639Z
UID:10119371-1837026000-1837044000@golatindance.com
SUMMARY:Latin Vibes Saturdays
DESCRIPTION:Bachata\, Cumbia\, Salsa and tropical beats. Dance class usually at 8:30pm or 9pm. Guest DJs.
URL:https://golatindance.com/event/latin-vibes-saturdays/2028-03-18/
LOCATION:MZ Bar\, 1550 Illinois Rte 59 #156\, Naperville\, IL\, 60563\, United States
CATEGORIES:Chicago
GEO:41.7952358;-88.2043431
X-APPLE-STRUCTURED-LOCATION;VALUE=URI;X-ADDRESS=MZ Bar 1550 Illinois Rte 59 #156 Naperville IL 60563 United States;X-APPLE-RADIUS=500;X-TITLE=1550 Illinois Rte 59 #156:geo:-88.2043431,41.7952358
END:VEVENT
BEGIN:VEVENT
DTSTART;TZID=America/Chicago:20280322T200000
DTEND;TZID=America/Chicago:20280323T010000
DTSTAMP:20260425T063815
CREATED:20240324T160241Z
LAST-MODIFIED:20250120T200402Z
UID:10228648-1837368000-1837386000@golatindance.com
SUMMARY:Bachata Sensual and Salsa Wednesdays
DESCRIPTION:One hour dance lessons every week at 8pm or 8:30pm.\nDj Porras & guest DJs\nCover $10\n18+\nFree parking
URL:https://golatindance.com/event/bachata-sensual-and-salsa-wednesdays/2028-03-22/
LOCATION:MZ Bar\, 1550 Illinois Rte 59 #156\, Naperville\, IL\, 60563\, United States
CATEGORIES:Chicago
ATTACH;FMTTYPE=image/png:https://golatindance.com/wp-content/uploads/2024/03/mz.png
GEO:41.7952358;-88.2043431
X-APPLE-STRUCTURED-LOCATION;VALUE=URI;X-ADDRESS=MZ Bar 1550 Illinois Rte 59 #156 Naperville IL 60563 United States;X-APPLE-RADIUS=500;X-TITLE=1550 Illinois Rte 59 #156:geo:-88.2043431,41.7952358
END:VEVENT
END:VCALENDAR