BEGIN:VCALENDAR
VERSION:2.0
PRODID:-//GO Latin Dance - ECPv6.15.18//NONSGML v1.0//EN
CALSCALE:GREGORIAN
METHOD:PUBLISH
X-ORIGINAL-URL:https://golatindance.com
X-WR-CALDESC:Events for GO Latin Dance
REFRESH-INTERVAL;VALUE=DURATION:PT1H
X-Robots-Tag:noindex
X-PUBLISHED-TTL:PT1H
BEGIN:VTIMEZONE
TZID:America/Chicago
BEGIN:DAYLIGHT
TZOFFSETFROM:-0600
TZOFFSETTO:-0500
TZNAME:CDT
DTSTART:20280312T080000
END:DAYLIGHT
BEGIN:STANDARD
TZOFFSETFROM:-0500
TZOFFSETTO:-0600
TZNAME:CST
DTSTART:20281105T070000
END:STANDARD
BEGIN:DAYLIGHT
TZOFFSETFROM:-0600
TZOFFSETTO:-0500
TZNAME:CDT
DTSTART:20290311T080000
END:DAYLIGHT
BEGIN:STANDARD
TZOFFSETFROM:-0500
TZOFFSETTO:-0600
TZNAME:CST
DTSTART:20291104T070000
END:STANDARD
BEGIN:DAYLIGHT
TZOFFSETFROM:-0600
TZOFFSETTO:-0500
TZNAME:CDT
DTSTART:20300310T080000
END:DAYLIGHT
BEGIN:STANDARD
TZOFFSETFROM:-0500
TZOFFSETTO:-0600
TZNAME:CST
DTSTART:20301103T070000
END:STANDARD
END:VTIMEZONE
BEGIN:VEVENT
DTSTART;TZID=America/Chicago:20290203T210000
DTEND;TZID=America/Chicago:20290204T020000
DTSTAMP:20260425T211641
CREATED:20230220T200337Z
LAST-MODIFIED:20240715T204639Z
UID:10228739-1864846800-1864864800@golatindance.com
SUMMARY:Latin Vibes Saturdays
DESCRIPTION:Bachata\, Cumbia\, Salsa and tropical beats. Dance class usually at 8:30pm or 9pm. Guest DJs.
URL:https://golatindance.com/event/latin-vibes-saturdays/2029-02-03/
LOCATION:MZ Bar\, 1550 Illinois Rte 59 #156\, Naperville\, IL\, 60563\, United States
CATEGORIES:Chicago
GEO:41.7952358;-88.2043431
X-APPLE-STRUCTURED-LOCATION;VALUE=URI;X-ADDRESS=MZ Bar 1550 Illinois Rte 59 #156 Naperville IL 60563 United States;X-APPLE-RADIUS=500;X-TITLE=1550 Illinois Rte 59 #156:geo:-88.2043431,41.7952358
END:VEVENT
BEGIN:VEVENT
DTSTART;TZID=America/Chicago:20290207T200000
DTEND;TZID=America/Chicago:20290208T010000
DTSTAMP:20260425T211641
CREATED:20240324T160241Z
LAST-MODIFIED:20250120T200402Z
UID:10228694-1865188800-1865206800@golatindance.com
SUMMARY:Bachata Sensual and Salsa Wednesdays
DESCRIPTION:One hour dance lessons every week at 8pm or 8:30pm.\nDj Porras & guest DJs\nCover $10\n18+\nFree parking
URL:https://golatindance.com/event/bachata-sensual-and-salsa-wednesdays/2029-02-07/
LOCATION:MZ Bar\, 1550 Illinois Rte 59 #156\, Naperville\, IL\, 60563\, United States
CATEGORIES:Chicago
ATTACH;FMTTYPE=image/png:https://golatindance.com/wp-content/uploads/2024/03/mz.png
GEO:41.7952358;-88.2043431
X-APPLE-STRUCTURED-LOCATION;VALUE=URI;X-ADDRESS=MZ Bar 1550 Illinois Rte 59 #156 Naperville IL 60563 United States;X-APPLE-RADIUS=500;X-TITLE=1550 Illinois Rte 59 #156:geo:-88.2043431,41.7952358
END:VEVENT
BEGIN:VEVENT
DTSTART;TZID=America/Chicago:20290210T210000
DTEND;TZID=America/Chicago:20290211T020000
DTSTAMP:20260425T211641
CREATED:20230220T200337Z
LAST-MODIFIED:20240715T204639Z
UID:10228740-1865451600-1865469600@golatindance.com
SUMMARY:Latin Vibes Saturdays
DESCRIPTION:Bachata\, Cumbia\, Salsa and tropical beats. Dance class usually at 8:30pm or 9pm. Guest DJs.
URL:https://golatindance.com/event/latin-vibes-saturdays/2029-02-10/
LOCATION:MZ Bar\, 1550 Illinois Rte 59 #156\, Naperville\, IL\, 60563\, United States
CATEGORIES:Chicago
GEO:41.7952358;-88.2043431
X-APPLE-STRUCTURED-LOCATION;VALUE=URI;X-ADDRESS=MZ Bar 1550 Illinois Rte 59 #156 Naperville IL 60563 United States;X-APPLE-RADIUS=500;X-TITLE=1550 Illinois Rte 59 #156:geo:-88.2043431,41.7952358
END:VEVENT
BEGIN:VEVENT
DTSTART;TZID=America/Chicago:20290214T200000
DTEND;TZID=America/Chicago:20290215T010000
DTSTAMP:20260425T211641
CREATED:20240324T160241Z
LAST-MODIFIED:20250120T200402Z
UID:10228695-1865793600-1865811600@golatindance.com
SUMMARY:Bachata Sensual and Salsa Wednesdays
DESCRIPTION:One hour dance lessons every week at 8pm or 8:30pm.\nDj Porras & guest DJs\nCover $10\n18+\nFree parking
URL:https://golatindance.com/event/bachata-sensual-and-salsa-wednesdays/2029-02-14/
LOCATION:MZ Bar\, 1550 Illinois Rte 59 #156\, Naperville\, IL\, 60563\, United States
CATEGORIES:Chicago
ATTACH;FMTTYPE=image/png:https://golatindance.com/wp-content/uploads/2024/03/mz.png
GEO:41.7952358;-88.2043431
X-APPLE-STRUCTURED-LOCATION;VALUE=URI;X-ADDRESS=MZ Bar 1550 Illinois Rte 59 #156 Naperville IL 60563 United States;X-APPLE-RADIUS=500;X-TITLE=1550 Illinois Rte 59 #156:geo:-88.2043431,41.7952358
END:VEVENT
BEGIN:VEVENT
DTSTART;TZID=America/Chicago:20290217T210000
DTEND;TZID=America/Chicago:20290218T020000
DTSTAMP:20260425T211641
CREATED:20230220T200337Z
LAST-MODIFIED:20240715T204639Z
UID:10228741-1866056400-1866074400@golatindance.com
SUMMARY:Latin Vibes Saturdays
DESCRIPTION:Bachata\, Cumbia\, Salsa and tropical beats. Dance class usually at 8:30pm or 9pm. Guest DJs.
URL:https://golatindance.com/event/latin-vibes-saturdays/2029-02-17/
LOCATION:MZ Bar\, 1550 Illinois Rte 59 #156\, Naperville\, IL\, 60563\, United States
CATEGORIES:Chicago
GEO:41.7952358;-88.2043431
X-APPLE-STRUCTURED-LOCATION;VALUE=URI;X-ADDRESS=MZ Bar 1550 Illinois Rte 59 #156 Naperville IL 60563 United States;X-APPLE-RADIUS=500;X-TITLE=1550 Illinois Rte 59 #156:geo:-88.2043431,41.7952358
END:VEVENT
BEGIN:VEVENT
DTSTART;TZID=America/Chicago:20290221T200000
DTEND;TZID=America/Chicago:20290222T010000
DTSTAMP:20260425T211641
CREATED:20240324T160241Z
LAST-MODIFIED:20250120T200402Z
UID:10228696-1866398400-1866416400@golatindance.com
SUMMARY:Bachata Sensual and Salsa Wednesdays
DESCRIPTION:One hour dance lessons every week at 8pm or 8:30pm.\nDj Porras & guest DJs\nCover $10\n18+\nFree parking
URL:https://golatindance.com/event/bachata-sensual-and-salsa-wednesdays/2029-02-21/
LOCATION:MZ Bar\, 1550 Illinois Rte 59 #156\, Naperville\, IL\, 60563\, United States
CATEGORIES:Chicago
ATTACH;FMTTYPE=image/png:https://golatindance.com/wp-content/uploads/2024/03/mz.png
GEO:41.7952358;-88.2043431
X-APPLE-STRUCTURED-LOCATION;VALUE=URI;X-ADDRESS=MZ Bar 1550 Illinois Rte 59 #156 Naperville IL 60563 United States;X-APPLE-RADIUS=500;X-TITLE=1550 Illinois Rte 59 #156:geo:-88.2043431,41.7952358
END:VEVENT
BEGIN:VEVENT
DTSTART;TZID=America/Chicago:20290224T210000
DTEND;TZID=America/Chicago:20290225T020000
DTSTAMP:20260425T211641
CREATED:20230220T200337Z
LAST-MODIFIED:20240715T204639Z
UID:10228742-1866661200-1866679200@golatindance.com
SUMMARY:Latin Vibes Saturdays
DESCRIPTION:Bachata\, Cumbia\, Salsa and tropical beats. Dance class usually at 8:30pm or 9pm. Guest DJs.
URL:https://golatindance.com/event/latin-vibes-saturdays/2029-02-24/
LOCATION:MZ Bar\, 1550 Illinois Rte 59 #156\, Naperville\, IL\, 60563\, United States
CATEGORIES:Chicago
GEO:41.7952358;-88.2043431
X-APPLE-STRUCTURED-LOCATION;VALUE=URI;X-ADDRESS=MZ Bar 1550 Illinois Rte 59 #156 Naperville IL 60563 United States;X-APPLE-RADIUS=500;X-TITLE=1550 Illinois Rte 59 #156:geo:-88.2043431,41.7952358
END:VEVENT
BEGIN:VEVENT
DTSTART;TZID=America/Chicago:20290228T200000
DTEND;TZID=America/Chicago:20290301T010000
DTSTAMP:20260425T211641
CREATED:20240324T160241Z
LAST-MODIFIED:20250120T200402Z
UID:10228697-1867003200-1867021200@golatindance.com
SUMMARY:Bachata Sensual and Salsa Wednesdays
DESCRIPTION:One hour dance lessons every week at 8pm or 8:30pm.\nDj Porras & guest DJs\nCover $10\n18+\nFree parking
URL:https://golatindance.com/event/bachata-sensual-and-salsa-wednesdays/2029-02-28/
LOCATION:MZ Bar\, 1550 Illinois Rte 59 #156\, Naperville\, IL\, 60563\, United States
CATEGORIES:Chicago
ATTACH;FMTTYPE=image/png:https://golatindance.com/wp-content/uploads/2024/03/mz.png
GEO:41.7952358;-88.2043431
X-APPLE-STRUCTURED-LOCATION;VALUE=URI;X-ADDRESS=MZ Bar 1550 Illinois Rte 59 #156 Naperville IL 60563 United States;X-APPLE-RADIUS=500;X-TITLE=1550 Illinois Rte 59 #156:geo:-88.2043431,41.7952358
END:VEVENT
BEGIN:VEVENT
DTSTART;TZID=America/Chicago:20290303T210000
DTEND;TZID=America/Chicago:20290304T020000
DTSTAMP:20260425T211641
CREATED:20230220T200337Z
LAST-MODIFIED:20240715T204639Z
UID:10228743-1867266000-1867284000@golatindance.com
SUMMARY:Latin Vibes Saturdays
DESCRIPTION:Bachata\, Cumbia\, Salsa and tropical beats. Dance class usually at 8:30pm or 9pm. Guest DJs.
URL:https://golatindance.com/event/latin-vibes-saturdays/2029-03-03/
LOCATION:MZ Bar\, 1550 Illinois Rte 59 #156\, Naperville\, IL\, 60563\, United States
CATEGORIES:Chicago
GEO:41.7952358;-88.2043431
X-APPLE-STRUCTURED-LOCATION;VALUE=URI;X-ADDRESS=MZ Bar 1550 Illinois Rte 59 #156 Naperville IL 60563 United States;X-APPLE-RADIUS=500;X-TITLE=1550 Illinois Rte 59 #156:geo:-88.2043431,41.7952358
END:VEVENT
BEGIN:VEVENT
DTSTART;TZID=America/Chicago:20290307T200000
DTEND;TZID=America/Chicago:20290308T010000
DTSTAMP:20260425T211641
CREATED:20240324T160241Z
LAST-MODIFIED:20250120T200402Z
UID:10228698-1867608000-1867626000@golatindance.com
SUMMARY:Bachata Sensual and Salsa Wednesdays
DESCRIPTION:One hour dance lessons every week at 8pm or 8:30pm.\nDj Porras & guest DJs\nCover $10\n18+\nFree parking
URL:https://golatindance.com/event/bachata-sensual-and-salsa-wednesdays/2029-03-07/
LOCATION:MZ Bar\, 1550 Illinois Rte 59 #156\, Naperville\, IL\, 60563\, United States
CATEGORIES:Chicago
ATTACH;FMTTYPE=image/png:https://golatindance.com/wp-content/uploads/2024/03/mz.png
GEO:41.7952358;-88.2043431
X-APPLE-STRUCTURED-LOCATION;VALUE=URI;X-ADDRESS=MZ Bar 1550 Illinois Rte 59 #156 Naperville IL 60563 United States;X-APPLE-RADIUS=500;X-TITLE=1550 Illinois Rte 59 #156:geo:-88.2043431,41.7952358
END:VEVENT
BEGIN:VEVENT
DTSTART;TZID=America/Chicago:20290310T210000
DTEND;TZID=America/Chicago:20290311T030000
DTSTAMP:20260425T211641
CREATED:20230220T200337Z
LAST-MODIFIED:20240715T204639Z
UID:10228744-1867870800-1867892400@golatindance.com
SUMMARY:Latin Vibes Saturdays
DESCRIPTION:Bachata\, Cumbia\, Salsa and tropical beats. Dance class usually at 8:30pm or 9pm. Guest DJs.
URL:https://golatindance.com/event/latin-vibes-saturdays/2029-03-10/
LOCATION:MZ Bar\, 1550 Illinois Rte 59 #156\, Naperville\, IL\, 60563\, United States
CATEGORIES:Chicago
GEO:41.7952358;-88.2043431
X-APPLE-STRUCTURED-LOCATION;VALUE=URI;X-ADDRESS=MZ Bar 1550 Illinois Rte 59 #156 Naperville IL 60563 United States;X-APPLE-RADIUS=500;X-TITLE=1550 Illinois Rte 59 #156:geo:-88.2043431,41.7952358
END:VEVENT
BEGIN:VEVENT
DTSTART;TZID=America/Chicago:20290314T200000
DTEND;TZID=America/Chicago:20290315T010000
DTSTAMP:20260425T211641
CREATED:20240324T160241Z
LAST-MODIFIED:20250120T200402Z
UID:10228699-1868212800-1868230800@golatindance.com
SUMMARY:Bachata Sensual and Salsa Wednesdays
DESCRIPTION:One hour dance lessons every week at 8pm or 8:30pm.\nDj Porras & guest DJs\nCover $10\n18+\nFree parking
URL:https://golatindance.com/event/bachata-sensual-and-salsa-wednesdays/2029-03-14/
LOCATION:MZ Bar\, 1550 Illinois Rte 59 #156\, Naperville\, IL\, 60563\, United States
CATEGORIES:Chicago
ATTACH;FMTTYPE=image/png:https://golatindance.com/wp-content/uploads/2024/03/mz.png
GEO:41.7952358;-88.2043431
X-APPLE-STRUCTURED-LOCATION;VALUE=URI;X-ADDRESS=MZ Bar 1550 Illinois Rte 59 #156 Naperville IL 60563 United States;X-APPLE-RADIUS=500;X-TITLE=1550 Illinois Rte 59 #156:geo:-88.2043431,41.7952358
END:VEVENT
BEGIN:VEVENT
DTSTART;TZID=America/Chicago:20290317T210000
DTEND;TZID=America/Chicago:20290318T020000
DTSTAMP:20260425T211641
CREATED:20230220T200337Z
LAST-MODIFIED:20240715T204639Z
UID:10228745-1868475600-1868493600@golatindance.com
SUMMARY:Latin Vibes Saturdays
DESCRIPTION:Bachata\, Cumbia\, Salsa and tropical beats. Dance class usually at 8:30pm or 9pm. Guest DJs.
URL:https://golatindance.com/event/latin-vibes-saturdays/2029-03-17/
LOCATION:MZ Bar\, 1550 Illinois Rte 59 #156\, Naperville\, IL\, 60563\, United States
CATEGORIES:Chicago
GEO:41.7952358;-88.2043431
X-APPLE-STRUCTURED-LOCATION;VALUE=URI;X-ADDRESS=MZ Bar 1550 Illinois Rte 59 #156 Naperville IL 60563 United States;X-APPLE-RADIUS=500;X-TITLE=1550 Illinois Rte 59 #156:geo:-88.2043431,41.7952358
END:VEVENT
BEGIN:VEVENT
DTSTART;TZID=America/Chicago:20290321T200000
DTEND;TZID=America/Chicago:20290322T010000
DTSTAMP:20260425T211641
CREATED:20240324T160241Z
LAST-MODIFIED:20250120T200402Z
UID:10228700-1868817600-1868835600@golatindance.com
SUMMARY:Bachata Sensual and Salsa Wednesdays
DESCRIPTION:One hour dance lessons every week at 8pm or 8:30pm.\nDj Porras & guest DJs\nCover $10\n18+\nFree parking
URL:https://golatindance.com/event/bachata-sensual-and-salsa-wednesdays/2029-03-21/
LOCATION:MZ Bar\, 1550 Illinois Rte 59 #156\, Naperville\, IL\, 60563\, United States
CATEGORIES:Chicago
ATTACH;FMTTYPE=image/png:https://golatindance.com/wp-content/uploads/2024/03/mz.png
GEO:41.7952358;-88.2043431
X-APPLE-STRUCTURED-LOCATION;VALUE=URI;X-ADDRESS=MZ Bar 1550 Illinois Rte 59 #156 Naperville IL 60563 United States;X-APPLE-RADIUS=500;X-TITLE=1550 Illinois Rte 59 #156:geo:-88.2043431,41.7952358
END:VEVENT
BEGIN:VEVENT
DTSTART;TZID=America/Chicago:20290324T210000
DTEND;TZID=America/Chicago:20290325T020000
DTSTAMP:20260425T211641
CREATED:20230220T200337Z
LAST-MODIFIED:20240715T204639Z
UID:10228746-1869080400-1869098400@golatindance.com
SUMMARY:Latin Vibes Saturdays
DESCRIPTION:Bachata\, Cumbia\, Salsa and tropical beats. Dance class usually at 8:30pm or 9pm. Guest DJs.
URL:https://golatindance.com/event/latin-vibes-saturdays/2029-03-24/
LOCATION:MZ Bar\, 1550 Illinois Rte 59 #156\, Naperville\, IL\, 60563\, United States
CATEGORIES:Chicago
GEO:41.7952358;-88.2043431
X-APPLE-STRUCTURED-LOCATION;VALUE=URI;X-ADDRESS=MZ Bar 1550 Illinois Rte 59 #156 Naperville IL 60563 United States;X-APPLE-RADIUS=500;X-TITLE=1550 Illinois Rte 59 #156:geo:-88.2043431,41.7952358
END:VEVENT
BEGIN:VEVENT
DTSTART;TZID=America/Chicago:20290328T200000
DTEND;TZID=America/Chicago:20290329T010000
DTSTAMP:20260425T211641
CREATED:20240324T160241Z
LAST-MODIFIED:20250120T200402Z
UID:10267227-1869422400-1869440400@golatindance.com
SUMMARY:Bachata Sensual and Salsa Wednesdays
DESCRIPTION:One hour dance lessons every week at 8pm or 8:30pm.\nDj Porras & guest DJs\nCover $10\n18+\nFree parking
URL:https://golatindance.com/event/bachata-sensual-and-salsa-wednesdays/2029-03-28/
LOCATION:MZ Bar\, 1550 Illinois Rte 59 #156\, Naperville\, IL\, 60563\, United States
CATEGORIES:Chicago
ATTACH;FMTTYPE=image/png:https://golatindance.com/wp-content/uploads/2024/03/mz.png
GEO:41.7952358;-88.2043431
X-APPLE-STRUCTURED-LOCATION;VALUE=URI;X-ADDRESS=MZ Bar 1550 Illinois Rte 59 #156 Naperville IL 60563 United States;X-APPLE-RADIUS=500;X-TITLE=1550 Illinois Rte 59 #156:geo:-88.2043431,41.7952358
END:VEVENT
BEGIN:VEVENT
DTSTART;TZID=America/Chicago:20290331T210000
DTEND;TZID=America/Chicago:20290401T020000
DTSTAMP:20260425T211641
CREATED:20230220T200337Z
LAST-MODIFIED:20240715T204639Z
UID:10273424-1869685200-1869703200@golatindance.com
SUMMARY:Latin Vibes Saturdays
DESCRIPTION:Bachata\, Cumbia\, Salsa and tropical beats. Dance class usually at 8:30pm or 9pm. Guest DJs.
URL:https://golatindance.com/event/latin-vibes-saturdays/2029-03-31/
LOCATION:MZ Bar\, 1550 Illinois Rte 59 #156\, Naperville\, IL\, 60563\, United States
CATEGORIES:Chicago
GEO:41.7952358;-88.2043431
X-APPLE-STRUCTURED-LOCATION;VALUE=URI;X-ADDRESS=MZ Bar 1550 Illinois Rte 59 #156 Naperville IL 60563 United States;X-APPLE-RADIUS=500;X-TITLE=1550 Illinois Rte 59 #156:geo:-88.2043431,41.7952358
END:VEVENT
BEGIN:VEVENT
DTSTART;TZID=America/Chicago:20290404T200000
DTEND;TZID=America/Chicago:20290405T010000
DTSTAMP:20260425T211641
CREATED:20240324T160241Z
LAST-MODIFIED:20250120T200402Z
UID:10267228-1870027200-1870045200@golatindance.com
SUMMARY:Bachata Sensual and Salsa Wednesdays
DESCRIPTION:One hour dance lessons every week at 8pm or 8:30pm.\nDj Porras & guest DJs\nCover $10\n18+\nFree parking
URL:https://golatindance.com/event/bachata-sensual-and-salsa-wednesdays/2029-04-04/
LOCATION:MZ Bar\, 1550 Illinois Rte 59 #156\, Naperville\, IL\, 60563\, United States
CATEGORIES:Chicago
ATTACH;FMTTYPE=image/png:https://golatindance.com/wp-content/uploads/2024/03/mz.png
GEO:41.7952358;-88.2043431
X-APPLE-STRUCTURED-LOCATION;VALUE=URI;X-ADDRESS=MZ Bar 1550 Illinois Rte 59 #156 Naperville IL 60563 United States;X-APPLE-RADIUS=500;X-TITLE=1550 Illinois Rte 59 #156:geo:-88.2043431,41.7952358
END:VEVENT
BEGIN:VEVENT
DTSTART;TZID=America/Chicago:20290407T210000
DTEND;TZID=America/Chicago:20290408T020000
DTSTAMP:20260425T211641
CREATED:20230220T200337Z
LAST-MODIFIED:20240715T204639Z
UID:10273425-1870290000-1870308000@golatindance.com
SUMMARY:Latin Vibes Saturdays
DESCRIPTION:Bachata\, Cumbia\, Salsa and tropical beats. Dance class usually at 8:30pm or 9pm. Guest DJs.
URL:https://golatindance.com/event/latin-vibes-saturdays/2029-04-07/
LOCATION:MZ Bar\, 1550 Illinois Rte 59 #156\, Naperville\, IL\, 60563\, United States
CATEGORIES:Chicago
GEO:41.7952358;-88.2043431
X-APPLE-STRUCTURED-LOCATION;VALUE=URI;X-ADDRESS=MZ Bar 1550 Illinois Rte 59 #156 Naperville IL 60563 United States;X-APPLE-RADIUS=500;X-TITLE=1550 Illinois Rte 59 #156:geo:-88.2043431,41.7952358
END:VEVENT
BEGIN:VEVENT
DTSTART;TZID=America/Chicago:20290411T200000
DTEND;TZID=America/Chicago:20290412T010000
DTSTAMP:20260425T211641
CREATED:20240324T160241Z
LAST-MODIFIED:20250120T200402Z
UID:10267229-1870632000-1870650000@golatindance.com
SUMMARY:Bachata Sensual and Salsa Wednesdays
DESCRIPTION:One hour dance lessons every week at 8pm or 8:30pm.\nDj Porras & guest DJs\nCover $10\n18+\nFree parking
URL:https://golatindance.com/event/bachata-sensual-and-salsa-wednesdays/2029-04-11/
LOCATION:MZ Bar\, 1550 Illinois Rte 59 #156\, Naperville\, IL\, 60563\, United States
CATEGORIES:Chicago
ATTACH;FMTTYPE=image/png:https://golatindance.com/wp-content/uploads/2024/03/mz.png
GEO:41.7952358;-88.2043431
X-APPLE-STRUCTURED-LOCATION;VALUE=URI;X-ADDRESS=MZ Bar 1550 Illinois Rte 59 #156 Naperville IL 60563 United States;X-APPLE-RADIUS=500;X-TITLE=1550 Illinois Rte 59 #156:geo:-88.2043431,41.7952358
END:VEVENT
BEGIN:VEVENT
DTSTART;TZID=America/Chicago:20290414T210000
DTEND;TZID=America/Chicago:20290415T020000
DTSTAMP:20260425T211641
CREATED:20230220T200337Z
LAST-MODIFIED:20240715T204639Z
UID:10273426-1870894800-1870912800@golatindance.com
SUMMARY:Latin Vibes Saturdays
DESCRIPTION:Bachata\, Cumbia\, Salsa and tropical beats. Dance class usually at 8:30pm or 9pm. Guest DJs.
URL:https://golatindance.com/event/latin-vibes-saturdays/2029-04-14/
LOCATION:MZ Bar\, 1550 Illinois Rte 59 #156\, Naperville\, IL\, 60563\, United States
CATEGORIES:Chicago
GEO:41.7952358;-88.2043431
X-APPLE-STRUCTURED-LOCATION;VALUE=URI;X-ADDRESS=MZ Bar 1550 Illinois Rte 59 #156 Naperville IL 60563 United States;X-APPLE-RADIUS=500;X-TITLE=1550 Illinois Rte 59 #156:geo:-88.2043431,41.7952358
END:VEVENT
BEGIN:VEVENT
DTSTART;TZID=America/Chicago:20290418T200000
DTEND;TZID=America/Chicago:20290419T010000
DTSTAMP:20260425T211641
CREATED:20240324T160241Z
LAST-MODIFIED:20250120T200402Z
UID:10267230-1871236800-1871254800@golatindance.com
SUMMARY:Bachata Sensual and Salsa Wednesdays
DESCRIPTION:One hour dance lessons every week at 8pm or 8:30pm.\nDj Porras & guest DJs\nCover $10\n18+\nFree parking
URL:https://golatindance.com/event/bachata-sensual-and-salsa-wednesdays/2029-04-18/
LOCATION:MZ Bar\, 1550 Illinois Rte 59 #156\, Naperville\, IL\, 60563\, United States
CATEGORIES:Chicago
ATTACH;FMTTYPE=image/png:https://golatindance.com/wp-content/uploads/2024/03/mz.png
GEO:41.7952358;-88.2043431
X-APPLE-STRUCTURED-LOCATION;VALUE=URI;X-ADDRESS=MZ Bar 1550 Illinois Rte 59 #156 Naperville IL 60563 United States;X-APPLE-RADIUS=500;X-TITLE=1550 Illinois Rte 59 #156:geo:-88.2043431,41.7952358
END:VEVENT
BEGIN:VEVENT
DTSTART;TZID=America/Chicago:20290421T210000
DTEND;TZID=America/Chicago:20290422T020000
DTSTAMP:20260425T211641
CREATED:20230220T200337Z
LAST-MODIFIED:20240715T204639Z
UID:10273427-1871499600-1871517600@golatindance.com
SUMMARY:Latin Vibes Saturdays
DESCRIPTION:Bachata\, Cumbia\, Salsa and tropical beats. Dance class usually at 8:30pm or 9pm. Guest DJs.
URL:https://golatindance.com/event/latin-vibes-saturdays/2029-04-21/
LOCATION:MZ Bar\, 1550 Illinois Rte 59 #156\, Naperville\, IL\, 60563\, United States
CATEGORIES:Chicago
GEO:41.7952358;-88.2043431
X-APPLE-STRUCTURED-LOCATION;VALUE=URI;X-ADDRESS=MZ Bar 1550 Illinois Rte 59 #156 Naperville IL 60563 United States;X-APPLE-RADIUS=500;X-TITLE=1550 Illinois Rte 59 #156:geo:-88.2043431,41.7952358
END:VEVENT
BEGIN:VEVENT
DTSTART;TZID=America/Chicago:20290425T200000
DTEND;TZID=America/Chicago:20290426T010000
DTSTAMP:20260425T211641
CREATED:20240324T160241Z
LAST-MODIFIED:20250120T200402Z
UID:10267231-1871841600-1871859600@golatindance.com
SUMMARY:Bachata Sensual and Salsa Wednesdays
DESCRIPTION:One hour dance lessons every week at 8pm or 8:30pm.\nDj Porras & guest DJs\nCover $10\n18+\nFree parking
URL:https://golatindance.com/event/bachata-sensual-and-salsa-wednesdays/2029-04-25/
LOCATION:MZ Bar\, 1550 Illinois Rte 59 #156\, Naperville\, IL\, 60563\, United States
CATEGORIES:Chicago
ATTACH;FMTTYPE=image/png:https://golatindance.com/wp-content/uploads/2024/03/mz.png
GEO:41.7952358;-88.2043431
X-APPLE-STRUCTURED-LOCATION;VALUE=URI;X-ADDRESS=MZ Bar 1550 Illinois Rte 59 #156 Naperville IL 60563 United States;X-APPLE-RADIUS=500;X-TITLE=1550 Illinois Rte 59 #156:geo:-88.2043431,41.7952358
END:VEVENT
BEGIN:VEVENT
DTSTART;TZID=America/Chicago:20290428T210000
DTEND;TZID=America/Chicago:20290429T020000
DTSTAMP:20260425T211641
CREATED:20230220T200337Z
LAST-MODIFIED:20240715T204639Z
UID:10273428-1872104400-1872122400@golatindance.com
SUMMARY:Latin Vibes Saturdays
DESCRIPTION:Bachata\, Cumbia\, Salsa and tropical beats. Dance class usually at 8:30pm or 9pm. Guest DJs.
URL:https://golatindance.com/event/latin-vibes-saturdays/2029-04-28/
LOCATION:MZ Bar\, 1550 Illinois Rte 59 #156\, Naperville\, IL\, 60563\, United States
CATEGORIES:Chicago
GEO:41.7952358;-88.2043431
X-APPLE-STRUCTURED-LOCATION;VALUE=URI;X-ADDRESS=MZ Bar 1550 Illinois Rte 59 #156 Naperville IL 60563 United States;X-APPLE-RADIUS=500;X-TITLE=1550 Illinois Rte 59 #156:geo:-88.2043431,41.7952358
END:VEVENT
BEGIN:VEVENT
DTSTART;TZID=America/Chicago:20290502T200000
DTEND;TZID=America/Chicago:20290503T010000
DTSTAMP:20260425T211641
CREATED:20240324T160241Z
LAST-MODIFIED:20250120T200402Z
UID:10267232-1872446400-1872464400@golatindance.com
SUMMARY:Bachata Sensual and Salsa Wednesdays
DESCRIPTION:One hour dance lessons every week at 8pm or 8:30pm.\nDj Porras & guest DJs\nCover $10\n18+\nFree parking
URL:https://golatindance.com/event/bachata-sensual-and-salsa-wednesdays/2029-05-02/
LOCATION:MZ Bar\, 1550 Illinois Rte 59 #156\, Naperville\, IL\, 60563\, United States
CATEGORIES:Chicago
ATTACH;FMTTYPE=image/png:https://golatindance.com/wp-content/uploads/2024/03/mz.png
GEO:41.7952358;-88.2043431
X-APPLE-STRUCTURED-LOCATION;VALUE=URI;X-ADDRESS=MZ Bar 1550 Illinois Rte 59 #156 Naperville IL 60563 United States;X-APPLE-RADIUS=500;X-TITLE=1550 Illinois Rte 59 #156:geo:-88.2043431,41.7952358
END:VEVENT
BEGIN:VEVENT
DTSTART;TZID=America/Chicago:20290505T210000
DTEND;TZID=America/Chicago:20290506T020000
DTSTAMP:20260425T211641
CREATED:20230220T200337Z
LAST-MODIFIED:20240715T204639Z
UID:10273429-1872709200-1872727200@golatindance.com
SUMMARY:Latin Vibes Saturdays
DESCRIPTION:Bachata\, Cumbia\, Salsa and tropical beats. Dance class usually at 8:30pm or 9pm. Guest DJs.
URL:https://golatindance.com/event/latin-vibes-saturdays/2029-05-05/
LOCATION:MZ Bar\, 1550 Illinois Rte 59 #156\, Naperville\, IL\, 60563\, United States
CATEGORIES:Chicago
GEO:41.7952358;-88.2043431
X-APPLE-STRUCTURED-LOCATION;VALUE=URI;X-ADDRESS=MZ Bar 1550 Illinois Rte 59 #156 Naperville IL 60563 United States;X-APPLE-RADIUS=500;X-TITLE=1550 Illinois Rte 59 #156:geo:-88.2043431,41.7952358
END:VEVENT
BEGIN:VEVENT
DTSTART;TZID=America/Chicago:20290509T200000
DTEND;TZID=America/Chicago:20290510T010000
DTSTAMP:20260425T211641
CREATED:20240324T160241Z
LAST-MODIFIED:20250120T200402Z
UID:10267233-1873051200-1873069200@golatindance.com
SUMMARY:Bachata Sensual and Salsa Wednesdays
DESCRIPTION:One hour dance lessons every week at 8pm or 8:30pm.\nDj Porras & guest DJs\nCover $10\n18+\nFree parking
URL:https://golatindance.com/event/bachata-sensual-and-salsa-wednesdays/2029-05-09/
LOCATION:MZ Bar\, 1550 Illinois Rte 59 #156\, Naperville\, IL\, 60563\, United States
CATEGORIES:Chicago
ATTACH;FMTTYPE=image/png:https://golatindance.com/wp-content/uploads/2024/03/mz.png
GEO:41.7952358;-88.2043431
X-APPLE-STRUCTURED-LOCATION;VALUE=URI;X-ADDRESS=MZ Bar 1550 Illinois Rte 59 #156 Naperville IL 60563 United States;X-APPLE-RADIUS=500;X-TITLE=1550 Illinois Rte 59 #156:geo:-88.2043431,41.7952358
END:VEVENT
BEGIN:VEVENT
DTSTART;TZID=America/Chicago:20290512T210000
DTEND;TZID=America/Chicago:20290513T020000
DTSTAMP:20260425T211641
CREATED:20230220T200337Z
LAST-MODIFIED:20240715T204639Z
UID:10273430-1873314000-1873332000@golatindance.com
SUMMARY:Latin Vibes Saturdays
DESCRIPTION:Bachata\, Cumbia\, Salsa and tropical beats. Dance class usually at 8:30pm or 9pm. Guest DJs.
URL:https://golatindance.com/event/latin-vibes-saturdays/2029-05-12/
LOCATION:MZ Bar\, 1550 Illinois Rte 59 #156\, Naperville\, IL\, 60563\, United States
CATEGORIES:Chicago
GEO:41.7952358;-88.2043431
X-APPLE-STRUCTURED-LOCATION;VALUE=URI;X-ADDRESS=MZ Bar 1550 Illinois Rte 59 #156 Naperville IL 60563 United States;X-APPLE-RADIUS=500;X-TITLE=1550 Illinois Rte 59 #156:geo:-88.2043431,41.7952358
END:VEVENT
BEGIN:VEVENT
DTSTART;TZID=America/Chicago:20290516T200000
DTEND;TZID=America/Chicago:20290517T010000
DTSTAMP:20260425T211641
CREATED:20240324T160241Z
LAST-MODIFIED:20250120T200402Z
UID:10267234-1873656000-1873674000@golatindance.com
SUMMARY:Bachata Sensual and Salsa Wednesdays
DESCRIPTION:One hour dance lessons every week at 8pm or 8:30pm.\nDj Porras & guest DJs\nCover $10\n18+\nFree parking
URL:https://golatindance.com/event/bachata-sensual-and-salsa-wednesdays/2029-05-16/
LOCATION:MZ Bar\, 1550 Illinois Rte 59 #156\, Naperville\, IL\, 60563\, United States
CATEGORIES:Chicago
ATTACH;FMTTYPE=image/png:https://golatindance.com/wp-content/uploads/2024/03/mz.png
GEO:41.7952358;-88.2043431
X-APPLE-STRUCTURED-LOCATION;VALUE=URI;X-ADDRESS=MZ Bar 1550 Illinois Rte 59 #156 Naperville IL 60563 United States;X-APPLE-RADIUS=500;X-TITLE=1550 Illinois Rte 59 #156:geo:-88.2043431,41.7952358
END:VEVENT
END:VCALENDAR