BEGIN:VCALENDAR
VERSION:2.0
PRODID:-//GO Latin Dance - ECPv6.15.18//NONSGML v1.0//EN
CALSCALE:GREGORIAN
METHOD:PUBLISH
X-ORIGINAL-URL:https://golatindance.com
X-WR-CALDESC:Events for GO Latin Dance
REFRESH-INTERVAL;VALUE=DURATION:PT1H
X-Robots-Tag:noindex
X-PUBLISHED-TTL:PT1H
BEGIN:VTIMEZONE
TZID:America/Chicago
BEGIN:DAYLIGHT
TZOFFSETFROM:-0600
TZOFFSETTO:-0500
TZNAME:CDT
DTSTART:20280312T080000
END:DAYLIGHT
BEGIN:STANDARD
TZOFFSETFROM:-0500
TZOFFSETTO:-0600
TZNAME:CST
DTSTART:20281105T070000
END:STANDARD
BEGIN:DAYLIGHT
TZOFFSETFROM:-0600
TZOFFSETTO:-0500
TZNAME:CDT
DTSTART:20290311T080000
END:DAYLIGHT
BEGIN:STANDARD
TZOFFSETFROM:-0500
TZOFFSETTO:-0600
TZNAME:CST
DTSTART:20291104T070000
END:STANDARD
BEGIN:DAYLIGHT
TZOFFSETFROM:-0600
TZOFFSETTO:-0500
TZNAME:CDT
DTSTART:20300310T080000
END:DAYLIGHT
BEGIN:STANDARD
TZOFFSETFROM:-0500
TZOFFSETTO:-0600
TZNAME:CST
DTSTART:20301103T070000
END:STANDARD
END:VTIMEZONE
BEGIN:VEVENT
DTSTART;TZID=America/Chicago:20290414T210000
DTEND;TZID=America/Chicago:20290415T020000
DTSTAMP:20260425T235542
CREATED:20230220T200337Z
LAST-MODIFIED:20240715T204639Z
UID:10273426-1870894800-1870912800@golatindance.com
SUMMARY:Latin Vibes Saturdays
DESCRIPTION:Bachata\, Cumbia\, Salsa and tropical beats. Dance class usually at 8:30pm or 9pm. Guest DJs.
URL:https://golatindance.com/event/latin-vibes-saturdays/2029-04-14/
LOCATION:MZ Bar\, 1550 Illinois Rte 59 #156\, Naperville\, IL\, 60563\, United States
CATEGORIES:Chicago
GEO:41.7952358;-88.2043431
X-APPLE-STRUCTURED-LOCATION;VALUE=URI;X-ADDRESS=MZ Bar 1550 Illinois Rte 59 #156 Naperville IL 60563 United States;X-APPLE-RADIUS=500;X-TITLE=1550 Illinois Rte 59 #156:geo:-88.2043431,41.7952358
END:VEVENT
BEGIN:VEVENT
DTSTART;TZID=America/Chicago:20290418T200000
DTEND;TZID=America/Chicago:20290419T010000
DTSTAMP:20260425T235542
CREATED:20240324T160241Z
LAST-MODIFIED:20250120T200402Z
UID:10267230-1871236800-1871254800@golatindance.com
SUMMARY:Bachata Sensual and Salsa Wednesdays
DESCRIPTION:One hour dance lessons every week at 8pm or 8:30pm.\nDj Porras & guest DJs\nCover $10\n18+\nFree parking
URL:https://golatindance.com/event/bachata-sensual-and-salsa-wednesdays/2029-04-18/
LOCATION:MZ Bar\, 1550 Illinois Rte 59 #156\, Naperville\, IL\, 60563\, United States
CATEGORIES:Chicago
ATTACH;FMTTYPE=image/png:https://golatindance.com/wp-content/uploads/2024/03/mz.png
GEO:41.7952358;-88.2043431
X-APPLE-STRUCTURED-LOCATION;VALUE=URI;X-ADDRESS=MZ Bar 1550 Illinois Rte 59 #156 Naperville IL 60563 United States;X-APPLE-RADIUS=500;X-TITLE=1550 Illinois Rte 59 #156:geo:-88.2043431,41.7952358
END:VEVENT
BEGIN:VEVENT
DTSTART;TZID=America/Chicago:20290421T210000
DTEND;TZID=America/Chicago:20290422T020000
DTSTAMP:20260425T235542
CREATED:20230220T200337Z
LAST-MODIFIED:20240715T204639Z
UID:10273427-1871499600-1871517600@golatindance.com
SUMMARY:Latin Vibes Saturdays
DESCRIPTION:Bachata\, Cumbia\, Salsa and tropical beats. Dance class usually at 8:30pm or 9pm. Guest DJs.
URL:https://golatindance.com/event/latin-vibes-saturdays/2029-04-21/
LOCATION:MZ Bar\, 1550 Illinois Rte 59 #156\, Naperville\, IL\, 60563\, United States
CATEGORIES:Chicago
GEO:41.7952358;-88.2043431
X-APPLE-STRUCTURED-LOCATION;VALUE=URI;X-ADDRESS=MZ Bar 1550 Illinois Rte 59 #156 Naperville IL 60563 United States;X-APPLE-RADIUS=500;X-TITLE=1550 Illinois Rte 59 #156:geo:-88.2043431,41.7952358
END:VEVENT
BEGIN:VEVENT
DTSTART;TZID=America/Chicago:20290425T200000
DTEND;TZID=America/Chicago:20290426T010000
DTSTAMP:20260425T235542
CREATED:20240324T160241Z
LAST-MODIFIED:20250120T200402Z
UID:10267231-1871841600-1871859600@golatindance.com
SUMMARY:Bachata Sensual and Salsa Wednesdays
DESCRIPTION:One hour dance lessons every week at 8pm or 8:30pm.\nDj Porras & guest DJs\nCover $10\n18+\nFree parking
URL:https://golatindance.com/event/bachata-sensual-and-salsa-wednesdays/2029-04-25/
LOCATION:MZ Bar\, 1550 Illinois Rte 59 #156\, Naperville\, IL\, 60563\, United States
CATEGORIES:Chicago
ATTACH;FMTTYPE=image/png:https://golatindance.com/wp-content/uploads/2024/03/mz.png
GEO:41.7952358;-88.2043431
X-APPLE-STRUCTURED-LOCATION;VALUE=URI;X-ADDRESS=MZ Bar 1550 Illinois Rte 59 #156 Naperville IL 60563 United States;X-APPLE-RADIUS=500;X-TITLE=1550 Illinois Rte 59 #156:geo:-88.2043431,41.7952358
END:VEVENT
BEGIN:VEVENT
DTSTART;TZID=America/Chicago:20290428T210000
DTEND;TZID=America/Chicago:20290429T020000
DTSTAMP:20260425T235542
CREATED:20230220T200337Z
LAST-MODIFIED:20240715T204639Z
UID:10273428-1872104400-1872122400@golatindance.com
SUMMARY:Latin Vibes Saturdays
DESCRIPTION:Bachata\, Cumbia\, Salsa and tropical beats. Dance class usually at 8:30pm or 9pm. Guest DJs.
URL:https://golatindance.com/event/latin-vibes-saturdays/2029-04-28/
LOCATION:MZ Bar\, 1550 Illinois Rte 59 #156\, Naperville\, IL\, 60563\, United States
CATEGORIES:Chicago
GEO:41.7952358;-88.2043431
X-APPLE-STRUCTURED-LOCATION;VALUE=URI;X-ADDRESS=MZ Bar 1550 Illinois Rte 59 #156 Naperville IL 60563 United States;X-APPLE-RADIUS=500;X-TITLE=1550 Illinois Rte 59 #156:geo:-88.2043431,41.7952358
END:VEVENT
BEGIN:VEVENT
DTSTART;TZID=America/Chicago:20290502T200000
DTEND;TZID=America/Chicago:20290503T010000
DTSTAMP:20260425T235542
CREATED:20240324T160241Z
LAST-MODIFIED:20250120T200402Z
UID:10267232-1872446400-1872464400@golatindance.com
SUMMARY:Bachata Sensual and Salsa Wednesdays
DESCRIPTION:One hour dance lessons every week at 8pm or 8:30pm.\nDj Porras & guest DJs\nCover $10\n18+\nFree parking
URL:https://golatindance.com/event/bachata-sensual-and-salsa-wednesdays/2029-05-02/
LOCATION:MZ Bar\, 1550 Illinois Rte 59 #156\, Naperville\, IL\, 60563\, United States
CATEGORIES:Chicago
ATTACH;FMTTYPE=image/png:https://golatindance.com/wp-content/uploads/2024/03/mz.png
GEO:41.7952358;-88.2043431
X-APPLE-STRUCTURED-LOCATION;VALUE=URI;X-ADDRESS=MZ Bar 1550 Illinois Rte 59 #156 Naperville IL 60563 United States;X-APPLE-RADIUS=500;X-TITLE=1550 Illinois Rte 59 #156:geo:-88.2043431,41.7952358
END:VEVENT
BEGIN:VEVENT
DTSTART;TZID=America/Chicago:20290505T210000
DTEND;TZID=America/Chicago:20290506T020000
DTSTAMP:20260425T235542
CREATED:20230220T200337Z
LAST-MODIFIED:20240715T204639Z
UID:10273429-1872709200-1872727200@golatindance.com
SUMMARY:Latin Vibes Saturdays
DESCRIPTION:Bachata\, Cumbia\, Salsa and tropical beats. Dance class usually at 8:30pm or 9pm. Guest DJs.
URL:https://golatindance.com/event/latin-vibes-saturdays/2029-05-05/
LOCATION:MZ Bar\, 1550 Illinois Rte 59 #156\, Naperville\, IL\, 60563\, United States
CATEGORIES:Chicago
GEO:41.7952358;-88.2043431
X-APPLE-STRUCTURED-LOCATION;VALUE=URI;X-ADDRESS=MZ Bar 1550 Illinois Rte 59 #156 Naperville IL 60563 United States;X-APPLE-RADIUS=500;X-TITLE=1550 Illinois Rte 59 #156:geo:-88.2043431,41.7952358
END:VEVENT
BEGIN:VEVENT
DTSTART;TZID=America/Chicago:20290509T200000
DTEND;TZID=America/Chicago:20290510T010000
DTSTAMP:20260425T235542
CREATED:20240324T160241Z
LAST-MODIFIED:20250120T200402Z
UID:10267233-1873051200-1873069200@golatindance.com
SUMMARY:Bachata Sensual and Salsa Wednesdays
DESCRIPTION:One hour dance lessons every week at 8pm or 8:30pm.\nDj Porras & guest DJs\nCover $10\n18+\nFree parking
URL:https://golatindance.com/event/bachata-sensual-and-salsa-wednesdays/2029-05-09/
LOCATION:MZ Bar\, 1550 Illinois Rte 59 #156\, Naperville\, IL\, 60563\, United States
CATEGORIES:Chicago
ATTACH;FMTTYPE=image/png:https://golatindance.com/wp-content/uploads/2024/03/mz.png
GEO:41.7952358;-88.2043431
X-APPLE-STRUCTURED-LOCATION;VALUE=URI;X-ADDRESS=MZ Bar 1550 Illinois Rte 59 #156 Naperville IL 60563 United States;X-APPLE-RADIUS=500;X-TITLE=1550 Illinois Rte 59 #156:geo:-88.2043431,41.7952358
END:VEVENT
BEGIN:VEVENT
DTSTART;TZID=America/Chicago:20290512T210000
DTEND;TZID=America/Chicago:20290513T020000
DTSTAMP:20260425T235542
CREATED:20230220T200337Z
LAST-MODIFIED:20240715T204639Z
UID:10273430-1873314000-1873332000@golatindance.com
SUMMARY:Latin Vibes Saturdays
DESCRIPTION:Bachata\, Cumbia\, Salsa and tropical beats. Dance class usually at 8:30pm or 9pm. Guest DJs.
URL:https://golatindance.com/event/latin-vibes-saturdays/2029-05-12/
LOCATION:MZ Bar\, 1550 Illinois Rte 59 #156\, Naperville\, IL\, 60563\, United States
CATEGORIES:Chicago
GEO:41.7952358;-88.2043431
X-APPLE-STRUCTURED-LOCATION;VALUE=URI;X-ADDRESS=MZ Bar 1550 Illinois Rte 59 #156 Naperville IL 60563 United States;X-APPLE-RADIUS=500;X-TITLE=1550 Illinois Rte 59 #156:geo:-88.2043431,41.7952358
END:VEVENT
BEGIN:VEVENT
DTSTART;TZID=America/Chicago:20290516T200000
DTEND;TZID=America/Chicago:20290517T010000
DTSTAMP:20260425T235542
CREATED:20240324T160241Z
LAST-MODIFIED:20250120T200402Z
UID:10267234-1873656000-1873674000@golatindance.com
SUMMARY:Bachata Sensual and Salsa Wednesdays
DESCRIPTION:One hour dance lessons every week at 8pm or 8:30pm.\nDj Porras & guest DJs\nCover $10\n18+\nFree parking
URL:https://golatindance.com/event/bachata-sensual-and-salsa-wednesdays/2029-05-16/
LOCATION:MZ Bar\, 1550 Illinois Rte 59 #156\, Naperville\, IL\, 60563\, United States
CATEGORIES:Chicago
ATTACH;FMTTYPE=image/png:https://golatindance.com/wp-content/uploads/2024/03/mz.png
GEO:41.7952358;-88.2043431
X-APPLE-STRUCTURED-LOCATION;VALUE=URI;X-ADDRESS=MZ Bar 1550 Illinois Rte 59 #156 Naperville IL 60563 United States;X-APPLE-RADIUS=500;X-TITLE=1550 Illinois Rte 59 #156:geo:-88.2043431,41.7952358
END:VEVENT
BEGIN:VEVENT
DTSTART;TZID=America/Chicago:20290519T210000
DTEND;TZID=America/Chicago:20290520T020000
DTSTAMP:20260425T235542
CREATED:20230220T200337Z
LAST-MODIFIED:20240715T204639Z
UID:10273431-1873918800-1873936800@golatindance.com
SUMMARY:Latin Vibes Saturdays
DESCRIPTION:Bachata\, Cumbia\, Salsa and tropical beats. Dance class usually at 8:30pm or 9pm. Guest DJs.
URL:https://golatindance.com/event/latin-vibes-saturdays/2029-05-19/
LOCATION:MZ Bar\, 1550 Illinois Rte 59 #156\, Naperville\, IL\, 60563\, United States
CATEGORIES:Chicago
GEO:41.7952358;-88.2043431
X-APPLE-STRUCTURED-LOCATION;VALUE=URI;X-ADDRESS=MZ Bar 1550 Illinois Rte 59 #156 Naperville IL 60563 United States;X-APPLE-RADIUS=500;X-TITLE=1550 Illinois Rte 59 #156:geo:-88.2043431,41.7952358
END:VEVENT
BEGIN:VEVENT
DTSTART;TZID=America/Chicago:20290523T200000
DTEND;TZID=America/Chicago:20290524T010000
DTSTAMP:20260425T235542
CREATED:20240324T160241Z
LAST-MODIFIED:20250120T200402Z
UID:10267235-1874260800-1874278800@golatindance.com
SUMMARY:Bachata Sensual and Salsa Wednesdays
DESCRIPTION:One hour dance lessons every week at 8pm or 8:30pm.\nDj Porras & guest DJs\nCover $10\n18+\nFree parking
URL:https://golatindance.com/event/bachata-sensual-and-salsa-wednesdays/2029-05-23/
LOCATION:MZ Bar\, 1550 Illinois Rte 59 #156\, Naperville\, IL\, 60563\, United States
CATEGORIES:Chicago
ATTACH;FMTTYPE=image/png:https://golatindance.com/wp-content/uploads/2024/03/mz.png
GEO:41.7952358;-88.2043431
X-APPLE-STRUCTURED-LOCATION;VALUE=URI;X-ADDRESS=MZ Bar 1550 Illinois Rte 59 #156 Naperville IL 60563 United States;X-APPLE-RADIUS=500;X-TITLE=1550 Illinois Rte 59 #156:geo:-88.2043431,41.7952358
END:VEVENT
BEGIN:VEVENT
DTSTART;TZID=America/Chicago:20290526T210000
DTEND;TZID=America/Chicago:20290527T020000
DTSTAMP:20260425T235542
CREATED:20230220T200337Z
LAST-MODIFIED:20240715T204639Z
UID:10273432-1874523600-1874541600@golatindance.com
SUMMARY:Latin Vibes Saturdays
DESCRIPTION:Bachata\, Cumbia\, Salsa and tropical beats. Dance class usually at 8:30pm or 9pm. Guest DJs.
URL:https://golatindance.com/event/latin-vibes-saturdays/2029-05-26/
LOCATION:MZ Bar\, 1550 Illinois Rte 59 #156\, Naperville\, IL\, 60563\, United States
CATEGORIES:Chicago
GEO:41.7952358;-88.2043431
X-APPLE-STRUCTURED-LOCATION;VALUE=URI;X-ADDRESS=MZ Bar 1550 Illinois Rte 59 #156 Naperville IL 60563 United States;X-APPLE-RADIUS=500;X-TITLE=1550 Illinois Rte 59 #156:geo:-88.2043431,41.7952358
END:VEVENT
BEGIN:VEVENT
DTSTART;TZID=America/Chicago:20290530T200000
DTEND;TZID=America/Chicago:20290531T010000
DTSTAMP:20260425T235542
CREATED:20240324T160241Z
LAST-MODIFIED:20250120T200402Z
UID:10267236-1874865600-1874883600@golatindance.com
SUMMARY:Bachata Sensual and Salsa Wednesdays
DESCRIPTION:One hour dance lessons every week at 8pm or 8:30pm.\nDj Porras & guest DJs\nCover $10\n18+\nFree parking
URL:https://golatindance.com/event/bachata-sensual-and-salsa-wednesdays/2029-05-30/
LOCATION:MZ Bar\, 1550 Illinois Rte 59 #156\, Naperville\, IL\, 60563\, United States
CATEGORIES:Chicago
ATTACH;FMTTYPE=image/png:https://golatindance.com/wp-content/uploads/2024/03/mz.png
GEO:41.7952358;-88.2043431
X-APPLE-STRUCTURED-LOCATION;VALUE=URI;X-ADDRESS=MZ Bar 1550 Illinois Rte 59 #156 Naperville IL 60563 United States;X-APPLE-RADIUS=500;X-TITLE=1550 Illinois Rte 59 #156:geo:-88.2043431,41.7952358
END:VEVENT
BEGIN:VEVENT
DTSTART;TZID=America/Chicago:20290602T210000
DTEND;TZID=America/Chicago:20290603T020000
DTSTAMP:20260425T235542
CREATED:20230220T200337Z
LAST-MODIFIED:20240715T204639Z
UID:10273433-1875128400-1875146400@golatindance.com
SUMMARY:Latin Vibes Saturdays
DESCRIPTION:Bachata\, Cumbia\, Salsa and tropical beats. Dance class usually at 8:30pm or 9pm. Guest DJs.
URL:https://golatindance.com/event/latin-vibes-saturdays/2029-06-02/
LOCATION:MZ Bar\, 1550 Illinois Rte 59 #156\, Naperville\, IL\, 60563\, United States
CATEGORIES:Chicago
GEO:41.7952358;-88.2043431
X-APPLE-STRUCTURED-LOCATION;VALUE=URI;X-ADDRESS=MZ Bar 1550 Illinois Rte 59 #156 Naperville IL 60563 United States;X-APPLE-RADIUS=500;X-TITLE=1550 Illinois Rte 59 #156:geo:-88.2043431,41.7952358
END:VEVENT
BEGIN:VEVENT
DTSTART;TZID=America/Chicago:20290606T200000
DTEND;TZID=America/Chicago:20290607T010000
DTSTAMP:20260425T235542
CREATED:20240324T160241Z
LAST-MODIFIED:20250120T200402Z
UID:10267237-1875470400-1875488400@golatindance.com
SUMMARY:Bachata Sensual and Salsa Wednesdays
DESCRIPTION:One hour dance lessons every week at 8pm or 8:30pm.\nDj Porras & guest DJs\nCover $10\n18+\nFree parking
URL:https://golatindance.com/event/bachata-sensual-and-salsa-wednesdays/2029-06-06/
LOCATION:MZ Bar\, 1550 Illinois Rte 59 #156\, Naperville\, IL\, 60563\, United States
CATEGORIES:Chicago
ATTACH;FMTTYPE=image/png:https://golatindance.com/wp-content/uploads/2024/03/mz.png
GEO:41.7952358;-88.2043431
X-APPLE-STRUCTURED-LOCATION;VALUE=URI;X-ADDRESS=MZ Bar 1550 Illinois Rte 59 #156 Naperville IL 60563 United States;X-APPLE-RADIUS=500;X-TITLE=1550 Illinois Rte 59 #156:geo:-88.2043431,41.7952358
END:VEVENT
BEGIN:VEVENT
DTSTART;TZID=America/Chicago:20290609T210000
DTEND;TZID=America/Chicago:20290610T020000
DTSTAMP:20260425T235542
CREATED:20230220T200337Z
LAST-MODIFIED:20240715T204639Z
UID:10273434-1875733200-1875751200@golatindance.com
SUMMARY:Latin Vibes Saturdays
DESCRIPTION:Bachata\, Cumbia\, Salsa and tropical beats. Dance class usually at 8:30pm or 9pm. Guest DJs.
URL:https://golatindance.com/event/latin-vibes-saturdays/2029-06-09/
LOCATION:MZ Bar\, 1550 Illinois Rte 59 #156\, Naperville\, IL\, 60563\, United States
CATEGORIES:Chicago
GEO:41.7952358;-88.2043431
X-APPLE-STRUCTURED-LOCATION;VALUE=URI;X-ADDRESS=MZ Bar 1550 Illinois Rte 59 #156 Naperville IL 60563 United States;X-APPLE-RADIUS=500;X-TITLE=1550 Illinois Rte 59 #156:geo:-88.2043431,41.7952358
END:VEVENT
BEGIN:VEVENT
DTSTART;TZID=America/Chicago:20290613T200000
DTEND;TZID=America/Chicago:20290614T010000
DTSTAMP:20260425T235542
CREATED:20240324T160241Z
LAST-MODIFIED:20250120T200402Z
UID:10267238-1876075200-1876093200@golatindance.com
SUMMARY:Bachata Sensual and Salsa Wednesdays
DESCRIPTION:One hour dance lessons every week at 8pm or 8:30pm.\nDj Porras & guest DJs\nCover $10\n18+\nFree parking
URL:https://golatindance.com/event/bachata-sensual-and-salsa-wednesdays/2029-06-13/
LOCATION:MZ Bar\, 1550 Illinois Rte 59 #156\, Naperville\, IL\, 60563\, United States
CATEGORIES:Chicago
ATTACH;FMTTYPE=image/png:https://golatindance.com/wp-content/uploads/2024/03/mz.png
GEO:41.7952358;-88.2043431
X-APPLE-STRUCTURED-LOCATION;VALUE=URI;X-ADDRESS=MZ Bar 1550 Illinois Rte 59 #156 Naperville IL 60563 United States;X-APPLE-RADIUS=500;X-TITLE=1550 Illinois Rte 59 #156:geo:-88.2043431,41.7952358
END:VEVENT
BEGIN:VEVENT
DTSTART;TZID=America/Chicago:20290616T210000
DTEND;TZID=America/Chicago:20290617T020000
DTSTAMP:20260425T235542
CREATED:20230220T200337Z
LAST-MODIFIED:20240715T204639Z
UID:10273435-1876338000-1876356000@golatindance.com
SUMMARY:Latin Vibes Saturdays
DESCRIPTION:Bachata\, Cumbia\, Salsa and tropical beats. Dance class usually at 8:30pm or 9pm. Guest DJs.
URL:https://golatindance.com/event/latin-vibes-saturdays/2029-06-16/
LOCATION:MZ Bar\, 1550 Illinois Rte 59 #156\, Naperville\, IL\, 60563\, United States
CATEGORIES:Chicago
GEO:41.7952358;-88.2043431
X-APPLE-STRUCTURED-LOCATION;VALUE=URI;X-ADDRESS=MZ Bar 1550 Illinois Rte 59 #156 Naperville IL 60563 United States;X-APPLE-RADIUS=500;X-TITLE=1550 Illinois Rte 59 #156:geo:-88.2043431,41.7952358
END:VEVENT
BEGIN:VEVENT
DTSTART;TZID=America/Chicago:20290620T200000
DTEND;TZID=America/Chicago:20290621T010000
DTSTAMP:20260425T235542
CREATED:20240324T160241Z
LAST-MODIFIED:20250120T200402Z
UID:10267239-1876680000-1876698000@golatindance.com
SUMMARY:Bachata Sensual and Salsa Wednesdays
DESCRIPTION:One hour dance lessons every week at 8pm or 8:30pm.\nDj Porras & guest DJs\nCover $10\n18+\nFree parking
URL:https://golatindance.com/event/bachata-sensual-and-salsa-wednesdays/2029-06-20/
LOCATION:MZ Bar\, 1550 Illinois Rte 59 #156\, Naperville\, IL\, 60563\, United States
CATEGORIES:Chicago
ATTACH;FMTTYPE=image/png:https://golatindance.com/wp-content/uploads/2024/03/mz.png
GEO:41.7952358;-88.2043431
X-APPLE-STRUCTURED-LOCATION;VALUE=URI;X-ADDRESS=MZ Bar 1550 Illinois Rte 59 #156 Naperville IL 60563 United States;X-APPLE-RADIUS=500;X-TITLE=1550 Illinois Rte 59 #156:geo:-88.2043431,41.7952358
END:VEVENT
BEGIN:VEVENT
DTSTART;TZID=America/Chicago:20290623T210000
DTEND;TZID=America/Chicago:20290624T020000
DTSTAMP:20260425T235542
CREATED:20230220T200337Z
LAST-MODIFIED:20240715T204639Z
UID:10273436-1876942800-1876960800@golatindance.com
SUMMARY:Latin Vibes Saturdays
DESCRIPTION:Bachata\, Cumbia\, Salsa and tropical beats. Dance class usually at 8:30pm or 9pm. Guest DJs.
URL:https://golatindance.com/event/latin-vibes-saturdays/2029-06-23/
LOCATION:MZ Bar\, 1550 Illinois Rte 59 #156\, Naperville\, IL\, 60563\, United States
CATEGORIES:Chicago
GEO:41.7952358;-88.2043431
X-APPLE-STRUCTURED-LOCATION;VALUE=URI;X-ADDRESS=MZ Bar 1550 Illinois Rte 59 #156 Naperville IL 60563 United States;X-APPLE-RADIUS=500;X-TITLE=1550 Illinois Rte 59 #156:geo:-88.2043431,41.7952358
END:VEVENT
BEGIN:VEVENT
DTSTART;TZID=America/Chicago:20290627T200000
DTEND;TZID=America/Chicago:20290628T010000
DTSTAMP:20260425T235542
CREATED:20240324T160241Z
LAST-MODIFIED:20250120T200402Z
UID:10320240-1877284800-1877302800@golatindance.com
SUMMARY:Bachata Sensual and Salsa Wednesdays
DESCRIPTION:One hour dance lessons every week at 8pm or 8:30pm.\nDj Porras & guest DJs\nCover $10\n18+\nFree parking
URL:https://golatindance.com/event/bachata-sensual-and-salsa-wednesdays/2029-06-27/
LOCATION:MZ Bar\, 1550 Illinois Rte 59 #156\, Naperville\, IL\, 60563\, United States
CATEGORIES:Chicago
ATTACH;FMTTYPE=image/png:https://golatindance.com/wp-content/uploads/2024/03/mz.png
GEO:41.7952358;-88.2043431
X-APPLE-STRUCTURED-LOCATION;VALUE=URI;X-ADDRESS=MZ Bar 1550 Illinois Rte 59 #156 Naperville IL 60563 United States;X-APPLE-RADIUS=500;X-TITLE=1550 Illinois Rte 59 #156:geo:-88.2043431,41.7952358
END:VEVENT
BEGIN:VEVENT
DTSTART;TZID=America/Chicago:20290630T210000
DTEND;TZID=America/Chicago:20290701T020000
DTSTAMP:20260425T235542
CREATED:20230220T200337Z
LAST-MODIFIED:20240715T204639Z
UID:10273437-1877547600-1877565600@golatindance.com
SUMMARY:Latin Vibes Saturdays
DESCRIPTION:Bachata\, Cumbia\, Salsa and tropical beats. Dance class usually at 8:30pm or 9pm. Guest DJs.
URL:https://golatindance.com/event/latin-vibes-saturdays/2029-06-30/
LOCATION:MZ Bar\, 1550 Illinois Rte 59 #156\, Naperville\, IL\, 60563\, United States
CATEGORIES:Chicago
GEO:41.7952358;-88.2043431
X-APPLE-STRUCTURED-LOCATION;VALUE=URI;X-ADDRESS=MZ Bar 1550 Illinois Rte 59 #156 Naperville IL 60563 United States;X-APPLE-RADIUS=500;X-TITLE=1550 Illinois Rte 59 #156:geo:-88.2043431,41.7952358
END:VEVENT
BEGIN:VEVENT
DTSTART;TZID=America/Chicago:20290704T200000
DTEND;TZID=America/Chicago:20290705T010000
DTSTAMP:20260425T235542
CREATED:20240324T160241Z
LAST-MODIFIED:20250120T200402Z
UID:10320241-1877889600-1877907600@golatindance.com
SUMMARY:Bachata Sensual and Salsa Wednesdays
DESCRIPTION:One hour dance lessons every week at 8pm or 8:30pm.\nDj Porras & guest DJs\nCover $10\n18+\nFree parking
URL:https://golatindance.com/event/bachata-sensual-and-salsa-wednesdays/2029-07-04/
LOCATION:MZ Bar\, 1550 Illinois Rte 59 #156\, Naperville\, IL\, 60563\, United States
CATEGORIES:Chicago
ATTACH;FMTTYPE=image/png:https://golatindance.com/wp-content/uploads/2024/03/mz.png
GEO:41.7952358;-88.2043431
X-APPLE-STRUCTURED-LOCATION;VALUE=URI;X-ADDRESS=MZ Bar 1550 Illinois Rte 59 #156 Naperville IL 60563 United States;X-APPLE-RADIUS=500;X-TITLE=1550 Illinois Rte 59 #156:geo:-88.2043431,41.7952358
END:VEVENT
BEGIN:VEVENT
DTSTART;TZID=America/Chicago:20290707T210000
DTEND;TZID=America/Chicago:20290708T020000
DTSTAMP:20260425T235542
CREATED:20230220T200337Z
LAST-MODIFIED:20240715T204639Z
UID:10273438-1878152400-1878170400@golatindance.com
SUMMARY:Latin Vibes Saturdays
DESCRIPTION:Bachata\, Cumbia\, Salsa and tropical beats. Dance class usually at 8:30pm or 9pm. Guest DJs.
URL:https://golatindance.com/event/latin-vibes-saturdays/2029-07-07/
LOCATION:MZ Bar\, 1550 Illinois Rte 59 #156\, Naperville\, IL\, 60563\, United States
CATEGORIES:Chicago
GEO:41.7952358;-88.2043431
X-APPLE-STRUCTURED-LOCATION;VALUE=URI;X-ADDRESS=MZ Bar 1550 Illinois Rte 59 #156 Naperville IL 60563 United States;X-APPLE-RADIUS=500;X-TITLE=1550 Illinois Rte 59 #156:geo:-88.2043431,41.7952358
END:VEVENT
BEGIN:VEVENT
DTSTART;TZID=America/Chicago:20290711T200000
DTEND;TZID=America/Chicago:20290712T010000
DTSTAMP:20260425T235542
CREATED:20240324T160241Z
LAST-MODIFIED:20250120T200402Z
UID:10320242-1878494400-1878512400@golatindance.com
SUMMARY:Bachata Sensual and Salsa Wednesdays
DESCRIPTION:One hour dance lessons every week at 8pm or 8:30pm.\nDj Porras & guest DJs\nCover $10\n18+\nFree parking
URL:https://golatindance.com/event/bachata-sensual-and-salsa-wednesdays/2029-07-11/
LOCATION:MZ Bar\, 1550 Illinois Rte 59 #156\, Naperville\, IL\, 60563\, United States
CATEGORIES:Chicago
ATTACH;FMTTYPE=image/png:https://golatindance.com/wp-content/uploads/2024/03/mz.png
GEO:41.7952358;-88.2043431
X-APPLE-STRUCTURED-LOCATION;VALUE=URI;X-ADDRESS=MZ Bar 1550 Illinois Rte 59 #156 Naperville IL 60563 United States;X-APPLE-RADIUS=500;X-TITLE=1550 Illinois Rte 59 #156:geo:-88.2043431,41.7952358
END:VEVENT
BEGIN:VEVENT
DTSTART;TZID=America/Chicago:20290714T210000
DTEND;TZID=America/Chicago:20290715T020000
DTSTAMP:20260425T235542
CREATED:20230220T200337Z
LAST-MODIFIED:20240715T204639Z
UID:10273439-1878757200-1878775200@golatindance.com
SUMMARY:Latin Vibes Saturdays
DESCRIPTION:Bachata\, Cumbia\, Salsa and tropical beats. Dance class usually at 8:30pm or 9pm. Guest DJs.
URL:https://golatindance.com/event/latin-vibes-saturdays/2029-07-14/
LOCATION:MZ Bar\, 1550 Illinois Rte 59 #156\, Naperville\, IL\, 60563\, United States
CATEGORIES:Chicago
GEO:41.7952358;-88.2043431
X-APPLE-STRUCTURED-LOCATION;VALUE=URI;X-ADDRESS=MZ Bar 1550 Illinois Rte 59 #156 Naperville IL 60563 United States;X-APPLE-RADIUS=500;X-TITLE=1550 Illinois Rte 59 #156:geo:-88.2043431,41.7952358
END:VEVENT
BEGIN:VEVENT
DTSTART;TZID=America/Chicago:20290718T200000
DTEND;TZID=America/Chicago:20290719T010000
DTSTAMP:20260425T235542
CREATED:20240324T160241Z
LAST-MODIFIED:20250120T200402Z
UID:10320243-1879099200-1879117200@golatindance.com
SUMMARY:Bachata Sensual and Salsa Wednesdays
DESCRIPTION:One hour dance lessons every week at 8pm or 8:30pm.\nDj Porras & guest DJs\nCover $10\n18+\nFree parking
URL:https://golatindance.com/event/bachata-sensual-and-salsa-wednesdays/2029-07-18/
LOCATION:MZ Bar\, 1550 Illinois Rte 59 #156\, Naperville\, IL\, 60563\, United States
CATEGORIES:Chicago
ATTACH;FMTTYPE=image/png:https://golatindance.com/wp-content/uploads/2024/03/mz.png
GEO:41.7952358;-88.2043431
X-APPLE-STRUCTURED-LOCATION;VALUE=URI;X-ADDRESS=MZ Bar 1550 Illinois Rte 59 #156 Naperville IL 60563 United States;X-APPLE-RADIUS=500;X-TITLE=1550 Illinois Rte 59 #156:geo:-88.2043431,41.7952358
END:VEVENT
BEGIN:VEVENT
DTSTART;TZID=America/Chicago:20290725T200000
DTEND;TZID=America/Chicago:20290726T010000
DTSTAMP:20260425T235542
CREATED:20240324T160241Z
LAST-MODIFIED:20250120T200402Z
UID:10320244-1879704000-1879722000@golatindance.com
SUMMARY:Bachata Sensual and Salsa Wednesdays
DESCRIPTION:One hour dance lessons every week at 8pm or 8:30pm.\nDj Porras & guest DJs\nCover $10\n18+\nFree parking
URL:https://golatindance.com/event/bachata-sensual-and-salsa-wednesdays/2029-07-25/
LOCATION:MZ Bar\, 1550 Illinois Rte 59 #156\, Naperville\, IL\, 60563\, United States
CATEGORIES:Chicago
ATTACH;FMTTYPE=image/png:https://golatindance.com/wp-content/uploads/2024/03/mz.png
GEO:41.7952358;-88.2043431
X-APPLE-STRUCTURED-LOCATION;VALUE=URI;X-ADDRESS=MZ Bar 1550 Illinois Rte 59 #156 Naperville IL 60563 United States;X-APPLE-RADIUS=500;X-TITLE=1550 Illinois Rte 59 #156:geo:-88.2043431,41.7952358
END:VEVENT
BEGIN:VEVENT
DTSTART;TZID=America/Chicago:20290801T200000
DTEND;TZID=America/Chicago:20290802T010000
DTSTAMP:20260425T235542
CREATED:20240324T160241Z
LAST-MODIFIED:20250120T200402Z
UID:10320245-1880308800-1880326800@golatindance.com
SUMMARY:Bachata Sensual and Salsa Wednesdays
DESCRIPTION:One hour dance lessons every week at 8pm or 8:30pm.\nDj Porras & guest DJs\nCover $10\n18+\nFree parking
URL:https://golatindance.com/event/bachata-sensual-and-salsa-wednesdays/2029-08-01/
LOCATION:MZ Bar\, 1550 Illinois Rte 59 #156\, Naperville\, IL\, 60563\, United States
CATEGORIES:Chicago
ATTACH;FMTTYPE=image/png:https://golatindance.com/wp-content/uploads/2024/03/mz.png
GEO:41.7952358;-88.2043431
X-APPLE-STRUCTURED-LOCATION;VALUE=URI;X-ADDRESS=MZ Bar 1550 Illinois Rte 59 #156 Naperville IL 60563 United States;X-APPLE-RADIUS=500;X-TITLE=1550 Illinois Rte 59 #156:geo:-88.2043431,41.7952358
END:VEVENT
END:VCALENDAR