BEGIN:VCALENDAR
VERSION:2.0
PRODID:-//GO Latin Dance - ECPv6.15.18//NONSGML v1.0//EN
CALSCALE:GREGORIAN
METHOD:PUBLISH
X-ORIGINAL-URL:https://golatindance.com
X-WR-CALDESC:Events for GO Latin Dance
REFRESH-INTERVAL;VALUE=DURATION:PT1H
X-Robots-Tag:noindex
X-PUBLISHED-TTL:PT1H
BEGIN:VTIMEZONE
TZID:America/New_York
BEGIN:DAYLIGHT
TZOFFSETFROM:-0500
TZOFFSETTO:-0400
TZNAME:EDT
DTSTART:20250309T070000
END:DAYLIGHT
BEGIN:STANDARD
TZOFFSETFROM:-0400
TZOFFSETTO:-0500
TZNAME:EST
DTSTART:20251102T060000
END:STANDARD
BEGIN:DAYLIGHT
TZOFFSETFROM:-0500
TZOFFSETTO:-0400
TZNAME:EDT
DTSTART:20260308T070000
END:DAYLIGHT
BEGIN:STANDARD
TZOFFSETFROM:-0400
TZOFFSETTO:-0500
TZNAME:EST
DTSTART:20261101T060000
END:STANDARD
BEGIN:DAYLIGHT
TZOFFSETFROM:-0500
TZOFFSETTO:-0400
TZNAME:EDT
DTSTART:20270314T070000
END:DAYLIGHT
BEGIN:STANDARD
TZOFFSETFROM:-0400
TZOFFSETTO:-0500
TZNAME:EST
DTSTART:20271107T060000
END:STANDARD
BEGIN:DAYLIGHT
TZOFFSETFROM:-0500
TZOFFSETTO:-0400
TZNAME:EDT
DTSTART:20280312T070000
END:DAYLIGHT
BEGIN:STANDARD
TZOFFSETFROM:-0400
TZOFFSETTO:-0500
TZNAME:EST
DTSTART:20281105T060000
END:STANDARD
BEGIN:DAYLIGHT
TZOFFSETFROM:-0500
TZOFFSETTO:-0400
TZNAME:EDT
DTSTART:20290311T070000
END:DAYLIGHT
BEGIN:STANDARD
TZOFFSETFROM:-0400
TZOFFSETTO:-0500
TZNAME:EST
DTSTART:20291104T060000
END:STANDARD
END:VTIMEZONE
BEGIN:VEVENT
DTSTART;TZID=America/New_York:20260426T180000
DTEND;TZID=America/New_York:20260426T220000
DTSTAMP:20260422T075304
CREATED:20251204T164910Z
LAST-MODIFIED:20260129T152222Z
UID:10430834-1777226400-1777240800@golatindance.com
SUMMARY:OYELO!
DESCRIPTION:Philadelphia – get ready for a new monthly party\, OYELO! at Rosy’s Taco Bar East!\nDance\, drink and eat tacos to the Latin sounds of salsa\, cumbia\, bachata and merengue all on vinyl records. Dance with a partner\, by yourself\, or just groove from your seat – there’s no wrong way to enjoy the music! Every 4th Sunday! \nResident Selectors – los Tres del Ritmo\nHong Kwon\nJeison Moreno\nValentin Flores \nAdmission: $10 cash at door
URL:https://golatindance.com/event/oyelo-december-holiday-latin-vinyl-grooves/2026-04-26/
LOCATION:624 S. 6th St\, 624 S. 6th St\, Philadelphia\, PA\, 19147\, United States
CATEGORIES:Philadelphia
END:VEVENT
BEGIN:VEVENT
DTSTART;TZID=America/New_York:20260524T180000
DTEND;TZID=America/New_York:20260524T220000
DTSTAMP:20260422T075304
CREATED:20251204T164910Z
LAST-MODIFIED:20260129T152222Z
UID:10430835-1779645600-1779660000@golatindance.com
SUMMARY:OYELO!
DESCRIPTION:Philadelphia – get ready for a new monthly party\, OYELO! at Rosy’s Taco Bar East!\nDance\, drink and eat tacos to the Latin sounds of salsa\, cumbia\, bachata and merengue all on vinyl records. Dance with a partner\, by yourself\, or just groove from your seat – there’s no wrong way to enjoy the music! Every 4th Sunday! \nResident Selectors – los Tres del Ritmo\nHong Kwon\nJeison Moreno\nValentin Flores \nAdmission: $10 cash at door
URL:https://golatindance.com/event/oyelo-december-holiday-latin-vinyl-grooves/2026-05-24/
LOCATION:624 S. 6th St\, 624 S. 6th St\, Philadelphia\, PA\, 19147\, United States
CATEGORIES:Philadelphia
END:VEVENT
BEGIN:VEVENT
DTSTART;TZID=America/New_York:20260628T180000
DTEND;TZID=America/New_York:20260628T220000
DTSTAMP:20260422T075304
CREATED:20251204T164910Z
LAST-MODIFIED:20260129T152222Z
UID:10430836-1782669600-1782684000@golatindance.com
SUMMARY:OYELO!
DESCRIPTION:Philadelphia – get ready for a new monthly party\, OYELO! at Rosy’s Taco Bar East!\nDance\, drink and eat tacos to the Latin sounds of salsa\, cumbia\, bachata and merengue all on vinyl records. Dance with a partner\, by yourself\, or just groove from your seat – there’s no wrong way to enjoy the music! Every 4th Sunday! \nResident Selectors – los Tres del Ritmo\nHong Kwon\nJeison Moreno\nValentin Flores \nAdmission: $10 cash at door
URL:https://golatindance.com/event/oyelo-december-holiday-latin-vinyl-grooves/2026-06-28/
LOCATION:624 S. 6th St\, 624 S. 6th St\, Philadelphia\, PA\, 19147\, United States
CATEGORIES:Philadelphia
END:VEVENT
BEGIN:VEVENT
DTSTART;TZID=America/New_York:20260726T180000
DTEND;TZID=America/New_York:20260726T220000
DTSTAMP:20260422T075304
CREATED:20251204T164910Z
LAST-MODIFIED:20260129T152222Z
UID:10430837-1785088800-1785103200@golatindance.com
SUMMARY:OYELO!
DESCRIPTION:Philadelphia – get ready for a new monthly party\, OYELO! at Rosy’s Taco Bar East!\nDance\, drink and eat tacos to the Latin sounds of salsa\, cumbia\, bachata and merengue all on vinyl records. Dance with a partner\, by yourself\, or just groove from your seat – there’s no wrong way to enjoy the music! Every 4th Sunday! \nResident Selectors – los Tres del Ritmo\nHong Kwon\nJeison Moreno\nValentin Flores \nAdmission: $10 cash at door
URL:https://golatindance.com/event/oyelo-december-holiday-latin-vinyl-grooves/2026-07-26/
LOCATION:624 S. 6th St\, 624 S. 6th St\, Philadelphia\, PA\, 19147\, United States
CATEGORIES:Philadelphia
END:VEVENT
BEGIN:VEVENT
DTSTART;TZID=America/New_York:20260823T180000
DTEND;TZID=America/New_York:20260823T220000
DTSTAMP:20260422T075305
CREATED:20251204T164910Z
LAST-MODIFIED:20260129T152222Z
UID:10430838-1787508000-1787522400@golatindance.com
SUMMARY:OYELO!
DESCRIPTION:Philadelphia – get ready for a new monthly party\, OYELO! at Rosy’s Taco Bar East!\nDance\, drink and eat tacos to the Latin sounds of salsa\, cumbia\, bachata and merengue all on vinyl records. Dance with a partner\, by yourself\, or just groove from your seat – there’s no wrong way to enjoy the music! Every 4th Sunday! \nResident Selectors – los Tres del Ritmo\nHong Kwon\nJeison Moreno\nValentin Flores \nAdmission: $10 cash at door
URL:https://golatindance.com/event/oyelo-december-holiday-latin-vinyl-grooves/2026-08-23/
LOCATION:624 S. 6th St\, 624 S. 6th St\, Philadelphia\, PA\, 19147\, United States
CATEGORIES:Philadelphia
END:VEVENT
BEGIN:VEVENT
DTSTART;TZID=America/New_York:20260927T180000
DTEND;TZID=America/New_York:20260927T220000
DTSTAMP:20260422T075305
CREATED:20251204T164910Z
LAST-MODIFIED:20260129T152222Z
UID:10430839-1790532000-1790546400@golatindance.com
SUMMARY:OYELO!
DESCRIPTION:Philadelphia – get ready for a new monthly party\, OYELO! at Rosy’s Taco Bar East!\nDance\, drink and eat tacos to the Latin sounds of salsa\, cumbia\, bachata and merengue all on vinyl records. Dance with a partner\, by yourself\, or just groove from your seat – there’s no wrong way to enjoy the music! Every 4th Sunday! \nResident Selectors – los Tres del Ritmo\nHong Kwon\nJeison Moreno\nValentin Flores \nAdmission: $10 cash at door
URL:https://golatindance.com/event/oyelo-december-holiday-latin-vinyl-grooves/2026-09-27/
LOCATION:624 S. 6th St\, 624 S. 6th St\, Philadelphia\, PA\, 19147\, United States
CATEGORIES:Philadelphia
END:VEVENT
BEGIN:VEVENT
DTSTART;TZID=America/New_York:20261025T180000
DTEND;TZID=America/New_York:20261025T220000
DTSTAMP:20260422T075305
CREATED:20251204T164910Z
LAST-MODIFIED:20260129T152222Z
UID:10430840-1792951200-1792965600@golatindance.com
SUMMARY:OYELO!
DESCRIPTION:Philadelphia – get ready for a new monthly party\, OYELO! at Rosy’s Taco Bar East!\nDance\, drink and eat tacos to the Latin sounds of salsa\, cumbia\, bachata and merengue all on vinyl records. Dance with a partner\, by yourself\, or just groove from your seat – there’s no wrong way to enjoy the music! Every 4th Sunday! \nResident Selectors – los Tres del Ritmo\nHong Kwon\nJeison Moreno\nValentin Flores \nAdmission: $10 cash at door
URL:https://golatindance.com/event/oyelo-december-holiday-latin-vinyl-grooves/2026-10-25/
LOCATION:624 S. 6th St\, 624 S. 6th St\, Philadelphia\, PA\, 19147\, United States
CATEGORIES:Philadelphia
END:VEVENT
BEGIN:VEVENT
DTSTART;TZID=America/New_York:20261122T180000
DTEND;TZID=America/New_York:20261122T220000
DTSTAMP:20260422T075305
CREATED:20251204T164910Z
LAST-MODIFIED:20260129T152222Z
UID:10430841-1795370400-1795384800@golatindance.com
SUMMARY:OYELO!
DESCRIPTION:Philadelphia – get ready for a new monthly party\, OYELO! at Rosy’s Taco Bar East!\nDance\, drink and eat tacos to the Latin sounds of salsa\, cumbia\, bachata and merengue all on vinyl records. Dance with a partner\, by yourself\, or just groove from your seat – there’s no wrong way to enjoy the music! Every 4th Sunday! \nResident Selectors – los Tres del Ritmo\nHong Kwon\nJeison Moreno\nValentin Flores \nAdmission: $10 cash at door
URL:https://golatindance.com/event/oyelo-december-holiday-latin-vinyl-grooves/2026-11-22/
LOCATION:624 S. 6th St\, 624 S. 6th St\, Philadelphia\, PA\, 19147\, United States
CATEGORIES:Philadelphia
END:VEVENT
BEGIN:VEVENT
DTSTART;TZID=America/New_York:20261227T180000
DTEND;TZID=America/New_York:20261227T220000
DTSTAMP:20260422T075305
CREATED:20251204T164910Z
LAST-MODIFIED:20260129T152222Z
UID:10430842-1798394400-1798408800@golatindance.com
SUMMARY:OYELO!
DESCRIPTION:Philadelphia – get ready for a new monthly party\, OYELO! at Rosy’s Taco Bar East!\nDance\, drink and eat tacos to the Latin sounds of salsa\, cumbia\, bachata and merengue all on vinyl records. Dance with a partner\, by yourself\, or just groove from your seat – there’s no wrong way to enjoy the music! Every 4th Sunday! \nResident Selectors – los Tres del Ritmo\nHong Kwon\nJeison Moreno\nValentin Flores \nAdmission: $10 cash at door
URL:https://golatindance.com/event/oyelo-december-holiday-latin-vinyl-grooves/2026-12-27/
LOCATION:624 S. 6th St\, 624 S. 6th St\, Philadelphia\, PA\, 19147\, United States
CATEGORIES:Philadelphia
END:VEVENT
BEGIN:VEVENT
DTSTART;TZID=America/New_York:20270124T180000
DTEND;TZID=America/New_York:20270124T220000
DTSTAMP:20260422T075305
CREATED:20251204T164910Z
LAST-MODIFIED:20260129T152222Z
UID:10430843-1800813600-1800828000@golatindance.com
SUMMARY:OYELO!
DESCRIPTION:Philadelphia – get ready for a new monthly party\, OYELO! at Rosy’s Taco Bar East!\nDance\, drink and eat tacos to the Latin sounds of salsa\, cumbia\, bachata and merengue all on vinyl records. Dance with a partner\, by yourself\, or just groove from your seat – there’s no wrong way to enjoy the music! Every 4th Sunday! \nResident Selectors – los Tres del Ritmo\nHong Kwon\nJeison Moreno\nValentin Flores \nAdmission: $10 cash at door
URL:https://golatindance.com/event/oyelo-december-holiday-latin-vinyl-grooves/2027-01-24/
LOCATION:624 S. 6th St\, 624 S. 6th St\, Philadelphia\, PA\, 19147\, United States
CATEGORIES:Philadelphia
END:VEVENT
BEGIN:VEVENT
DTSTART;TZID=America/New_York:20270228T180000
DTEND;TZID=America/New_York:20270228T220000
DTSTAMP:20260422T075305
CREATED:20251204T164910Z
LAST-MODIFIED:20260129T152222Z
UID:10430844-1803837600-1803852000@golatindance.com
SUMMARY:OYELO!
DESCRIPTION:Philadelphia – get ready for a new monthly party\, OYELO! at Rosy’s Taco Bar East!\nDance\, drink and eat tacos to the Latin sounds of salsa\, cumbia\, bachata and merengue all on vinyl records. Dance with a partner\, by yourself\, or just groove from your seat – there’s no wrong way to enjoy the music! Every 4th Sunday! \nResident Selectors – los Tres del Ritmo\nHong Kwon\nJeison Moreno\nValentin Flores \nAdmission: $10 cash at door
URL:https://golatindance.com/event/oyelo-december-holiday-latin-vinyl-grooves/2027-02-28/
LOCATION:624 S. 6th St\, 624 S. 6th St\, Philadelphia\, PA\, 19147\, United States
CATEGORIES:Philadelphia
END:VEVENT
BEGIN:VEVENT
DTSTART;TZID=America/New_York:20270328T180000
DTEND;TZID=America/New_York:20270328T220000
DTSTAMP:20260422T075305
CREATED:20251204T164910Z
LAST-MODIFIED:20260129T152222Z
UID:10430845-1806256800-1806271200@golatindance.com
SUMMARY:OYELO!
DESCRIPTION:Philadelphia – get ready for a new monthly party\, OYELO! at Rosy’s Taco Bar East!\nDance\, drink and eat tacos to the Latin sounds of salsa\, cumbia\, bachata and merengue all on vinyl records. Dance with a partner\, by yourself\, or just groove from your seat – there’s no wrong way to enjoy the music! Every 4th Sunday! \nResident Selectors – los Tres del Ritmo\nHong Kwon\nJeison Moreno\nValentin Flores \nAdmission: $10 cash at door
URL:https://golatindance.com/event/oyelo-december-holiday-latin-vinyl-grooves/2027-03-28/
LOCATION:624 S. 6th St\, 624 S. 6th St\, Philadelphia\, PA\, 19147\, United States
CATEGORIES:Philadelphia
END:VEVENT
BEGIN:VEVENT
DTSTART;TZID=America/New_York:20270425T180000
DTEND;TZID=America/New_York:20270425T220000
DTSTAMP:20260422T075305
CREATED:20251204T164910Z
LAST-MODIFIED:20260129T152222Z
UID:10430846-1808676000-1808690400@golatindance.com
SUMMARY:OYELO!
DESCRIPTION:Philadelphia – get ready for a new monthly party\, OYELO! at Rosy’s Taco Bar East!\nDance\, drink and eat tacos to the Latin sounds of salsa\, cumbia\, bachata and merengue all on vinyl records. Dance with a partner\, by yourself\, or just groove from your seat – there’s no wrong way to enjoy the music! Every 4th Sunday! \nResident Selectors – los Tres del Ritmo\nHong Kwon\nJeison Moreno\nValentin Flores \nAdmission: $10 cash at door
URL:https://golatindance.com/event/oyelo-december-holiday-latin-vinyl-grooves/2027-04-25/
LOCATION:624 S. 6th St\, 624 S. 6th St\, Philadelphia\, PA\, 19147\, United States
CATEGORIES:Philadelphia
END:VEVENT
BEGIN:VEVENT
DTSTART;TZID=America/New_York:20270523T180000
DTEND;TZID=America/New_York:20270523T220000
DTSTAMP:20260422T075305
CREATED:20251204T164910Z
LAST-MODIFIED:20260129T152222Z
UID:10430847-1811095200-1811109600@golatindance.com
SUMMARY:OYELO!
DESCRIPTION:Philadelphia – get ready for a new monthly party\, OYELO! at Rosy’s Taco Bar East!\nDance\, drink and eat tacos to the Latin sounds of salsa\, cumbia\, bachata and merengue all on vinyl records. Dance with a partner\, by yourself\, or just groove from your seat – there’s no wrong way to enjoy the music! Every 4th Sunday! \nResident Selectors – los Tres del Ritmo\nHong Kwon\nJeison Moreno\nValentin Flores \nAdmission: $10 cash at door
URL:https://golatindance.com/event/oyelo-december-holiday-latin-vinyl-grooves/2027-05-23/
LOCATION:624 S. 6th St\, 624 S. 6th St\, Philadelphia\, PA\, 19147\, United States
CATEGORIES:Philadelphia
END:VEVENT
BEGIN:VEVENT
DTSTART;TZID=America/New_York:20270627T180000
DTEND;TZID=America/New_York:20270627T220000
DTSTAMP:20260422T075305
CREATED:20251204T164910Z
LAST-MODIFIED:20260129T152222Z
UID:10430848-1814119200-1814133600@golatindance.com
SUMMARY:OYELO!
DESCRIPTION:Philadelphia – get ready for a new monthly party\, OYELO! at Rosy’s Taco Bar East!\nDance\, drink and eat tacos to the Latin sounds of salsa\, cumbia\, bachata and merengue all on vinyl records. Dance with a partner\, by yourself\, or just groove from your seat – there’s no wrong way to enjoy the music! Every 4th Sunday! \nResident Selectors – los Tres del Ritmo\nHong Kwon\nJeison Moreno\nValentin Flores \nAdmission: $10 cash at door
URL:https://golatindance.com/event/oyelo-december-holiday-latin-vinyl-grooves/2027-06-27/
LOCATION:624 S. 6th St\, 624 S. 6th St\, Philadelphia\, PA\, 19147\, United States
CATEGORIES:Philadelphia
END:VEVENT
BEGIN:VEVENT
DTSTART;TZID=America/New_York:20270725T180000
DTEND;TZID=America/New_York:20270725T220000
DTSTAMP:20260422T075305
CREATED:20251204T164910Z
LAST-MODIFIED:20260129T152222Z
UID:10430849-1816538400-1816552800@golatindance.com
SUMMARY:OYELO!
DESCRIPTION:Philadelphia – get ready for a new monthly party\, OYELO! at Rosy’s Taco Bar East!\nDance\, drink and eat tacos to the Latin sounds of salsa\, cumbia\, bachata and merengue all on vinyl records. Dance with a partner\, by yourself\, or just groove from your seat – there’s no wrong way to enjoy the music! Every 4th Sunday! \nResident Selectors – los Tres del Ritmo\nHong Kwon\nJeison Moreno\nValentin Flores \nAdmission: $10 cash at door
URL:https://golatindance.com/event/oyelo-december-holiday-latin-vinyl-grooves/2027-07-25/
LOCATION:624 S. 6th St\, 624 S. 6th St\, Philadelphia\, PA\, 19147\, United States
CATEGORIES:Philadelphia
END:VEVENT
BEGIN:VEVENT
DTSTART;TZID=America/New_York:20270822T180000
DTEND;TZID=America/New_York:20270822T220000
DTSTAMP:20260422T075305
CREATED:20251204T164910Z
LAST-MODIFIED:20260129T152222Z
UID:10430850-1818957600-1818972000@golatindance.com
SUMMARY:OYELO!
DESCRIPTION:Philadelphia – get ready for a new monthly party\, OYELO! at Rosy’s Taco Bar East!\nDance\, drink and eat tacos to the Latin sounds of salsa\, cumbia\, bachata and merengue all on vinyl records. Dance with a partner\, by yourself\, or just groove from your seat – there’s no wrong way to enjoy the music! Every 4th Sunday! \nResident Selectors – los Tres del Ritmo\nHong Kwon\nJeison Moreno\nValentin Flores \nAdmission: $10 cash at door
URL:https://golatindance.com/event/oyelo-december-holiday-latin-vinyl-grooves/2027-08-22/
LOCATION:624 S. 6th St\, 624 S. 6th St\, Philadelphia\, PA\, 19147\, United States
CATEGORIES:Philadelphia
END:VEVENT
BEGIN:VEVENT
DTSTART;TZID=America/New_York:20270926T180000
DTEND;TZID=America/New_York:20270926T220000
DTSTAMP:20260422T075305
CREATED:20251204T164910Z
LAST-MODIFIED:20260129T152222Z
UID:10430851-1821981600-1821996000@golatindance.com
SUMMARY:OYELO!
DESCRIPTION:Philadelphia – get ready for a new monthly party\, OYELO! at Rosy’s Taco Bar East!\nDance\, drink and eat tacos to the Latin sounds of salsa\, cumbia\, bachata and merengue all on vinyl records. Dance with a partner\, by yourself\, or just groove from your seat – there’s no wrong way to enjoy the music! Every 4th Sunday! \nResident Selectors – los Tres del Ritmo\nHong Kwon\nJeison Moreno\nValentin Flores \nAdmission: $10 cash at door
URL:https://golatindance.com/event/oyelo-december-holiday-latin-vinyl-grooves/2027-09-26/
LOCATION:624 S. 6th St\, 624 S. 6th St\, Philadelphia\, PA\, 19147\, United States
CATEGORIES:Philadelphia
END:VEVENT
BEGIN:VEVENT
DTSTART;TZID=America/New_York:20271024T180000
DTEND;TZID=America/New_York:20271024T220000
DTSTAMP:20260422T075305
CREATED:20251204T164910Z
LAST-MODIFIED:20260129T152222Z
UID:10430852-1824400800-1824415200@golatindance.com
SUMMARY:OYELO!
DESCRIPTION:Philadelphia – get ready for a new monthly party\, OYELO! at Rosy’s Taco Bar East!\nDance\, drink and eat tacos to the Latin sounds of salsa\, cumbia\, bachata and merengue all on vinyl records. Dance with a partner\, by yourself\, or just groove from your seat – there’s no wrong way to enjoy the music! Every 4th Sunday! \nResident Selectors – los Tres del Ritmo\nHong Kwon\nJeison Moreno\nValentin Flores \nAdmission: $10 cash at door
URL:https://golatindance.com/event/oyelo-december-holiday-latin-vinyl-grooves/2027-10-24/
LOCATION:624 S. 6th St\, 624 S. 6th St\, Philadelphia\, PA\, 19147\, United States
CATEGORIES:Philadelphia
END:VEVENT
BEGIN:VEVENT
DTSTART;TZID=America/New_York:20271128T180000
DTEND;TZID=America/New_York:20271128T220000
DTSTAMP:20260422T075305
CREATED:20251204T164910Z
LAST-MODIFIED:20260129T152222Z
UID:10430853-1827424800-1827439200@golatindance.com
SUMMARY:OYELO!
DESCRIPTION:Philadelphia – get ready for a new monthly party\, OYELO! at Rosy’s Taco Bar East!\nDance\, drink and eat tacos to the Latin sounds of salsa\, cumbia\, bachata and merengue all on vinyl records. Dance with a partner\, by yourself\, or just groove from your seat – there’s no wrong way to enjoy the music! Every 4th Sunday! \nResident Selectors – los Tres del Ritmo\nHong Kwon\nJeison Moreno\nValentin Flores \nAdmission: $10 cash at door
URL:https://golatindance.com/event/oyelo-december-holiday-latin-vinyl-grooves/2027-11-28/
LOCATION:624 S. 6th St\, 624 S. 6th St\, Philadelphia\, PA\, 19147\, United States
CATEGORIES:Philadelphia
END:VEVENT
BEGIN:VEVENT
DTSTART;TZID=America/New_York:20271226T180000
DTEND;TZID=America/New_York:20271226T220000
DTSTAMP:20260422T075305
CREATED:20251204T164910Z
LAST-MODIFIED:20260129T152222Z
UID:10430854-1829844000-1829858400@golatindance.com
SUMMARY:OYELO!
DESCRIPTION:Philadelphia – get ready for a new monthly party\, OYELO! at Rosy’s Taco Bar East!\nDance\, drink and eat tacos to the Latin sounds of salsa\, cumbia\, bachata and merengue all on vinyl records. Dance with a partner\, by yourself\, or just groove from your seat – there’s no wrong way to enjoy the music! Every 4th Sunday! \nResident Selectors – los Tres del Ritmo\nHong Kwon\nJeison Moreno\nValentin Flores \nAdmission: $10 cash at door
URL:https://golatindance.com/event/oyelo-december-holiday-latin-vinyl-grooves/2027-12-26/
LOCATION:624 S. 6th St\, 624 S. 6th St\, Philadelphia\, PA\, 19147\, United States
CATEGORIES:Philadelphia
END:VEVENT
BEGIN:VEVENT
DTSTART;TZID=America/New_York:20280123T180000
DTEND;TZID=America/New_York:20280123T220000
DTSTAMP:20260422T075305
CREATED:20251204T164910Z
LAST-MODIFIED:20260129T152222Z
UID:10430855-1832263200-1832277600@golatindance.com
SUMMARY:OYELO!
DESCRIPTION:Philadelphia – get ready for a new monthly party\, OYELO! at Rosy’s Taco Bar East!\nDance\, drink and eat tacos to the Latin sounds of salsa\, cumbia\, bachata and merengue all on vinyl records. Dance with a partner\, by yourself\, or just groove from your seat – there’s no wrong way to enjoy the music! Every 4th Sunday! \nResident Selectors – los Tres del Ritmo\nHong Kwon\nJeison Moreno\nValentin Flores \nAdmission: $10 cash at door
URL:https://golatindance.com/event/oyelo-december-holiday-latin-vinyl-grooves/2028-01-23/
LOCATION:624 S. 6th St\, 624 S. 6th St\, Philadelphia\, PA\, 19147\, United States
CATEGORIES:Philadelphia
END:VEVENT
BEGIN:VEVENT
DTSTART;TZID=America/New_York:20280227T180000
DTEND;TZID=America/New_York:20280227T220000
DTSTAMP:20260422T075305
CREATED:20251204T164910Z
LAST-MODIFIED:20260129T152222Z
UID:10430856-1835287200-1835301600@golatindance.com
SUMMARY:OYELO!
DESCRIPTION:Philadelphia – get ready for a new monthly party\, OYELO! at Rosy’s Taco Bar East!\nDance\, drink and eat tacos to the Latin sounds of salsa\, cumbia\, bachata and merengue all on vinyl records. Dance with a partner\, by yourself\, or just groove from your seat – there’s no wrong way to enjoy the music! Every 4th Sunday! \nResident Selectors – los Tres del Ritmo\nHong Kwon\nJeison Moreno\nValentin Flores \nAdmission: $10 cash at door
URL:https://golatindance.com/event/oyelo-december-holiday-latin-vinyl-grooves/2028-02-27/
LOCATION:624 S. 6th St\, 624 S. 6th St\, Philadelphia\, PA\, 19147\, United States
CATEGORIES:Philadelphia
END:VEVENT
BEGIN:VEVENT
DTSTART;TZID=America/New_York:20280326T180000
DTEND;TZID=America/New_York:20280326T220000
DTSTAMP:20260422T075305
CREATED:20251204T164910Z
LAST-MODIFIED:20260129T152222Z
UID:10430857-1837706400-1837720800@golatindance.com
SUMMARY:OYELO!
DESCRIPTION:Philadelphia – get ready for a new monthly party\, OYELO! at Rosy’s Taco Bar East!\nDance\, drink and eat tacos to the Latin sounds of salsa\, cumbia\, bachata and merengue all on vinyl records. Dance with a partner\, by yourself\, or just groove from your seat – there’s no wrong way to enjoy the music! Every 4th Sunday! \nResident Selectors – los Tres del Ritmo\nHong Kwon\nJeison Moreno\nValentin Flores \nAdmission: $10 cash at door
URL:https://golatindance.com/event/oyelo-december-holiday-latin-vinyl-grooves/2028-03-26/
LOCATION:624 S. 6th St\, 624 S. 6th St\, Philadelphia\, PA\, 19147\, United States
CATEGORIES:Philadelphia
END:VEVENT
BEGIN:VEVENT
DTSTART;TZID=America/New_York:20280423T180000
DTEND;TZID=America/New_York:20280423T220000
DTSTAMP:20260422T075305
CREATED:20251204T164910Z
LAST-MODIFIED:20260129T152222Z
UID:10430858-1840125600-1840140000@golatindance.com
SUMMARY:OYELO!
DESCRIPTION:Philadelphia – get ready for a new monthly party\, OYELO! at Rosy’s Taco Bar East!\nDance\, drink and eat tacos to the Latin sounds of salsa\, cumbia\, bachata and merengue all on vinyl records. Dance with a partner\, by yourself\, or just groove from your seat – there’s no wrong way to enjoy the music! Every 4th Sunday! \nResident Selectors – los Tres del Ritmo\nHong Kwon\nJeison Moreno\nValentin Flores \nAdmission: $10 cash at door
URL:https://golatindance.com/event/oyelo-december-holiday-latin-vinyl-grooves/2028-04-23/
LOCATION:624 S. 6th St\, 624 S. 6th St\, Philadelphia\, PA\, 19147\, United States
CATEGORIES:Philadelphia
END:VEVENT
BEGIN:VEVENT
DTSTART;TZID=America/New_York:20280528T180000
DTEND;TZID=America/New_York:20280528T220000
DTSTAMP:20260422T075305
CREATED:20251204T164910Z
LAST-MODIFIED:20260129T152222Z
UID:10430859-1843149600-1843164000@golatindance.com
SUMMARY:OYELO!
DESCRIPTION:Philadelphia – get ready for a new monthly party\, OYELO! at Rosy’s Taco Bar East!\nDance\, drink and eat tacos to the Latin sounds of salsa\, cumbia\, bachata and merengue all on vinyl records. Dance with a partner\, by yourself\, or just groove from your seat – there’s no wrong way to enjoy the music! Every 4th Sunday! \nResident Selectors – los Tres del Ritmo\nHong Kwon\nJeison Moreno\nValentin Flores \nAdmission: $10 cash at door
URL:https://golatindance.com/event/oyelo-december-holiday-latin-vinyl-grooves/2028-05-28/
LOCATION:624 S. 6th St\, 624 S. 6th St\, Philadelphia\, PA\, 19147\, United States
CATEGORIES:Philadelphia
END:VEVENT
BEGIN:VEVENT
DTSTART;TZID=America/New_York:20280625T180000
DTEND;TZID=America/New_York:20280625T220000
DTSTAMP:20260422T075305
CREATED:20251204T164910Z
LAST-MODIFIED:20260129T152222Z
UID:10430860-1845568800-1845583200@golatindance.com
SUMMARY:OYELO!
DESCRIPTION:Philadelphia – get ready for a new monthly party\, OYELO! at Rosy’s Taco Bar East!\nDance\, drink and eat tacos to the Latin sounds of salsa\, cumbia\, bachata and merengue all on vinyl records. Dance with a partner\, by yourself\, or just groove from your seat – there’s no wrong way to enjoy the music! Every 4th Sunday! \nResident Selectors – los Tres del Ritmo\nHong Kwon\nJeison Moreno\nValentin Flores \nAdmission: $10 cash at door
URL:https://golatindance.com/event/oyelo-december-holiday-latin-vinyl-grooves/2028-06-25/
LOCATION:624 S. 6th St\, 624 S. 6th St\, Philadelphia\, PA\, 19147\, United States
CATEGORIES:Philadelphia
END:VEVENT
BEGIN:VEVENT
DTSTART;TZID=America/New_York:20280723T180000
DTEND;TZID=America/New_York:20280723T220000
DTSTAMP:20260422T075305
CREATED:20251204T164910Z
LAST-MODIFIED:20260129T152222Z
UID:10430861-1847988000-1848002400@golatindance.com
SUMMARY:OYELO!
DESCRIPTION:Philadelphia – get ready for a new monthly party\, OYELO! at Rosy’s Taco Bar East!\nDance\, drink and eat tacos to the Latin sounds of salsa\, cumbia\, bachata and merengue all on vinyl records. Dance with a partner\, by yourself\, or just groove from your seat – there’s no wrong way to enjoy the music! Every 4th Sunday! \nResident Selectors – los Tres del Ritmo\nHong Kwon\nJeison Moreno\nValentin Flores \nAdmission: $10 cash at door
URL:https://golatindance.com/event/oyelo-december-holiday-latin-vinyl-grooves/2028-07-23/
LOCATION:624 S. 6th St\, 624 S. 6th St\, Philadelphia\, PA\, 19147\, United States
CATEGORIES:Philadelphia
END:VEVENT
BEGIN:VEVENT
DTSTART;TZID=America/New_York:20280827T180000
DTEND;TZID=America/New_York:20280827T220000
DTSTAMP:20260422T075305
CREATED:20251204T164910Z
LAST-MODIFIED:20260129T152222Z
UID:10430862-1851012000-1851026400@golatindance.com
SUMMARY:OYELO!
DESCRIPTION:Philadelphia – get ready for a new monthly party\, OYELO! at Rosy’s Taco Bar East!\nDance\, drink and eat tacos to the Latin sounds of salsa\, cumbia\, bachata and merengue all on vinyl records. Dance with a partner\, by yourself\, or just groove from your seat – there’s no wrong way to enjoy the music! Every 4th Sunday! \nResident Selectors – los Tres del Ritmo\nHong Kwon\nJeison Moreno\nValentin Flores \nAdmission: $10 cash at door
URL:https://golatindance.com/event/oyelo-december-holiday-latin-vinyl-grooves/2028-08-27/
LOCATION:624 S. 6th St\, 624 S. 6th St\, Philadelphia\, PA\, 19147\, United States
CATEGORIES:Philadelphia
END:VEVENT
BEGIN:VEVENT
DTSTART;TZID=America/New_York:20280924T180000
DTEND;TZID=America/New_York:20280924T220000
DTSTAMP:20260422T075305
CREATED:20251204T164910Z
LAST-MODIFIED:20260129T152222Z
UID:10430863-1853431200-1853445600@golatindance.com
SUMMARY:OYELO!
DESCRIPTION:Philadelphia – get ready for a new monthly party\, OYELO! at Rosy’s Taco Bar East!\nDance\, drink and eat tacos to the Latin sounds of salsa\, cumbia\, bachata and merengue all on vinyl records. Dance with a partner\, by yourself\, or just groove from your seat – there’s no wrong way to enjoy the music! Every 4th Sunday! \nResident Selectors – los Tres del Ritmo\nHong Kwon\nJeison Moreno\nValentin Flores \nAdmission: $10 cash at door
URL:https://golatindance.com/event/oyelo-december-holiday-latin-vinyl-grooves/2028-09-24/
LOCATION:624 S. 6th St\, 624 S. 6th St\, Philadelphia\, PA\, 19147\, United States
CATEGORIES:Philadelphia
END:VEVENT
END:VCALENDAR