BEGIN:VCALENDAR
VERSION:2.0
PRODID:-//GO Latin Dance - ECPv6.15.18//NONSGML v1.0//EN
CALSCALE:GREGORIAN
METHOD:PUBLISH
X-WR-CALNAME:GO Latin Dance
X-ORIGINAL-URL:https://golatindance.com
X-WR-CALDESC:Events for GO Latin Dance
REFRESH-INTERVAL;VALUE=DURATION:PT1H
X-Robots-Tag:noindex
X-PUBLISHED-TTL:PT1H
BEGIN:VTIMEZONE
TZID:Australia/Sydney
BEGIN:STANDARD
TZOFFSETFROM:+1100
TZOFFSETTO:+1000
TZNAME:AEST
DTSTART:20290331T160000
END:STANDARD
BEGIN:DAYLIGHT
TZOFFSETFROM:+1000
TZOFFSETTO:+1100
TZNAME:AEDT
DTSTART:20291006T160000
END:DAYLIGHT
BEGIN:STANDARD
TZOFFSETFROM:+1100
TZOFFSETTO:+1000
TZNAME:AEST
DTSTART:20300406T160000
END:STANDARD
BEGIN:DAYLIGHT
TZOFFSETFROM:+1000
TZOFFSETTO:+1100
TZNAME:AEDT
DTSTART:20301005T160000
END:DAYLIGHT
BEGIN:STANDARD
TZOFFSETFROM:+1100
TZOFFSETTO:+1000
TZNAME:AEST
DTSTART:20310405T160000
END:STANDARD
BEGIN:DAYLIGHT
TZOFFSETFROM:+1000
TZOFFSETTO:+1100
TZNAME:AEDT
DTSTART:20311004T160000
END:DAYLIGHT
END:VTIMEZONE
BEGIN:VEVENT
DTSTART;TZID=Australia/Sydney:20301128T193000
DTEND;TZID=Australia/Sydney:20301129T010000
DTSTAMP:20260421T141338
CREATED:20240422T024042Z
LAST-MODIFIED:20251214T192410Z
UID:10422579-1922124600-1922144400@golatindance.com
SUMMARY:Pontoon Salsa Thursdays
DESCRIPTION:Welcome to Pontoon Salsa Thursdays!\nGet ready to spice up your Thursday nights with the hottest Latin dance party in town! Join us every Thursday at Pontoon Bar for a dancer’s dream evening filled with Salsa\, Bachata\, and good vibes.\n✨ What to Expect:\nJoin us at 7:30pm for FREE Intermediate to Advanced level Salsa + Bachata Lesson! Experience required.\nDrink Specials: $7.50 Coronas and $25 Sangria jugs to share with friends!\n$10 Pizzas: Refuel with mouthwatering pizzas to keep you energised all night.\nMusic rotation: 2 x Salsa\, 2 x Bachata\, and 1 x Latino anthem.\nCurated Music: Our DJs will keep the dance floor moving with specially selected Salsa and Bachata for dancers.\nPontoon Bar offers stunning harbor views\, a vibrant atmosphere\, and friendly staff to ensure you have an unforgettable experience.\nThis event is for anyone who loves Latin music and dance\, whether you’re a seasoned pro or just looking to have fun and meet new people.\nCelebrating a special occasion? We’ve got you covered with VIP reserved seating and booths! Whether it’s a birthday bash or a milestone moment\, we have booths for up to 10 people and booths for up to 20 people available.\nContact us (02) 8021 3959 to reserve your booth for just $100 and receive a complimentary bottle of champagne on us! Let’s make your celebration unforgettable at Pontoon Salsa Thursdays. Contact us now to secure your spot!\nSave the date\, invite your friends\, and let’s make Thursday nights the highlight of your week! See you on the dance floor!\n#VIPExperience #CelebrateInStyle
URL:https://golatindance.com/event/pontoon-salsa-thursdays/2030-11-28/
LOCATION:Pontoon Bar Darling Harbour\, Cockle Bay Wharf\, Wheat Rd\,\, Sydney\, NSW\, 2000\, Australia
CATEGORIES:Sydney
ATTACH;FMTTYPE=image/jpeg:https://golatindance.com/wp-content/uploads/2024/04/438255566_417940010936851_3597920755153046322_n.jpg
END:VEVENT
BEGIN:VEVENT
DTSTART;TZID=Australia/Sydney:20301205T193000
DTEND;TZID=Australia/Sydney:20301206T010000
DTSTAMP:20260421T141338
CREATED:20240422T024042Z
LAST-MODIFIED:20251214T192410Z
UID:10422580-1922729400-1922749200@golatindance.com
SUMMARY:Pontoon Salsa Thursdays
DESCRIPTION:Welcome to Pontoon Salsa Thursdays!\nGet ready to spice up your Thursday nights with the hottest Latin dance party in town! Join us every Thursday at Pontoon Bar for a dancer’s dream evening filled with Salsa\, Bachata\, and good vibes.\n✨ What to Expect:\nJoin us at 7:30pm for FREE Intermediate to Advanced level Salsa + Bachata Lesson! Experience required.\nDrink Specials: $7.50 Coronas and $25 Sangria jugs to share with friends!\n$10 Pizzas: Refuel with mouthwatering pizzas to keep you energised all night.\nMusic rotation: 2 x Salsa\, 2 x Bachata\, and 1 x Latino anthem.\nCurated Music: Our DJs will keep the dance floor moving with specially selected Salsa and Bachata for dancers.\nPontoon Bar offers stunning harbor views\, a vibrant atmosphere\, and friendly staff to ensure you have an unforgettable experience.\nThis event is for anyone who loves Latin music and dance\, whether you’re a seasoned pro or just looking to have fun and meet new people.\nCelebrating a special occasion? We’ve got you covered with VIP reserved seating and booths! Whether it’s a birthday bash or a milestone moment\, we have booths for up to 10 people and booths for up to 20 people available.\nContact us (02) 8021 3959 to reserve your booth for just $100 and receive a complimentary bottle of champagne on us! Let’s make your celebration unforgettable at Pontoon Salsa Thursdays. Contact us now to secure your spot!\nSave the date\, invite your friends\, and let’s make Thursday nights the highlight of your week! See you on the dance floor!\n#VIPExperience #CelebrateInStyle
URL:https://golatindance.com/event/pontoon-salsa-thursdays/2030-12-05/
LOCATION:Pontoon Bar Darling Harbour\, Cockle Bay Wharf\, Wheat Rd\,\, Sydney\, NSW\, 2000\, Australia
CATEGORIES:Sydney
ATTACH;FMTTYPE=image/jpeg:https://golatindance.com/wp-content/uploads/2024/04/438255566_417940010936851_3597920755153046322_n.jpg
END:VEVENT
BEGIN:VEVENT
DTSTART;TZID=Australia/Sydney:20301212T193000
DTEND;TZID=Australia/Sydney:20301213T010000
DTSTAMP:20260421T141338
CREATED:20240422T024042Z
LAST-MODIFIED:20251214T192410Z
UID:10422581-1923334200-1923354000@golatindance.com
SUMMARY:Pontoon Salsa Thursdays
DESCRIPTION:Welcome to Pontoon Salsa Thursdays!\nGet ready to spice up your Thursday nights with the hottest Latin dance party in town! Join us every Thursday at Pontoon Bar for a dancer’s dream evening filled with Salsa\, Bachata\, and good vibes.\n✨ What to Expect:\nJoin us at 7:30pm for FREE Intermediate to Advanced level Salsa + Bachata Lesson! Experience required.\nDrink Specials: $7.50 Coronas and $25 Sangria jugs to share with friends!\n$10 Pizzas: Refuel with mouthwatering pizzas to keep you energised all night.\nMusic rotation: 2 x Salsa\, 2 x Bachata\, and 1 x Latino anthem.\nCurated Music: Our DJs will keep the dance floor moving with specially selected Salsa and Bachata for dancers.\nPontoon Bar offers stunning harbor views\, a vibrant atmosphere\, and friendly staff to ensure you have an unforgettable experience.\nThis event is for anyone who loves Latin music and dance\, whether you’re a seasoned pro or just looking to have fun and meet new people.\nCelebrating a special occasion? We’ve got you covered with VIP reserved seating and booths! Whether it’s a birthday bash or a milestone moment\, we have booths for up to 10 people and booths for up to 20 people available.\nContact us (02) 8021 3959 to reserve your booth for just $100 and receive a complimentary bottle of champagne on us! Let’s make your celebration unforgettable at Pontoon Salsa Thursdays. Contact us now to secure your spot!\nSave the date\, invite your friends\, and let’s make Thursday nights the highlight of your week! See you on the dance floor!\n#VIPExperience #CelebrateInStyle
URL:https://golatindance.com/event/pontoon-salsa-thursdays/2030-12-12/
LOCATION:Pontoon Bar Darling Harbour\, Cockle Bay Wharf\, Wheat Rd\,\, Sydney\, NSW\, 2000\, Australia
CATEGORIES:Sydney
ATTACH;FMTTYPE=image/jpeg:https://golatindance.com/wp-content/uploads/2024/04/438255566_417940010936851_3597920755153046322_n.jpg
END:VEVENT
END:VCALENDAR