BEGIN:VCALENDAR
VERSION:2.0
PRODID:-//GO Latin Dance - ECPv6.15.18//NONSGML v1.0//EN
CALSCALE:GREGORIAN
METHOD:PUBLISH
X-ORIGINAL-URL:https://golatindance.com
X-WR-CALDESC:Events for GO Latin Dance
REFRESH-INTERVAL;VALUE=DURATION:PT1H
X-Robots-Tag:noindex
X-PUBLISHED-TTL:PT1H
BEGIN:VTIMEZONE
TZID:America/Los_Angeles
BEGIN:DAYLIGHT
TZOFFSETFROM:-0800
TZOFFSETTO:-0700
TZNAME:PDT
DTSTART:20270314T100000
END:DAYLIGHT
BEGIN:STANDARD
TZOFFSETFROM:-0700
TZOFFSETTO:-0800
TZNAME:PST
DTSTART:20271107T090000
END:STANDARD
BEGIN:DAYLIGHT
TZOFFSETFROM:-0800
TZOFFSETTO:-0700
TZNAME:PDT
DTSTART:20280312T100000
END:DAYLIGHT
BEGIN:STANDARD
TZOFFSETFROM:-0700
TZOFFSETTO:-0800
TZNAME:PST
DTSTART:20281105T090000
END:STANDARD
BEGIN:DAYLIGHT
TZOFFSETFROM:-0800
TZOFFSETTO:-0700
TZNAME:PDT
DTSTART:20290311T100000
END:DAYLIGHT
BEGIN:STANDARD
TZOFFSETFROM:-0700
TZOFFSETTO:-0800
TZNAME:PST
DTSTART:20291104T090000
END:STANDARD
END:VTIMEZONE
BEGIN:VEVENT
DTSTART;TZID=America/Los_Angeles:20280326T173000
DTEND;TZID=America/Los_Angeles:20280326T220000
DTSTAMP:20260425T094542
CREATED:20221108T173700Z
LAST-MODIFIED:20251230T210905Z
UID:10349444-1837704600-1837720800@golatindance.com
SUMMARY:Salsa Bachata Sundays at Queen Bees
DESCRIPTION:Spice Up Your Sundays with Salsa & Bachata at Queen Bee’s!Join us every Sunday from 5:30pm-10pm for Salsa Sunday! See flyer for details.
URL:https://golatindance.com/event/salsa-bachata-sundays-at-queen-bees/2028-03-26/
LOCATION:Queen Bee’s Art and Cultural Center\, 3925 Ohio Street\, San Diego\, CA 92104\, San Diego\, CA\, 92104\, United States
CATEGORIES:San Diego
ATTACH;FMTTYPE=image/jpeg:https://golatindance.com/wp-content/uploads/2022/11/953f34_7bbada5d535646a68f7203006e946665mv2.jpg
END:VEVENT
BEGIN:VEVENT
DTSTART;TZID=America/Los_Angeles:20280402T173000
DTEND;TZID=America/Los_Angeles:20280402T220000
DTSTAMP:20260425T094542
CREATED:20221108T173700Z
LAST-MODIFIED:20251230T210905Z
UID:10349445-1838309400-1838325600@golatindance.com
SUMMARY:Salsa Bachata Sundays at Queen Bees
DESCRIPTION:Spice Up Your Sundays with Salsa & Bachata at Queen Bee’s!Join us every Sunday from 5:30pm-10pm for Salsa Sunday! See flyer for details.
URL:https://golatindance.com/event/salsa-bachata-sundays-at-queen-bees/2028-04-02/
LOCATION:Queen Bee’s Art and Cultural Center\, 3925 Ohio Street\, San Diego\, CA 92104\, San Diego\, CA\, 92104\, United States
CATEGORIES:San Diego
ATTACH;FMTTYPE=image/jpeg:https://golatindance.com/wp-content/uploads/2022/11/953f34_7bbada5d535646a68f7203006e946665mv2.jpg
END:VEVENT
BEGIN:VEVENT
DTSTART;TZID=America/Los_Angeles:20280409T173000
DTEND;TZID=America/Los_Angeles:20280409T220000
DTSTAMP:20260425T094542
CREATED:20221108T173700Z
LAST-MODIFIED:20251230T210905Z
UID:10349446-1838914200-1838930400@golatindance.com
SUMMARY:Salsa Bachata Sundays at Queen Bees
DESCRIPTION:Spice Up Your Sundays with Salsa & Bachata at Queen Bee’s!Join us every Sunday from 5:30pm-10pm for Salsa Sunday! See flyer for details.
URL:https://golatindance.com/event/salsa-bachata-sundays-at-queen-bees/2028-04-09/
LOCATION:Queen Bee’s Art and Cultural Center\, 3925 Ohio Street\, San Diego\, CA 92104\, San Diego\, CA\, 92104\, United States
CATEGORIES:San Diego
ATTACH;FMTTYPE=image/jpeg:https://golatindance.com/wp-content/uploads/2022/11/953f34_7bbada5d535646a68f7203006e946665mv2.jpg
END:VEVENT
BEGIN:VEVENT
DTSTART;TZID=America/Los_Angeles:20280416T173000
DTEND;TZID=America/Los_Angeles:20280416T220000
DTSTAMP:20260425T094542
CREATED:20221108T173700Z
LAST-MODIFIED:20251230T210905Z
UID:10349447-1839519000-1839535200@golatindance.com
SUMMARY:Salsa Bachata Sundays at Queen Bees
DESCRIPTION:Spice Up Your Sundays with Salsa & Bachata at Queen Bee’s!Join us every Sunday from 5:30pm-10pm for Salsa Sunday! See flyer for details.
URL:https://golatindance.com/event/salsa-bachata-sundays-at-queen-bees/2028-04-16/
LOCATION:Queen Bee’s Art and Cultural Center\, 3925 Ohio Street\, San Diego\, CA 92104\, San Diego\, CA\, 92104\, United States
CATEGORIES:San Diego
ATTACH;FMTTYPE=image/jpeg:https://golatindance.com/wp-content/uploads/2022/11/953f34_7bbada5d535646a68f7203006e946665mv2.jpg
END:VEVENT
BEGIN:VEVENT
DTSTART;TZID=America/Los_Angeles:20280423T173000
DTEND;TZID=America/Los_Angeles:20280423T220000
DTSTAMP:20260425T094542
CREATED:20221108T173700Z
LAST-MODIFIED:20251230T210905Z
UID:10349448-1840123800-1840140000@golatindance.com
SUMMARY:Salsa Bachata Sundays at Queen Bees
DESCRIPTION:Spice Up Your Sundays with Salsa & Bachata at Queen Bee’s!Join us every Sunday from 5:30pm-10pm for Salsa Sunday! See flyer for details.
URL:https://golatindance.com/event/salsa-bachata-sundays-at-queen-bees/2028-04-23/
LOCATION:Queen Bee’s Art and Cultural Center\, 3925 Ohio Street\, San Diego\, CA 92104\, San Diego\, CA\, 92104\, United States
CATEGORIES:San Diego
ATTACH;FMTTYPE=image/jpeg:https://golatindance.com/wp-content/uploads/2022/11/953f34_7bbada5d535646a68f7203006e946665mv2.jpg
END:VEVENT
BEGIN:VEVENT
DTSTART;TZID=America/Los_Angeles:20280430T173000
DTEND;TZID=America/Los_Angeles:20280430T220000
DTSTAMP:20260425T094542
CREATED:20221108T173700Z
LAST-MODIFIED:20251230T210905Z
UID:10349449-1840728600-1840744800@golatindance.com
SUMMARY:Salsa Bachata Sundays at Queen Bees
DESCRIPTION:Spice Up Your Sundays with Salsa & Bachata at Queen Bee’s!Join us every Sunday from 5:30pm-10pm for Salsa Sunday! See flyer for details.
URL:https://golatindance.com/event/salsa-bachata-sundays-at-queen-bees/2028-04-30/
LOCATION:Queen Bee’s Art and Cultural Center\, 3925 Ohio Street\, San Diego\, CA 92104\, San Diego\, CA\, 92104\, United States
CATEGORIES:San Diego
ATTACH;FMTTYPE=image/jpeg:https://golatindance.com/wp-content/uploads/2022/11/953f34_7bbada5d535646a68f7203006e946665mv2.jpg
END:VEVENT
BEGIN:VEVENT
DTSTART;TZID=America/Los_Angeles:20280507T173000
DTEND;TZID=America/Los_Angeles:20280507T220000
DTSTAMP:20260425T094542
CREATED:20221108T173700Z
LAST-MODIFIED:20251230T210905Z
UID:10349450-1841333400-1841349600@golatindance.com
SUMMARY:Salsa Bachata Sundays at Queen Bees
DESCRIPTION:Spice Up Your Sundays with Salsa & Bachata at Queen Bee’s!Join us every Sunday from 5:30pm-10pm for Salsa Sunday! See flyer for details.
URL:https://golatindance.com/event/salsa-bachata-sundays-at-queen-bees/2028-05-07/
LOCATION:Queen Bee’s Art and Cultural Center\, 3925 Ohio Street\, San Diego\, CA 92104\, San Diego\, CA\, 92104\, United States
CATEGORIES:San Diego
ATTACH;FMTTYPE=image/jpeg:https://golatindance.com/wp-content/uploads/2022/11/953f34_7bbada5d535646a68f7203006e946665mv2.jpg
END:VEVENT
BEGIN:VEVENT
DTSTART;TZID=America/Los_Angeles:20280514T173000
DTEND;TZID=America/Los_Angeles:20280514T220000
DTSTAMP:20260425T094542
CREATED:20221108T173700Z
LAST-MODIFIED:20251230T210905Z
UID:10349451-1841938200-1841954400@golatindance.com
SUMMARY:Salsa Bachata Sundays at Queen Bees
DESCRIPTION:Spice Up Your Sundays with Salsa & Bachata at Queen Bee’s!Join us every Sunday from 5:30pm-10pm for Salsa Sunday! See flyer for details.
URL:https://golatindance.com/event/salsa-bachata-sundays-at-queen-bees/2028-05-14/
LOCATION:Queen Bee’s Art and Cultural Center\, 3925 Ohio Street\, San Diego\, CA 92104\, San Diego\, CA\, 92104\, United States
CATEGORIES:San Diego
ATTACH;FMTTYPE=image/jpeg:https://golatindance.com/wp-content/uploads/2022/11/953f34_7bbada5d535646a68f7203006e946665mv2.jpg
END:VEVENT
BEGIN:VEVENT
DTSTART;TZID=America/Los_Angeles:20280521T173000
DTEND;TZID=America/Los_Angeles:20280521T220000
DTSTAMP:20260425T094542
CREATED:20221108T173700Z
LAST-MODIFIED:20251230T210905Z
UID:10349452-1842543000-1842559200@golatindance.com
SUMMARY:Salsa Bachata Sundays at Queen Bees
DESCRIPTION:Spice Up Your Sundays with Salsa & Bachata at Queen Bee’s!Join us every Sunday from 5:30pm-10pm for Salsa Sunday! See flyer for details.
URL:https://golatindance.com/event/salsa-bachata-sundays-at-queen-bees/2028-05-21/
LOCATION:Queen Bee’s Art and Cultural Center\, 3925 Ohio Street\, San Diego\, CA 92104\, San Diego\, CA\, 92104\, United States
CATEGORIES:San Diego
ATTACH;FMTTYPE=image/jpeg:https://golatindance.com/wp-content/uploads/2022/11/953f34_7bbada5d535646a68f7203006e946665mv2.jpg
END:VEVENT
BEGIN:VEVENT
DTSTART;TZID=America/Los_Angeles:20280528T173000
DTEND;TZID=America/Los_Angeles:20280528T220000
DTSTAMP:20260425T094542
CREATED:20221108T173700Z
LAST-MODIFIED:20251230T210905Z
UID:10349453-1843147800-1843164000@golatindance.com
SUMMARY:Salsa Bachata Sundays at Queen Bees
DESCRIPTION:Spice Up Your Sundays with Salsa & Bachata at Queen Bee’s!Join us every Sunday from 5:30pm-10pm for Salsa Sunday! See flyer for details.
URL:https://golatindance.com/event/salsa-bachata-sundays-at-queen-bees/2028-05-28/
LOCATION:Queen Bee’s Art and Cultural Center\, 3925 Ohio Street\, San Diego\, CA 92104\, San Diego\, CA\, 92104\, United States
CATEGORIES:San Diego
ATTACH;FMTTYPE=image/jpeg:https://golatindance.com/wp-content/uploads/2022/11/953f34_7bbada5d535646a68f7203006e946665mv2.jpg
END:VEVENT
BEGIN:VEVENT
DTSTART;TZID=America/Los_Angeles:20280604T173000
DTEND;TZID=America/Los_Angeles:20280604T220000
DTSTAMP:20260425T094542
CREATED:20221108T173700Z
LAST-MODIFIED:20251230T210905Z
UID:10349454-1843752600-1843768800@golatindance.com
SUMMARY:Salsa Bachata Sundays at Queen Bees
DESCRIPTION:Spice Up Your Sundays with Salsa & Bachata at Queen Bee’s!Join us every Sunday from 5:30pm-10pm for Salsa Sunday! See flyer for details.
URL:https://golatindance.com/event/salsa-bachata-sundays-at-queen-bees/2028-06-04/
LOCATION:Queen Bee’s Art and Cultural Center\, 3925 Ohio Street\, San Diego\, CA 92104\, San Diego\, CA\, 92104\, United States
CATEGORIES:San Diego
ATTACH;FMTTYPE=image/jpeg:https://golatindance.com/wp-content/uploads/2022/11/953f34_7bbada5d535646a68f7203006e946665mv2.jpg
END:VEVENT
BEGIN:VEVENT
DTSTART;TZID=America/Los_Angeles:20280611T173000
DTEND;TZID=America/Los_Angeles:20280611T220000
DTSTAMP:20260425T094542
CREATED:20221108T173700Z
LAST-MODIFIED:20251230T210905Z
UID:10349455-1844357400-1844373600@golatindance.com
SUMMARY:Salsa Bachata Sundays at Queen Bees
DESCRIPTION:Spice Up Your Sundays with Salsa & Bachata at Queen Bee’s!Join us every Sunday from 5:30pm-10pm for Salsa Sunday! See flyer for details.
URL:https://golatindance.com/event/salsa-bachata-sundays-at-queen-bees/2028-06-11/
LOCATION:Queen Bee’s Art and Cultural Center\, 3925 Ohio Street\, San Diego\, CA 92104\, San Diego\, CA\, 92104\, United States
CATEGORIES:San Diego
ATTACH;FMTTYPE=image/jpeg:https://golatindance.com/wp-content/uploads/2022/11/953f34_7bbada5d535646a68f7203006e946665mv2.jpg
END:VEVENT
BEGIN:VEVENT
DTSTART;TZID=America/Los_Angeles:20280618T173000
DTEND;TZID=America/Los_Angeles:20280618T220000
DTSTAMP:20260425T094542
CREATED:20221108T173700Z
LAST-MODIFIED:20251230T210905Z
UID:10349456-1844962200-1844978400@golatindance.com
SUMMARY:Salsa Bachata Sundays at Queen Bees
DESCRIPTION:Spice Up Your Sundays with Salsa & Bachata at Queen Bee’s!Join us every Sunday from 5:30pm-10pm for Salsa Sunday! See flyer for details.
URL:https://golatindance.com/event/salsa-bachata-sundays-at-queen-bees/2028-06-18/
LOCATION:Queen Bee’s Art and Cultural Center\, 3925 Ohio Street\, San Diego\, CA 92104\, San Diego\, CA\, 92104\, United States
CATEGORIES:San Diego
ATTACH;FMTTYPE=image/jpeg:https://golatindance.com/wp-content/uploads/2022/11/953f34_7bbada5d535646a68f7203006e946665mv2.jpg
END:VEVENT
BEGIN:VEVENT
DTSTART;TZID=America/Los_Angeles:20280625T173000
DTEND;TZID=America/Los_Angeles:20280625T220000
DTSTAMP:20260425T094542
CREATED:20221108T173700Z
LAST-MODIFIED:20251230T210905Z
UID:10349457-1845567000-1845583200@golatindance.com
SUMMARY:Salsa Bachata Sundays at Queen Bees
DESCRIPTION:Spice Up Your Sundays with Salsa & Bachata at Queen Bee’s!Join us every Sunday from 5:30pm-10pm for Salsa Sunday! See flyer for details.
URL:https://golatindance.com/event/salsa-bachata-sundays-at-queen-bees/2028-06-25/
LOCATION:Queen Bee’s Art and Cultural Center\, 3925 Ohio Street\, San Diego\, CA 92104\, San Diego\, CA\, 92104\, United States
CATEGORIES:San Diego
ATTACH;FMTTYPE=image/jpeg:https://golatindance.com/wp-content/uploads/2022/11/953f34_7bbada5d535646a68f7203006e946665mv2.jpg
END:VEVENT
BEGIN:VEVENT
DTSTART;TZID=America/Los_Angeles:20280702T173000
DTEND;TZID=America/Los_Angeles:20280702T220000
DTSTAMP:20260425T094542
CREATED:20221108T173700Z
LAST-MODIFIED:20251230T210905Z
UID:10349458-1846171800-1846188000@golatindance.com
SUMMARY:Salsa Bachata Sundays at Queen Bees
DESCRIPTION:Spice Up Your Sundays with Salsa & Bachata at Queen Bee’s!Join us every Sunday from 5:30pm-10pm for Salsa Sunday! See flyer for details.
URL:https://golatindance.com/event/salsa-bachata-sundays-at-queen-bees/2028-07-02/
LOCATION:Queen Bee’s Art and Cultural Center\, 3925 Ohio Street\, San Diego\, CA 92104\, San Diego\, CA\, 92104\, United States
CATEGORIES:San Diego
ATTACH;FMTTYPE=image/jpeg:https://golatindance.com/wp-content/uploads/2022/11/953f34_7bbada5d535646a68f7203006e946665mv2.jpg
END:VEVENT
BEGIN:VEVENT
DTSTART;TZID=America/Los_Angeles:20280709T173000
DTEND;TZID=America/Los_Angeles:20280709T220000
DTSTAMP:20260425T094542
CREATED:20221108T173700Z
LAST-MODIFIED:20251230T210905Z
UID:10349459-1846776600-1846792800@golatindance.com
SUMMARY:Salsa Bachata Sundays at Queen Bees
DESCRIPTION:Spice Up Your Sundays with Salsa & Bachata at Queen Bee’s!Join us every Sunday from 5:30pm-10pm for Salsa Sunday! See flyer for details.
URL:https://golatindance.com/event/salsa-bachata-sundays-at-queen-bees/2028-07-09/
LOCATION:Queen Bee’s Art and Cultural Center\, 3925 Ohio Street\, San Diego\, CA 92104\, San Diego\, CA\, 92104\, United States
CATEGORIES:San Diego
ATTACH;FMTTYPE=image/jpeg:https://golatindance.com/wp-content/uploads/2022/11/953f34_7bbada5d535646a68f7203006e946665mv2.jpg
END:VEVENT
BEGIN:VEVENT
DTSTART;TZID=America/Los_Angeles:20280716T173000
DTEND;TZID=America/Los_Angeles:20280716T220000
DTSTAMP:20260425T094542
CREATED:20221108T173700Z
LAST-MODIFIED:20251230T210905Z
UID:10349460-1847381400-1847397600@golatindance.com
SUMMARY:Salsa Bachata Sundays at Queen Bees
DESCRIPTION:Spice Up Your Sundays with Salsa & Bachata at Queen Bee’s!Join us every Sunday from 5:30pm-10pm for Salsa Sunday! See flyer for details.
URL:https://golatindance.com/event/salsa-bachata-sundays-at-queen-bees/2028-07-16/
LOCATION:Queen Bee’s Art and Cultural Center\, 3925 Ohio Street\, San Diego\, CA 92104\, San Diego\, CA\, 92104\, United States
CATEGORIES:San Diego
ATTACH;FMTTYPE=image/jpeg:https://golatindance.com/wp-content/uploads/2022/11/953f34_7bbada5d535646a68f7203006e946665mv2.jpg
END:VEVENT
BEGIN:VEVENT
DTSTART;TZID=America/Los_Angeles:20280723T173000
DTEND;TZID=America/Los_Angeles:20280723T220000
DTSTAMP:20260425T094542
CREATED:20221108T173700Z
LAST-MODIFIED:20251230T210905Z
UID:10349461-1847986200-1848002400@golatindance.com
SUMMARY:Salsa Bachata Sundays at Queen Bees
DESCRIPTION:Spice Up Your Sundays with Salsa & Bachata at Queen Bee’s!Join us every Sunday from 5:30pm-10pm for Salsa Sunday! See flyer for details.
URL:https://golatindance.com/event/salsa-bachata-sundays-at-queen-bees/2028-07-23/
LOCATION:Queen Bee’s Art and Cultural Center\, 3925 Ohio Street\, San Diego\, CA 92104\, San Diego\, CA\, 92104\, United States
CATEGORIES:San Diego
ATTACH;FMTTYPE=image/jpeg:https://golatindance.com/wp-content/uploads/2022/11/953f34_7bbada5d535646a68f7203006e946665mv2.jpg
END:VEVENT
BEGIN:VEVENT
DTSTART;TZID=America/Los_Angeles:20280730T173000
DTEND;TZID=America/Los_Angeles:20280730T220000
DTSTAMP:20260425T094542
CREATED:20221108T173700Z
LAST-MODIFIED:20251230T210905Z
UID:10349462-1848591000-1848607200@golatindance.com
SUMMARY:Salsa Bachata Sundays at Queen Bees
DESCRIPTION:Spice Up Your Sundays with Salsa & Bachata at Queen Bee’s!Join us every Sunday from 5:30pm-10pm for Salsa Sunday! See flyer for details.
URL:https://golatindance.com/event/salsa-bachata-sundays-at-queen-bees/2028-07-30/
LOCATION:Queen Bee’s Art and Cultural Center\, 3925 Ohio Street\, San Diego\, CA 92104\, San Diego\, CA\, 92104\, United States
CATEGORIES:San Diego
ATTACH;FMTTYPE=image/jpeg:https://golatindance.com/wp-content/uploads/2022/11/953f34_7bbada5d535646a68f7203006e946665mv2.jpg
END:VEVENT
BEGIN:VEVENT
DTSTART;TZID=America/Los_Angeles:20280806T173000
DTEND;TZID=America/Los_Angeles:20280806T220000
DTSTAMP:20260425T094542
CREATED:20221108T173700Z
LAST-MODIFIED:20251230T210905Z
UID:10349463-1849195800-1849212000@golatindance.com
SUMMARY:Salsa Bachata Sundays at Queen Bees
DESCRIPTION:Spice Up Your Sundays with Salsa & Bachata at Queen Bee’s!Join us every Sunday from 5:30pm-10pm for Salsa Sunday! See flyer for details.
URL:https://golatindance.com/event/salsa-bachata-sundays-at-queen-bees/2028-08-06/
LOCATION:Queen Bee’s Art and Cultural Center\, 3925 Ohio Street\, San Diego\, CA 92104\, San Diego\, CA\, 92104\, United States
CATEGORIES:San Diego
ATTACH;FMTTYPE=image/jpeg:https://golatindance.com/wp-content/uploads/2022/11/953f34_7bbada5d535646a68f7203006e946665mv2.jpg
END:VEVENT
BEGIN:VEVENT
DTSTART;TZID=America/Los_Angeles:20280813T173000
DTEND;TZID=America/Los_Angeles:20280813T220000
DTSTAMP:20260425T094542
CREATED:20221108T173700Z
LAST-MODIFIED:20251230T210905Z
UID:10349464-1849800600-1849816800@golatindance.com
SUMMARY:Salsa Bachata Sundays at Queen Bees
DESCRIPTION:Spice Up Your Sundays with Salsa & Bachata at Queen Bee’s!Join us every Sunday from 5:30pm-10pm for Salsa Sunday! See flyer for details.
URL:https://golatindance.com/event/salsa-bachata-sundays-at-queen-bees/2028-08-13/
LOCATION:Queen Bee’s Art and Cultural Center\, 3925 Ohio Street\, San Diego\, CA 92104\, San Diego\, CA\, 92104\, United States
CATEGORIES:San Diego
ATTACH;FMTTYPE=image/jpeg:https://golatindance.com/wp-content/uploads/2022/11/953f34_7bbada5d535646a68f7203006e946665mv2.jpg
END:VEVENT
BEGIN:VEVENT
DTSTART;TZID=America/Los_Angeles:20280820T173000
DTEND;TZID=America/Los_Angeles:20280820T220000
DTSTAMP:20260425T094542
CREATED:20221108T173700Z
LAST-MODIFIED:20251230T210905Z
UID:10349465-1850405400-1850421600@golatindance.com
SUMMARY:Salsa Bachata Sundays at Queen Bees
DESCRIPTION:Spice Up Your Sundays with Salsa & Bachata at Queen Bee’s!Join us every Sunday from 5:30pm-10pm for Salsa Sunday! See flyer for details.
URL:https://golatindance.com/event/salsa-bachata-sundays-at-queen-bees/2028-08-20/
LOCATION:Queen Bee’s Art and Cultural Center\, 3925 Ohio Street\, San Diego\, CA 92104\, San Diego\, CA\, 92104\, United States
CATEGORIES:San Diego
ATTACH;FMTTYPE=image/jpeg:https://golatindance.com/wp-content/uploads/2022/11/953f34_7bbada5d535646a68f7203006e946665mv2.jpg
END:VEVENT
BEGIN:VEVENT
DTSTART;TZID=America/Los_Angeles:20280827T173000
DTEND;TZID=America/Los_Angeles:20280827T220000
DTSTAMP:20260425T094542
CREATED:20221108T173700Z
LAST-MODIFIED:20251230T210905Z
UID:10349466-1851010200-1851026400@golatindance.com
SUMMARY:Salsa Bachata Sundays at Queen Bees
DESCRIPTION:Spice Up Your Sundays with Salsa & Bachata at Queen Bee’s!Join us every Sunday from 5:30pm-10pm for Salsa Sunday! See flyer for details.
URL:https://golatindance.com/event/salsa-bachata-sundays-at-queen-bees/2028-08-27/
LOCATION:Queen Bee’s Art and Cultural Center\, 3925 Ohio Street\, San Diego\, CA 92104\, San Diego\, CA\, 92104\, United States
CATEGORIES:San Diego
ATTACH;FMTTYPE=image/jpeg:https://golatindance.com/wp-content/uploads/2022/11/953f34_7bbada5d535646a68f7203006e946665mv2.jpg
END:VEVENT
BEGIN:VEVENT
DTSTART;TZID=America/Los_Angeles:20280903T173000
DTEND;TZID=America/Los_Angeles:20280903T220000
DTSTAMP:20260425T094542
CREATED:20221108T173700Z
LAST-MODIFIED:20251230T210905Z
UID:10349467-1851615000-1851631200@golatindance.com
SUMMARY:Salsa Bachata Sundays at Queen Bees
DESCRIPTION:Spice Up Your Sundays with Salsa & Bachata at Queen Bee’s!Join us every Sunday from 5:30pm-10pm for Salsa Sunday! See flyer for details.
URL:https://golatindance.com/event/salsa-bachata-sundays-at-queen-bees/2028-09-03/
LOCATION:Queen Bee’s Art and Cultural Center\, 3925 Ohio Street\, San Diego\, CA 92104\, San Diego\, CA\, 92104\, United States
CATEGORIES:San Diego
ATTACH;FMTTYPE=image/jpeg:https://golatindance.com/wp-content/uploads/2022/11/953f34_7bbada5d535646a68f7203006e946665mv2.jpg
END:VEVENT
BEGIN:VEVENT
DTSTART;TZID=America/Los_Angeles:20280910T173000
DTEND;TZID=America/Los_Angeles:20280910T220000
DTSTAMP:20260425T094542
CREATED:20221108T173700Z
LAST-MODIFIED:20251230T210905Z
UID:10349468-1852219800-1852236000@golatindance.com
SUMMARY:Salsa Bachata Sundays at Queen Bees
DESCRIPTION:Spice Up Your Sundays with Salsa & Bachata at Queen Bee’s!Join us every Sunday from 5:30pm-10pm for Salsa Sunday! See flyer for details.
URL:https://golatindance.com/event/salsa-bachata-sundays-at-queen-bees/2028-09-10/
LOCATION:Queen Bee’s Art and Cultural Center\, 3925 Ohio Street\, San Diego\, CA 92104\, San Diego\, CA\, 92104\, United States
CATEGORIES:San Diego
ATTACH;FMTTYPE=image/jpeg:https://golatindance.com/wp-content/uploads/2022/11/953f34_7bbada5d535646a68f7203006e946665mv2.jpg
END:VEVENT
BEGIN:VEVENT
DTSTART;TZID=America/Los_Angeles:20280917T173000
DTEND;TZID=America/Los_Angeles:20280917T220000
DTSTAMP:20260425T094542
CREATED:20221108T173700Z
LAST-MODIFIED:20251230T210905Z
UID:10349469-1852824600-1852840800@golatindance.com
SUMMARY:Salsa Bachata Sundays at Queen Bees
DESCRIPTION:Spice Up Your Sundays with Salsa & Bachata at Queen Bee’s!Join us every Sunday from 5:30pm-10pm for Salsa Sunday! See flyer for details.
URL:https://golatindance.com/event/salsa-bachata-sundays-at-queen-bees/2028-09-17/
LOCATION:Queen Bee’s Art and Cultural Center\, 3925 Ohio Street\, San Diego\, CA 92104\, San Diego\, CA\, 92104\, United States
CATEGORIES:San Diego
ATTACH;FMTTYPE=image/jpeg:https://golatindance.com/wp-content/uploads/2022/11/953f34_7bbada5d535646a68f7203006e946665mv2.jpg
END:VEVENT
BEGIN:VEVENT
DTSTART;TZID=America/Los_Angeles:20280924T173000
DTEND;TZID=America/Los_Angeles:20280924T220000
DTSTAMP:20260425T094542
CREATED:20221108T173700Z
LAST-MODIFIED:20251230T210905Z
UID:10349470-1853429400-1853445600@golatindance.com
SUMMARY:Salsa Bachata Sundays at Queen Bees
DESCRIPTION:Spice Up Your Sundays with Salsa & Bachata at Queen Bee’s!Join us every Sunday from 5:30pm-10pm for Salsa Sunday! See flyer for details.
URL:https://golatindance.com/event/salsa-bachata-sundays-at-queen-bees/2028-09-24/
LOCATION:Queen Bee’s Art and Cultural Center\, 3925 Ohio Street\, San Diego\, CA 92104\, San Diego\, CA\, 92104\, United States
CATEGORIES:San Diego
ATTACH;FMTTYPE=image/jpeg:https://golatindance.com/wp-content/uploads/2022/11/953f34_7bbada5d535646a68f7203006e946665mv2.jpg
END:VEVENT
BEGIN:VEVENT
DTSTART;TZID=America/Los_Angeles:20281001T173000
DTEND;TZID=America/Los_Angeles:20281001T220000
DTSTAMP:20260425T094542
CREATED:20221108T173700Z
LAST-MODIFIED:20251230T210905Z
UID:10349471-1854034200-1854050400@golatindance.com
SUMMARY:Salsa Bachata Sundays at Queen Bees
DESCRIPTION:Spice Up Your Sundays with Salsa & Bachata at Queen Bee’s!Join us every Sunday from 5:30pm-10pm for Salsa Sunday! See flyer for details.
URL:https://golatindance.com/event/salsa-bachata-sundays-at-queen-bees/2028-10-01/
LOCATION:Queen Bee’s Art and Cultural Center\, 3925 Ohio Street\, San Diego\, CA 92104\, San Diego\, CA\, 92104\, United States
CATEGORIES:San Diego
ATTACH;FMTTYPE=image/jpeg:https://golatindance.com/wp-content/uploads/2022/11/953f34_7bbada5d535646a68f7203006e946665mv2.jpg
END:VEVENT
BEGIN:VEVENT
DTSTART;TZID=America/Los_Angeles:20281008T173000
DTEND;TZID=America/Los_Angeles:20281008T220000
DTSTAMP:20260425T094542
CREATED:20221108T173700Z
LAST-MODIFIED:20251230T210905Z
UID:10349472-1854639000-1854655200@golatindance.com
SUMMARY:Salsa Bachata Sundays at Queen Bees
DESCRIPTION:Spice Up Your Sundays with Salsa & Bachata at Queen Bee’s!Join us every Sunday from 5:30pm-10pm for Salsa Sunday! See flyer for details.
URL:https://golatindance.com/event/salsa-bachata-sundays-at-queen-bees/2028-10-08/
LOCATION:Queen Bee’s Art and Cultural Center\, 3925 Ohio Street\, San Diego\, CA 92104\, San Diego\, CA\, 92104\, United States
CATEGORIES:San Diego
ATTACH;FMTTYPE=image/jpeg:https://golatindance.com/wp-content/uploads/2022/11/953f34_7bbada5d535646a68f7203006e946665mv2.jpg
END:VEVENT
BEGIN:VEVENT
DTSTART;TZID=America/Los_Angeles:20281015T173000
DTEND;TZID=America/Los_Angeles:20281015T220000
DTSTAMP:20260425T094542
CREATED:20221108T173700Z
LAST-MODIFIED:20251230T210905Z
UID:10349473-1855243800-1855260000@golatindance.com
SUMMARY:Salsa Bachata Sundays at Queen Bees
DESCRIPTION:Spice Up Your Sundays with Salsa & Bachata at Queen Bee’s!Join us every Sunday from 5:30pm-10pm for Salsa Sunday! See flyer for details.
URL:https://golatindance.com/event/salsa-bachata-sundays-at-queen-bees/2028-10-15/
LOCATION:Queen Bee’s Art and Cultural Center\, 3925 Ohio Street\, San Diego\, CA 92104\, San Diego\, CA\, 92104\, United States
CATEGORIES:San Diego
ATTACH;FMTTYPE=image/jpeg:https://golatindance.com/wp-content/uploads/2022/11/953f34_7bbada5d535646a68f7203006e946665mv2.jpg
END:VEVENT
END:VCALENDAR