BEGIN:VCALENDAR
VERSION:2.0
PRODID:-//GO Latin Dance - ECPv6.15.18//NONSGML v1.0//EN
CALSCALE:GREGORIAN
METHOD:PUBLISH
X-WR-CALNAME:GO Latin Dance
X-ORIGINAL-URL:https://golatindance.com
X-WR-CALDESC:Events for GO Latin Dance
REFRESH-INTERVAL;VALUE=DURATION:PT1H
X-Robots-Tag:noindex
X-PUBLISHED-TTL:PT1H
BEGIN:VTIMEZONE
TZID:America/Los_Angeles
BEGIN:DAYLIGHT
TZOFFSETFROM:-0800
TZOFFSETTO:-0700
TZNAME:PDT
DTSTART:20260308T100000
END:DAYLIGHT
BEGIN:STANDARD
TZOFFSETFROM:-0700
TZOFFSETTO:-0800
TZNAME:PST
DTSTART:20261101T090000
END:STANDARD
BEGIN:DAYLIGHT
TZOFFSETFROM:-0800
TZOFFSETTO:-0700
TZNAME:PDT
DTSTART:20270314T100000
END:DAYLIGHT
BEGIN:STANDARD
TZOFFSETFROM:-0700
TZOFFSETTO:-0800
TZNAME:PST
DTSTART:20271107T090000
END:STANDARD
BEGIN:DAYLIGHT
TZOFFSETFROM:-0800
TZOFFSETTO:-0700
TZNAME:PDT
DTSTART:20280312T100000
END:DAYLIGHT
BEGIN:STANDARD
TZOFFSETFROM:-0700
TZOFFSETTO:-0800
TZNAME:PST
DTSTART:20281105T090000
END:STANDARD
BEGIN:DAYLIGHT
TZOFFSETFROM:-0800
TZOFFSETTO:-0700
TZNAME:PDT
DTSTART:20290311T100000
END:DAYLIGHT
BEGIN:STANDARD
TZOFFSETFROM:-0700
TZOFFSETTO:-0800
TZNAME:PST
DTSTART:20291104T090000
END:STANDARD
END:VTIMEZONE
BEGIN:VEVENT
DTSTART;TZID=America/Los_Angeles:20271107T173000
DTEND;TZID=America/Los_Angeles:20271107T220000
DTSTAMP:20260425T070855
CREATED:20221108T173700Z
LAST-MODIFIED:20251230T210905Z
UID:10349424-1825608600-1825624800@golatindance.com
SUMMARY:Salsa Bachata Sundays at Queen Bees
DESCRIPTION:Spice Up Your Sundays with Salsa & Bachata at Queen Bee’s!Join us every Sunday from 5:30pm-10pm for Salsa Sunday! See flyer for details.
URL:https://golatindance.com/event/salsa-bachata-sundays-at-queen-bees/2027-11-07/
LOCATION:Queen Bee’s Art and Cultural Center\, 3925 Ohio Street\, San Diego\, CA 92104\, San Diego\, CA\, 92104\, United States
CATEGORIES:San Diego
ATTACH;FMTTYPE=image/jpeg:https://golatindance.com/wp-content/uploads/2022/11/953f34_7bbada5d535646a68f7203006e946665mv2.jpg
END:VEVENT
BEGIN:VEVENT
DTSTART;TZID=America/Los_Angeles:20271114T173000
DTEND;TZID=America/Los_Angeles:20271114T220000
DTSTAMP:20260425T070855
CREATED:20221108T173700Z
LAST-MODIFIED:20251230T210905Z
UID:10349425-1826213400-1826229600@golatindance.com
SUMMARY:Salsa Bachata Sundays at Queen Bees
DESCRIPTION:Spice Up Your Sundays with Salsa & Bachata at Queen Bee’s!Join us every Sunday from 5:30pm-10pm for Salsa Sunday! See flyer for details.
URL:https://golatindance.com/event/salsa-bachata-sundays-at-queen-bees/2027-11-14/
LOCATION:Queen Bee’s Art and Cultural Center\, 3925 Ohio Street\, San Diego\, CA 92104\, San Diego\, CA\, 92104\, United States
CATEGORIES:San Diego
ATTACH;FMTTYPE=image/jpeg:https://golatindance.com/wp-content/uploads/2022/11/953f34_7bbada5d535646a68f7203006e946665mv2.jpg
END:VEVENT
BEGIN:VEVENT
DTSTART;TZID=America/Los_Angeles:20271121T173000
DTEND;TZID=America/Los_Angeles:20271121T220000
DTSTAMP:20260425T070855
CREATED:20221108T173700Z
LAST-MODIFIED:20251230T210905Z
UID:10349426-1826818200-1826834400@golatindance.com
SUMMARY:Salsa Bachata Sundays at Queen Bees
DESCRIPTION:Spice Up Your Sundays with Salsa & Bachata at Queen Bee’s!Join us every Sunday from 5:30pm-10pm for Salsa Sunday! See flyer for details.
URL:https://golatindance.com/event/salsa-bachata-sundays-at-queen-bees/2027-11-21/
LOCATION:Queen Bee’s Art and Cultural Center\, 3925 Ohio Street\, San Diego\, CA 92104\, San Diego\, CA\, 92104\, United States
CATEGORIES:San Diego
ATTACH;FMTTYPE=image/jpeg:https://golatindance.com/wp-content/uploads/2022/11/953f34_7bbada5d535646a68f7203006e946665mv2.jpg
END:VEVENT
BEGIN:VEVENT
DTSTART;TZID=America/Los_Angeles:20271128T173000
DTEND;TZID=America/Los_Angeles:20271128T220000
DTSTAMP:20260425T070855
CREATED:20221108T173700Z
LAST-MODIFIED:20251230T210905Z
UID:10349427-1827423000-1827439200@golatindance.com
SUMMARY:Salsa Bachata Sundays at Queen Bees
DESCRIPTION:Spice Up Your Sundays with Salsa & Bachata at Queen Bee’s!Join us every Sunday from 5:30pm-10pm for Salsa Sunday! See flyer for details.
URL:https://golatindance.com/event/salsa-bachata-sundays-at-queen-bees/2027-11-28/
LOCATION:Queen Bee’s Art and Cultural Center\, 3925 Ohio Street\, San Diego\, CA 92104\, San Diego\, CA\, 92104\, United States
CATEGORIES:San Diego
ATTACH;FMTTYPE=image/jpeg:https://golatindance.com/wp-content/uploads/2022/11/953f34_7bbada5d535646a68f7203006e946665mv2.jpg
END:VEVENT
BEGIN:VEVENT
DTSTART;TZID=America/Los_Angeles:20271205T173000
DTEND;TZID=America/Los_Angeles:20271205T220000
DTSTAMP:20260425T070855
CREATED:20221108T173700Z
LAST-MODIFIED:20251230T210905Z
UID:10349428-1828027800-1828044000@golatindance.com
SUMMARY:Salsa Bachata Sundays at Queen Bees
DESCRIPTION:Spice Up Your Sundays with Salsa & Bachata at Queen Bee’s!Join us every Sunday from 5:30pm-10pm for Salsa Sunday! See flyer for details.
URL:https://golatindance.com/event/salsa-bachata-sundays-at-queen-bees/2027-12-05/
LOCATION:Queen Bee’s Art and Cultural Center\, 3925 Ohio Street\, San Diego\, CA 92104\, San Diego\, CA\, 92104\, United States
CATEGORIES:San Diego
ATTACH;FMTTYPE=image/jpeg:https://golatindance.com/wp-content/uploads/2022/11/953f34_7bbada5d535646a68f7203006e946665mv2.jpg
END:VEVENT
BEGIN:VEVENT
DTSTART;TZID=America/Los_Angeles:20271212T173000
DTEND;TZID=America/Los_Angeles:20271212T220000
DTSTAMP:20260425T070855
CREATED:20221108T173700Z
LAST-MODIFIED:20251230T210905Z
UID:10349429-1828632600-1828648800@golatindance.com
SUMMARY:Salsa Bachata Sundays at Queen Bees
DESCRIPTION:Spice Up Your Sundays with Salsa & Bachata at Queen Bee’s!Join us every Sunday from 5:30pm-10pm for Salsa Sunday! See flyer for details.
URL:https://golatindance.com/event/salsa-bachata-sundays-at-queen-bees/2027-12-12/
LOCATION:Queen Bee’s Art and Cultural Center\, 3925 Ohio Street\, San Diego\, CA 92104\, San Diego\, CA\, 92104\, United States
CATEGORIES:San Diego
ATTACH;FMTTYPE=image/jpeg:https://golatindance.com/wp-content/uploads/2022/11/953f34_7bbada5d535646a68f7203006e946665mv2.jpg
END:VEVENT
BEGIN:VEVENT
DTSTART;TZID=America/Los_Angeles:20271219T173000
DTEND;TZID=America/Los_Angeles:20271219T220000
DTSTAMP:20260425T070855
CREATED:20221108T173700Z
LAST-MODIFIED:20251230T210905Z
UID:10349430-1829237400-1829253600@golatindance.com
SUMMARY:Salsa Bachata Sundays at Queen Bees
DESCRIPTION:Spice Up Your Sundays with Salsa & Bachata at Queen Bee’s!Join us every Sunday from 5:30pm-10pm for Salsa Sunday! See flyer for details.
URL:https://golatindance.com/event/salsa-bachata-sundays-at-queen-bees/2027-12-19/
LOCATION:Queen Bee’s Art and Cultural Center\, 3925 Ohio Street\, San Diego\, CA 92104\, San Diego\, CA\, 92104\, United States
CATEGORIES:San Diego
ATTACH;FMTTYPE=image/jpeg:https://golatindance.com/wp-content/uploads/2022/11/953f34_7bbada5d535646a68f7203006e946665mv2.jpg
END:VEVENT
BEGIN:VEVENT
DTSTART;TZID=America/Los_Angeles:20271226T173000
DTEND;TZID=America/Los_Angeles:20271226T220000
DTSTAMP:20260425T070855
CREATED:20221108T173700Z
LAST-MODIFIED:20251230T210905Z
UID:10349431-1829842200-1829858400@golatindance.com
SUMMARY:Salsa Bachata Sundays at Queen Bees
DESCRIPTION:Spice Up Your Sundays with Salsa & Bachata at Queen Bee’s!Join us every Sunday from 5:30pm-10pm for Salsa Sunday! See flyer for details.
URL:https://golatindance.com/event/salsa-bachata-sundays-at-queen-bees/2027-12-26/
LOCATION:Queen Bee’s Art and Cultural Center\, 3925 Ohio Street\, San Diego\, CA 92104\, San Diego\, CA\, 92104\, United States
CATEGORIES:San Diego
ATTACH;FMTTYPE=image/jpeg:https://golatindance.com/wp-content/uploads/2022/11/953f34_7bbada5d535646a68f7203006e946665mv2.jpg
END:VEVENT
BEGIN:VEVENT
DTSTART;TZID=America/Los_Angeles:20280102T173000
DTEND;TZID=America/Los_Angeles:20280102T220000
DTSTAMP:20260425T070855
CREATED:20221108T173700Z
LAST-MODIFIED:20251230T210905Z
UID:10349432-1830447000-1830463200@golatindance.com
SUMMARY:Salsa Bachata Sundays at Queen Bees
DESCRIPTION:Spice Up Your Sundays with Salsa & Bachata at Queen Bee’s!Join us every Sunday from 5:30pm-10pm for Salsa Sunday! See flyer for details.
URL:https://golatindance.com/event/salsa-bachata-sundays-at-queen-bees/2028-01-02/
LOCATION:Queen Bee’s Art and Cultural Center\, 3925 Ohio Street\, San Diego\, CA 92104\, San Diego\, CA\, 92104\, United States
CATEGORIES:San Diego
ATTACH;FMTTYPE=image/jpeg:https://golatindance.com/wp-content/uploads/2022/11/953f34_7bbada5d535646a68f7203006e946665mv2.jpg
END:VEVENT
BEGIN:VEVENT
DTSTART;TZID=America/Los_Angeles:20280109T173000
DTEND;TZID=America/Los_Angeles:20280109T220000
DTSTAMP:20260425T070855
CREATED:20221108T173700Z
LAST-MODIFIED:20251230T210905Z
UID:10349433-1831051800-1831068000@golatindance.com
SUMMARY:Salsa Bachata Sundays at Queen Bees
DESCRIPTION:Spice Up Your Sundays with Salsa & Bachata at Queen Bee’s!Join us every Sunday from 5:30pm-10pm for Salsa Sunday! See flyer for details.
URL:https://golatindance.com/event/salsa-bachata-sundays-at-queen-bees/2028-01-09/
LOCATION:Queen Bee’s Art and Cultural Center\, 3925 Ohio Street\, San Diego\, CA 92104\, San Diego\, CA\, 92104\, United States
CATEGORIES:San Diego
ATTACH;FMTTYPE=image/jpeg:https://golatindance.com/wp-content/uploads/2022/11/953f34_7bbada5d535646a68f7203006e946665mv2.jpg
END:VEVENT
BEGIN:VEVENT
DTSTART;TZID=America/Los_Angeles:20280116T173000
DTEND;TZID=America/Los_Angeles:20280116T220000
DTSTAMP:20260425T070855
CREATED:20221108T173700Z
LAST-MODIFIED:20251230T210905Z
UID:10349434-1831656600-1831672800@golatindance.com
SUMMARY:Salsa Bachata Sundays at Queen Bees
DESCRIPTION:Spice Up Your Sundays with Salsa & Bachata at Queen Bee’s!Join us every Sunday from 5:30pm-10pm for Salsa Sunday! See flyer for details.
URL:https://golatindance.com/event/salsa-bachata-sundays-at-queen-bees/2028-01-16/
LOCATION:Queen Bee’s Art and Cultural Center\, 3925 Ohio Street\, San Diego\, CA 92104\, San Diego\, CA\, 92104\, United States
CATEGORIES:San Diego
ATTACH;FMTTYPE=image/jpeg:https://golatindance.com/wp-content/uploads/2022/11/953f34_7bbada5d535646a68f7203006e946665mv2.jpg
END:VEVENT
BEGIN:VEVENT
DTSTART;TZID=America/Los_Angeles:20280123T173000
DTEND;TZID=America/Los_Angeles:20280123T220000
DTSTAMP:20260425T070855
CREATED:20221108T173700Z
LAST-MODIFIED:20251230T210905Z
UID:10349435-1832261400-1832277600@golatindance.com
SUMMARY:Salsa Bachata Sundays at Queen Bees
DESCRIPTION:Spice Up Your Sundays with Salsa & Bachata at Queen Bee’s!Join us every Sunday from 5:30pm-10pm for Salsa Sunday! See flyer for details.
URL:https://golatindance.com/event/salsa-bachata-sundays-at-queen-bees/2028-01-23/
LOCATION:Queen Bee’s Art and Cultural Center\, 3925 Ohio Street\, San Diego\, CA 92104\, San Diego\, CA\, 92104\, United States
CATEGORIES:San Diego
ATTACH;FMTTYPE=image/jpeg:https://golatindance.com/wp-content/uploads/2022/11/953f34_7bbada5d535646a68f7203006e946665mv2.jpg
END:VEVENT
BEGIN:VEVENT
DTSTART;TZID=America/Los_Angeles:20280130T173000
DTEND;TZID=America/Los_Angeles:20280130T220000
DTSTAMP:20260425T070855
CREATED:20221108T173700Z
LAST-MODIFIED:20251230T210905Z
UID:10349436-1832866200-1832882400@golatindance.com
SUMMARY:Salsa Bachata Sundays at Queen Bees
DESCRIPTION:Spice Up Your Sundays with Salsa & Bachata at Queen Bee’s!Join us every Sunday from 5:30pm-10pm for Salsa Sunday! See flyer for details.
URL:https://golatindance.com/event/salsa-bachata-sundays-at-queen-bees/2028-01-30/
LOCATION:Queen Bee’s Art and Cultural Center\, 3925 Ohio Street\, San Diego\, CA 92104\, San Diego\, CA\, 92104\, United States
CATEGORIES:San Diego
ATTACH;FMTTYPE=image/jpeg:https://golatindance.com/wp-content/uploads/2022/11/953f34_7bbada5d535646a68f7203006e946665mv2.jpg
END:VEVENT
BEGIN:VEVENT
DTSTART;TZID=America/Los_Angeles:20280206T173000
DTEND;TZID=America/Los_Angeles:20280206T220000
DTSTAMP:20260425T070855
CREATED:20221108T173700Z
LAST-MODIFIED:20251230T210905Z
UID:10349437-1833471000-1833487200@golatindance.com
SUMMARY:Salsa Bachata Sundays at Queen Bees
DESCRIPTION:Spice Up Your Sundays with Salsa & Bachata at Queen Bee’s!Join us every Sunday from 5:30pm-10pm for Salsa Sunday! See flyer for details.
URL:https://golatindance.com/event/salsa-bachata-sundays-at-queen-bees/2028-02-06/
LOCATION:Queen Bee’s Art and Cultural Center\, 3925 Ohio Street\, San Diego\, CA 92104\, San Diego\, CA\, 92104\, United States
CATEGORIES:San Diego
ATTACH;FMTTYPE=image/jpeg:https://golatindance.com/wp-content/uploads/2022/11/953f34_7bbada5d535646a68f7203006e946665mv2.jpg
END:VEVENT
BEGIN:VEVENT
DTSTART;TZID=America/Los_Angeles:20280213T173000
DTEND;TZID=America/Los_Angeles:20280213T220000
DTSTAMP:20260425T070855
CREATED:20221108T173700Z
LAST-MODIFIED:20251230T210905Z
UID:10349438-1834075800-1834092000@golatindance.com
SUMMARY:Salsa Bachata Sundays at Queen Bees
DESCRIPTION:Spice Up Your Sundays with Salsa & Bachata at Queen Bee’s!Join us every Sunday from 5:30pm-10pm for Salsa Sunday! See flyer for details.
URL:https://golatindance.com/event/salsa-bachata-sundays-at-queen-bees/2028-02-13/
LOCATION:Queen Bee’s Art and Cultural Center\, 3925 Ohio Street\, San Diego\, CA 92104\, San Diego\, CA\, 92104\, United States
CATEGORIES:San Diego
ATTACH;FMTTYPE=image/jpeg:https://golatindance.com/wp-content/uploads/2022/11/953f34_7bbada5d535646a68f7203006e946665mv2.jpg
END:VEVENT
BEGIN:VEVENT
DTSTART;TZID=America/Los_Angeles:20280220T173000
DTEND;TZID=America/Los_Angeles:20280220T220000
DTSTAMP:20260425T070855
CREATED:20221108T173700Z
LAST-MODIFIED:20251230T210905Z
UID:10349439-1834680600-1834696800@golatindance.com
SUMMARY:Salsa Bachata Sundays at Queen Bees
DESCRIPTION:Spice Up Your Sundays with Salsa & Bachata at Queen Bee’s!Join us every Sunday from 5:30pm-10pm for Salsa Sunday! See flyer for details.
URL:https://golatindance.com/event/salsa-bachata-sundays-at-queen-bees/2028-02-20/
LOCATION:Queen Bee’s Art and Cultural Center\, 3925 Ohio Street\, San Diego\, CA 92104\, San Diego\, CA\, 92104\, United States
CATEGORIES:San Diego
ATTACH;FMTTYPE=image/jpeg:https://golatindance.com/wp-content/uploads/2022/11/953f34_7bbada5d535646a68f7203006e946665mv2.jpg
END:VEVENT
BEGIN:VEVENT
DTSTART;TZID=America/Los_Angeles:20280227T173000
DTEND;TZID=America/Los_Angeles:20280227T220000
DTSTAMP:20260425T070855
CREATED:20221108T173700Z
LAST-MODIFIED:20251230T210905Z
UID:10349440-1835285400-1835301600@golatindance.com
SUMMARY:Salsa Bachata Sundays at Queen Bees
DESCRIPTION:Spice Up Your Sundays with Salsa & Bachata at Queen Bee’s!Join us every Sunday from 5:30pm-10pm for Salsa Sunday! See flyer for details.
URL:https://golatindance.com/event/salsa-bachata-sundays-at-queen-bees/2028-02-27/
LOCATION:Queen Bee’s Art and Cultural Center\, 3925 Ohio Street\, San Diego\, CA 92104\, San Diego\, CA\, 92104\, United States
CATEGORIES:San Diego
ATTACH;FMTTYPE=image/jpeg:https://golatindance.com/wp-content/uploads/2022/11/953f34_7bbada5d535646a68f7203006e946665mv2.jpg
END:VEVENT
BEGIN:VEVENT
DTSTART;TZID=America/Los_Angeles:20280305T173000
DTEND;TZID=America/Los_Angeles:20280305T220000
DTSTAMP:20260425T070855
CREATED:20221108T173700Z
LAST-MODIFIED:20251230T210905Z
UID:10349441-1835890200-1835906400@golatindance.com
SUMMARY:Salsa Bachata Sundays at Queen Bees
DESCRIPTION:Spice Up Your Sundays with Salsa & Bachata at Queen Bee’s!Join us every Sunday from 5:30pm-10pm for Salsa Sunday! See flyer for details.
URL:https://golatindance.com/event/salsa-bachata-sundays-at-queen-bees/2028-03-05/
LOCATION:Queen Bee’s Art and Cultural Center\, 3925 Ohio Street\, San Diego\, CA 92104\, San Diego\, CA\, 92104\, United States
CATEGORIES:San Diego
ATTACH;FMTTYPE=image/jpeg:https://golatindance.com/wp-content/uploads/2022/11/953f34_7bbada5d535646a68f7203006e946665mv2.jpg
END:VEVENT
BEGIN:VEVENT
DTSTART;TZID=America/Los_Angeles:20280312T173000
DTEND;TZID=America/Los_Angeles:20280312T220000
DTSTAMP:20260425T070855
CREATED:20221108T173700Z
LAST-MODIFIED:20251230T210905Z
UID:10349442-1836495000-1836511200@golatindance.com
SUMMARY:Salsa Bachata Sundays at Queen Bees
DESCRIPTION:Spice Up Your Sundays with Salsa & Bachata at Queen Bee’s!Join us every Sunday from 5:30pm-10pm for Salsa Sunday! See flyer for details.
URL:https://golatindance.com/event/salsa-bachata-sundays-at-queen-bees/2028-03-12/
LOCATION:Queen Bee’s Art and Cultural Center\, 3925 Ohio Street\, San Diego\, CA 92104\, San Diego\, CA\, 92104\, United States
CATEGORIES:San Diego
ATTACH;FMTTYPE=image/jpeg:https://golatindance.com/wp-content/uploads/2022/11/953f34_7bbada5d535646a68f7203006e946665mv2.jpg
END:VEVENT
BEGIN:VEVENT
DTSTART;TZID=America/Los_Angeles:20280319T173000
DTEND;TZID=America/Los_Angeles:20280319T220000
DTSTAMP:20260425T070855
CREATED:20221108T173700Z
LAST-MODIFIED:20251230T210905Z
UID:10349443-1837099800-1837116000@golatindance.com
SUMMARY:Salsa Bachata Sundays at Queen Bees
DESCRIPTION:Spice Up Your Sundays with Salsa & Bachata at Queen Bee’s!Join us every Sunday from 5:30pm-10pm for Salsa Sunday! See flyer for details.
URL:https://golatindance.com/event/salsa-bachata-sundays-at-queen-bees/2028-03-19/
LOCATION:Queen Bee’s Art and Cultural Center\, 3925 Ohio Street\, San Diego\, CA 92104\, San Diego\, CA\, 92104\, United States
CATEGORIES:San Diego
ATTACH;FMTTYPE=image/jpeg:https://golatindance.com/wp-content/uploads/2022/11/953f34_7bbada5d535646a68f7203006e946665mv2.jpg
END:VEVENT
BEGIN:VEVENT
DTSTART;TZID=America/Los_Angeles:20280326T173000
DTEND;TZID=America/Los_Angeles:20280326T220000
DTSTAMP:20260425T070855
CREATED:20221108T173700Z
LAST-MODIFIED:20251230T210905Z
UID:10349444-1837704600-1837720800@golatindance.com
SUMMARY:Salsa Bachata Sundays at Queen Bees
DESCRIPTION:Spice Up Your Sundays with Salsa & Bachata at Queen Bee’s!Join us every Sunday from 5:30pm-10pm for Salsa Sunday! See flyer for details.
URL:https://golatindance.com/event/salsa-bachata-sundays-at-queen-bees/2028-03-26/
LOCATION:Queen Bee’s Art and Cultural Center\, 3925 Ohio Street\, San Diego\, CA 92104\, San Diego\, CA\, 92104\, United States
CATEGORIES:San Diego
ATTACH;FMTTYPE=image/jpeg:https://golatindance.com/wp-content/uploads/2022/11/953f34_7bbada5d535646a68f7203006e946665mv2.jpg
END:VEVENT
BEGIN:VEVENT
DTSTART;TZID=America/Los_Angeles:20280402T173000
DTEND;TZID=America/Los_Angeles:20280402T220000
DTSTAMP:20260425T070855
CREATED:20221108T173700Z
LAST-MODIFIED:20251230T210905Z
UID:10349445-1838309400-1838325600@golatindance.com
SUMMARY:Salsa Bachata Sundays at Queen Bees
DESCRIPTION:Spice Up Your Sundays with Salsa & Bachata at Queen Bee’s!Join us every Sunday from 5:30pm-10pm for Salsa Sunday! See flyer for details.
URL:https://golatindance.com/event/salsa-bachata-sundays-at-queen-bees/2028-04-02/
LOCATION:Queen Bee’s Art and Cultural Center\, 3925 Ohio Street\, San Diego\, CA 92104\, San Diego\, CA\, 92104\, United States
CATEGORIES:San Diego
ATTACH;FMTTYPE=image/jpeg:https://golatindance.com/wp-content/uploads/2022/11/953f34_7bbada5d535646a68f7203006e946665mv2.jpg
END:VEVENT
BEGIN:VEVENT
DTSTART;TZID=America/Los_Angeles:20280409T173000
DTEND;TZID=America/Los_Angeles:20280409T220000
DTSTAMP:20260425T070855
CREATED:20221108T173700Z
LAST-MODIFIED:20251230T210905Z
UID:10349446-1838914200-1838930400@golatindance.com
SUMMARY:Salsa Bachata Sundays at Queen Bees
DESCRIPTION:Spice Up Your Sundays with Salsa & Bachata at Queen Bee’s!Join us every Sunday from 5:30pm-10pm for Salsa Sunday! See flyer for details.
URL:https://golatindance.com/event/salsa-bachata-sundays-at-queen-bees/2028-04-09/
LOCATION:Queen Bee’s Art and Cultural Center\, 3925 Ohio Street\, San Diego\, CA 92104\, San Diego\, CA\, 92104\, United States
CATEGORIES:San Diego
ATTACH;FMTTYPE=image/jpeg:https://golatindance.com/wp-content/uploads/2022/11/953f34_7bbada5d535646a68f7203006e946665mv2.jpg
END:VEVENT
BEGIN:VEVENT
DTSTART;TZID=America/Los_Angeles:20280416T173000
DTEND;TZID=America/Los_Angeles:20280416T220000
DTSTAMP:20260425T070855
CREATED:20221108T173700Z
LAST-MODIFIED:20251230T210905Z
UID:10349447-1839519000-1839535200@golatindance.com
SUMMARY:Salsa Bachata Sundays at Queen Bees
DESCRIPTION:Spice Up Your Sundays with Salsa & Bachata at Queen Bee’s!Join us every Sunday from 5:30pm-10pm for Salsa Sunday! See flyer for details.
URL:https://golatindance.com/event/salsa-bachata-sundays-at-queen-bees/2028-04-16/
LOCATION:Queen Bee’s Art and Cultural Center\, 3925 Ohio Street\, San Diego\, CA 92104\, San Diego\, CA\, 92104\, United States
CATEGORIES:San Diego
ATTACH;FMTTYPE=image/jpeg:https://golatindance.com/wp-content/uploads/2022/11/953f34_7bbada5d535646a68f7203006e946665mv2.jpg
END:VEVENT
BEGIN:VEVENT
DTSTART;TZID=America/Los_Angeles:20280423T173000
DTEND;TZID=America/Los_Angeles:20280423T220000
DTSTAMP:20260425T070855
CREATED:20221108T173700Z
LAST-MODIFIED:20251230T210905Z
UID:10349448-1840123800-1840140000@golatindance.com
SUMMARY:Salsa Bachata Sundays at Queen Bees
DESCRIPTION:Spice Up Your Sundays with Salsa & Bachata at Queen Bee’s!Join us every Sunday from 5:30pm-10pm for Salsa Sunday! See flyer for details.
URL:https://golatindance.com/event/salsa-bachata-sundays-at-queen-bees/2028-04-23/
LOCATION:Queen Bee’s Art and Cultural Center\, 3925 Ohio Street\, San Diego\, CA 92104\, San Diego\, CA\, 92104\, United States
CATEGORIES:San Diego
ATTACH;FMTTYPE=image/jpeg:https://golatindance.com/wp-content/uploads/2022/11/953f34_7bbada5d535646a68f7203006e946665mv2.jpg
END:VEVENT
BEGIN:VEVENT
DTSTART;TZID=America/Los_Angeles:20280430T173000
DTEND;TZID=America/Los_Angeles:20280430T220000
DTSTAMP:20260425T070855
CREATED:20221108T173700Z
LAST-MODIFIED:20251230T210905Z
UID:10349449-1840728600-1840744800@golatindance.com
SUMMARY:Salsa Bachata Sundays at Queen Bees
DESCRIPTION:Spice Up Your Sundays with Salsa & Bachata at Queen Bee’s!Join us every Sunday from 5:30pm-10pm for Salsa Sunday! See flyer for details.
URL:https://golatindance.com/event/salsa-bachata-sundays-at-queen-bees/2028-04-30/
LOCATION:Queen Bee’s Art and Cultural Center\, 3925 Ohio Street\, San Diego\, CA 92104\, San Diego\, CA\, 92104\, United States
CATEGORIES:San Diego
ATTACH;FMTTYPE=image/jpeg:https://golatindance.com/wp-content/uploads/2022/11/953f34_7bbada5d535646a68f7203006e946665mv2.jpg
END:VEVENT
BEGIN:VEVENT
DTSTART;TZID=America/Los_Angeles:20280507T173000
DTEND;TZID=America/Los_Angeles:20280507T220000
DTSTAMP:20260425T070855
CREATED:20221108T173700Z
LAST-MODIFIED:20251230T210905Z
UID:10349450-1841333400-1841349600@golatindance.com
SUMMARY:Salsa Bachata Sundays at Queen Bees
DESCRIPTION:Spice Up Your Sundays with Salsa & Bachata at Queen Bee’s!Join us every Sunday from 5:30pm-10pm for Salsa Sunday! See flyer for details.
URL:https://golatindance.com/event/salsa-bachata-sundays-at-queen-bees/2028-05-07/
LOCATION:Queen Bee’s Art and Cultural Center\, 3925 Ohio Street\, San Diego\, CA 92104\, San Diego\, CA\, 92104\, United States
CATEGORIES:San Diego
ATTACH;FMTTYPE=image/jpeg:https://golatindance.com/wp-content/uploads/2022/11/953f34_7bbada5d535646a68f7203006e946665mv2.jpg
END:VEVENT
BEGIN:VEVENT
DTSTART;TZID=America/Los_Angeles:20280514T173000
DTEND;TZID=America/Los_Angeles:20280514T220000
DTSTAMP:20260425T070855
CREATED:20221108T173700Z
LAST-MODIFIED:20251230T210905Z
UID:10349451-1841938200-1841954400@golatindance.com
SUMMARY:Salsa Bachata Sundays at Queen Bees
DESCRIPTION:Spice Up Your Sundays with Salsa & Bachata at Queen Bee’s!Join us every Sunday from 5:30pm-10pm for Salsa Sunday! See flyer for details.
URL:https://golatindance.com/event/salsa-bachata-sundays-at-queen-bees/2028-05-14/
LOCATION:Queen Bee’s Art and Cultural Center\, 3925 Ohio Street\, San Diego\, CA 92104\, San Diego\, CA\, 92104\, United States
CATEGORIES:San Diego
ATTACH;FMTTYPE=image/jpeg:https://golatindance.com/wp-content/uploads/2022/11/953f34_7bbada5d535646a68f7203006e946665mv2.jpg
END:VEVENT
BEGIN:VEVENT
DTSTART;TZID=America/Los_Angeles:20280521T173000
DTEND;TZID=America/Los_Angeles:20280521T220000
DTSTAMP:20260425T070855
CREATED:20221108T173700Z
LAST-MODIFIED:20251230T210905Z
UID:10349452-1842543000-1842559200@golatindance.com
SUMMARY:Salsa Bachata Sundays at Queen Bees
DESCRIPTION:Spice Up Your Sundays with Salsa & Bachata at Queen Bee’s!Join us every Sunday from 5:30pm-10pm for Salsa Sunday! See flyer for details.
URL:https://golatindance.com/event/salsa-bachata-sundays-at-queen-bees/2028-05-21/
LOCATION:Queen Bee’s Art and Cultural Center\, 3925 Ohio Street\, San Diego\, CA 92104\, San Diego\, CA\, 92104\, United States
CATEGORIES:San Diego
ATTACH;FMTTYPE=image/jpeg:https://golatindance.com/wp-content/uploads/2022/11/953f34_7bbada5d535646a68f7203006e946665mv2.jpg
END:VEVENT
BEGIN:VEVENT
DTSTART;TZID=America/Los_Angeles:20280528T173000
DTEND;TZID=America/Los_Angeles:20280528T220000
DTSTAMP:20260425T070855
CREATED:20221108T173700Z
LAST-MODIFIED:20251230T210905Z
UID:10349453-1843147800-1843164000@golatindance.com
SUMMARY:Salsa Bachata Sundays at Queen Bees
DESCRIPTION:Spice Up Your Sundays with Salsa & Bachata at Queen Bee’s!Join us every Sunday from 5:30pm-10pm for Salsa Sunday! See flyer for details.
URL:https://golatindance.com/event/salsa-bachata-sundays-at-queen-bees/2028-05-28/
LOCATION:Queen Bee’s Art and Cultural Center\, 3925 Ohio Street\, San Diego\, CA 92104\, San Diego\, CA\, 92104\, United States
CATEGORIES:San Diego
ATTACH;FMTTYPE=image/jpeg:https://golatindance.com/wp-content/uploads/2022/11/953f34_7bbada5d535646a68f7203006e946665mv2.jpg
END:VEVENT
END:VCALENDAR