BEGIN:VCALENDAR
VERSION:2.0
PRODID:-//GO Latin Dance - ECPv6.15.18//NONSGML v1.0//EN
CALSCALE:GREGORIAN
METHOD:PUBLISH
X-WR-CALNAME:GO Latin Dance
X-ORIGINAL-URL:https://golatindance.com
X-WR-CALDESC:Events for GO Latin Dance
REFRESH-INTERVAL;VALUE=DURATION:PT1H
X-Robots-Tag:noindex
X-PUBLISHED-TTL:PT1H
BEGIN:VTIMEZONE
TZID:America/Los_Angeles
BEGIN:DAYLIGHT
TZOFFSETFROM:-0800
TZOFFSETTO:-0700
TZNAME:PDT
DTSTART:20250309T100000
END:DAYLIGHT
BEGIN:STANDARD
TZOFFSETFROM:-0700
TZOFFSETTO:-0800
TZNAME:PST
DTSTART:20251102T090000
END:STANDARD
BEGIN:DAYLIGHT
TZOFFSETFROM:-0800
TZOFFSETTO:-0700
TZNAME:PDT
DTSTART:20260308T100000
END:DAYLIGHT
BEGIN:STANDARD
TZOFFSETFROM:-0700
TZOFFSETTO:-0800
TZNAME:PST
DTSTART:20261101T090000
END:STANDARD
BEGIN:DAYLIGHT
TZOFFSETFROM:-0800
TZOFFSETTO:-0700
TZNAME:PDT
DTSTART:20270314T100000
END:DAYLIGHT
BEGIN:STANDARD
TZOFFSETFROM:-0700
TZOFFSETTO:-0800
TZNAME:PST
DTSTART:20271107T090000
END:STANDARD
END:VTIMEZONE
BEGIN:VEVENT
DTSTART;TZID=America/Los_Angeles:20260417T190000
DTEND;TZID=America/Los_Angeles:20260417T223000
DTSTAMP:20260424T184931
CREATED:20260328T155923Z
LAST-MODIFIED:20260328T155923Z
UID:10450208-1776452400-1776465000@golatindance.com
SUMMARY:Queer Salsa Social: ¡Qué Dulce Ritmo!
DESCRIPTION:Come learn Salsa musicality with a very talented dancer and knowledgeable instructor visiting us all the way from LA! In this workshop\, you’ll explore clave patterns and learn how to hear and interpret them in Salsa songs. \nAfter the class\, stay for a Beginner-friendly Salsa & Bachata social and practice what you’ve learned on the dance floor. \nVisit queerlatindance.com to RSVP. \nThis is a queer-friendly event organized by Queer Latin Dance SD. First-time attendees must read our Code of Conduct. 💖 \nWhat to Wear:\nCome as you are and wear whatever you feel comfortable in! Latin dance shoes are recommended. \nWhat to Bring:\nRefreshments and treats will be provided. You’re also welcome (but not required) to bring food or snacks to share. Healthy options are appreciated. \nCost:\n$20 Early Bird ends April 5th\n$25 Includes class\, social dancing\, DJ\, and more. \nLevel:\nBeginner-friendly Salsa & Bachata social. \nRefund Policy:\nAll sales are final. No refunds or exchanges at this time.
URL:https://golatindance.com/event/queer-salsa-social-que-dulce-ritmo/
LOCATION:Studio K Dance and Fitness\, 9340 Clairemont Mesa Blvd\, Ste F\, San Diego\, CA\, 92123\, United States
CATEGORIES:San Diego
ATTACH;FMTTYPE=image/png:https://golatindance.com/wp-content/uploads/2026/03/1-scaled.png
ORGANIZER;CN="Queer Latin Dance SD":MAILTO:queerlatindancesd@gmail.com
END:VEVENT
END:VCALENDAR