BEGIN:VCALENDAR
VERSION:2.0
PRODID:-//GO Latin Dance - ECPv6.15.18//NONSGML v1.0//EN
CALSCALE:GREGORIAN
METHOD:PUBLISH
X-ORIGINAL-URL:https://golatindance.com
X-WR-CALDESC:Events for GO Latin Dance
REFRESH-INTERVAL;VALUE=DURATION:PT1H
X-Robots-Tag:noindex
X-PUBLISHED-TTL:PT1H
BEGIN:VTIMEZONE
TZID:America/New_York
BEGIN:DAYLIGHT
TZOFFSETFROM:-0500
TZOFFSETTO:-0400
TZNAME:EDT
DTSTART:20290311T070000
END:DAYLIGHT
BEGIN:STANDARD
TZOFFSETFROM:-0400
TZOFFSETTO:-0500
TZNAME:EST
DTSTART:20291104T060000
END:STANDARD
BEGIN:DAYLIGHT
TZOFFSETFROM:-0500
TZOFFSETTO:-0400
TZNAME:EDT
DTSTART:20300310T070000
END:DAYLIGHT
BEGIN:STANDARD
TZOFFSETFROM:-0400
TZOFFSETTO:-0500
TZNAME:EST
DTSTART:20301103T060000
END:STANDARD
BEGIN:DAYLIGHT
TZOFFSETFROM:-0500
TZOFFSETTO:-0400
TZNAME:EDT
DTSTART:20310309T070000
END:DAYLIGHT
BEGIN:STANDARD
TZOFFSETFROM:-0400
TZOFFSETTO:-0500
TZNAME:EST
DTSTART:20311102T060000
END:STANDARD
END:VTIMEZONE
BEGIN:VEVENT
DTSTART;TZID=America/New_York:20301203T220000
DTEND;TZID=America/New_York:20301203T220000
DTSTAMP:20260425T165855
CREATED:20260105T220401Z
LAST-MODIFIED:20260105T220401Z
UID:10429202-1922565600-1922565600@golatindance.com
SUMMARY:Salsa Night at The Robinson
DESCRIPTION:Free beginners salsa class tonight at 10pm at The Robinson Cafe & Cocktail Lounge as we have our Salsa Night! We are gonna play Salsa \, Bachata\, & Cha-cha all night with DJ Mambo tribe!!!! We hope to see you all on the dance floor tonight!!!! FREE COVER and 21 & up!!!
URL:https://golatindance.com/event/salsa-night-at-the-robinson/2030-12-03/
LOCATION:The Robinson Cafe & Cocktail Lounge\, 63 E Pine St\, Orlando\, FL\, 32801\, United States
CATEGORIES:Orlando
ATTACH;FMTTYPE=image/jpeg:https://golatindance.com/wp-content/uploads/2026/01/498640796_10235426951521801_7638622974937812383_n.jpg
GEO:28.5414527;-81.377741
X-APPLE-STRUCTURED-LOCATION;VALUE=URI;X-ADDRESS=The Robinson Cafe & Cocktail Lounge 63 E Pine St Orlando FL 32801 United States;X-APPLE-RADIUS=500;X-TITLE=63 E Pine St:geo:-81.377741,28.5414527
END:VEVENT
BEGIN:VEVENT
DTSTART;TZID=America/New_York:20301210T220000
DTEND;TZID=America/New_York:20301210T220000
DTSTAMP:20260425T165855
CREATED:20260105T220401Z
LAST-MODIFIED:20260105T220401Z
UID:10429203-1923170400-1923170400@golatindance.com
SUMMARY:Salsa Night at The Robinson
DESCRIPTION:Free beginners salsa class tonight at 10pm at The Robinson Cafe & Cocktail Lounge as we have our Salsa Night! We are gonna play Salsa \, Bachata\, & Cha-cha all night with DJ Mambo tribe!!!! We hope to see you all on the dance floor tonight!!!! FREE COVER and 21 & up!!!
URL:https://golatindance.com/event/salsa-night-at-the-robinson/2030-12-10/
LOCATION:The Robinson Cafe & Cocktail Lounge\, 63 E Pine St\, Orlando\, FL\, 32801\, United States
CATEGORIES:Orlando
ATTACH;FMTTYPE=image/jpeg:https://golatindance.com/wp-content/uploads/2026/01/498640796_10235426951521801_7638622974937812383_n.jpg
GEO:28.5414527;-81.377741
X-APPLE-STRUCTURED-LOCATION;VALUE=URI;X-ADDRESS=The Robinson Cafe & Cocktail Lounge 63 E Pine St Orlando FL 32801 United States;X-APPLE-RADIUS=500;X-TITLE=63 E Pine St:geo:-81.377741,28.5414527
END:VEVENT
BEGIN:VEVENT
DTSTART;TZID=America/New_York:20301217T220000
DTEND;TZID=America/New_York:20301217T220000
DTSTAMP:20260425T165855
CREATED:20260105T220401Z
LAST-MODIFIED:20260105T220401Z
UID:10429204-1923775200-1923775200@golatindance.com
SUMMARY:Salsa Night at The Robinson
DESCRIPTION:Free beginners salsa class tonight at 10pm at The Robinson Cafe & Cocktail Lounge as we have our Salsa Night! We are gonna play Salsa \, Bachata\, & Cha-cha all night with DJ Mambo tribe!!!! We hope to see you all on the dance floor tonight!!!! FREE COVER and 21 & up!!!
URL:https://golatindance.com/event/salsa-night-at-the-robinson/2030-12-17/
LOCATION:The Robinson Cafe & Cocktail Lounge\, 63 E Pine St\, Orlando\, FL\, 32801\, United States
CATEGORIES:Orlando
ATTACH;FMTTYPE=image/jpeg:https://golatindance.com/wp-content/uploads/2026/01/498640796_10235426951521801_7638622974937812383_n.jpg
GEO:28.5414527;-81.377741
X-APPLE-STRUCTURED-LOCATION;VALUE=URI;X-ADDRESS=The Robinson Cafe & Cocktail Lounge 63 E Pine St Orlando FL 32801 United States;X-APPLE-RADIUS=500;X-TITLE=63 E Pine St:geo:-81.377741,28.5414527
END:VEVENT
BEGIN:VEVENT
DTSTART;TZID=America/New_York:20301224T220000
DTEND;TZID=America/New_York:20301224T220000
DTSTAMP:20260425T165855
CREATED:20260105T220401Z
LAST-MODIFIED:20260105T220401Z
UID:10429205-1924380000-1924380000@golatindance.com
SUMMARY:Salsa Night at The Robinson
DESCRIPTION:Free beginners salsa class tonight at 10pm at The Robinson Cafe & Cocktail Lounge as we have our Salsa Night! We are gonna play Salsa \, Bachata\, & Cha-cha all night with DJ Mambo tribe!!!! We hope to see you all on the dance floor tonight!!!! FREE COVER and 21 & up!!!
URL:https://golatindance.com/event/salsa-night-at-the-robinson/2030-12-24/
LOCATION:The Robinson Cafe & Cocktail Lounge\, 63 E Pine St\, Orlando\, FL\, 32801\, United States
CATEGORIES:Orlando
ATTACH;FMTTYPE=image/jpeg:https://golatindance.com/wp-content/uploads/2026/01/498640796_10235426951521801_7638622974937812383_n.jpg
GEO:28.5414527;-81.377741
X-APPLE-STRUCTURED-LOCATION;VALUE=URI;X-ADDRESS=The Robinson Cafe & Cocktail Lounge 63 E Pine St Orlando FL 32801 United States;X-APPLE-RADIUS=500;X-TITLE=63 E Pine St:geo:-81.377741,28.5414527
END:VEVENT
BEGIN:VEVENT
DTSTART;TZID=America/New_York:20301231T220000
DTEND;TZID=America/New_York:20301231T220000
DTSTAMP:20260425T165855
CREATED:20260105T220401Z
LAST-MODIFIED:20260105T220401Z
UID:10429206-1924984800-1924984800@golatindance.com
SUMMARY:Salsa Night at The Robinson
DESCRIPTION:Free beginners salsa class tonight at 10pm at The Robinson Cafe & Cocktail Lounge as we have our Salsa Night! We are gonna play Salsa \, Bachata\, & Cha-cha all night with DJ Mambo tribe!!!! We hope to see you all on the dance floor tonight!!!! FREE COVER and 21 & up!!!
URL:https://golatindance.com/event/salsa-night-at-the-robinson/2030-12-31/
LOCATION:The Robinson Cafe & Cocktail Lounge\, 63 E Pine St\, Orlando\, FL\, 32801\, United States
CATEGORIES:Orlando
ATTACH;FMTTYPE=image/jpeg:https://golatindance.com/wp-content/uploads/2026/01/498640796_10235426951521801_7638622974937812383_n.jpg
GEO:28.5414527;-81.377741
X-APPLE-STRUCTURED-LOCATION;VALUE=URI;X-ADDRESS=The Robinson Cafe & Cocktail Lounge 63 E Pine St Orlando FL 32801 United States;X-APPLE-RADIUS=500;X-TITLE=63 E Pine St:geo:-81.377741,28.5414527
END:VEVENT
END:VCALENDAR