BEGIN:VCALENDAR
VERSION:2.0
PRODID:-//GO Latin Dance - ECPv6.15.18//NONSGML v1.0//EN
CALSCALE:GREGORIAN
METHOD:PUBLISH
X-ORIGINAL-URL:https://golatindance.com
X-WR-CALDESC:Events for GO Latin Dance
REFRESH-INTERVAL;VALUE=DURATION:PT1H
X-Robots-Tag:noindex
X-PUBLISHED-TTL:PT1H
BEGIN:VTIMEZONE
TZID:America/Denver
BEGIN:DAYLIGHT
TZOFFSETFROM:-0700
TZOFFSETTO:-0600
TZNAME:MDT
DTSTART:20240310T090000
END:DAYLIGHT
BEGIN:STANDARD
TZOFFSETFROM:-0600
TZOFFSETTO:-0700
TZNAME:MST
DTSTART:20241103T080000
END:STANDARD
BEGIN:DAYLIGHT
TZOFFSETFROM:-0700
TZOFFSETTO:-0600
TZNAME:MDT
DTSTART:20250309T090000
END:DAYLIGHT
BEGIN:STANDARD
TZOFFSETFROM:-0600
TZOFFSETTO:-0700
TZNAME:MST
DTSTART:20251102T080000
END:STANDARD
BEGIN:DAYLIGHT
TZOFFSETFROM:-0700
TZOFFSETTO:-0600
TZNAME:MDT
DTSTART:20260308T090000
END:DAYLIGHT
BEGIN:STANDARD
TZOFFSETFROM:-0600
TZOFFSETTO:-0700
TZNAME:MST
DTSTART:20261101T080000
END:STANDARD
END:VTIMEZONE
BEGIN:VEVENT
DTSTART;TZID=America/Denver:20251128T203000
DTEND;TZID=America/Denver:20251129T003000
DTSTAMP:20260419T190340
CREATED:20250530T153205Z
LAST-MODIFIED:20260206T163116Z
UID:10443127-1764361800-1764376200@golatindance.com
SUMMARY:BAILAMOS SALSA SOCIAL at CUBA
DESCRIPTION:Let’s get together and party like it’s your Birthday… 💃🏾Bailamos Salsa Style🕺🏾!!\nWhere: Cuba ⭐️ Cuba \, Glendale CO\n654 S Colorado Blvd Glendale\nWhat: 8:30pm Salsa Lesson ALL LEVELS\n9:00pm – 12:30am WE PARTY\nMore: NO COVER 🤩 FREE PARKING!\nCUBAN FOOD & DRINK SPECIALS\nSALSA⭐️BACHATA⭐️REGGAETON\nY MAS… 💋 Lo Mejor de lo Mejor!\nGrab your squad or come solo.\nGood vibes only. 😎\n(No partner necessary.)
URL:https://golatindance.com/event/bailamos-salsa-social-at-cuba/2025-11-28/
LOCATION:Cuba Cuba Sandwicheria\, 654 S Colorado Blvd\, Glendale\, 80246\, United States
CATEGORIES:Denver
ATTACH;FMTTYPE=image/jpeg:https://golatindance.com/wp-content/uploads/2025/05/628484151_2074502493311185_292989734483813982_n.jpg
END:VEVENT
BEGIN:VEVENT
DTSTART;TZID=America/Denver:20251121T203000
DTEND;TZID=America/Denver:20251122T003000
DTSTAMP:20260419T190340
CREATED:20250530T153205Z
LAST-MODIFIED:20260206T163116Z
UID:10443126-1763757000-1763771400@golatindance.com
SUMMARY:BAILAMOS SALSA SOCIAL at CUBA
DESCRIPTION:Let’s get together and party like it’s your Birthday… 💃🏾Bailamos Salsa Style🕺🏾!!\nWhere: Cuba ⭐️ Cuba \, Glendale CO\n654 S Colorado Blvd Glendale\nWhat: 8:30pm Salsa Lesson ALL LEVELS\n9:00pm – 12:30am WE PARTY\nMore: NO COVER 🤩 FREE PARKING!\nCUBAN FOOD & DRINK SPECIALS\nSALSA⭐️BACHATA⭐️REGGAETON\nY MAS… 💋 Lo Mejor de lo Mejor!\nGrab your squad or come solo.\nGood vibes only. 😎\n(No partner necessary.)
URL:https://golatindance.com/event/bailamos-salsa-social-at-cuba/2025-11-21/
LOCATION:Cuba Cuba Sandwicheria\, 654 S Colorado Blvd\, Glendale\, 80246\, United States
CATEGORIES:Denver
ATTACH;FMTTYPE=image/jpeg:https://golatindance.com/wp-content/uploads/2025/05/628484151_2074502493311185_292989734483813982_n.jpg
END:VEVENT
BEGIN:VEVENT
DTSTART;TZID=America/Denver:20251114T203000
DTEND;TZID=America/Denver:20251115T003000
DTSTAMP:20260419T190340
CREATED:20250530T153205Z
LAST-MODIFIED:20260206T163116Z
UID:10443125-1763152200-1763166600@golatindance.com
SUMMARY:BAILAMOS SALSA SOCIAL at CUBA
DESCRIPTION:Let’s get together and party like it’s your Birthday… 💃🏾Bailamos Salsa Style🕺🏾!!\nWhere: Cuba ⭐️ Cuba \, Glendale CO\n654 S Colorado Blvd Glendale\nWhat: 8:30pm Salsa Lesson ALL LEVELS\n9:00pm – 12:30am WE PARTY\nMore: NO COVER 🤩 FREE PARKING!\nCUBAN FOOD & DRINK SPECIALS\nSALSA⭐️BACHATA⭐️REGGAETON\nY MAS… 💋 Lo Mejor de lo Mejor!\nGrab your squad or come solo.\nGood vibes only. 😎\n(No partner necessary.)
URL:https://golatindance.com/event/bailamos-salsa-social-at-cuba/2025-11-14/
LOCATION:Cuba Cuba Sandwicheria\, 654 S Colorado Blvd\, Glendale\, 80246\, United States
CATEGORIES:Denver
ATTACH;FMTTYPE=image/jpeg:https://golatindance.com/wp-content/uploads/2025/05/628484151_2074502493311185_292989734483813982_n.jpg
END:VEVENT
BEGIN:VEVENT
DTSTART;TZID=America/Denver:20251107T203000
DTEND;TZID=America/Denver:20251108T003000
DTSTAMP:20260419T190340
CREATED:20250530T153205Z
LAST-MODIFIED:20260206T163116Z
UID:10443124-1762547400-1762561800@golatindance.com
SUMMARY:BAILAMOS SALSA SOCIAL at CUBA
DESCRIPTION:Let’s get together and party like it’s your Birthday… 💃🏾Bailamos Salsa Style🕺🏾!!\nWhere: Cuba ⭐️ Cuba \, Glendale CO\n654 S Colorado Blvd Glendale\nWhat: 8:30pm Salsa Lesson ALL LEVELS\n9:00pm – 12:30am WE PARTY\nMore: NO COVER 🤩 FREE PARKING!\nCUBAN FOOD & DRINK SPECIALS\nSALSA⭐️BACHATA⭐️REGGAETON\nY MAS… 💋 Lo Mejor de lo Mejor!\nGrab your squad or come solo.\nGood vibes only. 😎\n(No partner necessary.)
URL:https://golatindance.com/event/bailamos-salsa-social-at-cuba/2025-11-07/
LOCATION:Cuba Cuba Sandwicheria\, 654 S Colorado Blvd\, Glendale\, 80246\, United States
CATEGORIES:Denver
ATTACH;FMTTYPE=image/jpeg:https://golatindance.com/wp-content/uploads/2025/05/628484151_2074502493311185_292989734483813982_n.jpg
END:VEVENT
BEGIN:VEVENT
DTSTART;TZID=America/Denver:20251031T203000
DTEND;TZID=America/Denver:20251101T003000
DTSTAMP:20260419T190340
CREATED:20250530T153205Z
LAST-MODIFIED:20260206T163116Z
UID:10443123-1761942600-1761957000@golatindance.com
SUMMARY:BAILAMOS SALSA SOCIAL at CUBA
DESCRIPTION:Let’s get together and party like it’s your Birthday… 💃🏾Bailamos Salsa Style🕺🏾!!\nWhere: Cuba ⭐️ Cuba \, Glendale CO\n654 S Colorado Blvd Glendale\nWhat: 8:30pm Salsa Lesson ALL LEVELS\n9:00pm – 12:30am WE PARTY\nMore: NO COVER 🤩 FREE PARKING!\nCUBAN FOOD & DRINK SPECIALS\nSALSA⭐️BACHATA⭐️REGGAETON\nY MAS… 💋 Lo Mejor de lo Mejor!\nGrab your squad or come solo.\nGood vibes only. 😎\n(No partner necessary.)
URL:https://golatindance.com/event/bailamos-salsa-social-at-cuba/2025-10-31/
LOCATION:Cuba Cuba Sandwicheria\, 654 S Colorado Blvd\, Glendale\, 80246\, United States
CATEGORIES:Denver
ATTACH;FMTTYPE=image/jpeg:https://golatindance.com/wp-content/uploads/2025/05/628484151_2074502493311185_292989734483813982_n.jpg
END:VEVENT
BEGIN:VEVENT
DTSTART;TZID=America/Denver:20251024T203000
DTEND;TZID=America/Denver:20251025T003000
DTSTAMP:20260419T190340
CREATED:20250530T153205Z
LAST-MODIFIED:20260206T163116Z
UID:10443122-1761337800-1761352200@golatindance.com
SUMMARY:BAILAMOS SALSA SOCIAL at CUBA
DESCRIPTION:Let’s get together and party like it’s your Birthday… 💃🏾Bailamos Salsa Style🕺🏾!!\nWhere: Cuba ⭐️ Cuba \, Glendale CO\n654 S Colorado Blvd Glendale\nWhat: 8:30pm Salsa Lesson ALL LEVELS\n9:00pm – 12:30am WE PARTY\nMore: NO COVER 🤩 FREE PARKING!\nCUBAN FOOD & DRINK SPECIALS\nSALSA⭐️BACHATA⭐️REGGAETON\nY MAS… 💋 Lo Mejor de lo Mejor!\nGrab your squad or come solo.\nGood vibes only. 😎\n(No partner necessary.)
URL:https://golatindance.com/event/bailamos-salsa-social-at-cuba/2025-10-24/
LOCATION:Cuba Cuba Sandwicheria\, 654 S Colorado Blvd\, Glendale\, 80246\, United States
CATEGORIES:Denver
ATTACH;FMTTYPE=image/jpeg:https://golatindance.com/wp-content/uploads/2025/05/628484151_2074502493311185_292989734483813982_n.jpg
END:VEVENT
BEGIN:VEVENT
DTSTART;TZID=America/Denver:20251017T203000
DTEND;TZID=America/Denver:20251018T003000
DTSTAMP:20260419T190340
CREATED:20250530T153205Z
LAST-MODIFIED:20260206T163116Z
UID:10443121-1760733000-1760747400@golatindance.com
SUMMARY:BAILAMOS SALSA SOCIAL at CUBA
DESCRIPTION:Let’s get together and party like it’s your Birthday… 💃🏾Bailamos Salsa Style🕺🏾!!\nWhere: Cuba ⭐️ Cuba \, Glendale CO\n654 S Colorado Blvd Glendale\nWhat: 8:30pm Salsa Lesson ALL LEVELS\n9:00pm – 12:30am WE PARTY\nMore: NO COVER 🤩 FREE PARKING!\nCUBAN FOOD & DRINK SPECIALS\nSALSA⭐️BACHATA⭐️REGGAETON\nY MAS… 💋 Lo Mejor de lo Mejor!\nGrab your squad or come solo.\nGood vibes only. 😎\n(No partner necessary.)
URL:https://golatindance.com/event/bailamos-salsa-social-at-cuba/2025-10-17/
LOCATION:Cuba Cuba Sandwicheria\, 654 S Colorado Blvd\, Glendale\, 80246\, United States
CATEGORIES:Denver
ATTACH;FMTTYPE=image/jpeg:https://golatindance.com/wp-content/uploads/2025/05/628484151_2074502493311185_292989734483813982_n.jpg
END:VEVENT
BEGIN:VEVENT
DTSTART;TZID=America/Denver:20251010T203000
DTEND;TZID=America/Denver:20251011T003000
DTSTAMP:20260419T190340
CREATED:20250530T153205Z
LAST-MODIFIED:20260206T163116Z
UID:10443120-1760128200-1760142600@golatindance.com
SUMMARY:BAILAMOS SALSA SOCIAL at CUBA
DESCRIPTION:Let’s get together and party like it’s your Birthday… 💃🏾Bailamos Salsa Style🕺🏾!!\nWhere: Cuba ⭐️ Cuba \, Glendale CO\n654 S Colorado Blvd Glendale\nWhat: 8:30pm Salsa Lesson ALL LEVELS\n9:00pm – 12:30am WE PARTY\nMore: NO COVER 🤩 FREE PARKING!\nCUBAN FOOD & DRINK SPECIALS\nSALSA⭐️BACHATA⭐️REGGAETON\nY MAS… 💋 Lo Mejor de lo Mejor!\nGrab your squad or come solo.\nGood vibes only. 😎\n(No partner necessary.)
URL:https://golatindance.com/event/bailamos-salsa-social-at-cuba/2025-10-10/
LOCATION:Cuba Cuba Sandwicheria\, 654 S Colorado Blvd\, Glendale\, 80246\, United States
CATEGORIES:Denver
ATTACH;FMTTYPE=image/jpeg:https://golatindance.com/wp-content/uploads/2025/05/628484151_2074502493311185_292989734483813982_n.jpg
END:VEVENT
BEGIN:VEVENT
DTSTART;TZID=America/Denver:20251003T203000
DTEND;TZID=America/Denver:20251004T003000
DTSTAMP:20260419T190340
CREATED:20250530T153205Z
LAST-MODIFIED:20260206T163116Z
UID:10443119-1759523400-1759537800@golatindance.com
SUMMARY:BAILAMOS SALSA SOCIAL at CUBA
DESCRIPTION:Let’s get together and party like it’s your Birthday… 💃🏾Bailamos Salsa Style🕺🏾!!\nWhere: Cuba ⭐️ Cuba \, Glendale CO\n654 S Colorado Blvd Glendale\nWhat: 8:30pm Salsa Lesson ALL LEVELS\n9:00pm – 12:30am WE PARTY\nMore: NO COVER 🤩 FREE PARKING!\nCUBAN FOOD & DRINK SPECIALS\nSALSA⭐️BACHATA⭐️REGGAETON\nY MAS… 💋 Lo Mejor de lo Mejor!\nGrab your squad or come solo.\nGood vibes only. 😎\n(No partner necessary.)
URL:https://golatindance.com/event/bailamos-salsa-social-at-cuba/2025-10-03/
LOCATION:Cuba Cuba Sandwicheria\, 654 S Colorado Blvd\, Glendale\, 80246\, United States
CATEGORIES:Denver
ATTACH;FMTTYPE=image/jpeg:https://golatindance.com/wp-content/uploads/2025/05/628484151_2074502493311185_292989734483813982_n.jpg
END:VEVENT
BEGIN:VEVENT
DTSTART;TZID=America/Denver:20250926T203000
DTEND;TZID=America/Denver:20250927T003000
DTSTAMP:20260419T190340
CREATED:20250530T153205Z
LAST-MODIFIED:20260206T163116Z
UID:10443118-1758918600-1758933000@golatindance.com
SUMMARY:BAILAMOS SALSA SOCIAL at CUBA
DESCRIPTION:Let’s get together and party like it’s your Birthday… 💃🏾Bailamos Salsa Style🕺🏾!!\nWhere: Cuba ⭐️ Cuba \, Glendale CO\n654 S Colorado Blvd Glendale\nWhat: 8:30pm Salsa Lesson ALL LEVELS\n9:00pm – 12:30am WE PARTY\nMore: NO COVER 🤩 FREE PARKING!\nCUBAN FOOD & DRINK SPECIALS\nSALSA⭐️BACHATA⭐️REGGAETON\nY MAS… 💋 Lo Mejor de lo Mejor!\nGrab your squad or come solo.\nGood vibes only. 😎\n(No partner necessary.)
URL:https://golatindance.com/event/bailamos-salsa-social-at-cuba/2025-09-26/
LOCATION:Cuba Cuba Sandwicheria\, 654 S Colorado Blvd\, Glendale\, 80246\, United States
CATEGORIES:Denver
ATTACH;FMTTYPE=image/jpeg:https://golatindance.com/wp-content/uploads/2025/05/628484151_2074502493311185_292989734483813982_n.jpg
END:VEVENT
BEGIN:VEVENT
DTSTART;TZID=America/Denver:20250919T203000
DTEND;TZID=America/Denver:20250920T003000
DTSTAMP:20260419T190340
CREATED:20250530T153205Z
LAST-MODIFIED:20260206T163116Z
UID:10443117-1758313800-1758328200@golatindance.com
SUMMARY:BAILAMOS SALSA SOCIAL at CUBA
DESCRIPTION:Let’s get together and party like it’s your Birthday… 💃🏾Bailamos Salsa Style🕺🏾!!\nWhere: Cuba ⭐️ Cuba \, Glendale CO\n654 S Colorado Blvd Glendale\nWhat: 8:30pm Salsa Lesson ALL LEVELS\n9:00pm – 12:30am WE PARTY\nMore: NO COVER 🤩 FREE PARKING!\nCUBAN FOOD & DRINK SPECIALS\nSALSA⭐️BACHATA⭐️REGGAETON\nY MAS… 💋 Lo Mejor de lo Mejor!\nGrab your squad or come solo.\nGood vibes only. 😎\n(No partner necessary.)
URL:https://golatindance.com/event/bailamos-salsa-social-at-cuba/2025-09-19/
LOCATION:Cuba Cuba Sandwicheria\, 654 S Colorado Blvd\, Glendale\, 80246\, United States
CATEGORIES:Denver
ATTACH;FMTTYPE=image/jpeg:https://golatindance.com/wp-content/uploads/2025/05/628484151_2074502493311185_292989734483813982_n.jpg
END:VEVENT
BEGIN:VEVENT
DTSTART;TZID=America/Denver:20250912T203000
DTEND;TZID=America/Denver:20250913T003000
DTSTAMP:20260419T190340
CREATED:20250530T153205Z
LAST-MODIFIED:20260206T163116Z
UID:10443116-1757709000-1757723400@golatindance.com
SUMMARY:BAILAMOS SALSA SOCIAL at CUBA
DESCRIPTION:Let’s get together and party like it’s your Birthday… 💃🏾Bailamos Salsa Style🕺🏾!!\nWhere: Cuba ⭐️ Cuba \, Glendale CO\n654 S Colorado Blvd Glendale\nWhat: 8:30pm Salsa Lesson ALL LEVELS\n9:00pm – 12:30am WE PARTY\nMore: NO COVER 🤩 FREE PARKING!\nCUBAN FOOD & DRINK SPECIALS\nSALSA⭐️BACHATA⭐️REGGAETON\nY MAS… 💋 Lo Mejor de lo Mejor!\nGrab your squad or come solo.\nGood vibes only. 😎\n(No partner necessary.)
URL:https://golatindance.com/event/bailamos-salsa-social-at-cuba/2025-09-12/
LOCATION:Cuba Cuba Sandwicheria\, 654 S Colorado Blvd\, Glendale\, 80246\, United States
CATEGORIES:Denver
ATTACH;FMTTYPE=image/jpeg:https://golatindance.com/wp-content/uploads/2025/05/628484151_2074502493311185_292989734483813982_n.jpg
END:VEVENT
BEGIN:VEVENT
DTSTART;TZID=America/Denver:20250905T203000
DTEND;TZID=America/Denver:20250906T003000
DTSTAMP:20260419T190340
CREATED:20250530T153205Z
LAST-MODIFIED:20260206T163116Z
UID:10443115-1757104200-1757118600@golatindance.com
SUMMARY:BAILAMOS SALSA SOCIAL at CUBA
DESCRIPTION:Let’s get together and party like it’s your Birthday… 💃🏾Bailamos Salsa Style🕺🏾!!\nWhere: Cuba ⭐️ Cuba \, Glendale CO\n654 S Colorado Blvd Glendale\nWhat: 8:30pm Salsa Lesson ALL LEVELS\n9:00pm – 12:30am WE PARTY\nMore: NO COVER 🤩 FREE PARKING!\nCUBAN FOOD & DRINK SPECIALS\nSALSA⭐️BACHATA⭐️REGGAETON\nY MAS… 💋 Lo Mejor de lo Mejor!\nGrab your squad or come solo.\nGood vibes only. 😎\n(No partner necessary.)
URL:https://golatindance.com/event/bailamos-salsa-social-at-cuba/2025-09-05/
LOCATION:Cuba Cuba Sandwicheria\, 654 S Colorado Blvd\, Glendale\, 80246\, United States
CATEGORIES:Denver
ATTACH;FMTTYPE=image/jpeg:https://golatindance.com/wp-content/uploads/2025/05/628484151_2074502493311185_292989734483813982_n.jpg
END:VEVENT
BEGIN:VEVENT
DTSTART;TZID=America/Denver:20250829T203000
DTEND;TZID=America/Denver:20250830T003000
DTSTAMP:20260419T190340
CREATED:20250530T153205Z
LAST-MODIFIED:20260206T163116Z
UID:10443114-1756499400-1756513800@golatindance.com
SUMMARY:BAILAMOS SALSA SOCIAL at CUBA
DESCRIPTION:Let’s get together and party like it’s your Birthday… 💃🏾Bailamos Salsa Style🕺🏾!!\nWhere: Cuba ⭐️ Cuba \, Glendale CO\n654 S Colorado Blvd Glendale\nWhat: 8:30pm Salsa Lesson ALL LEVELS\n9:00pm – 12:30am WE PARTY\nMore: NO COVER 🤩 FREE PARKING!\nCUBAN FOOD & DRINK SPECIALS\nSALSA⭐️BACHATA⭐️REGGAETON\nY MAS… 💋 Lo Mejor de lo Mejor!\nGrab your squad or come solo.\nGood vibes only. 😎\n(No partner necessary.)
URL:https://golatindance.com/event/bailamos-salsa-social-at-cuba/2025-08-29/
LOCATION:Cuba Cuba Sandwicheria\, 654 S Colorado Blvd\, Glendale\, 80246\, United States
CATEGORIES:Denver
ATTACH;FMTTYPE=image/jpeg:https://golatindance.com/wp-content/uploads/2025/05/628484151_2074502493311185_292989734483813982_n.jpg
END:VEVENT
BEGIN:VEVENT
DTSTART;TZID=America/Denver:20250822T203000
DTEND;TZID=America/Denver:20250823T003000
DTSTAMP:20260419T190340
CREATED:20250530T153205Z
LAST-MODIFIED:20260206T163116Z
UID:10443113-1755894600-1755909000@golatindance.com
SUMMARY:BAILAMOS SALSA SOCIAL at CUBA
DESCRIPTION:Let’s get together and party like it’s your Birthday… 💃🏾Bailamos Salsa Style🕺🏾!!\nWhere: Cuba ⭐️ Cuba \, Glendale CO\n654 S Colorado Blvd Glendale\nWhat: 8:30pm Salsa Lesson ALL LEVELS\n9:00pm – 12:30am WE PARTY\nMore: NO COVER 🤩 FREE PARKING!\nCUBAN FOOD & DRINK SPECIALS\nSALSA⭐️BACHATA⭐️REGGAETON\nY MAS… 💋 Lo Mejor de lo Mejor!\nGrab your squad or come solo.\nGood vibes only. 😎\n(No partner necessary.)
URL:https://golatindance.com/event/bailamos-salsa-social-at-cuba/2025-08-22/
LOCATION:Cuba Cuba Sandwicheria\, 654 S Colorado Blvd\, Glendale\, 80246\, United States
CATEGORIES:Denver
ATTACH;FMTTYPE=image/jpeg:https://golatindance.com/wp-content/uploads/2025/05/628484151_2074502493311185_292989734483813982_n.jpg
END:VEVENT
BEGIN:VEVENT
DTSTART;TZID=America/Denver:20250815T203000
DTEND;TZID=America/Denver:20250816T003000
DTSTAMP:20260419T190340
CREATED:20250530T153205Z
LAST-MODIFIED:20260206T163116Z
UID:10443112-1755289800-1755304200@golatindance.com
SUMMARY:BAILAMOS SALSA SOCIAL at CUBA
DESCRIPTION:Let’s get together and party like it’s your Birthday… 💃🏾Bailamos Salsa Style🕺🏾!!\nWhere: Cuba ⭐️ Cuba \, Glendale CO\n654 S Colorado Blvd Glendale\nWhat: 8:30pm Salsa Lesson ALL LEVELS\n9:00pm – 12:30am WE PARTY\nMore: NO COVER 🤩 FREE PARKING!\nCUBAN FOOD & DRINK SPECIALS\nSALSA⭐️BACHATA⭐️REGGAETON\nY MAS… 💋 Lo Mejor de lo Mejor!\nGrab your squad or come solo.\nGood vibes only. 😎\n(No partner necessary.)
URL:https://golatindance.com/event/bailamos-salsa-social-at-cuba/2025-08-15/
LOCATION:Cuba Cuba Sandwicheria\, 654 S Colorado Blvd\, Glendale\, 80246\, United States
CATEGORIES:Denver
ATTACH;FMTTYPE=image/jpeg:https://golatindance.com/wp-content/uploads/2025/05/628484151_2074502493311185_292989734483813982_n.jpg
END:VEVENT
BEGIN:VEVENT
DTSTART;TZID=America/Denver:20250808T203000
DTEND;TZID=America/Denver:20250809T003000
DTSTAMP:20260419T190340
CREATED:20250530T153205Z
LAST-MODIFIED:20260206T163116Z
UID:10443111-1754685000-1754699400@golatindance.com
SUMMARY:BAILAMOS SALSA SOCIAL at CUBA
DESCRIPTION:Let’s get together and party like it’s your Birthday… 💃🏾Bailamos Salsa Style🕺🏾!!\nWhere: Cuba ⭐️ Cuba \, Glendale CO\n654 S Colorado Blvd Glendale\nWhat: 8:30pm Salsa Lesson ALL LEVELS\n9:00pm – 12:30am WE PARTY\nMore: NO COVER 🤩 FREE PARKING!\nCUBAN FOOD & DRINK SPECIALS\nSALSA⭐️BACHATA⭐️REGGAETON\nY MAS… 💋 Lo Mejor de lo Mejor!\nGrab your squad or come solo.\nGood vibes only. 😎\n(No partner necessary.)
URL:https://golatindance.com/event/bailamos-salsa-social-at-cuba/2025-08-08/
LOCATION:Cuba Cuba Sandwicheria\, 654 S Colorado Blvd\, Glendale\, 80246\, United States
CATEGORIES:Denver
ATTACH;FMTTYPE=image/jpeg:https://golatindance.com/wp-content/uploads/2025/05/628484151_2074502493311185_292989734483813982_n.jpg
END:VEVENT
BEGIN:VEVENT
DTSTART;TZID=America/Denver:20250801T203000
DTEND;TZID=America/Denver:20250802T003000
DTSTAMP:20260419T190340
CREATED:20250530T153205Z
LAST-MODIFIED:20260206T163116Z
UID:10443110-1754080200-1754094600@golatindance.com
SUMMARY:BAILAMOS SALSA SOCIAL at CUBA
DESCRIPTION:Let’s get together and party like it’s your Birthday… 💃🏾Bailamos Salsa Style🕺🏾!!\nWhere: Cuba ⭐️ Cuba \, Glendale CO\n654 S Colorado Blvd Glendale\nWhat: 8:30pm Salsa Lesson ALL LEVELS\n9:00pm – 12:30am WE PARTY\nMore: NO COVER 🤩 FREE PARKING!\nCUBAN FOOD & DRINK SPECIALS\nSALSA⭐️BACHATA⭐️REGGAETON\nY MAS… 💋 Lo Mejor de lo Mejor!\nGrab your squad or come solo.\nGood vibes only. 😎\n(No partner necessary.)
URL:https://golatindance.com/event/bailamos-salsa-social-at-cuba/2025-08-01/
LOCATION:Cuba Cuba Sandwicheria\, 654 S Colorado Blvd\, Glendale\, 80246\, United States
CATEGORIES:Denver
ATTACH;FMTTYPE=image/jpeg:https://golatindance.com/wp-content/uploads/2025/05/628484151_2074502493311185_292989734483813982_n.jpg
END:VEVENT
BEGIN:VEVENT
DTSTART;TZID=America/Denver:20250725T203000
DTEND;TZID=America/Denver:20250726T003000
DTSTAMP:20260419T190340
CREATED:20250530T153205Z
LAST-MODIFIED:20260206T163116Z
UID:10443109-1753475400-1753489800@golatindance.com
SUMMARY:BAILAMOS SALSA SOCIAL at CUBA
DESCRIPTION:Let’s get together and party like it’s your Birthday… 💃🏾Bailamos Salsa Style🕺🏾!!\nWhere: Cuba ⭐️ Cuba \, Glendale CO\n654 S Colorado Blvd Glendale\nWhat: 8:30pm Salsa Lesson ALL LEVELS\n9:00pm – 12:30am WE PARTY\nMore: NO COVER 🤩 FREE PARKING!\nCUBAN FOOD & DRINK SPECIALS\nSALSA⭐️BACHATA⭐️REGGAETON\nY MAS… 💋 Lo Mejor de lo Mejor!\nGrab your squad or come solo.\nGood vibes only. 😎\n(No partner necessary.)
URL:https://golatindance.com/event/bailamos-salsa-social-at-cuba/2025-07-25/
LOCATION:Cuba Cuba Sandwicheria\, 654 S Colorado Blvd\, Glendale\, 80246\, United States
CATEGORIES:Denver
ATTACH;FMTTYPE=image/jpeg:https://golatindance.com/wp-content/uploads/2025/05/628484151_2074502493311185_292989734483813982_n.jpg
END:VEVENT
BEGIN:VEVENT
DTSTART;TZID=America/Denver:20250718T203000
DTEND;TZID=America/Denver:20250719T003000
DTSTAMP:20260419T190340
CREATED:20250530T153205Z
LAST-MODIFIED:20260206T163116Z
UID:10443108-1752870600-1752885000@golatindance.com
SUMMARY:BAILAMOS SALSA SOCIAL at CUBA
DESCRIPTION:Let’s get together and party like it’s your Birthday… 💃🏾Bailamos Salsa Style🕺🏾!!\nWhere: Cuba ⭐️ Cuba \, Glendale CO\n654 S Colorado Blvd Glendale\nWhat: 8:30pm Salsa Lesson ALL LEVELS\n9:00pm – 12:30am WE PARTY\nMore: NO COVER 🤩 FREE PARKING!\nCUBAN FOOD & DRINK SPECIALS\nSALSA⭐️BACHATA⭐️REGGAETON\nY MAS… 💋 Lo Mejor de lo Mejor!\nGrab your squad or come solo.\nGood vibes only. 😎\n(No partner necessary.)
URL:https://golatindance.com/event/bailamos-salsa-social-at-cuba/2025-07-18/
LOCATION:Cuba Cuba Sandwicheria\, 654 S Colorado Blvd\, Glendale\, 80246\, United States
CATEGORIES:Denver
ATTACH;FMTTYPE=image/jpeg:https://golatindance.com/wp-content/uploads/2025/05/628484151_2074502493311185_292989734483813982_n.jpg
END:VEVENT
BEGIN:VEVENT
DTSTART;TZID=America/Denver:20250711T203000
DTEND;TZID=America/Denver:20250712T003000
DTSTAMP:20260419T190340
CREATED:20250530T153205Z
LAST-MODIFIED:20260206T163116Z
UID:10443107-1752265800-1752280200@golatindance.com
SUMMARY:BAILAMOS SALSA SOCIAL at CUBA
DESCRIPTION:Let’s get together and party like it’s your Birthday… 💃🏾Bailamos Salsa Style🕺🏾!!\nWhere: Cuba ⭐️ Cuba \, Glendale CO\n654 S Colorado Blvd Glendale\nWhat: 8:30pm Salsa Lesson ALL LEVELS\n9:00pm – 12:30am WE PARTY\nMore: NO COVER 🤩 FREE PARKING!\nCUBAN FOOD & DRINK SPECIALS\nSALSA⭐️BACHATA⭐️REGGAETON\nY MAS… 💋 Lo Mejor de lo Mejor!\nGrab your squad or come solo.\nGood vibes only. 😎\n(No partner necessary.)
URL:https://golatindance.com/event/bailamos-salsa-social-at-cuba/2025-07-11/
LOCATION:Cuba Cuba Sandwicheria\, 654 S Colorado Blvd\, Glendale\, 80246\, United States
CATEGORIES:Denver
ATTACH;FMTTYPE=image/jpeg:https://golatindance.com/wp-content/uploads/2025/05/628484151_2074502493311185_292989734483813982_n.jpg
END:VEVENT
BEGIN:VEVENT
DTSTART;TZID=America/Denver:20250704T203000
DTEND;TZID=America/Denver:20250705T003000
DTSTAMP:20260419T190340
CREATED:20250530T153205Z
LAST-MODIFIED:20260206T163116Z
UID:10443106-1751661000-1751675400@golatindance.com
SUMMARY:BAILAMOS SALSA SOCIAL at CUBA
DESCRIPTION:Let’s get together and party like it’s your Birthday… 💃🏾Bailamos Salsa Style🕺🏾!!\nWhere: Cuba ⭐️ Cuba \, Glendale CO\n654 S Colorado Blvd Glendale\nWhat: 8:30pm Salsa Lesson ALL LEVELS\n9:00pm – 12:30am WE PARTY\nMore: NO COVER 🤩 FREE PARKING!\nCUBAN FOOD & DRINK SPECIALS\nSALSA⭐️BACHATA⭐️REGGAETON\nY MAS… 💋 Lo Mejor de lo Mejor!\nGrab your squad or come solo.\nGood vibes only. 😎\n(No partner necessary.)
URL:https://golatindance.com/event/bailamos-salsa-social-at-cuba/2025-07-04/
LOCATION:Cuba Cuba Sandwicheria\, 654 S Colorado Blvd\, Glendale\, 80246\, United States
CATEGORIES:Denver
ATTACH;FMTTYPE=image/jpeg:https://golatindance.com/wp-content/uploads/2025/05/628484151_2074502493311185_292989734483813982_n.jpg
END:VEVENT
BEGIN:VEVENT
DTSTART;TZID=America/Denver:20250627T203000
DTEND;TZID=America/Denver:20250628T003000
DTSTAMP:20260419T190340
CREATED:20250530T153205Z
LAST-MODIFIED:20260206T163116Z
UID:10443105-1751056200-1751070600@golatindance.com
SUMMARY:BAILAMOS SALSA SOCIAL at CUBA
DESCRIPTION:Let’s get together and party like it’s your Birthday… 💃🏾Bailamos Salsa Style🕺🏾!!\nWhere: Cuba ⭐️ Cuba \, Glendale CO\n654 S Colorado Blvd Glendale\nWhat: 8:30pm Salsa Lesson ALL LEVELS\n9:00pm – 12:30am WE PARTY\nMore: NO COVER 🤩 FREE PARKING!\nCUBAN FOOD & DRINK SPECIALS\nSALSA⭐️BACHATA⭐️REGGAETON\nY MAS… 💋 Lo Mejor de lo Mejor!\nGrab your squad or come solo.\nGood vibes only. 😎\n(No partner necessary.)
URL:https://golatindance.com/event/bailamos-salsa-social-at-cuba/2025-06-27/
LOCATION:Cuba Cuba Sandwicheria\, 654 S Colorado Blvd\, Glendale\, 80246\, United States
CATEGORIES:Denver
ATTACH;FMTTYPE=image/jpeg:https://golatindance.com/wp-content/uploads/2025/05/628484151_2074502493311185_292989734483813982_n.jpg
END:VEVENT
BEGIN:VEVENT
DTSTART;TZID=America/Denver:20250620T203000
DTEND;TZID=America/Denver:20250621T003000
DTSTAMP:20260419T190340
CREATED:20250530T153205Z
LAST-MODIFIED:20260206T163116Z
UID:10443104-1750451400-1750465800@golatindance.com
SUMMARY:BAILAMOS SALSA SOCIAL at CUBA
DESCRIPTION:Let’s get together and party like it’s your Birthday… 💃🏾Bailamos Salsa Style🕺🏾!!\nWhere: Cuba ⭐️ Cuba \, Glendale CO\n654 S Colorado Blvd Glendale\nWhat: 8:30pm Salsa Lesson ALL LEVELS\n9:00pm – 12:30am WE PARTY\nMore: NO COVER 🤩 FREE PARKING!\nCUBAN FOOD & DRINK SPECIALS\nSALSA⭐️BACHATA⭐️REGGAETON\nY MAS… 💋 Lo Mejor de lo Mejor!\nGrab your squad or come solo.\nGood vibes only. 😎\n(No partner necessary.)
URL:https://golatindance.com/event/bailamos-salsa-social-at-cuba/2025-06-20/
LOCATION:Cuba Cuba Sandwicheria\, 654 S Colorado Blvd\, Glendale\, 80246\, United States
CATEGORIES:Denver
ATTACH;FMTTYPE=image/jpeg:https://golatindance.com/wp-content/uploads/2025/05/628484151_2074502493311185_292989734483813982_n.jpg
END:VEVENT
BEGIN:VEVENT
DTSTART;TZID=America/Denver:20250613T203000
DTEND;TZID=America/Denver:20250614T003000
DTSTAMP:20260419T190340
CREATED:20250530T153205Z
LAST-MODIFIED:20260206T163116Z
UID:10369760-1749846600-1749861000@golatindance.com
SUMMARY:BAILAMOS SALSA SOCIAL at CUBA
DESCRIPTION:Let’s get together and party like it’s your Birthday… 💃🏾Bailamos Salsa Style🕺🏾!!\nWhere: Cuba ⭐️ Cuba \, Glendale CO\n654 S Colorado Blvd Glendale\nWhat: 8:30pm Salsa Lesson ALL LEVELS\n9:00pm – 12:30am WE PARTY\nMore: NO COVER 🤩 FREE PARKING!\nCUBAN FOOD & DRINK SPECIALS\nSALSA⭐️BACHATA⭐️REGGAETON\nY MAS… 💋 Lo Mejor de lo Mejor!\nGrab your squad or come solo.\nGood vibes only. 😎\n(No partner necessary.)
URL:https://golatindance.com/event/bailamos-salsa-social-at-cuba/2025-06-13/
LOCATION:Cuba Cuba Sandwicheria\, 654 S Colorado Blvd\, Glendale\, 80246\, United States
CATEGORIES:Denver
ATTACH;FMTTYPE=image/jpeg:https://golatindance.com/wp-content/uploads/2025/05/628484151_2074502493311185_292989734483813982_n.jpg
END:VEVENT
END:VCALENDAR