BEGIN:VCALENDAR
VERSION:2.0
PRODID:-//GO Latin Dance - ECPv6.15.18//NONSGML v1.0//EN
CALSCALE:GREGORIAN
METHOD:PUBLISH
X-ORIGINAL-URL:https://golatindance.com
X-WR-CALDESC:Events for GO Latin Dance
REFRESH-INTERVAL;VALUE=DURATION:PT1H
X-Robots-Tag:noindex
X-PUBLISHED-TTL:PT1H
BEGIN:VTIMEZONE
TZID:America/Chicago
BEGIN:DAYLIGHT
TZOFFSETFROM:-0600
TZOFFSETTO:-0500
TZNAME:CDT
DTSTART:20270314T080000
END:DAYLIGHT
BEGIN:STANDARD
TZOFFSETFROM:-0500
TZOFFSETTO:-0600
TZNAME:CST
DTSTART:20271107T070000
END:STANDARD
BEGIN:DAYLIGHT
TZOFFSETFROM:-0600
TZOFFSETTO:-0500
TZNAME:CDT
DTSTART:20280312T080000
END:DAYLIGHT
BEGIN:STANDARD
TZOFFSETFROM:-0500
TZOFFSETTO:-0600
TZNAME:CST
DTSTART:20281105T070000
END:STANDARD
BEGIN:DAYLIGHT
TZOFFSETFROM:-0600
TZOFFSETTO:-0500
TZNAME:CDT
DTSTART:20290311T080000
END:DAYLIGHT
BEGIN:STANDARD
TZOFFSETFROM:-0500
TZOFFSETTO:-0600
TZNAME:CST
DTSTART:20291104T070000
END:STANDARD
END:VTIMEZONE
BEGIN:VEVENT
DTSTART;TZID=America/Chicago:20280119T193000
DTEND;TZID=America/Chicago:20280120T020000
DTSTAMP:20260424T132230
CREATED:20260107T195234Z
LAST-MODIFIED:20260128T171316Z
UID:10430662-1831923000-1831946400@golatindance.com
SUMMARY:Latin Nights
DESCRIPTION:Wednesday @ Blue Agave Cantina*\n​(I 10 & HWY 6: Energy Corridor Area)\n14555 GRISBY RD\nHOUSTON TX 77079\n7:30pm: Bachata – All Levels\n8:30pm: Salsa – All Levels\n10pm – 2am: Social Dancing with Live Music!
URL:https://golatindance.com/event/latin-nights/2028-01-19/
LOCATION:Blue Agave Cantina\, 14555 Grisby Rd\, Houston\, TX\, 77079\, United States
CATEGORIES:Houston
ATTACH;FMTTYPE=image/jpeg:https://golatindance.com/wp-content/uploads/2026/01/623130700_122118357507132164_2482773891243133089_n.jpg
END:VEVENT
BEGIN:VEVENT
DTSTART;TZID=America/Chicago:20280126T193000
DTEND;TZID=America/Chicago:20280127T020000
DTSTAMP:20260424T132230
CREATED:20260107T195234Z
LAST-MODIFIED:20260128T171316Z
UID:10430663-1832527800-1832551200@golatindance.com
SUMMARY:Latin Nights
DESCRIPTION:Wednesday @ Blue Agave Cantina*\n​(I 10 & HWY 6: Energy Corridor Area)\n14555 GRISBY RD\nHOUSTON TX 77079\n7:30pm: Bachata – All Levels\n8:30pm: Salsa – All Levels\n10pm – 2am: Social Dancing with Live Music!
URL:https://golatindance.com/event/latin-nights/2028-01-26/
LOCATION:Blue Agave Cantina\, 14555 Grisby Rd\, Houston\, TX\, 77079\, United States
CATEGORIES:Houston
ATTACH;FMTTYPE=image/jpeg:https://golatindance.com/wp-content/uploads/2026/01/623130700_122118357507132164_2482773891243133089_n.jpg
END:VEVENT
BEGIN:VEVENT
DTSTART;TZID=America/Chicago:20280202T193000
DTEND;TZID=America/Chicago:20280203T020000
DTSTAMP:20260424T132230
CREATED:20260107T195234Z
LAST-MODIFIED:20260128T171316Z
UID:10430664-1833132600-1833156000@golatindance.com
SUMMARY:Latin Nights
DESCRIPTION:Wednesday @ Blue Agave Cantina*\n​(I 10 & HWY 6: Energy Corridor Area)\n14555 GRISBY RD\nHOUSTON TX 77079\n7:30pm: Bachata – All Levels\n8:30pm: Salsa – All Levels\n10pm – 2am: Social Dancing with Live Music!
URL:https://golatindance.com/event/latin-nights/2028-02-02/
LOCATION:Blue Agave Cantina\, 14555 Grisby Rd\, Houston\, TX\, 77079\, United States
CATEGORIES:Houston
ATTACH;FMTTYPE=image/jpeg:https://golatindance.com/wp-content/uploads/2026/01/623130700_122118357507132164_2482773891243133089_n.jpg
END:VEVENT
BEGIN:VEVENT
DTSTART;TZID=America/Chicago:20280209T193000
DTEND;TZID=America/Chicago:20280210T020000
DTSTAMP:20260424T132230
CREATED:20260107T195234Z
LAST-MODIFIED:20260128T171316Z
UID:10430665-1833737400-1833760800@golatindance.com
SUMMARY:Latin Nights
DESCRIPTION:Wednesday @ Blue Agave Cantina*\n​(I 10 & HWY 6: Energy Corridor Area)\n14555 GRISBY RD\nHOUSTON TX 77079\n7:30pm: Bachata – All Levels\n8:30pm: Salsa – All Levels\n10pm – 2am: Social Dancing with Live Music!
URL:https://golatindance.com/event/latin-nights/2028-02-09/
LOCATION:Blue Agave Cantina\, 14555 Grisby Rd\, Houston\, TX\, 77079\, United States
CATEGORIES:Houston
ATTACH;FMTTYPE=image/jpeg:https://golatindance.com/wp-content/uploads/2026/01/623130700_122118357507132164_2482773891243133089_n.jpg
END:VEVENT
BEGIN:VEVENT
DTSTART;TZID=America/Chicago:20280216T193000
DTEND;TZID=America/Chicago:20280217T020000
DTSTAMP:20260424T132230
CREATED:20260107T195234Z
LAST-MODIFIED:20260128T171316Z
UID:10430666-1834342200-1834365600@golatindance.com
SUMMARY:Latin Nights
DESCRIPTION:Wednesday @ Blue Agave Cantina*\n​(I 10 & HWY 6: Energy Corridor Area)\n14555 GRISBY RD\nHOUSTON TX 77079\n7:30pm: Bachata – All Levels\n8:30pm: Salsa – All Levels\n10pm – 2am: Social Dancing with Live Music!
URL:https://golatindance.com/event/latin-nights/2028-02-16/
LOCATION:Blue Agave Cantina\, 14555 Grisby Rd\, Houston\, TX\, 77079\, United States
CATEGORIES:Houston
ATTACH;FMTTYPE=image/jpeg:https://golatindance.com/wp-content/uploads/2026/01/623130700_122118357507132164_2482773891243133089_n.jpg
END:VEVENT
BEGIN:VEVENT
DTSTART;TZID=America/Chicago:20280223T193000
DTEND;TZID=America/Chicago:20280224T020000
DTSTAMP:20260424T132230
CREATED:20260107T195234Z
LAST-MODIFIED:20260128T171316Z
UID:10430667-1834947000-1834970400@golatindance.com
SUMMARY:Latin Nights
DESCRIPTION:Wednesday @ Blue Agave Cantina*\n​(I 10 & HWY 6: Energy Corridor Area)\n14555 GRISBY RD\nHOUSTON TX 77079\n7:30pm: Bachata – All Levels\n8:30pm: Salsa – All Levels\n10pm – 2am: Social Dancing with Live Music!
URL:https://golatindance.com/event/latin-nights/2028-02-23/
LOCATION:Blue Agave Cantina\, 14555 Grisby Rd\, Houston\, TX\, 77079\, United States
CATEGORIES:Houston
ATTACH;FMTTYPE=image/jpeg:https://golatindance.com/wp-content/uploads/2026/01/623130700_122118357507132164_2482773891243133089_n.jpg
END:VEVENT
BEGIN:VEVENT
DTSTART;TZID=America/Chicago:20280301T193000
DTEND;TZID=America/Chicago:20280302T020000
DTSTAMP:20260424T132230
CREATED:20260107T195234Z
LAST-MODIFIED:20260128T171316Z
UID:10430668-1835551800-1835575200@golatindance.com
SUMMARY:Latin Nights
DESCRIPTION:Wednesday @ Blue Agave Cantina*\n​(I 10 & HWY 6: Energy Corridor Area)\n14555 GRISBY RD\nHOUSTON TX 77079\n7:30pm: Bachata – All Levels\n8:30pm: Salsa – All Levels\n10pm – 2am: Social Dancing with Live Music!
URL:https://golatindance.com/event/latin-nights/2028-03-01/
LOCATION:Blue Agave Cantina\, 14555 Grisby Rd\, Houston\, TX\, 77079\, United States
CATEGORIES:Houston
ATTACH;FMTTYPE=image/jpeg:https://golatindance.com/wp-content/uploads/2026/01/623130700_122118357507132164_2482773891243133089_n.jpg
END:VEVENT
BEGIN:VEVENT
DTSTART;TZID=America/Chicago:20280308T193000
DTEND;TZID=America/Chicago:20280309T020000
DTSTAMP:20260424T132230
CREATED:20260107T195234Z
LAST-MODIFIED:20260128T171316Z
UID:10430669-1836156600-1836180000@golatindance.com
SUMMARY:Latin Nights
DESCRIPTION:Wednesday @ Blue Agave Cantina*\n​(I 10 & HWY 6: Energy Corridor Area)\n14555 GRISBY RD\nHOUSTON TX 77079\n7:30pm: Bachata – All Levels\n8:30pm: Salsa – All Levels\n10pm – 2am: Social Dancing with Live Music!
URL:https://golatindance.com/event/latin-nights/2028-03-08/
LOCATION:Blue Agave Cantina\, 14555 Grisby Rd\, Houston\, TX\, 77079\, United States
CATEGORIES:Houston
ATTACH;FMTTYPE=image/jpeg:https://golatindance.com/wp-content/uploads/2026/01/623130700_122118357507132164_2482773891243133089_n.jpg
END:VEVENT
BEGIN:VEVENT
DTSTART;TZID=America/Chicago:20280315T193000
DTEND;TZID=America/Chicago:20280316T020000
DTSTAMP:20260424T132230
CREATED:20260107T195234Z
LAST-MODIFIED:20260128T171316Z
UID:10430670-1836761400-1836784800@golatindance.com
SUMMARY:Latin Nights
DESCRIPTION:Wednesday @ Blue Agave Cantina*\n​(I 10 & HWY 6: Energy Corridor Area)\n14555 GRISBY RD\nHOUSTON TX 77079\n7:30pm: Bachata – All Levels\n8:30pm: Salsa – All Levels\n10pm – 2am: Social Dancing with Live Music!
URL:https://golatindance.com/event/latin-nights/2028-03-15/
LOCATION:Blue Agave Cantina\, 14555 Grisby Rd\, Houston\, TX\, 77079\, United States
CATEGORIES:Houston
ATTACH;FMTTYPE=image/jpeg:https://golatindance.com/wp-content/uploads/2026/01/623130700_122118357507132164_2482773891243133089_n.jpg
END:VEVENT
BEGIN:VEVENT
DTSTART;TZID=America/Chicago:20280322T193000
DTEND;TZID=America/Chicago:20280323T020000
DTSTAMP:20260424T132230
CREATED:20260107T195234Z
LAST-MODIFIED:20260128T171316Z
UID:10430671-1837366200-1837389600@golatindance.com
SUMMARY:Latin Nights
DESCRIPTION:Wednesday @ Blue Agave Cantina*\n​(I 10 & HWY 6: Energy Corridor Area)\n14555 GRISBY RD\nHOUSTON TX 77079\n7:30pm: Bachata – All Levels\n8:30pm: Salsa – All Levels\n10pm – 2am: Social Dancing with Live Music!
URL:https://golatindance.com/event/latin-nights/2028-03-22/
LOCATION:Blue Agave Cantina\, 14555 Grisby Rd\, Houston\, TX\, 77079\, United States
CATEGORIES:Houston
ATTACH;FMTTYPE=image/jpeg:https://golatindance.com/wp-content/uploads/2026/01/623130700_122118357507132164_2482773891243133089_n.jpg
END:VEVENT
BEGIN:VEVENT
DTSTART;TZID=America/Chicago:20280329T193000
DTEND;TZID=America/Chicago:20280330T020000
DTSTAMP:20260424T132230
CREATED:20260107T195234Z
LAST-MODIFIED:20260128T171316Z
UID:10430672-1837971000-1837994400@golatindance.com
SUMMARY:Latin Nights
DESCRIPTION:Wednesday @ Blue Agave Cantina*\n​(I 10 & HWY 6: Energy Corridor Area)\n14555 GRISBY RD\nHOUSTON TX 77079\n7:30pm: Bachata – All Levels\n8:30pm: Salsa – All Levels\n10pm – 2am: Social Dancing with Live Music!
URL:https://golatindance.com/event/latin-nights/2028-03-29/
LOCATION:Blue Agave Cantina\, 14555 Grisby Rd\, Houston\, TX\, 77079\, United States
CATEGORIES:Houston
ATTACH;FMTTYPE=image/jpeg:https://golatindance.com/wp-content/uploads/2026/01/623130700_122118357507132164_2482773891243133089_n.jpg
END:VEVENT
BEGIN:VEVENT
DTSTART;TZID=America/Chicago:20280405T193000
DTEND;TZID=America/Chicago:20280406T020000
DTSTAMP:20260424T132230
CREATED:20260107T195234Z
LAST-MODIFIED:20260128T171316Z
UID:10430673-1838575800-1838599200@golatindance.com
SUMMARY:Latin Nights
DESCRIPTION:Wednesday @ Blue Agave Cantina*\n​(I 10 & HWY 6: Energy Corridor Area)\n14555 GRISBY RD\nHOUSTON TX 77079\n7:30pm: Bachata – All Levels\n8:30pm: Salsa – All Levels\n10pm – 2am: Social Dancing with Live Music!
URL:https://golatindance.com/event/latin-nights/2028-04-05/
LOCATION:Blue Agave Cantina\, 14555 Grisby Rd\, Houston\, TX\, 77079\, United States
CATEGORIES:Houston
ATTACH;FMTTYPE=image/jpeg:https://golatindance.com/wp-content/uploads/2026/01/623130700_122118357507132164_2482773891243133089_n.jpg
END:VEVENT
BEGIN:VEVENT
DTSTART;TZID=America/Chicago:20280412T193000
DTEND;TZID=America/Chicago:20280413T020000
DTSTAMP:20260424T132230
CREATED:20260107T195234Z
LAST-MODIFIED:20260128T171316Z
UID:10430674-1839180600-1839204000@golatindance.com
SUMMARY:Latin Nights
DESCRIPTION:Wednesday @ Blue Agave Cantina*\n​(I 10 & HWY 6: Energy Corridor Area)\n14555 GRISBY RD\nHOUSTON TX 77079\n7:30pm: Bachata – All Levels\n8:30pm: Salsa – All Levels\n10pm – 2am: Social Dancing with Live Music!
URL:https://golatindance.com/event/latin-nights/2028-04-12/
LOCATION:Blue Agave Cantina\, 14555 Grisby Rd\, Houston\, TX\, 77079\, United States
CATEGORIES:Houston
ATTACH;FMTTYPE=image/jpeg:https://golatindance.com/wp-content/uploads/2026/01/623130700_122118357507132164_2482773891243133089_n.jpg
END:VEVENT
BEGIN:VEVENT
DTSTART;TZID=America/Chicago:20280419T193000
DTEND;TZID=America/Chicago:20280420T020000
DTSTAMP:20260424T132230
CREATED:20260107T195234Z
LAST-MODIFIED:20260128T171316Z
UID:10430675-1839785400-1839808800@golatindance.com
SUMMARY:Latin Nights
DESCRIPTION:Wednesday @ Blue Agave Cantina*\n​(I 10 & HWY 6: Energy Corridor Area)\n14555 GRISBY RD\nHOUSTON TX 77079\n7:30pm: Bachata – All Levels\n8:30pm: Salsa – All Levels\n10pm – 2am: Social Dancing with Live Music!
URL:https://golatindance.com/event/latin-nights/2028-04-19/
LOCATION:Blue Agave Cantina\, 14555 Grisby Rd\, Houston\, TX\, 77079\, United States
CATEGORIES:Houston
ATTACH;FMTTYPE=image/jpeg:https://golatindance.com/wp-content/uploads/2026/01/623130700_122118357507132164_2482773891243133089_n.jpg
END:VEVENT
BEGIN:VEVENT
DTSTART;TZID=America/Chicago:20280426T193000
DTEND;TZID=America/Chicago:20280427T020000
DTSTAMP:20260424T132230
CREATED:20260107T195234Z
LAST-MODIFIED:20260128T171316Z
UID:10430676-1840390200-1840413600@golatindance.com
SUMMARY:Latin Nights
DESCRIPTION:Wednesday @ Blue Agave Cantina*\n​(I 10 & HWY 6: Energy Corridor Area)\n14555 GRISBY RD\nHOUSTON TX 77079\n7:30pm: Bachata – All Levels\n8:30pm: Salsa – All Levels\n10pm – 2am: Social Dancing with Live Music!
URL:https://golatindance.com/event/latin-nights/2028-04-26/
LOCATION:Blue Agave Cantina\, 14555 Grisby Rd\, Houston\, TX\, 77079\, United States
CATEGORIES:Houston
ATTACH;FMTTYPE=image/jpeg:https://golatindance.com/wp-content/uploads/2026/01/623130700_122118357507132164_2482773891243133089_n.jpg
END:VEVENT
BEGIN:VEVENT
DTSTART;TZID=America/Chicago:20280503T193000
DTEND;TZID=America/Chicago:20280504T020000
DTSTAMP:20260424T132230
CREATED:20260107T195234Z
LAST-MODIFIED:20260128T171316Z
UID:10430677-1840995000-1841018400@golatindance.com
SUMMARY:Latin Nights
DESCRIPTION:Wednesday @ Blue Agave Cantina*\n​(I 10 & HWY 6: Energy Corridor Area)\n14555 GRISBY RD\nHOUSTON TX 77079\n7:30pm: Bachata – All Levels\n8:30pm: Salsa – All Levels\n10pm – 2am: Social Dancing with Live Music!
URL:https://golatindance.com/event/latin-nights/2028-05-03/
LOCATION:Blue Agave Cantina\, 14555 Grisby Rd\, Houston\, TX\, 77079\, United States
CATEGORIES:Houston
ATTACH;FMTTYPE=image/jpeg:https://golatindance.com/wp-content/uploads/2026/01/623130700_122118357507132164_2482773891243133089_n.jpg
END:VEVENT
BEGIN:VEVENT
DTSTART;TZID=America/Chicago:20280510T193000
DTEND;TZID=America/Chicago:20280511T020000
DTSTAMP:20260424T132230
CREATED:20260107T195234Z
LAST-MODIFIED:20260128T171316Z
UID:10430678-1841599800-1841623200@golatindance.com
SUMMARY:Latin Nights
DESCRIPTION:Wednesday @ Blue Agave Cantina*\n​(I 10 & HWY 6: Energy Corridor Area)\n14555 GRISBY RD\nHOUSTON TX 77079\n7:30pm: Bachata – All Levels\n8:30pm: Salsa – All Levels\n10pm – 2am: Social Dancing with Live Music!
URL:https://golatindance.com/event/latin-nights/2028-05-10/
LOCATION:Blue Agave Cantina\, 14555 Grisby Rd\, Houston\, TX\, 77079\, United States
CATEGORIES:Houston
ATTACH;FMTTYPE=image/jpeg:https://golatindance.com/wp-content/uploads/2026/01/623130700_122118357507132164_2482773891243133089_n.jpg
END:VEVENT
BEGIN:VEVENT
DTSTART;TZID=America/Chicago:20280517T193000
DTEND;TZID=America/Chicago:20280518T020000
DTSTAMP:20260424T132230
CREATED:20260107T195234Z
LAST-MODIFIED:20260128T171316Z
UID:10430679-1842204600-1842228000@golatindance.com
SUMMARY:Latin Nights
DESCRIPTION:Wednesday @ Blue Agave Cantina*\n​(I 10 & HWY 6: Energy Corridor Area)\n14555 GRISBY RD\nHOUSTON TX 77079\n7:30pm: Bachata – All Levels\n8:30pm: Salsa – All Levels\n10pm – 2am: Social Dancing with Live Music!
URL:https://golatindance.com/event/latin-nights/2028-05-17/
LOCATION:Blue Agave Cantina\, 14555 Grisby Rd\, Houston\, TX\, 77079\, United States
CATEGORIES:Houston
ATTACH;FMTTYPE=image/jpeg:https://golatindance.com/wp-content/uploads/2026/01/623130700_122118357507132164_2482773891243133089_n.jpg
END:VEVENT
BEGIN:VEVENT
DTSTART;TZID=America/Chicago:20280524T193000
DTEND;TZID=America/Chicago:20280525T020000
DTSTAMP:20260424T132230
CREATED:20260107T195234Z
LAST-MODIFIED:20260128T171316Z
UID:10430680-1842809400-1842832800@golatindance.com
SUMMARY:Latin Nights
DESCRIPTION:Wednesday @ Blue Agave Cantina*\n​(I 10 & HWY 6: Energy Corridor Area)\n14555 GRISBY RD\nHOUSTON TX 77079\n7:30pm: Bachata – All Levels\n8:30pm: Salsa – All Levels\n10pm – 2am: Social Dancing with Live Music!
URL:https://golatindance.com/event/latin-nights/2028-05-24/
LOCATION:Blue Agave Cantina\, 14555 Grisby Rd\, Houston\, TX\, 77079\, United States
CATEGORIES:Houston
ATTACH;FMTTYPE=image/jpeg:https://golatindance.com/wp-content/uploads/2026/01/623130700_122118357507132164_2482773891243133089_n.jpg
END:VEVENT
BEGIN:VEVENT
DTSTART;TZID=America/Chicago:20280531T193000
DTEND;TZID=America/Chicago:20280601T020000
DTSTAMP:20260424T132230
CREATED:20260107T195234Z
LAST-MODIFIED:20260128T171316Z
UID:10430681-1843414200-1843437600@golatindance.com
SUMMARY:Latin Nights
DESCRIPTION:Wednesday @ Blue Agave Cantina*\n​(I 10 & HWY 6: Energy Corridor Area)\n14555 GRISBY RD\nHOUSTON TX 77079\n7:30pm: Bachata – All Levels\n8:30pm: Salsa – All Levels\n10pm – 2am: Social Dancing with Live Music!
URL:https://golatindance.com/event/latin-nights/2028-05-31/
LOCATION:Blue Agave Cantina\, 14555 Grisby Rd\, Houston\, TX\, 77079\, United States
CATEGORIES:Houston
ATTACH;FMTTYPE=image/jpeg:https://golatindance.com/wp-content/uploads/2026/01/623130700_122118357507132164_2482773891243133089_n.jpg
END:VEVENT
BEGIN:VEVENT
DTSTART;TZID=America/Chicago:20280607T193000
DTEND;TZID=America/Chicago:20280608T020000
DTSTAMP:20260424T132230
CREATED:20260107T195234Z
LAST-MODIFIED:20260128T171316Z
UID:10430682-1844019000-1844042400@golatindance.com
SUMMARY:Latin Nights
DESCRIPTION:Wednesday @ Blue Agave Cantina*\n​(I 10 & HWY 6: Energy Corridor Area)\n14555 GRISBY RD\nHOUSTON TX 77079\n7:30pm: Bachata – All Levels\n8:30pm: Salsa – All Levels\n10pm – 2am: Social Dancing with Live Music!
URL:https://golatindance.com/event/latin-nights/2028-06-07/
LOCATION:Blue Agave Cantina\, 14555 Grisby Rd\, Houston\, TX\, 77079\, United States
CATEGORIES:Houston
ATTACH;FMTTYPE=image/jpeg:https://golatindance.com/wp-content/uploads/2026/01/623130700_122118357507132164_2482773891243133089_n.jpg
END:VEVENT
BEGIN:VEVENT
DTSTART;TZID=America/Chicago:20280614T193000
DTEND;TZID=America/Chicago:20280615T020000
DTSTAMP:20260424T132230
CREATED:20260107T195234Z
LAST-MODIFIED:20260128T171316Z
UID:10430683-1844623800-1844647200@golatindance.com
SUMMARY:Latin Nights
DESCRIPTION:Wednesday @ Blue Agave Cantina*\n​(I 10 & HWY 6: Energy Corridor Area)\n14555 GRISBY RD\nHOUSTON TX 77079\n7:30pm: Bachata – All Levels\n8:30pm: Salsa – All Levels\n10pm – 2am: Social Dancing with Live Music!
URL:https://golatindance.com/event/latin-nights/2028-06-14/
LOCATION:Blue Agave Cantina\, 14555 Grisby Rd\, Houston\, TX\, 77079\, United States
CATEGORIES:Houston
ATTACH;FMTTYPE=image/jpeg:https://golatindance.com/wp-content/uploads/2026/01/623130700_122118357507132164_2482773891243133089_n.jpg
END:VEVENT
BEGIN:VEVENT
DTSTART;TZID=America/Chicago:20280621T193000
DTEND;TZID=America/Chicago:20280622T020000
DTSTAMP:20260424T132230
CREATED:20260107T195234Z
LAST-MODIFIED:20260128T171316Z
UID:10430684-1845228600-1845252000@golatindance.com
SUMMARY:Latin Nights
DESCRIPTION:Wednesday @ Blue Agave Cantina*\n​(I 10 & HWY 6: Energy Corridor Area)\n14555 GRISBY RD\nHOUSTON TX 77079\n7:30pm: Bachata – All Levels\n8:30pm: Salsa – All Levels\n10pm – 2am: Social Dancing with Live Music!
URL:https://golatindance.com/event/latin-nights/2028-06-21/
LOCATION:Blue Agave Cantina\, 14555 Grisby Rd\, Houston\, TX\, 77079\, United States
CATEGORIES:Houston
ATTACH;FMTTYPE=image/jpeg:https://golatindance.com/wp-content/uploads/2026/01/623130700_122118357507132164_2482773891243133089_n.jpg
END:VEVENT
BEGIN:VEVENT
DTSTART;TZID=America/Chicago:20280628T193000
DTEND;TZID=America/Chicago:20280629T020000
DTSTAMP:20260424T132230
CREATED:20260107T195234Z
LAST-MODIFIED:20260128T171316Z
UID:10430685-1845833400-1845856800@golatindance.com
SUMMARY:Latin Nights
DESCRIPTION:Wednesday @ Blue Agave Cantina*\n​(I 10 & HWY 6: Energy Corridor Area)\n14555 GRISBY RD\nHOUSTON TX 77079\n7:30pm: Bachata – All Levels\n8:30pm: Salsa – All Levels\n10pm – 2am: Social Dancing with Live Music!
URL:https://golatindance.com/event/latin-nights/2028-06-28/
LOCATION:Blue Agave Cantina\, 14555 Grisby Rd\, Houston\, TX\, 77079\, United States
CATEGORIES:Houston
ATTACH;FMTTYPE=image/jpeg:https://golatindance.com/wp-content/uploads/2026/01/623130700_122118357507132164_2482773891243133089_n.jpg
END:VEVENT
BEGIN:VEVENT
DTSTART;TZID=America/Chicago:20280705T193000
DTEND;TZID=America/Chicago:20280706T020000
DTSTAMP:20260424T132230
CREATED:20260107T195234Z
LAST-MODIFIED:20260128T171316Z
UID:10430686-1846438200-1846461600@golatindance.com
SUMMARY:Latin Nights
DESCRIPTION:Wednesday @ Blue Agave Cantina*\n​(I 10 & HWY 6: Energy Corridor Area)\n14555 GRISBY RD\nHOUSTON TX 77079\n7:30pm: Bachata – All Levels\n8:30pm: Salsa – All Levels\n10pm – 2am: Social Dancing with Live Music!
URL:https://golatindance.com/event/latin-nights/2028-07-05/
LOCATION:Blue Agave Cantina\, 14555 Grisby Rd\, Houston\, TX\, 77079\, United States
CATEGORIES:Houston
ATTACH;FMTTYPE=image/jpeg:https://golatindance.com/wp-content/uploads/2026/01/623130700_122118357507132164_2482773891243133089_n.jpg
END:VEVENT
BEGIN:VEVENT
DTSTART;TZID=America/Chicago:20280712T193000
DTEND;TZID=America/Chicago:20280713T020000
DTSTAMP:20260424T132230
CREATED:20260107T195234Z
LAST-MODIFIED:20260128T171316Z
UID:10430687-1847043000-1847066400@golatindance.com
SUMMARY:Latin Nights
DESCRIPTION:Wednesday @ Blue Agave Cantina*\n​(I 10 & HWY 6: Energy Corridor Area)\n14555 GRISBY RD\nHOUSTON TX 77079\n7:30pm: Bachata – All Levels\n8:30pm: Salsa – All Levels\n10pm – 2am: Social Dancing with Live Music!
URL:https://golatindance.com/event/latin-nights/2028-07-12/
LOCATION:Blue Agave Cantina\, 14555 Grisby Rd\, Houston\, TX\, 77079\, United States
CATEGORIES:Houston
ATTACH;FMTTYPE=image/jpeg:https://golatindance.com/wp-content/uploads/2026/01/623130700_122118357507132164_2482773891243133089_n.jpg
END:VEVENT
BEGIN:VEVENT
DTSTART;TZID=America/Chicago:20280719T193000
DTEND;TZID=America/Chicago:20280720T020000
DTSTAMP:20260424T132230
CREATED:20260107T195234Z
LAST-MODIFIED:20260128T171316Z
UID:10430688-1847647800-1847671200@golatindance.com
SUMMARY:Latin Nights
DESCRIPTION:Wednesday @ Blue Agave Cantina*\n​(I 10 & HWY 6: Energy Corridor Area)\n14555 GRISBY RD\nHOUSTON TX 77079\n7:30pm: Bachata – All Levels\n8:30pm: Salsa – All Levels\n10pm – 2am: Social Dancing with Live Music!
URL:https://golatindance.com/event/latin-nights/2028-07-19/
LOCATION:Blue Agave Cantina\, 14555 Grisby Rd\, Houston\, TX\, 77079\, United States
CATEGORIES:Houston
ATTACH;FMTTYPE=image/jpeg:https://golatindance.com/wp-content/uploads/2026/01/623130700_122118357507132164_2482773891243133089_n.jpg
END:VEVENT
BEGIN:VEVENT
DTSTART;TZID=America/Chicago:20280726T193000
DTEND;TZID=America/Chicago:20280727T020000
DTSTAMP:20260424T132230
CREATED:20260107T195234Z
LAST-MODIFIED:20260128T171316Z
UID:10430689-1848252600-1848276000@golatindance.com
SUMMARY:Latin Nights
DESCRIPTION:Wednesday @ Blue Agave Cantina*\n​(I 10 & HWY 6: Energy Corridor Area)\n14555 GRISBY RD\nHOUSTON TX 77079\n7:30pm: Bachata – All Levels\n8:30pm: Salsa – All Levels\n10pm – 2am: Social Dancing with Live Music!
URL:https://golatindance.com/event/latin-nights/2028-07-26/
LOCATION:Blue Agave Cantina\, 14555 Grisby Rd\, Houston\, TX\, 77079\, United States
CATEGORIES:Houston
ATTACH;FMTTYPE=image/jpeg:https://golatindance.com/wp-content/uploads/2026/01/623130700_122118357507132164_2482773891243133089_n.jpg
END:VEVENT
BEGIN:VEVENT
DTSTART;TZID=America/Chicago:20280802T193000
DTEND;TZID=America/Chicago:20280803T020000
DTSTAMP:20260424T132230
CREATED:20260107T195234Z
LAST-MODIFIED:20260128T171316Z
UID:10430690-1848857400-1848880800@golatindance.com
SUMMARY:Latin Nights
DESCRIPTION:Wednesday @ Blue Agave Cantina*\n​(I 10 & HWY 6: Energy Corridor Area)\n14555 GRISBY RD\nHOUSTON TX 77079\n7:30pm: Bachata – All Levels\n8:30pm: Salsa – All Levels\n10pm – 2am: Social Dancing with Live Music!
URL:https://golatindance.com/event/latin-nights/2028-08-02/
LOCATION:Blue Agave Cantina\, 14555 Grisby Rd\, Houston\, TX\, 77079\, United States
CATEGORIES:Houston
ATTACH;FMTTYPE=image/jpeg:https://golatindance.com/wp-content/uploads/2026/01/623130700_122118357507132164_2482773891243133089_n.jpg
END:VEVENT
BEGIN:VEVENT
DTSTART;TZID=America/Chicago:20280809T193000
DTEND;TZID=America/Chicago:20280810T020000
DTSTAMP:20260424T132230
CREATED:20260107T195234Z
LAST-MODIFIED:20260128T171316Z
UID:10430691-1849462200-1849485600@golatindance.com
SUMMARY:Latin Nights
DESCRIPTION:Wednesday @ Blue Agave Cantina*\n​(I 10 & HWY 6: Energy Corridor Area)\n14555 GRISBY RD\nHOUSTON TX 77079\n7:30pm: Bachata – All Levels\n8:30pm: Salsa – All Levels\n10pm – 2am: Social Dancing with Live Music!
URL:https://golatindance.com/event/latin-nights/2028-08-09/
LOCATION:Blue Agave Cantina\, 14555 Grisby Rd\, Houston\, TX\, 77079\, United States
CATEGORIES:Houston
ATTACH;FMTTYPE=image/jpeg:https://golatindance.com/wp-content/uploads/2026/01/623130700_122118357507132164_2482773891243133089_n.jpg
END:VEVENT
END:VCALENDAR