BEGIN:VCALENDAR
VERSION:2.0
PRODID:-//GO Latin Dance - ECPv6.15.18//NONSGML v1.0//EN
CALSCALE:GREGORIAN
METHOD:PUBLISH
X-ORIGINAL-URL:https://golatindance.com
X-WR-CALDESC:Events for GO Latin Dance
REFRESH-INTERVAL;VALUE=DURATION:PT1H
X-Robots-Tag:noindex
X-PUBLISHED-TTL:PT1H
BEGIN:VTIMEZONE
TZID:America/Chicago
BEGIN:DAYLIGHT
TZOFFSETFROM:-0600
TZOFFSETTO:-0500
TZNAME:CDT
DTSTART:20250309T080000
END:DAYLIGHT
BEGIN:STANDARD
TZOFFSETFROM:-0500
TZOFFSETTO:-0600
TZNAME:CST
DTSTART:20251102T070000
END:STANDARD
BEGIN:DAYLIGHT
TZOFFSETFROM:-0600
TZOFFSETTO:-0500
TZNAME:CDT
DTSTART:20260308T080000
END:DAYLIGHT
BEGIN:STANDARD
TZOFFSETFROM:-0500
TZOFFSETTO:-0600
TZNAME:CST
DTSTART:20261101T070000
END:STANDARD
BEGIN:DAYLIGHT
TZOFFSETFROM:-0600
TZOFFSETTO:-0500
TZNAME:CDT
DTSTART:20270314T080000
END:DAYLIGHT
BEGIN:STANDARD
TZOFFSETFROM:-0500
TZOFFSETTO:-0600
TZNAME:CST
DTSTART:20271107T070000
END:STANDARD
END:VTIMEZONE
BEGIN:VEVENT
DTSTART;TZID=America/Chicago:20260204T193000
DTEND;TZID=America/Chicago:20260205T020000
DTSTAMP:20260422T081558
CREATED:20260107T195234Z
LAST-MODIFIED:20260128T171316Z
UID:10430560-1770233400-1770256800@golatindance.com
SUMMARY:Latin Nights
DESCRIPTION:Wednesday @ Blue Agave Cantina*\n​(I 10 & HWY 6: Energy Corridor Area)\n14555 GRISBY RD\nHOUSTON TX 77079\n7:30pm: Bachata – All Levels\n8:30pm: Salsa – All Levels\n10pm – 2am: Social Dancing with Live Music!
URL:https://golatindance.com/event/latin-nights/2026-02-04/
LOCATION:Blue Agave Cantina\, 14555 Grisby Rd\, Houston\, TX\, 77079\, United States
CATEGORIES:Houston
ATTACH;FMTTYPE=image/jpeg:https://golatindance.com/wp-content/uploads/2026/01/623130700_122118357507132164_2482773891243133089_n.jpg
END:VEVENT
BEGIN:VEVENT
DTSTART;TZID=America/Chicago:20260128T193000
DTEND;TZID=America/Chicago:20260129T020000
DTSTAMP:20260422T081558
CREATED:20260107T195234Z
LAST-MODIFIED:20260128T171316Z
UID:10430559-1769628600-1769652000@golatindance.com
SUMMARY:Latin Nights
DESCRIPTION:Wednesday @ Blue Agave Cantina*\n​(I 10 & HWY 6: Energy Corridor Area)\n14555 GRISBY RD\nHOUSTON TX 77079\n7:30pm: Bachata – All Levels\n8:30pm: Salsa – All Levels\n10pm – 2am: Social Dancing with Live Music!
URL:https://golatindance.com/event/latin-nights/2026-01-28/
LOCATION:Blue Agave Cantina\, 14555 Grisby Rd\, Houston\, TX\, 77079\, United States
CATEGORIES:Houston
ATTACH;FMTTYPE=image/jpeg:https://golatindance.com/wp-content/uploads/2026/01/623130700_122118357507132164_2482773891243133089_n.jpg
END:VEVENT
BEGIN:VEVENT
DTSTART;TZID=America/Chicago:20260121T193000
DTEND;TZID=America/Chicago:20260122T020000
DTSTAMP:20260422T081558
CREATED:20260107T195234Z
LAST-MODIFIED:20260128T171316Z
UID:10430558-1769023800-1769047200@golatindance.com
SUMMARY:Latin Nights
DESCRIPTION:Wednesday @ Blue Agave Cantina*\n​(I 10 & HWY 6: Energy Corridor Area)\n14555 GRISBY RD\nHOUSTON TX 77079\n7:30pm: Bachata – All Levels\n8:30pm: Salsa – All Levels\n10pm – 2am: Social Dancing with Live Music!
URL:https://golatindance.com/event/latin-nights/2026-01-21/
LOCATION:Blue Agave Cantina\, 14555 Grisby Rd\, Houston\, TX\, 77079\, United States
CATEGORIES:Houston
ATTACH;FMTTYPE=image/jpeg:https://golatindance.com/wp-content/uploads/2026/01/623130700_122118357507132164_2482773891243133089_n.jpg
END:VEVENT
BEGIN:VEVENT
DTSTART;TZID=America/Chicago:20260114T193000
DTEND;TZID=America/Chicago:20260115T020000
DTSTAMP:20260422T081558
CREATED:20260107T195234Z
LAST-MODIFIED:20260128T171316Z
UID:10430557-1768419000-1768442400@golatindance.com
SUMMARY:Latin Nights
DESCRIPTION:Wednesday @ Blue Agave Cantina*\n​(I 10 & HWY 6: Energy Corridor Area)\n14555 GRISBY RD\nHOUSTON TX 77079\n7:30pm: Bachata – All Levels\n8:30pm: Salsa – All Levels\n10pm – 2am: Social Dancing with Live Music!
URL:https://golatindance.com/event/latin-nights/2026-01-14/
LOCATION:Blue Agave Cantina\, 14555 Grisby Rd\, Houston\, TX\, 77079\, United States
CATEGORIES:Houston
ATTACH;FMTTYPE=image/jpeg:https://golatindance.com/wp-content/uploads/2026/01/623130700_122118357507132164_2482773891243133089_n.jpg
END:VEVENT
BEGIN:VEVENT
DTSTART;TZID=America/Chicago:20260107T193000
DTEND;TZID=America/Chicago:20260108T020000
DTSTAMP:20260422T081558
CREATED:20260107T195234Z
LAST-MODIFIED:20260128T171316Z
UID:10430556-1767814200-1767837600@golatindance.com
SUMMARY:Latin Nights
DESCRIPTION:Wednesday @ Blue Agave Cantina*\n​(I 10 & HWY 6: Energy Corridor Area)\n14555 GRISBY RD\nHOUSTON TX 77079\n7:30pm: Bachata – All Levels\n8:30pm: Salsa – All Levels\n10pm – 2am: Social Dancing with Live Music!
URL:https://golatindance.com/event/latin-nights/2026-01-07/
LOCATION:Blue Agave Cantina\, 14555 Grisby Rd\, Houston\, TX\, 77079\, United States
CATEGORIES:Houston
ATTACH;FMTTYPE=image/jpeg:https://golatindance.com/wp-content/uploads/2026/01/623130700_122118357507132164_2482773891243133089_n.jpg
END:VEVENT
END:VCALENDAR