BEGIN:VCALENDAR
VERSION:2.0
PRODID:-//GO Latin Dance - ECPv6.15.18//NONSGML v1.0//EN
CALSCALE:GREGORIAN
METHOD:PUBLISH
X-ORIGINAL-URL:https://golatindance.com
X-WR-CALDESC:Events for GO Latin Dance
REFRESH-INTERVAL;VALUE=DURATION:PT1H
X-Robots-Tag:noindex
X-PUBLISHED-TTL:PT1H
BEGIN:VTIMEZONE
TZID:America/Chicago
BEGIN:DAYLIGHT
TZOFFSETFROM:-0600
TZOFFSETTO:-0500
TZNAME:CDT
DTSTART:20260308T080000
END:DAYLIGHT
BEGIN:STANDARD
TZOFFSETFROM:-0500
TZOFFSETTO:-0600
TZNAME:CST
DTSTART:20261101T070000
END:STANDARD
BEGIN:DAYLIGHT
TZOFFSETFROM:-0600
TZOFFSETTO:-0500
TZNAME:CDT
DTSTART:20270314T080000
END:DAYLIGHT
BEGIN:STANDARD
TZOFFSETFROM:-0500
TZOFFSETTO:-0600
TZNAME:CST
DTSTART:20271107T070000
END:STANDARD
BEGIN:DAYLIGHT
TZOFFSETFROM:-0600
TZOFFSETTO:-0500
TZNAME:CDT
DTSTART:20280312T080000
END:DAYLIGHT
BEGIN:STANDARD
TZOFFSETFROM:-0500
TZOFFSETTO:-0600
TZNAME:CST
DTSTART:20281105T070000
END:STANDARD
BEGIN:DAYLIGHT
TZOFFSETFROM:-0600
TZOFFSETTO:-0500
TZNAME:CDT
DTSTART:20290311T080000
END:DAYLIGHT
BEGIN:STANDARD
TZOFFSETFROM:-0500
TZOFFSETTO:-0600
TZNAME:CST
DTSTART:20291104T070000
END:STANDARD
END:VTIMEZONE
BEGIN:VEVENT
DTSTART;TZID=America/Chicago:20270623T193000
DTEND;TZID=America/Chicago:20270624T020000
DTSTAMP:20260424T092231
CREATED:20260107T195234Z
LAST-MODIFIED:20260128T171316Z
UID:10430632-1813779000-1813802400@golatindance.com
SUMMARY:Latin Nights
DESCRIPTION:Wednesday @ Blue Agave Cantina*\n​(I 10 & HWY 6: Energy Corridor Area)\n14555 GRISBY RD\nHOUSTON TX 77079\n7:30pm: Bachata – All Levels\n8:30pm: Salsa – All Levels\n10pm – 2am: Social Dancing with Live Music!
URL:https://golatindance.com/event/latin-nights/2027-06-23/
LOCATION:Blue Agave Cantina\, 14555 Grisby Rd\, Houston\, TX\, 77079\, United States
CATEGORIES:Houston
ATTACH;FMTTYPE=image/jpeg:https://golatindance.com/wp-content/uploads/2026/01/623130700_122118357507132164_2482773891243133089_n.jpg
END:VEVENT
BEGIN:VEVENT
DTSTART;TZID=America/Chicago:20270630T193000
DTEND;TZID=America/Chicago:20270701T020000
DTSTAMP:20260424T092231
CREATED:20260107T195234Z
LAST-MODIFIED:20260128T171316Z
UID:10430633-1814383800-1814407200@golatindance.com
SUMMARY:Latin Nights
DESCRIPTION:Wednesday @ Blue Agave Cantina*\n​(I 10 & HWY 6: Energy Corridor Area)\n14555 GRISBY RD\nHOUSTON TX 77079\n7:30pm: Bachata – All Levels\n8:30pm: Salsa – All Levels\n10pm – 2am: Social Dancing with Live Music!
URL:https://golatindance.com/event/latin-nights/2027-06-30/
LOCATION:Blue Agave Cantina\, 14555 Grisby Rd\, Houston\, TX\, 77079\, United States
CATEGORIES:Houston
ATTACH;FMTTYPE=image/jpeg:https://golatindance.com/wp-content/uploads/2026/01/623130700_122118357507132164_2482773891243133089_n.jpg
END:VEVENT
BEGIN:VEVENT
DTSTART;TZID=America/Chicago:20270707T193000
DTEND;TZID=America/Chicago:20270708T020000
DTSTAMP:20260424T092231
CREATED:20260107T195234Z
LAST-MODIFIED:20260128T171316Z
UID:10430634-1814988600-1815012000@golatindance.com
SUMMARY:Latin Nights
DESCRIPTION:Wednesday @ Blue Agave Cantina*\n​(I 10 & HWY 6: Energy Corridor Area)\n14555 GRISBY RD\nHOUSTON TX 77079\n7:30pm: Bachata – All Levels\n8:30pm: Salsa – All Levels\n10pm – 2am: Social Dancing with Live Music!
URL:https://golatindance.com/event/latin-nights/2027-07-07/
LOCATION:Blue Agave Cantina\, 14555 Grisby Rd\, Houston\, TX\, 77079\, United States
CATEGORIES:Houston
ATTACH;FMTTYPE=image/jpeg:https://golatindance.com/wp-content/uploads/2026/01/623130700_122118357507132164_2482773891243133089_n.jpg
END:VEVENT
BEGIN:VEVENT
DTSTART;TZID=America/Chicago:20270714T193000
DTEND;TZID=America/Chicago:20270715T020000
DTSTAMP:20260424T092231
CREATED:20260107T195234Z
LAST-MODIFIED:20260128T171316Z
UID:10430635-1815593400-1815616800@golatindance.com
SUMMARY:Latin Nights
DESCRIPTION:Wednesday @ Blue Agave Cantina*\n​(I 10 & HWY 6: Energy Corridor Area)\n14555 GRISBY RD\nHOUSTON TX 77079\n7:30pm: Bachata – All Levels\n8:30pm: Salsa – All Levels\n10pm – 2am: Social Dancing with Live Music!
URL:https://golatindance.com/event/latin-nights/2027-07-14/
LOCATION:Blue Agave Cantina\, 14555 Grisby Rd\, Houston\, TX\, 77079\, United States
CATEGORIES:Houston
ATTACH;FMTTYPE=image/jpeg:https://golatindance.com/wp-content/uploads/2026/01/623130700_122118357507132164_2482773891243133089_n.jpg
END:VEVENT
BEGIN:VEVENT
DTSTART;TZID=America/Chicago:20270721T193000
DTEND;TZID=America/Chicago:20270722T020000
DTSTAMP:20260424T092231
CREATED:20260107T195234Z
LAST-MODIFIED:20260128T171316Z
UID:10430636-1816198200-1816221600@golatindance.com
SUMMARY:Latin Nights
DESCRIPTION:Wednesday @ Blue Agave Cantina*\n​(I 10 & HWY 6: Energy Corridor Area)\n14555 GRISBY RD\nHOUSTON TX 77079\n7:30pm: Bachata – All Levels\n8:30pm: Salsa – All Levels\n10pm – 2am: Social Dancing with Live Music!
URL:https://golatindance.com/event/latin-nights/2027-07-21/
LOCATION:Blue Agave Cantina\, 14555 Grisby Rd\, Houston\, TX\, 77079\, United States
CATEGORIES:Houston
ATTACH;FMTTYPE=image/jpeg:https://golatindance.com/wp-content/uploads/2026/01/623130700_122118357507132164_2482773891243133089_n.jpg
END:VEVENT
BEGIN:VEVENT
DTSTART;TZID=America/Chicago:20270728T193000
DTEND;TZID=America/Chicago:20270729T020000
DTSTAMP:20260424T092231
CREATED:20260107T195234Z
LAST-MODIFIED:20260128T171316Z
UID:10430637-1816803000-1816826400@golatindance.com
SUMMARY:Latin Nights
DESCRIPTION:Wednesday @ Blue Agave Cantina*\n​(I 10 & HWY 6: Energy Corridor Area)\n14555 GRISBY RD\nHOUSTON TX 77079\n7:30pm: Bachata – All Levels\n8:30pm: Salsa – All Levels\n10pm – 2am: Social Dancing with Live Music!
URL:https://golatindance.com/event/latin-nights/2027-07-28/
LOCATION:Blue Agave Cantina\, 14555 Grisby Rd\, Houston\, TX\, 77079\, United States
CATEGORIES:Houston
ATTACH;FMTTYPE=image/jpeg:https://golatindance.com/wp-content/uploads/2026/01/623130700_122118357507132164_2482773891243133089_n.jpg
END:VEVENT
BEGIN:VEVENT
DTSTART;TZID=America/Chicago:20270804T193000
DTEND;TZID=America/Chicago:20270805T020000
DTSTAMP:20260424T092231
CREATED:20260107T195234Z
LAST-MODIFIED:20260128T171316Z
UID:10430638-1817407800-1817431200@golatindance.com
SUMMARY:Latin Nights
DESCRIPTION:Wednesday @ Blue Agave Cantina*\n​(I 10 & HWY 6: Energy Corridor Area)\n14555 GRISBY RD\nHOUSTON TX 77079\n7:30pm: Bachata – All Levels\n8:30pm: Salsa – All Levels\n10pm – 2am: Social Dancing with Live Music!
URL:https://golatindance.com/event/latin-nights/2027-08-04/
LOCATION:Blue Agave Cantina\, 14555 Grisby Rd\, Houston\, TX\, 77079\, United States
CATEGORIES:Houston
ATTACH;FMTTYPE=image/jpeg:https://golatindance.com/wp-content/uploads/2026/01/623130700_122118357507132164_2482773891243133089_n.jpg
END:VEVENT
BEGIN:VEVENT
DTSTART;TZID=America/Chicago:20270811T193000
DTEND;TZID=America/Chicago:20270812T020000
DTSTAMP:20260424T092231
CREATED:20260107T195234Z
LAST-MODIFIED:20260128T171316Z
UID:10430639-1818012600-1818036000@golatindance.com
SUMMARY:Latin Nights
DESCRIPTION:Wednesday @ Blue Agave Cantina*\n​(I 10 & HWY 6: Energy Corridor Area)\n14555 GRISBY RD\nHOUSTON TX 77079\n7:30pm: Bachata – All Levels\n8:30pm: Salsa – All Levels\n10pm – 2am: Social Dancing with Live Music!
URL:https://golatindance.com/event/latin-nights/2027-08-11/
LOCATION:Blue Agave Cantina\, 14555 Grisby Rd\, Houston\, TX\, 77079\, United States
CATEGORIES:Houston
ATTACH;FMTTYPE=image/jpeg:https://golatindance.com/wp-content/uploads/2026/01/623130700_122118357507132164_2482773891243133089_n.jpg
END:VEVENT
BEGIN:VEVENT
DTSTART;TZID=America/Chicago:20270818T193000
DTEND;TZID=America/Chicago:20270819T020000
DTSTAMP:20260424T092231
CREATED:20260107T195234Z
LAST-MODIFIED:20260128T171316Z
UID:10430640-1818617400-1818640800@golatindance.com
SUMMARY:Latin Nights
DESCRIPTION:Wednesday @ Blue Agave Cantina*\n​(I 10 & HWY 6: Energy Corridor Area)\n14555 GRISBY RD\nHOUSTON TX 77079\n7:30pm: Bachata – All Levels\n8:30pm: Salsa – All Levels\n10pm – 2am: Social Dancing with Live Music!
URL:https://golatindance.com/event/latin-nights/2027-08-18/
LOCATION:Blue Agave Cantina\, 14555 Grisby Rd\, Houston\, TX\, 77079\, United States
CATEGORIES:Houston
ATTACH;FMTTYPE=image/jpeg:https://golatindance.com/wp-content/uploads/2026/01/623130700_122118357507132164_2482773891243133089_n.jpg
END:VEVENT
BEGIN:VEVENT
DTSTART;TZID=America/Chicago:20270825T193000
DTEND;TZID=America/Chicago:20270826T020000
DTSTAMP:20260424T092231
CREATED:20260107T195234Z
LAST-MODIFIED:20260128T171316Z
UID:10430641-1819222200-1819245600@golatindance.com
SUMMARY:Latin Nights
DESCRIPTION:Wednesday @ Blue Agave Cantina*\n​(I 10 & HWY 6: Energy Corridor Area)\n14555 GRISBY RD\nHOUSTON TX 77079\n7:30pm: Bachata – All Levels\n8:30pm: Salsa – All Levels\n10pm – 2am: Social Dancing with Live Music!
URL:https://golatindance.com/event/latin-nights/2027-08-25/
LOCATION:Blue Agave Cantina\, 14555 Grisby Rd\, Houston\, TX\, 77079\, United States
CATEGORIES:Houston
ATTACH;FMTTYPE=image/jpeg:https://golatindance.com/wp-content/uploads/2026/01/623130700_122118357507132164_2482773891243133089_n.jpg
END:VEVENT
BEGIN:VEVENT
DTSTART;TZID=America/Chicago:20270901T193000
DTEND;TZID=America/Chicago:20270902T020000
DTSTAMP:20260424T092231
CREATED:20260107T195234Z
LAST-MODIFIED:20260128T171316Z
UID:10430642-1819827000-1819850400@golatindance.com
SUMMARY:Latin Nights
DESCRIPTION:Wednesday @ Blue Agave Cantina*\n​(I 10 & HWY 6: Energy Corridor Area)\n14555 GRISBY RD\nHOUSTON TX 77079\n7:30pm: Bachata – All Levels\n8:30pm: Salsa – All Levels\n10pm – 2am: Social Dancing with Live Music!
URL:https://golatindance.com/event/latin-nights/2027-09-01/
LOCATION:Blue Agave Cantina\, 14555 Grisby Rd\, Houston\, TX\, 77079\, United States
CATEGORIES:Houston
ATTACH;FMTTYPE=image/jpeg:https://golatindance.com/wp-content/uploads/2026/01/623130700_122118357507132164_2482773891243133089_n.jpg
END:VEVENT
BEGIN:VEVENT
DTSTART;TZID=America/Chicago:20270908T193000
DTEND;TZID=America/Chicago:20270909T020000
DTSTAMP:20260424T092231
CREATED:20260107T195234Z
LAST-MODIFIED:20260128T171316Z
UID:10430643-1820431800-1820455200@golatindance.com
SUMMARY:Latin Nights
DESCRIPTION:Wednesday @ Blue Agave Cantina*\n​(I 10 & HWY 6: Energy Corridor Area)\n14555 GRISBY RD\nHOUSTON TX 77079\n7:30pm: Bachata – All Levels\n8:30pm: Salsa – All Levels\n10pm – 2am: Social Dancing with Live Music!
URL:https://golatindance.com/event/latin-nights/2027-09-08/
LOCATION:Blue Agave Cantina\, 14555 Grisby Rd\, Houston\, TX\, 77079\, United States
CATEGORIES:Houston
ATTACH;FMTTYPE=image/jpeg:https://golatindance.com/wp-content/uploads/2026/01/623130700_122118357507132164_2482773891243133089_n.jpg
END:VEVENT
BEGIN:VEVENT
DTSTART;TZID=America/Chicago:20270915T193000
DTEND;TZID=America/Chicago:20270916T020000
DTSTAMP:20260424T092231
CREATED:20260107T195234Z
LAST-MODIFIED:20260128T171316Z
UID:10430644-1821036600-1821060000@golatindance.com
SUMMARY:Latin Nights
DESCRIPTION:Wednesday @ Blue Agave Cantina*\n​(I 10 & HWY 6: Energy Corridor Area)\n14555 GRISBY RD\nHOUSTON TX 77079\n7:30pm: Bachata – All Levels\n8:30pm: Salsa – All Levels\n10pm – 2am: Social Dancing with Live Music!
URL:https://golatindance.com/event/latin-nights/2027-09-15/
LOCATION:Blue Agave Cantina\, 14555 Grisby Rd\, Houston\, TX\, 77079\, United States
CATEGORIES:Houston
ATTACH;FMTTYPE=image/jpeg:https://golatindance.com/wp-content/uploads/2026/01/623130700_122118357507132164_2482773891243133089_n.jpg
END:VEVENT
BEGIN:VEVENT
DTSTART;TZID=America/Chicago:20270922T193000
DTEND;TZID=America/Chicago:20270923T020000
DTSTAMP:20260424T092231
CREATED:20260107T195234Z
LAST-MODIFIED:20260128T171316Z
UID:10430645-1821641400-1821664800@golatindance.com
SUMMARY:Latin Nights
DESCRIPTION:Wednesday @ Blue Agave Cantina*\n​(I 10 & HWY 6: Energy Corridor Area)\n14555 GRISBY RD\nHOUSTON TX 77079\n7:30pm: Bachata – All Levels\n8:30pm: Salsa – All Levels\n10pm – 2am: Social Dancing with Live Music!
URL:https://golatindance.com/event/latin-nights/2027-09-22/
LOCATION:Blue Agave Cantina\, 14555 Grisby Rd\, Houston\, TX\, 77079\, United States
CATEGORIES:Houston
ATTACH;FMTTYPE=image/jpeg:https://golatindance.com/wp-content/uploads/2026/01/623130700_122118357507132164_2482773891243133089_n.jpg
END:VEVENT
BEGIN:VEVENT
DTSTART;TZID=America/Chicago:20270929T193000
DTEND;TZID=America/Chicago:20270930T020000
DTSTAMP:20260424T092231
CREATED:20260107T195234Z
LAST-MODIFIED:20260128T171316Z
UID:10430646-1822246200-1822269600@golatindance.com
SUMMARY:Latin Nights
DESCRIPTION:Wednesday @ Blue Agave Cantina*\n​(I 10 & HWY 6: Energy Corridor Area)\n14555 GRISBY RD\nHOUSTON TX 77079\n7:30pm: Bachata – All Levels\n8:30pm: Salsa – All Levels\n10pm – 2am: Social Dancing with Live Music!
URL:https://golatindance.com/event/latin-nights/2027-09-29/
LOCATION:Blue Agave Cantina\, 14555 Grisby Rd\, Houston\, TX\, 77079\, United States
CATEGORIES:Houston
ATTACH;FMTTYPE=image/jpeg:https://golatindance.com/wp-content/uploads/2026/01/623130700_122118357507132164_2482773891243133089_n.jpg
END:VEVENT
BEGIN:VEVENT
DTSTART;TZID=America/Chicago:20271006T193000
DTEND;TZID=America/Chicago:20271007T020000
DTSTAMP:20260424T092231
CREATED:20260107T195234Z
LAST-MODIFIED:20260128T171316Z
UID:10430647-1822851000-1822874400@golatindance.com
SUMMARY:Latin Nights
DESCRIPTION:Wednesday @ Blue Agave Cantina*\n​(I 10 & HWY 6: Energy Corridor Area)\n14555 GRISBY RD\nHOUSTON TX 77079\n7:30pm: Bachata – All Levels\n8:30pm: Salsa – All Levels\n10pm – 2am: Social Dancing with Live Music!
URL:https://golatindance.com/event/latin-nights/2027-10-06/
LOCATION:Blue Agave Cantina\, 14555 Grisby Rd\, Houston\, TX\, 77079\, United States
CATEGORIES:Houston
ATTACH;FMTTYPE=image/jpeg:https://golatindance.com/wp-content/uploads/2026/01/623130700_122118357507132164_2482773891243133089_n.jpg
END:VEVENT
BEGIN:VEVENT
DTSTART;TZID=America/Chicago:20271013T193000
DTEND;TZID=America/Chicago:20271014T020000
DTSTAMP:20260424T092231
CREATED:20260107T195234Z
LAST-MODIFIED:20260128T171316Z
UID:10430648-1823455800-1823479200@golatindance.com
SUMMARY:Latin Nights
DESCRIPTION:Wednesday @ Blue Agave Cantina*\n​(I 10 & HWY 6: Energy Corridor Area)\n14555 GRISBY RD\nHOUSTON TX 77079\n7:30pm: Bachata – All Levels\n8:30pm: Salsa – All Levels\n10pm – 2am: Social Dancing with Live Music!
URL:https://golatindance.com/event/latin-nights/2027-10-13/
LOCATION:Blue Agave Cantina\, 14555 Grisby Rd\, Houston\, TX\, 77079\, United States
CATEGORIES:Houston
ATTACH;FMTTYPE=image/jpeg:https://golatindance.com/wp-content/uploads/2026/01/623130700_122118357507132164_2482773891243133089_n.jpg
END:VEVENT
BEGIN:VEVENT
DTSTART;TZID=America/Chicago:20271020T193000
DTEND;TZID=America/Chicago:20271021T020000
DTSTAMP:20260424T092231
CREATED:20260107T195234Z
LAST-MODIFIED:20260128T171316Z
UID:10430649-1824060600-1824084000@golatindance.com
SUMMARY:Latin Nights
DESCRIPTION:Wednesday @ Blue Agave Cantina*\n​(I 10 & HWY 6: Energy Corridor Area)\n14555 GRISBY RD\nHOUSTON TX 77079\n7:30pm: Bachata – All Levels\n8:30pm: Salsa – All Levels\n10pm – 2am: Social Dancing with Live Music!
URL:https://golatindance.com/event/latin-nights/2027-10-20/
LOCATION:Blue Agave Cantina\, 14555 Grisby Rd\, Houston\, TX\, 77079\, United States
CATEGORIES:Houston
ATTACH;FMTTYPE=image/jpeg:https://golatindance.com/wp-content/uploads/2026/01/623130700_122118357507132164_2482773891243133089_n.jpg
END:VEVENT
BEGIN:VEVENT
DTSTART;TZID=America/Chicago:20271027T193000
DTEND;TZID=America/Chicago:20271028T020000
DTSTAMP:20260424T092231
CREATED:20260107T195234Z
LAST-MODIFIED:20260128T171316Z
UID:10430650-1824665400-1824688800@golatindance.com
SUMMARY:Latin Nights
DESCRIPTION:Wednesday @ Blue Agave Cantina*\n​(I 10 & HWY 6: Energy Corridor Area)\n14555 GRISBY RD\nHOUSTON TX 77079\n7:30pm: Bachata – All Levels\n8:30pm: Salsa – All Levels\n10pm – 2am: Social Dancing with Live Music!
URL:https://golatindance.com/event/latin-nights/2027-10-27/
LOCATION:Blue Agave Cantina\, 14555 Grisby Rd\, Houston\, TX\, 77079\, United States
CATEGORIES:Houston
ATTACH;FMTTYPE=image/jpeg:https://golatindance.com/wp-content/uploads/2026/01/623130700_122118357507132164_2482773891243133089_n.jpg
END:VEVENT
BEGIN:VEVENT
DTSTART;TZID=America/Chicago:20271103T193000
DTEND;TZID=America/Chicago:20271104T020000
DTSTAMP:20260424T092231
CREATED:20260107T195234Z
LAST-MODIFIED:20260128T171316Z
UID:10430651-1825270200-1825293600@golatindance.com
SUMMARY:Latin Nights
DESCRIPTION:Wednesday @ Blue Agave Cantina*\n​(I 10 & HWY 6: Energy Corridor Area)\n14555 GRISBY RD\nHOUSTON TX 77079\n7:30pm: Bachata – All Levels\n8:30pm: Salsa – All Levels\n10pm – 2am: Social Dancing with Live Music!
URL:https://golatindance.com/event/latin-nights/2027-11-03/
LOCATION:Blue Agave Cantina\, 14555 Grisby Rd\, Houston\, TX\, 77079\, United States
CATEGORIES:Houston
ATTACH;FMTTYPE=image/jpeg:https://golatindance.com/wp-content/uploads/2026/01/623130700_122118357507132164_2482773891243133089_n.jpg
END:VEVENT
BEGIN:VEVENT
DTSTART;TZID=America/Chicago:20271110T193000
DTEND;TZID=America/Chicago:20271111T020000
DTSTAMP:20260424T092231
CREATED:20260107T195234Z
LAST-MODIFIED:20260128T171316Z
UID:10430652-1825875000-1825898400@golatindance.com
SUMMARY:Latin Nights
DESCRIPTION:Wednesday @ Blue Agave Cantina*\n​(I 10 & HWY 6: Energy Corridor Area)\n14555 GRISBY RD\nHOUSTON TX 77079\n7:30pm: Bachata – All Levels\n8:30pm: Salsa – All Levels\n10pm – 2am: Social Dancing with Live Music!
URL:https://golatindance.com/event/latin-nights/2027-11-10/
LOCATION:Blue Agave Cantina\, 14555 Grisby Rd\, Houston\, TX\, 77079\, United States
CATEGORIES:Houston
ATTACH;FMTTYPE=image/jpeg:https://golatindance.com/wp-content/uploads/2026/01/623130700_122118357507132164_2482773891243133089_n.jpg
END:VEVENT
BEGIN:VEVENT
DTSTART;TZID=America/Chicago:20271117T193000
DTEND;TZID=America/Chicago:20271118T020000
DTSTAMP:20260424T092231
CREATED:20260107T195234Z
LAST-MODIFIED:20260128T171316Z
UID:10430653-1826479800-1826503200@golatindance.com
SUMMARY:Latin Nights
DESCRIPTION:Wednesday @ Blue Agave Cantina*\n​(I 10 & HWY 6: Energy Corridor Area)\n14555 GRISBY RD\nHOUSTON TX 77079\n7:30pm: Bachata – All Levels\n8:30pm: Salsa – All Levels\n10pm – 2am: Social Dancing with Live Music!
URL:https://golatindance.com/event/latin-nights/2027-11-17/
LOCATION:Blue Agave Cantina\, 14555 Grisby Rd\, Houston\, TX\, 77079\, United States
CATEGORIES:Houston
ATTACH;FMTTYPE=image/jpeg:https://golatindance.com/wp-content/uploads/2026/01/623130700_122118357507132164_2482773891243133089_n.jpg
END:VEVENT
BEGIN:VEVENT
DTSTART;TZID=America/Chicago:20271124T193000
DTEND;TZID=America/Chicago:20271125T020000
DTSTAMP:20260424T092231
CREATED:20260107T195234Z
LAST-MODIFIED:20260128T171316Z
UID:10430654-1827084600-1827108000@golatindance.com
SUMMARY:Latin Nights
DESCRIPTION:Wednesday @ Blue Agave Cantina*\n​(I 10 & HWY 6: Energy Corridor Area)\n14555 GRISBY RD\nHOUSTON TX 77079\n7:30pm: Bachata – All Levels\n8:30pm: Salsa – All Levels\n10pm – 2am: Social Dancing with Live Music!
URL:https://golatindance.com/event/latin-nights/2027-11-24/
LOCATION:Blue Agave Cantina\, 14555 Grisby Rd\, Houston\, TX\, 77079\, United States
CATEGORIES:Houston
ATTACH;FMTTYPE=image/jpeg:https://golatindance.com/wp-content/uploads/2026/01/623130700_122118357507132164_2482773891243133089_n.jpg
END:VEVENT
BEGIN:VEVENT
DTSTART;TZID=America/Chicago:20271201T193000
DTEND;TZID=America/Chicago:20271202T020000
DTSTAMP:20260424T092231
CREATED:20260107T195234Z
LAST-MODIFIED:20260128T171316Z
UID:10430655-1827689400-1827712800@golatindance.com
SUMMARY:Latin Nights
DESCRIPTION:Wednesday @ Blue Agave Cantina*\n​(I 10 & HWY 6: Energy Corridor Area)\n14555 GRISBY RD\nHOUSTON TX 77079\n7:30pm: Bachata – All Levels\n8:30pm: Salsa – All Levels\n10pm – 2am: Social Dancing with Live Music!
URL:https://golatindance.com/event/latin-nights/2027-12-01/
LOCATION:Blue Agave Cantina\, 14555 Grisby Rd\, Houston\, TX\, 77079\, United States
CATEGORIES:Houston
ATTACH;FMTTYPE=image/jpeg:https://golatindance.com/wp-content/uploads/2026/01/623130700_122118357507132164_2482773891243133089_n.jpg
END:VEVENT
BEGIN:VEVENT
DTSTART;TZID=America/Chicago:20271208T193000
DTEND;TZID=America/Chicago:20271209T020000
DTSTAMP:20260424T092231
CREATED:20260107T195234Z
LAST-MODIFIED:20260128T171316Z
UID:10430656-1828294200-1828317600@golatindance.com
SUMMARY:Latin Nights
DESCRIPTION:Wednesday @ Blue Agave Cantina*\n​(I 10 & HWY 6: Energy Corridor Area)\n14555 GRISBY RD\nHOUSTON TX 77079\n7:30pm: Bachata – All Levels\n8:30pm: Salsa – All Levels\n10pm – 2am: Social Dancing with Live Music!
URL:https://golatindance.com/event/latin-nights/2027-12-08/
LOCATION:Blue Agave Cantina\, 14555 Grisby Rd\, Houston\, TX\, 77079\, United States
CATEGORIES:Houston
ATTACH;FMTTYPE=image/jpeg:https://golatindance.com/wp-content/uploads/2026/01/623130700_122118357507132164_2482773891243133089_n.jpg
END:VEVENT
BEGIN:VEVENT
DTSTART;TZID=America/Chicago:20271215T193000
DTEND;TZID=America/Chicago:20271216T020000
DTSTAMP:20260424T092231
CREATED:20260107T195234Z
LAST-MODIFIED:20260128T171316Z
UID:10430657-1828899000-1828922400@golatindance.com
SUMMARY:Latin Nights
DESCRIPTION:Wednesday @ Blue Agave Cantina*\n​(I 10 & HWY 6: Energy Corridor Area)\n14555 GRISBY RD\nHOUSTON TX 77079\n7:30pm: Bachata – All Levels\n8:30pm: Salsa – All Levels\n10pm – 2am: Social Dancing with Live Music!
URL:https://golatindance.com/event/latin-nights/2027-12-15/
LOCATION:Blue Agave Cantina\, 14555 Grisby Rd\, Houston\, TX\, 77079\, United States
CATEGORIES:Houston
ATTACH;FMTTYPE=image/jpeg:https://golatindance.com/wp-content/uploads/2026/01/623130700_122118357507132164_2482773891243133089_n.jpg
END:VEVENT
BEGIN:VEVENT
DTSTART;TZID=America/Chicago:20271222T193000
DTEND;TZID=America/Chicago:20271223T020000
DTSTAMP:20260424T092231
CREATED:20260107T195234Z
LAST-MODIFIED:20260128T171316Z
UID:10430658-1829503800-1829527200@golatindance.com
SUMMARY:Latin Nights
DESCRIPTION:Wednesday @ Blue Agave Cantina*\n​(I 10 & HWY 6: Energy Corridor Area)\n14555 GRISBY RD\nHOUSTON TX 77079\n7:30pm: Bachata – All Levels\n8:30pm: Salsa – All Levels\n10pm – 2am: Social Dancing with Live Music!
URL:https://golatindance.com/event/latin-nights/2027-12-22/
LOCATION:Blue Agave Cantina\, 14555 Grisby Rd\, Houston\, TX\, 77079\, United States
CATEGORIES:Houston
ATTACH;FMTTYPE=image/jpeg:https://golatindance.com/wp-content/uploads/2026/01/623130700_122118357507132164_2482773891243133089_n.jpg
END:VEVENT
BEGIN:VEVENT
DTSTART;TZID=America/Chicago:20271229T193000
DTEND;TZID=America/Chicago:20271230T020000
DTSTAMP:20260424T092231
CREATED:20260107T195234Z
LAST-MODIFIED:20260128T171316Z
UID:10430659-1830108600-1830132000@golatindance.com
SUMMARY:Latin Nights
DESCRIPTION:Wednesday @ Blue Agave Cantina*\n​(I 10 & HWY 6: Energy Corridor Area)\n14555 GRISBY RD\nHOUSTON TX 77079\n7:30pm: Bachata – All Levels\n8:30pm: Salsa – All Levels\n10pm – 2am: Social Dancing with Live Music!
URL:https://golatindance.com/event/latin-nights/2027-12-29/
LOCATION:Blue Agave Cantina\, 14555 Grisby Rd\, Houston\, TX\, 77079\, United States
CATEGORIES:Houston
ATTACH;FMTTYPE=image/jpeg:https://golatindance.com/wp-content/uploads/2026/01/623130700_122118357507132164_2482773891243133089_n.jpg
END:VEVENT
BEGIN:VEVENT
DTSTART;TZID=America/Chicago:20280105T193000
DTEND;TZID=America/Chicago:20280106T020000
DTSTAMP:20260424T092231
CREATED:20260107T195234Z
LAST-MODIFIED:20260128T171316Z
UID:10430660-1830713400-1830736800@golatindance.com
SUMMARY:Latin Nights
DESCRIPTION:Wednesday @ Blue Agave Cantina*\n​(I 10 & HWY 6: Energy Corridor Area)\n14555 GRISBY RD\nHOUSTON TX 77079\n7:30pm: Bachata – All Levels\n8:30pm: Salsa – All Levels\n10pm – 2am: Social Dancing with Live Music!
URL:https://golatindance.com/event/latin-nights/2028-01-05/
LOCATION:Blue Agave Cantina\, 14555 Grisby Rd\, Houston\, TX\, 77079\, United States
CATEGORIES:Houston
ATTACH;FMTTYPE=image/jpeg:https://golatindance.com/wp-content/uploads/2026/01/623130700_122118357507132164_2482773891243133089_n.jpg
END:VEVENT
BEGIN:VEVENT
DTSTART;TZID=America/Chicago:20280112T193000
DTEND;TZID=America/Chicago:20280113T020000
DTSTAMP:20260424T092231
CREATED:20260107T195234Z
LAST-MODIFIED:20260128T171316Z
UID:10430661-1831318200-1831341600@golatindance.com
SUMMARY:Latin Nights
DESCRIPTION:Wednesday @ Blue Agave Cantina*\n​(I 10 & HWY 6: Energy Corridor Area)\n14555 GRISBY RD\nHOUSTON TX 77079\n7:30pm: Bachata – All Levels\n8:30pm: Salsa – All Levels\n10pm – 2am: Social Dancing with Live Music!
URL:https://golatindance.com/event/latin-nights/2028-01-12/
LOCATION:Blue Agave Cantina\, 14555 Grisby Rd\, Houston\, TX\, 77079\, United States
CATEGORIES:Houston
ATTACH;FMTTYPE=image/jpeg:https://golatindance.com/wp-content/uploads/2026/01/623130700_122118357507132164_2482773891243133089_n.jpg
END:VEVENT
END:VCALENDAR