BEGIN:VCALENDAR
VERSION:2.0
PRODID:-//GO Latin Dance - ECPv6.15.18//NONSGML v1.0//EN
CALSCALE:GREGORIAN
METHOD:PUBLISH
X-WR-CALNAME:GO Latin Dance
X-ORIGINAL-URL:https://golatindance.com
X-WR-CALDESC:Events for GO Latin Dance
REFRESH-INTERVAL;VALUE=DURATION:PT1H
X-Robots-Tag:noindex
X-PUBLISHED-TTL:PT1H
BEGIN:VTIMEZONE
TZID:Europe/London
BEGIN:DAYLIGHT
TZOFFSETFROM:+0000
TZOFFSETTO:+0100
TZNAME:BST
DTSTART:20240331T010000
END:DAYLIGHT
BEGIN:STANDARD
TZOFFSETFROM:+0100
TZOFFSETTO:+0000
TZNAME:GMT
DTSTART:20241027T010000
END:STANDARD
BEGIN:DAYLIGHT
TZOFFSETFROM:+0000
TZOFFSETTO:+0100
TZNAME:BST
DTSTART:20250330T010000
END:DAYLIGHT
BEGIN:STANDARD
TZOFFSETFROM:+0100
TZOFFSETTO:+0000
TZNAME:GMT
DTSTART:20251026T010000
END:STANDARD
BEGIN:DAYLIGHT
TZOFFSETFROM:+0000
TZOFFSETTO:+0100
TZNAME:BST
DTSTART:20260329T010000
END:DAYLIGHT
BEGIN:STANDARD
TZOFFSETFROM:+0100
TZOFFSETTO:+0000
TZNAME:GMT
DTSTART:20261025T010000
END:STANDARD
BEGIN:DAYLIGHT
TZOFFSETFROM:+0000
TZOFFSETTO:+0100
TZNAME:BST
DTSTART:20270328T010000
END:DAYLIGHT
BEGIN:STANDARD
TZOFFSETFROM:+0100
TZOFFSETTO:+0000
TZNAME:GMT
DTSTART:20271031T010000
END:STANDARD
END:VTIMEZONE
BEGIN:VEVENT
DTSTART;TZID=Europe/London:20260208T160000
DTEND;TZID=Europe/London:20260208T230000
DTSTAMP:20260420T083055
CREATED:20251026T233842Z
LAST-MODIFIED:20260112T162144Z
UID:10407662-1770566400-1770591600@golatindance.com
SUMMARY:Cuban Sundays at The Dark Horse Stables
DESCRIPTION:Get ready for Cuban Sundays at The Dark Horse Stables!\nWe’re turning up the heat with two amazing rooms full of dancing\, music\, and good vib\n\n\nGet ready for Cuban Sundays at The Dark Horse Stables! \nWe’re turning up the heat with two amazing rooms full of dancing\, music\, and good vibes! \nLeft Room \n💃 4:00 PM – 6:00 PM: Dance it out with the amazing Maikel Mota \n🎶 6:00 PM – 11:00 PM: Feel the groove as DJ Petit spins the best of Kizomba \nRight Room \n🔥 4:00 PM – 11:00 PM: Keep the party going all night with DJ Ricafed and Johnny Gee \nPlus\, everyone joining the event gets a special discount to dine at any restaurant in The Dark Horse. \nCome dance\, eat\, and celebrate Cuban style!
URL:https://golatindance.com/event/cuban-sundays-at-the-dark-horse-stables/2026-02-08/
LOCATION:The Dark Horse Camden\, 87/88 North Yard\, London\, NW1 8AH\, London\, NW1 8AH\, GB
CATEGORIES:London
ATTACH;FMTTYPE=image/jpeg:https://golatindance.com/wp-content/uploads/2025/10/576580257_1296037892564170_1764372664720525967_n.jpg
END:VEVENT
BEGIN:VEVENT
DTSTART;TZID=Europe/London:20260201T160000
DTEND;TZID=Europe/London:20260201T230000
DTSTAMP:20260420T083055
CREATED:20251026T233842Z
LAST-MODIFIED:20260112T162144Z
UID:10407661-1769961600-1769986800@golatindance.com
SUMMARY:Cuban Sundays at The Dark Horse Stables
DESCRIPTION:Get ready for Cuban Sundays at The Dark Horse Stables!\nWe’re turning up the heat with two amazing rooms full of dancing\, music\, and good vib\n\n\nGet ready for Cuban Sundays at The Dark Horse Stables! \nWe’re turning up the heat with two amazing rooms full of dancing\, music\, and good vibes! \nLeft Room \n💃 4:00 PM – 6:00 PM: Dance it out with the amazing Maikel Mota \n🎶 6:00 PM – 11:00 PM: Feel the groove as DJ Petit spins the best of Kizomba \nRight Room \n🔥 4:00 PM – 11:00 PM: Keep the party going all night with DJ Ricafed and Johnny Gee \nPlus\, everyone joining the event gets a special discount to dine at any restaurant in The Dark Horse. \nCome dance\, eat\, and celebrate Cuban style!
URL:https://golatindance.com/event/cuban-sundays-at-the-dark-horse-stables/2026-02-01/
LOCATION:The Dark Horse Camden\, 87/88 North Yard\, London\, NW1 8AH\, London\, NW1 8AH\, GB
CATEGORIES:London
ATTACH;FMTTYPE=image/jpeg:https://golatindance.com/wp-content/uploads/2025/10/576580257_1296037892564170_1764372664720525967_n.jpg
END:VEVENT
BEGIN:VEVENT
DTSTART;TZID=Europe/London:20260125T160000
DTEND;TZID=Europe/London:20260125T230000
DTSTAMP:20260420T083055
CREATED:20251026T233842Z
LAST-MODIFIED:20260112T162144Z
UID:10407660-1769356800-1769382000@golatindance.com
SUMMARY:Cuban Sundays at The Dark Horse Stables
DESCRIPTION:Get ready for Cuban Sundays at The Dark Horse Stables!\nWe’re turning up the heat with two amazing rooms full of dancing\, music\, and good vib\n\n\nGet ready for Cuban Sundays at The Dark Horse Stables! \nWe’re turning up the heat with two amazing rooms full of dancing\, music\, and good vibes! \nLeft Room \n💃 4:00 PM – 6:00 PM: Dance it out with the amazing Maikel Mota \n🎶 6:00 PM – 11:00 PM: Feel the groove as DJ Petit spins the best of Kizomba \nRight Room \n🔥 4:00 PM – 11:00 PM: Keep the party going all night with DJ Ricafed and Johnny Gee \nPlus\, everyone joining the event gets a special discount to dine at any restaurant in The Dark Horse. \nCome dance\, eat\, and celebrate Cuban style!
URL:https://golatindance.com/event/cuban-sundays-at-the-dark-horse-stables/2026-01-25/
LOCATION:The Dark Horse Camden\, 87/88 North Yard\, London\, NW1 8AH\, London\, NW1 8AH\, GB
CATEGORIES:London
ATTACH;FMTTYPE=image/jpeg:https://golatindance.com/wp-content/uploads/2025/10/576580257_1296037892564170_1764372664720525967_n.jpg
END:VEVENT
BEGIN:VEVENT
DTSTART;TZID=Europe/London:20260118T160000
DTEND;TZID=Europe/London:20260118T230000
DTSTAMP:20260420T083055
CREATED:20251026T233842Z
LAST-MODIFIED:20260112T162144Z
UID:10407659-1768752000-1768777200@golatindance.com
SUMMARY:Cuban Sundays at The Dark Horse Stables
DESCRIPTION:Get ready for Cuban Sundays at The Dark Horse Stables!\nWe’re turning up the heat with two amazing rooms full of dancing\, music\, and good vib\n\n\nGet ready for Cuban Sundays at The Dark Horse Stables! \nWe’re turning up the heat with two amazing rooms full of dancing\, music\, and good vibes! \nLeft Room \n💃 4:00 PM – 6:00 PM: Dance it out with the amazing Maikel Mota \n🎶 6:00 PM – 11:00 PM: Feel the groove as DJ Petit spins the best of Kizomba \nRight Room \n🔥 4:00 PM – 11:00 PM: Keep the party going all night with DJ Ricafed and Johnny Gee \nPlus\, everyone joining the event gets a special discount to dine at any restaurant in The Dark Horse. \nCome dance\, eat\, and celebrate Cuban style!
URL:https://golatindance.com/event/cuban-sundays-at-the-dark-horse-stables/2026-01-18/
LOCATION:The Dark Horse Camden\, 87/88 North Yard\, London\, NW1 8AH\, London\, NW1 8AH\, GB
CATEGORIES:London
ATTACH;FMTTYPE=image/jpeg:https://golatindance.com/wp-content/uploads/2025/10/576580257_1296037892564170_1764372664720525967_n.jpg
END:VEVENT
BEGIN:VEVENT
DTSTART;TZID=Europe/London:20260111T160000
DTEND;TZID=Europe/London:20260111T230000
DTSTAMP:20260420T083055
CREATED:20251026T233842Z
LAST-MODIFIED:20260112T162144Z
UID:10407658-1768147200-1768172400@golatindance.com
SUMMARY:Cuban Sundays at The Dark Horse Stables
DESCRIPTION:Get ready for Cuban Sundays at The Dark Horse Stables!\nWe’re turning up the heat with two amazing rooms full of dancing\, music\, and good vib\n\n\nGet ready for Cuban Sundays at The Dark Horse Stables! \nWe’re turning up the heat with two amazing rooms full of dancing\, music\, and good vibes! \nLeft Room \n💃 4:00 PM – 6:00 PM: Dance it out with the amazing Maikel Mota \n🎶 6:00 PM – 11:00 PM: Feel the groove as DJ Petit spins the best of Kizomba \nRight Room \n🔥 4:00 PM – 11:00 PM: Keep the party going all night with DJ Ricafed and Johnny Gee \nPlus\, everyone joining the event gets a special discount to dine at any restaurant in The Dark Horse. \nCome dance\, eat\, and celebrate Cuban style!
URL:https://golatindance.com/event/cuban-sundays-at-the-dark-horse-stables/2026-01-11/
LOCATION:The Dark Horse Camden\, 87/88 North Yard\, London\, NW1 8AH\, London\, NW1 8AH\, GB
CATEGORIES:London
ATTACH;FMTTYPE=image/jpeg:https://golatindance.com/wp-content/uploads/2025/10/576580257_1296037892564170_1764372664720525967_n.jpg
END:VEVENT
BEGIN:VEVENT
DTSTART;TZID=Europe/London:20260104T160000
DTEND;TZID=Europe/London:20260104T230000
DTSTAMP:20260420T083055
CREATED:20251026T233842Z
LAST-MODIFIED:20260112T162144Z
UID:10407657-1767542400-1767567600@golatindance.com
SUMMARY:Cuban Sundays at The Dark Horse Stables
DESCRIPTION:Get ready for Cuban Sundays at The Dark Horse Stables!\nWe’re turning up the heat with two amazing rooms full of dancing\, music\, and good vib\n\n\nGet ready for Cuban Sundays at The Dark Horse Stables! \nWe’re turning up the heat with two amazing rooms full of dancing\, music\, and good vibes! \nLeft Room \n💃 4:00 PM – 6:00 PM: Dance it out with the amazing Maikel Mota \n🎶 6:00 PM – 11:00 PM: Feel the groove as DJ Petit spins the best of Kizomba \nRight Room \n🔥 4:00 PM – 11:00 PM: Keep the party going all night with DJ Ricafed and Johnny Gee \nPlus\, everyone joining the event gets a special discount to dine at any restaurant in The Dark Horse. \nCome dance\, eat\, and celebrate Cuban style!
URL:https://golatindance.com/event/cuban-sundays-at-the-dark-horse-stables/2026-01-04/
LOCATION:The Dark Horse Camden\, 87/88 North Yard\, London\, NW1 8AH\, London\, NW1 8AH\, GB
CATEGORIES:London
ATTACH;FMTTYPE=image/jpeg:https://golatindance.com/wp-content/uploads/2025/10/576580257_1296037892564170_1764372664720525967_n.jpg
END:VEVENT
BEGIN:VEVENT
DTSTART;TZID=Europe/London:20251228T160000
DTEND;TZID=Europe/London:20251228T230000
DTSTAMP:20260420T083055
CREATED:20251026T233842Z
LAST-MODIFIED:20260112T162144Z
UID:10407656-1766937600-1766962800@golatindance.com
SUMMARY:Cuban Sundays at The Dark Horse Stables
DESCRIPTION:Get ready for Cuban Sundays at The Dark Horse Stables!\nWe’re turning up the heat with two amazing rooms full of dancing\, music\, and good vib\n\n\nGet ready for Cuban Sundays at The Dark Horse Stables! \nWe’re turning up the heat with two amazing rooms full of dancing\, music\, and good vibes! \nLeft Room \n💃 4:00 PM – 6:00 PM: Dance it out with the amazing Maikel Mota \n🎶 6:00 PM – 11:00 PM: Feel the groove as DJ Petit spins the best of Kizomba \nRight Room \n🔥 4:00 PM – 11:00 PM: Keep the party going all night with DJ Ricafed and Johnny Gee \nPlus\, everyone joining the event gets a special discount to dine at any restaurant in The Dark Horse. \nCome dance\, eat\, and celebrate Cuban style!
URL:https://golatindance.com/event/cuban-sundays-at-the-dark-horse-stables/2025-12-28/
LOCATION:The Dark Horse Camden\, 87/88 North Yard\, London\, NW1 8AH\, London\, NW1 8AH\, GB
CATEGORIES:London
ATTACH;FMTTYPE=image/jpeg:https://golatindance.com/wp-content/uploads/2025/10/576580257_1296037892564170_1764372664720525967_n.jpg
END:VEVENT
BEGIN:VEVENT
DTSTART;TZID=Europe/London:20251221T160000
DTEND;TZID=Europe/London:20251221T230000
DTSTAMP:20260420T083055
CREATED:20251026T233842Z
LAST-MODIFIED:20260112T162144Z
UID:10407655-1766332800-1766358000@golatindance.com
SUMMARY:Cuban Sundays at The Dark Horse Stables
DESCRIPTION:Get ready for Cuban Sundays at The Dark Horse Stables!\nWe’re turning up the heat with two amazing rooms full of dancing\, music\, and good vib\n\n\nGet ready for Cuban Sundays at The Dark Horse Stables! \nWe’re turning up the heat with two amazing rooms full of dancing\, music\, and good vibes! \nLeft Room \n💃 4:00 PM – 6:00 PM: Dance it out with the amazing Maikel Mota \n🎶 6:00 PM – 11:00 PM: Feel the groove as DJ Petit spins the best of Kizomba \nRight Room \n🔥 4:00 PM – 11:00 PM: Keep the party going all night with DJ Ricafed and Johnny Gee \nPlus\, everyone joining the event gets a special discount to dine at any restaurant in The Dark Horse. \nCome dance\, eat\, and celebrate Cuban style!
URL:https://golatindance.com/event/cuban-sundays-at-the-dark-horse-stables/2025-12-21/
LOCATION:The Dark Horse Camden\, 87/88 North Yard\, London\, NW1 8AH\, London\, NW1 8AH\, GB
CATEGORIES:London
ATTACH;FMTTYPE=image/jpeg:https://golatindance.com/wp-content/uploads/2025/10/576580257_1296037892564170_1764372664720525967_n.jpg
END:VEVENT
BEGIN:VEVENT
DTSTART;TZID=Europe/London:20251214T160000
DTEND;TZID=Europe/London:20251214T230000
DTSTAMP:20260420T083055
CREATED:20251026T233842Z
LAST-MODIFIED:20260112T162144Z
UID:10407654-1765728000-1765753200@golatindance.com
SUMMARY:Cuban Sundays at The Dark Horse Stables
DESCRIPTION:Get ready for Cuban Sundays at The Dark Horse Stables!\nWe’re turning up the heat with two amazing rooms full of dancing\, music\, and good vib\n\n\nGet ready for Cuban Sundays at The Dark Horse Stables! \nWe’re turning up the heat with two amazing rooms full of dancing\, music\, and good vibes! \nLeft Room \n💃 4:00 PM – 6:00 PM: Dance it out with the amazing Maikel Mota \n🎶 6:00 PM – 11:00 PM: Feel the groove as DJ Petit spins the best of Kizomba \nRight Room \n🔥 4:00 PM – 11:00 PM: Keep the party going all night with DJ Ricafed and Johnny Gee \nPlus\, everyone joining the event gets a special discount to dine at any restaurant in The Dark Horse. \nCome dance\, eat\, and celebrate Cuban style!
URL:https://golatindance.com/event/cuban-sundays-at-the-dark-horse-stables/2025-12-14/
LOCATION:The Dark Horse Camden\, 87/88 North Yard\, London\, NW1 8AH\, London\, NW1 8AH\, GB
CATEGORIES:London
ATTACH;FMTTYPE=image/jpeg:https://golatindance.com/wp-content/uploads/2025/10/576580257_1296037892564170_1764372664720525967_n.jpg
END:VEVENT
BEGIN:VEVENT
DTSTART;TZID=Europe/London:20251207T160000
DTEND;TZID=Europe/London:20251207T230000
DTSTAMP:20260420T083055
CREATED:20251026T233842Z
LAST-MODIFIED:20260112T162144Z
UID:10407653-1765123200-1765148400@golatindance.com
SUMMARY:Cuban Sundays at The Dark Horse Stables
DESCRIPTION:Get ready for Cuban Sundays at The Dark Horse Stables!\nWe’re turning up the heat with two amazing rooms full of dancing\, music\, and good vib\n\n\nGet ready for Cuban Sundays at The Dark Horse Stables! \nWe’re turning up the heat with two amazing rooms full of dancing\, music\, and good vibes! \nLeft Room \n💃 4:00 PM – 6:00 PM: Dance it out with the amazing Maikel Mota \n🎶 6:00 PM – 11:00 PM: Feel the groove as DJ Petit spins the best of Kizomba \nRight Room \n🔥 4:00 PM – 11:00 PM: Keep the party going all night with DJ Ricafed and Johnny Gee \nPlus\, everyone joining the event gets a special discount to dine at any restaurant in The Dark Horse. \nCome dance\, eat\, and celebrate Cuban style!
URL:https://golatindance.com/event/cuban-sundays-at-the-dark-horse-stables/2025-12-07/
LOCATION:The Dark Horse Camden\, 87/88 North Yard\, London\, NW1 8AH\, London\, NW1 8AH\, GB
CATEGORIES:London
ATTACH;FMTTYPE=image/jpeg:https://golatindance.com/wp-content/uploads/2025/10/576580257_1296037892564170_1764372664720525967_n.jpg
END:VEVENT
BEGIN:VEVENT
DTSTART;TZID=Europe/London:20251130T160000
DTEND;TZID=Europe/London:20251130T230000
DTSTAMP:20260420T083055
CREATED:20251026T233842Z
LAST-MODIFIED:20260112T162144Z
UID:10407652-1764518400-1764543600@golatindance.com
SUMMARY:Cuban Sundays at The Dark Horse Stables
DESCRIPTION:Get ready for Cuban Sundays at The Dark Horse Stables!\nWe’re turning up the heat with two amazing rooms full of dancing\, music\, and good vib\n\n\nGet ready for Cuban Sundays at The Dark Horse Stables! \nWe’re turning up the heat with two amazing rooms full of dancing\, music\, and good vibes! \nLeft Room \n💃 4:00 PM – 6:00 PM: Dance it out with the amazing Maikel Mota \n🎶 6:00 PM – 11:00 PM: Feel the groove as DJ Petit spins the best of Kizomba \nRight Room \n🔥 4:00 PM – 11:00 PM: Keep the party going all night with DJ Ricafed and Johnny Gee \nPlus\, everyone joining the event gets a special discount to dine at any restaurant in The Dark Horse. \nCome dance\, eat\, and celebrate Cuban style!
URL:https://golatindance.com/event/cuban-sundays-at-the-dark-horse-stables/2025-11-30/
LOCATION:The Dark Horse Camden\, 87/88 North Yard\, London\, NW1 8AH\, London\, NW1 8AH\, GB
CATEGORIES:London
ATTACH;FMTTYPE=image/jpeg:https://golatindance.com/wp-content/uploads/2025/10/576580257_1296037892564170_1764372664720525967_n.jpg
END:VEVENT
BEGIN:VEVENT
DTSTART;TZID=Europe/London:20251123T160000
DTEND;TZID=Europe/London:20251123T230000
DTSTAMP:20260420T083055
CREATED:20251026T233842Z
LAST-MODIFIED:20260112T162144Z
UID:10407651-1763913600-1763938800@golatindance.com
SUMMARY:Cuban Sundays at The Dark Horse Stables
DESCRIPTION:Get ready for Cuban Sundays at The Dark Horse Stables!\nWe’re turning up the heat with two amazing rooms full of dancing\, music\, and good vib\n\n\nGet ready for Cuban Sundays at The Dark Horse Stables! \nWe’re turning up the heat with two amazing rooms full of dancing\, music\, and good vibes! \nLeft Room \n💃 4:00 PM – 6:00 PM: Dance it out with the amazing Maikel Mota \n🎶 6:00 PM – 11:00 PM: Feel the groove as DJ Petit spins the best of Kizomba \nRight Room \n🔥 4:00 PM – 11:00 PM: Keep the party going all night with DJ Ricafed and Johnny Gee \nPlus\, everyone joining the event gets a special discount to dine at any restaurant in The Dark Horse. \nCome dance\, eat\, and celebrate Cuban style!
URL:https://golatindance.com/event/cuban-sundays-at-the-dark-horse-stables/2025-11-23/
LOCATION:The Dark Horse Camden\, 87/88 North Yard\, London\, NW1 8AH\, London\, NW1 8AH\, GB
CATEGORIES:London
ATTACH;FMTTYPE=image/jpeg:https://golatindance.com/wp-content/uploads/2025/10/576580257_1296037892564170_1764372664720525967_n.jpg
END:VEVENT
BEGIN:VEVENT
DTSTART;TZID=Europe/London:20251116T160000
DTEND;TZID=Europe/London:20251116T230000
DTSTAMP:20260420T083055
CREATED:20251026T233842Z
LAST-MODIFIED:20260112T162144Z
UID:10407650-1763308800-1763334000@golatindance.com
SUMMARY:Cuban Sundays at The Dark Horse Stables
DESCRIPTION:Get ready for Cuban Sundays at The Dark Horse Stables!\nWe’re turning up the heat with two amazing rooms full of dancing\, music\, and good vib\n\n\nGet ready for Cuban Sundays at The Dark Horse Stables! \nWe’re turning up the heat with two amazing rooms full of dancing\, music\, and good vibes! \nLeft Room \n💃 4:00 PM – 6:00 PM: Dance it out with the amazing Maikel Mota \n🎶 6:00 PM – 11:00 PM: Feel the groove as DJ Petit spins the best of Kizomba \nRight Room \n🔥 4:00 PM – 11:00 PM: Keep the party going all night with DJ Ricafed and Johnny Gee \nPlus\, everyone joining the event gets a special discount to dine at any restaurant in The Dark Horse. \nCome dance\, eat\, and celebrate Cuban style!
URL:https://golatindance.com/event/cuban-sundays-at-the-dark-horse-stables/2025-11-16/
LOCATION:The Dark Horse Camden\, 87/88 North Yard\, London\, NW1 8AH\, London\, NW1 8AH\, GB
CATEGORIES:London
ATTACH;FMTTYPE=image/jpeg:https://golatindance.com/wp-content/uploads/2025/10/576580257_1296037892564170_1764372664720525967_n.jpg
END:VEVENT
BEGIN:VEVENT
DTSTART;TZID=Europe/London:20251109T160000
DTEND;TZID=Europe/London:20251109T230000
DTSTAMP:20260420T083055
CREATED:20251026T233842Z
LAST-MODIFIED:20260112T162144Z
UID:10407649-1762704000-1762729200@golatindance.com
SUMMARY:Cuban Sundays at The Dark Horse Stables
DESCRIPTION:Get ready for Cuban Sundays at The Dark Horse Stables!\nWe’re turning up the heat with two amazing rooms full of dancing\, music\, and good vib\n\n\nGet ready for Cuban Sundays at The Dark Horse Stables! \nWe’re turning up the heat with two amazing rooms full of dancing\, music\, and good vibes! \nLeft Room \n💃 4:00 PM – 6:00 PM: Dance it out with the amazing Maikel Mota \n🎶 6:00 PM – 11:00 PM: Feel the groove as DJ Petit spins the best of Kizomba \nRight Room \n🔥 4:00 PM – 11:00 PM: Keep the party going all night with DJ Ricafed and Johnny Gee \nPlus\, everyone joining the event gets a special discount to dine at any restaurant in The Dark Horse. \nCome dance\, eat\, and celebrate Cuban style!
URL:https://golatindance.com/event/cuban-sundays-at-the-dark-horse-stables/2025-11-09/
LOCATION:The Dark Horse Camden\, 87/88 North Yard\, London\, NW1 8AH\, London\, NW1 8AH\, GB
CATEGORIES:London
ATTACH;FMTTYPE=image/jpeg:https://golatindance.com/wp-content/uploads/2025/10/576580257_1296037892564170_1764372664720525967_n.jpg
END:VEVENT
BEGIN:VEVENT
DTSTART;TZID=Europe/London:20251102T160000
DTEND;TZID=Europe/London:20251102T230000
DTSTAMP:20260420T083055
CREATED:20251026T233842Z
LAST-MODIFIED:20260112T162144Z
UID:10407648-1762099200-1762124400@golatindance.com
SUMMARY:Cuban Sundays at The Dark Horse Stables
DESCRIPTION:Get ready for Cuban Sundays at The Dark Horse Stables!\nWe’re turning up the heat with two amazing rooms full of dancing\, music\, and good vib\n\n\nGet ready for Cuban Sundays at The Dark Horse Stables! \nWe’re turning up the heat with two amazing rooms full of dancing\, music\, and good vibes! \nLeft Room \n💃 4:00 PM – 6:00 PM: Dance it out with the amazing Maikel Mota \n🎶 6:00 PM – 11:00 PM: Feel the groove as DJ Petit spins the best of Kizomba \nRight Room \n🔥 4:00 PM – 11:00 PM: Keep the party going all night with DJ Ricafed and Johnny Gee \nPlus\, everyone joining the event gets a special discount to dine at any restaurant in The Dark Horse. \nCome dance\, eat\, and celebrate Cuban style!
URL:https://golatindance.com/event/cuban-sundays-at-the-dark-horse-stables/2025-11-02/
LOCATION:The Dark Horse Camden\, 87/88 North Yard\, London\, NW1 8AH\, London\, NW1 8AH\, GB
CATEGORIES:London
ATTACH;FMTTYPE=image/jpeg:https://golatindance.com/wp-content/uploads/2025/10/576580257_1296037892564170_1764372664720525967_n.jpg
END:VEVENT
END:VCALENDAR