BEGIN:VCALENDAR
VERSION:2.0
PRODID:-//GO Latin Dance - ECPv6.15.18//NONSGML v1.0//EN
CALSCALE:GREGORIAN
METHOD:PUBLISH
X-WR-CALNAME:GO Latin Dance
X-ORIGINAL-URL:https://golatindance.com
X-WR-CALDESC:Events for GO Latin Dance
REFRESH-INTERVAL;VALUE=DURATION:PT1H
X-Robots-Tag:noindex
X-PUBLISHED-TTL:PT1H
BEGIN:VTIMEZONE
TZID:Europe/London
BEGIN:DAYLIGHT
TZOFFSETFROM:+0000
TZOFFSETTO:+0100
TZNAME:BST
DTSTART:20290325T010000
END:DAYLIGHT
BEGIN:STANDARD
TZOFFSETFROM:+0100
TZOFFSETTO:+0000
TZNAME:GMT
DTSTART:20291028T010000
END:STANDARD
BEGIN:DAYLIGHT
TZOFFSETFROM:+0000
TZOFFSETTO:+0100
TZNAME:BST
DTSTART:20300331T010000
END:DAYLIGHT
BEGIN:STANDARD
TZOFFSETFROM:+0100
TZOFFSETTO:+0000
TZNAME:GMT
DTSTART:20301027T010000
END:STANDARD
BEGIN:DAYLIGHT
TZOFFSETFROM:+0000
TZOFFSETTO:+0100
TZNAME:BST
DTSTART:20310330T010000
END:DAYLIGHT
BEGIN:STANDARD
TZOFFSETFROM:+0100
TZOFFSETTO:+0000
TZNAME:GMT
DTSTART:20311026T010000
END:STANDARD
BEGIN:DAYLIGHT
TZOFFSETFROM:+0000
TZOFFSETTO:+0100
TZNAME:BST
DTSTART:20320328T010000
END:DAYLIGHT
BEGIN:STANDARD
TZOFFSETFROM:+0100
TZOFFSETTO:+0000
TZNAME:GMT
DTSTART:20321031T010000
END:STANDARD
END:VTIMEZONE
BEGIN:VEVENT
DTSTART;TZID=Europe/London:20301201T160000
DTEND;TZID=Europe/London:20301201T230000
DTSTAMP:20260421T131918
CREATED:20251026T233842Z
LAST-MODIFIED:20260112T162144Z
UID:10425982-1922371200-1922396400@golatindance.com
SUMMARY:Cuban Sundays at The Dark Horse Stables
DESCRIPTION:Get ready for Cuban Sundays at The Dark Horse Stables!\nWe’re turning up the heat with two amazing rooms full of dancing\, music\, and good vib\n\n\nGet ready for Cuban Sundays at The Dark Horse Stables! \nWe’re turning up the heat with two amazing rooms full of dancing\, music\, and good vibes! \nLeft Room \n💃 4:00 PM – 6:00 PM: Dance it out with the amazing Maikel Mota \n🎶 6:00 PM – 11:00 PM: Feel the groove as DJ Petit spins the best of Kizomba \nRight Room \n🔥 4:00 PM – 11:00 PM: Keep the party going all night with DJ Ricafed and Johnny Gee \nPlus\, everyone joining the event gets a special discount to dine at any restaurant in The Dark Horse. \nCome dance\, eat\, and celebrate Cuban style!
URL:https://golatindance.com/event/cuban-sundays-at-the-dark-horse-stables/2030-12-01/
LOCATION:The Dark Horse Camden\, 87/88 North Yard\, London\, NW1 8AH\, London\, NW1 8AH\, GB
CATEGORIES:London
ATTACH;FMTTYPE=image/jpeg:https://golatindance.com/wp-content/uploads/2025/10/576580257_1296037892564170_1764372664720525967_n.jpg
END:VEVENT
BEGIN:VEVENT
DTSTART;TZID=Europe/London:20301208T160000
DTEND;TZID=Europe/London:20301208T230000
DTSTAMP:20260421T131918
CREATED:20251026T233842Z
LAST-MODIFIED:20260112T162144Z
UID:10425983-1922976000-1923001200@golatindance.com
SUMMARY:Cuban Sundays at The Dark Horse Stables
DESCRIPTION:Get ready for Cuban Sundays at The Dark Horse Stables!\nWe’re turning up the heat with two amazing rooms full of dancing\, music\, and good vib\n\n\nGet ready for Cuban Sundays at The Dark Horse Stables! \nWe’re turning up the heat with two amazing rooms full of dancing\, music\, and good vibes! \nLeft Room \n💃 4:00 PM – 6:00 PM: Dance it out with the amazing Maikel Mota \n🎶 6:00 PM – 11:00 PM: Feel the groove as DJ Petit spins the best of Kizomba \nRight Room \n🔥 4:00 PM – 11:00 PM: Keep the party going all night with DJ Ricafed and Johnny Gee \nPlus\, everyone joining the event gets a special discount to dine at any restaurant in The Dark Horse. \nCome dance\, eat\, and celebrate Cuban style!
URL:https://golatindance.com/event/cuban-sundays-at-the-dark-horse-stables/2030-12-08/
LOCATION:The Dark Horse Camden\, 87/88 North Yard\, London\, NW1 8AH\, London\, NW1 8AH\, GB
CATEGORIES:London
ATTACH;FMTTYPE=image/jpeg:https://golatindance.com/wp-content/uploads/2025/10/576580257_1296037892564170_1764372664720525967_n.jpg
END:VEVENT
BEGIN:VEVENT
DTSTART;TZID=Europe/London:20301215T160000
DTEND;TZID=Europe/London:20301215T230000
DTSTAMP:20260421T131918
CREATED:20251026T233842Z
LAST-MODIFIED:20260112T162144Z
UID:10425984-1923580800-1923606000@golatindance.com
SUMMARY:Cuban Sundays at The Dark Horse Stables
DESCRIPTION:Get ready for Cuban Sundays at The Dark Horse Stables!\nWe’re turning up the heat with two amazing rooms full of dancing\, music\, and good vib\n\n\nGet ready for Cuban Sundays at The Dark Horse Stables! \nWe’re turning up the heat with two amazing rooms full of dancing\, music\, and good vibes! \nLeft Room \n💃 4:00 PM – 6:00 PM: Dance it out with the amazing Maikel Mota \n🎶 6:00 PM – 11:00 PM: Feel the groove as DJ Petit spins the best of Kizomba \nRight Room \n🔥 4:00 PM – 11:00 PM: Keep the party going all night with DJ Ricafed and Johnny Gee \nPlus\, everyone joining the event gets a special discount to dine at any restaurant in The Dark Horse. \nCome dance\, eat\, and celebrate Cuban style!
URL:https://golatindance.com/event/cuban-sundays-at-the-dark-horse-stables/2030-12-15/
LOCATION:The Dark Horse Camden\, 87/88 North Yard\, London\, NW1 8AH\, London\, NW1 8AH\, GB
CATEGORIES:London
ATTACH;FMTTYPE=image/jpeg:https://golatindance.com/wp-content/uploads/2025/10/576580257_1296037892564170_1764372664720525967_n.jpg
END:VEVENT
BEGIN:VEVENT
DTSTART;TZID=Europe/London:20301222T160000
DTEND;TZID=Europe/London:20301222T230000
DTSTAMP:20260421T131918
CREATED:20251026T233842Z
LAST-MODIFIED:20260112T162144Z
UID:10425985-1924185600-1924210800@golatindance.com
SUMMARY:Cuban Sundays at The Dark Horse Stables
DESCRIPTION:Get ready for Cuban Sundays at The Dark Horse Stables!\nWe’re turning up the heat with two amazing rooms full of dancing\, music\, and good vib\n\n\nGet ready for Cuban Sundays at The Dark Horse Stables! \nWe’re turning up the heat with two amazing rooms full of dancing\, music\, and good vibes! \nLeft Room \n💃 4:00 PM – 6:00 PM: Dance it out with the amazing Maikel Mota \n🎶 6:00 PM – 11:00 PM: Feel the groove as DJ Petit spins the best of Kizomba \nRight Room \n🔥 4:00 PM – 11:00 PM: Keep the party going all night with DJ Ricafed and Johnny Gee \nPlus\, everyone joining the event gets a special discount to dine at any restaurant in The Dark Horse. \nCome dance\, eat\, and celebrate Cuban style!
URL:https://golatindance.com/event/cuban-sundays-at-the-dark-horse-stables/2030-12-22/
LOCATION:The Dark Horse Camden\, 87/88 North Yard\, London\, NW1 8AH\, London\, NW1 8AH\, GB
CATEGORIES:London
ATTACH;FMTTYPE=image/jpeg:https://golatindance.com/wp-content/uploads/2025/10/576580257_1296037892564170_1764372664720525967_n.jpg
END:VEVENT
BEGIN:VEVENT
DTSTART;TZID=Europe/London:20301229T160000
DTEND;TZID=Europe/London:20301229T230000
DTSTAMP:20260421T131918
CREATED:20251026T233842Z
LAST-MODIFIED:20260112T162144Z
UID:10431764-1924790400-1924815600@golatindance.com
SUMMARY:Cuban Sundays at The Dark Horse Stables
DESCRIPTION:Get ready for Cuban Sundays at The Dark Horse Stables!\nWe’re turning up the heat with two amazing rooms full of dancing\, music\, and good vib\n\n\nGet ready for Cuban Sundays at The Dark Horse Stables! \nWe’re turning up the heat with two amazing rooms full of dancing\, music\, and good vibes! \nLeft Room \n💃 4:00 PM – 6:00 PM: Dance it out with the amazing Maikel Mota \n🎶 6:00 PM – 11:00 PM: Feel the groove as DJ Petit spins the best of Kizomba \nRight Room \n🔥 4:00 PM – 11:00 PM: Keep the party going all night with DJ Ricafed and Johnny Gee \nPlus\, everyone joining the event gets a special discount to dine at any restaurant in The Dark Horse. \nCome dance\, eat\, and celebrate Cuban style!
URL:https://golatindance.com/event/cuban-sundays-at-the-dark-horse-stables/2030-12-29/
LOCATION:The Dark Horse Camden\, 87/88 North Yard\, London\, NW1 8AH\, London\, NW1 8AH\, GB
CATEGORIES:London
ATTACH;FMTTYPE=image/jpeg:https://golatindance.com/wp-content/uploads/2025/10/576580257_1296037892564170_1764372664720525967_n.jpg
END:VEVENT
BEGIN:VEVENT
DTSTART;TZID=Europe/London:20310105T160000
DTEND;TZID=Europe/London:20310105T230000
DTSTAMP:20260421T131918
CREATED:20251026T233842Z
LAST-MODIFIED:20260112T162144Z
UID:10431765-1925395200-1925420400@golatindance.com
SUMMARY:Cuban Sundays at The Dark Horse Stables
DESCRIPTION:Get ready for Cuban Sundays at The Dark Horse Stables!\nWe’re turning up the heat with two amazing rooms full of dancing\, music\, and good vib\n\n\nGet ready for Cuban Sundays at The Dark Horse Stables! \nWe’re turning up the heat with two amazing rooms full of dancing\, music\, and good vibes! \nLeft Room \n💃 4:00 PM – 6:00 PM: Dance it out with the amazing Maikel Mota \n🎶 6:00 PM – 11:00 PM: Feel the groove as DJ Petit spins the best of Kizomba \nRight Room \n🔥 4:00 PM – 11:00 PM: Keep the party going all night with DJ Ricafed and Johnny Gee \nPlus\, everyone joining the event gets a special discount to dine at any restaurant in The Dark Horse. \nCome dance\, eat\, and celebrate Cuban style!
URL:https://golatindance.com/event/cuban-sundays-at-the-dark-horse-stables/2031-01-05/
LOCATION:The Dark Horse Camden\, 87/88 North Yard\, London\, NW1 8AH\, London\, NW1 8AH\, GB
CATEGORIES:London
ATTACH;FMTTYPE=image/jpeg:https://golatindance.com/wp-content/uploads/2025/10/576580257_1296037892564170_1764372664720525967_n.jpg
END:VEVENT
BEGIN:VEVENT
DTSTART;TZID=Europe/London:20310112T160000
DTEND;TZID=Europe/London:20310112T230000
DTSTAMP:20260421T131918
CREATED:20251026T233842Z
LAST-MODIFIED:20260112T162144Z
UID:10431766-1926000000-1926025200@golatindance.com
SUMMARY:Cuban Sundays at The Dark Horse Stables
DESCRIPTION:Get ready for Cuban Sundays at The Dark Horse Stables!\nWe’re turning up the heat with two amazing rooms full of dancing\, music\, and good vib\n\n\nGet ready for Cuban Sundays at The Dark Horse Stables! \nWe’re turning up the heat with two amazing rooms full of dancing\, music\, and good vibes! \nLeft Room \n💃 4:00 PM – 6:00 PM: Dance it out with the amazing Maikel Mota \n🎶 6:00 PM – 11:00 PM: Feel the groove as DJ Petit spins the best of Kizomba \nRight Room \n🔥 4:00 PM – 11:00 PM: Keep the party going all night with DJ Ricafed and Johnny Gee \nPlus\, everyone joining the event gets a special discount to dine at any restaurant in The Dark Horse. \nCome dance\, eat\, and celebrate Cuban style!
URL:https://golatindance.com/event/cuban-sundays-at-the-dark-horse-stables/2031-01-12/
LOCATION:The Dark Horse Camden\, 87/88 North Yard\, London\, NW1 8AH\, London\, NW1 8AH\, GB
CATEGORIES:London
ATTACH;FMTTYPE=image/jpeg:https://golatindance.com/wp-content/uploads/2025/10/576580257_1296037892564170_1764372664720525967_n.jpg
END:VEVENT
END:VCALENDAR