BEGIN:VCALENDAR
VERSION:2.0
PRODID:-//GO Latin Dance - ECPv6.15.18//NONSGML v1.0//EN
CALSCALE:GREGORIAN
METHOD:PUBLISH
X-ORIGINAL-URL:https://golatindance.com
X-WR-CALDESC:Events for GO Latin Dance
REFRESH-INTERVAL;VALUE=DURATION:PT1H
X-Robots-Tag:noindex
X-PUBLISHED-TTL:PT1H
BEGIN:VTIMEZONE
TZID:America/Los_Angeles
BEGIN:DAYLIGHT
TZOFFSETFROM:-0800
TZOFFSETTO:-0700
TZNAME:PDT
DTSTART:20290311T100000
END:DAYLIGHT
BEGIN:STANDARD
TZOFFSETFROM:-0700
TZOFFSETTO:-0800
TZNAME:PST
DTSTART:20291104T090000
END:STANDARD
BEGIN:DAYLIGHT
TZOFFSETFROM:-0800
TZOFFSETTO:-0700
TZNAME:PDT
DTSTART:20300310T100000
END:DAYLIGHT
BEGIN:STANDARD
TZOFFSETFROM:-0700
TZOFFSETTO:-0800
TZNAME:PST
DTSTART:20301103T090000
END:STANDARD
BEGIN:DAYLIGHT
TZOFFSETFROM:-0800
TZOFFSETTO:-0700
TZNAME:PDT
DTSTART:20310309T100000
END:DAYLIGHT
BEGIN:STANDARD
TZOFFSETFROM:-0700
TZOFFSETTO:-0800
TZNAME:PST
DTSTART:20311102T090000
END:STANDARD
END:VTIMEZONE
BEGIN:VEVENT
DTSTART;TZID=America/Los_Angeles:20300625T190000
DTEND;TZID=America/Los_Angeles:20300625T230000
DTSTAMP:20260421T195857
CREATED:20260113T162434Z
LAST-MODIFIED:20260113T162558Z
UID:10431862-1908644400-1908658800@golatindance.com
SUMMARY:Bachata Tuesday Class & Social
DESCRIPTION:Bachata Tuesday Class & Social Every Last Tuesday of the Month\n\n\n🌟 Bachata Tuesday Class & Social Every Last Tuesday of the Month \nLooking for a fun way to spice up your Tuesday nights? Join us for Bachata Tuesday at Danzhaus Dance Center! Whether you’re looking to learn the basics\, perfect your moves\, or just have a great time dancing\, this event is perfect for everyone. \nEvent Details: \n🕖 Bachata Lesson (7-8pm) \nIntermediate Level Class with Bryon & Samm \nPerfect for those with some Bachata experience who want to take their skills to the next level. \n💃 Social Dancing (8-11pm) \nEnjoy a night of social dancing to the hottest Bachata hits\, with music by our resident DJ Thiencito. \nMeet new people and practice your moves in a relaxed\, friendly atmosphere. \nPricing: \nClass & Social: $25 \nSocial Only (no class): $10 \nLocation: Danzhaus Dance Center \n🌟 No partner required — Come alone or bring a friend! It’s a great opportunity to learn\, dance\, and connect with others. \nDon’t miss out on this fantastic night of Bachata! 💃🕺
URL:https://golatindance.com/event/bachata-tuesday-class-social/2030-06-25/
LOCATION:Danzhaus Dance Center\, 1275 Connecticut Street\, San Francisco\, CA 94107\, San Francisco\, CA\, 94107\, US
CATEGORIES:San Francisco
END:VEVENT
BEGIN:VEVENT
DTSTART;TZID=America/Los_Angeles:20300721T180000
DTEND;TZID=America/Los_Angeles:20300721T230000
DTSTAMP:20260421T195857
CREATED:20251230T203028Z
LAST-MODIFIED:20251230T203151Z
UID:10427743-1910887200-1910905200@golatindance.com
SUMMARY:Bachata in North Beach
DESCRIPTION:Join us for our newest monthly party\, happening every 3rd Sunday!\nWelcome to our new home at FAME!\n\n\nJoin us for our newest monthly bachata party\, happening every 3rd Sunday!Welcome to our new home at FAME\, featuring a big beautiful venue and amazing dance floor. Opening night January 18th MLK WEEKEND no work Monday! \n  \n🎶 Mainly Bachata with hints of SalsaThe perfect way to end your weekend dancing with us.This a monthly gathering designed for people who want to connect\, move\, and enjoy Latin music—no dance experience required. \nThis isn’t about performance or perfection. It’s about community\, good vibes\, and feeling comfortable stepping onto the dance floor for the first time. \n–Beginner-friendly lessons–Drink specials–Social dancing & special performances \n  \n🕕 6:00 PM – Salsa Class \n🕖 7:00 PM – Bachata Class \n🕗 8:00–11:00 PM – Social Dancing \n🎧 DJ Ron bringing the vibes all night \n📍 FAME – North Beach \n  \nWhat to Expect:\n• Beginner-friendly Salsa & Bachata lessons\n• A relaxed\, social atmosphere (no pressure\, no judgment)\n• Time to dance\, mingle\, and enjoy the music\n• No partner needed — come solo or with friends \nThe Vibe:\nThink Latin lounge meets social club—welcoming\, stylish\, and easygoing. \n  \n🔗 More info: www.inessencedance.com \n📲 Follow us: @inessencedanceco \nCome dance\, vibe\, and make Sunday nights unforgettable! ✨
URL:https://golatindance.com/event/bachata-in-north-beach/2030-07-21/
LOCATION:443 Broadway\, 443 Broadway\, San Francisco\, CA 94133\, San Francisco\, CA\, 94133\, US
CATEGORIES:San Francisco
ATTACH;FMTTYPE=image/jpeg:https://golatindance.com/wp-content/uploads/2025/12/295147_image.jpg
END:VEVENT
BEGIN:VEVENT
DTSTART;TZID=America/Los_Angeles:20300730T190000
DTEND;TZID=America/Los_Angeles:20300730T230000
DTSTAMP:20260421T195857
CREATED:20260113T162434Z
LAST-MODIFIED:20260113T162558Z
UID:10431863-1911668400-1911682800@golatindance.com
SUMMARY:Bachata Tuesday Class & Social
DESCRIPTION:Bachata Tuesday Class & Social Every Last Tuesday of the Month\n\n\n🌟 Bachata Tuesday Class & Social Every Last Tuesday of the Month \nLooking for a fun way to spice up your Tuesday nights? Join us for Bachata Tuesday at Danzhaus Dance Center! Whether you’re looking to learn the basics\, perfect your moves\, or just have a great time dancing\, this event is perfect for everyone. \nEvent Details: \n🕖 Bachata Lesson (7-8pm) \nIntermediate Level Class with Bryon & Samm \nPerfect for those with some Bachata experience who want to take their skills to the next level. \n💃 Social Dancing (8-11pm) \nEnjoy a night of social dancing to the hottest Bachata hits\, with music by our resident DJ Thiencito. \nMeet new people and practice your moves in a relaxed\, friendly atmosphere. \nPricing: \nClass & Social: $25 \nSocial Only (no class): $10 \nLocation: Danzhaus Dance Center \n🌟 No partner required — Come alone or bring a friend! It’s a great opportunity to learn\, dance\, and connect with others. \nDon’t miss out on this fantastic night of Bachata! 💃🕺
URL:https://golatindance.com/event/bachata-tuesday-class-social/2030-07-30/
LOCATION:Danzhaus Dance Center\, 1275 Connecticut Street\, San Francisco\, CA 94107\, San Francisco\, CA\, 94107\, US
CATEGORIES:San Francisco
END:VEVENT
BEGIN:VEVENT
DTSTART;TZID=America/Los_Angeles:20300818T180000
DTEND;TZID=America/Los_Angeles:20300818T230000
DTSTAMP:20260421T195857
CREATED:20251230T203028Z
LAST-MODIFIED:20251230T203151Z
UID:10427744-1913306400-1913324400@golatindance.com
SUMMARY:Bachata in North Beach
DESCRIPTION:Join us for our newest monthly party\, happening every 3rd Sunday!\nWelcome to our new home at FAME!\n\n\nJoin us for our newest monthly bachata party\, happening every 3rd Sunday!Welcome to our new home at FAME\, featuring a big beautiful venue and amazing dance floor. Opening night January 18th MLK WEEKEND no work Monday! \n  \n🎶 Mainly Bachata with hints of SalsaThe perfect way to end your weekend dancing with us.This a monthly gathering designed for people who want to connect\, move\, and enjoy Latin music—no dance experience required. \nThis isn’t about performance or perfection. It’s about community\, good vibes\, and feeling comfortable stepping onto the dance floor for the first time. \n–Beginner-friendly lessons–Drink specials–Social dancing & special performances \n  \n🕕 6:00 PM – Salsa Class \n🕖 7:00 PM – Bachata Class \n🕗 8:00–11:00 PM – Social Dancing \n🎧 DJ Ron bringing the vibes all night \n📍 FAME – North Beach \n  \nWhat to Expect:\n• Beginner-friendly Salsa & Bachata lessons\n• A relaxed\, social atmosphere (no pressure\, no judgment)\n• Time to dance\, mingle\, and enjoy the music\n• No partner needed — come solo or with friends \nThe Vibe:\nThink Latin lounge meets social club—welcoming\, stylish\, and easygoing. \n  \n🔗 More info: www.inessencedance.com \n📲 Follow us: @inessencedanceco \nCome dance\, vibe\, and make Sunday nights unforgettable! ✨
URL:https://golatindance.com/event/bachata-in-north-beach/2030-08-18/
LOCATION:443 Broadway\, 443 Broadway\, San Francisco\, CA 94133\, San Francisco\, CA\, 94133\, US
CATEGORIES:San Francisco
ATTACH;FMTTYPE=image/jpeg:https://golatindance.com/wp-content/uploads/2025/12/295147_image.jpg
END:VEVENT
BEGIN:VEVENT
DTSTART;TZID=America/Los_Angeles:20300827T190000
DTEND;TZID=America/Los_Angeles:20300827T230000
DTSTAMP:20260421T195857
CREATED:20260113T162434Z
LAST-MODIFIED:20260113T162558Z
UID:10431864-1914087600-1914102000@golatindance.com
SUMMARY:Bachata Tuesday Class & Social
DESCRIPTION:Bachata Tuesday Class & Social Every Last Tuesday of the Month\n\n\n🌟 Bachata Tuesday Class & Social Every Last Tuesday of the Month \nLooking for a fun way to spice up your Tuesday nights? Join us for Bachata Tuesday at Danzhaus Dance Center! Whether you’re looking to learn the basics\, perfect your moves\, or just have a great time dancing\, this event is perfect for everyone. \nEvent Details: \n🕖 Bachata Lesson (7-8pm) \nIntermediate Level Class with Bryon & Samm \nPerfect for those with some Bachata experience who want to take their skills to the next level. \n💃 Social Dancing (8-11pm) \nEnjoy a night of social dancing to the hottest Bachata hits\, with music by our resident DJ Thiencito. \nMeet new people and practice your moves in a relaxed\, friendly atmosphere. \nPricing: \nClass & Social: $25 \nSocial Only (no class): $10 \nLocation: Danzhaus Dance Center \n🌟 No partner required — Come alone or bring a friend! It’s a great opportunity to learn\, dance\, and connect with others. \nDon’t miss out on this fantastic night of Bachata! 💃🕺
URL:https://golatindance.com/event/bachata-tuesday-class-social/2030-08-27/
LOCATION:Danzhaus Dance Center\, 1275 Connecticut Street\, San Francisco\, CA 94107\, San Francisco\, CA\, 94107\, US
CATEGORIES:San Francisco
END:VEVENT
BEGIN:VEVENT
DTSTART;TZID=America/Los_Angeles:20300915T180000
DTEND;TZID=America/Los_Angeles:20300915T230000
DTSTAMP:20260421T195857
CREATED:20251230T203028Z
LAST-MODIFIED:20251230T203151Z
UID:10427745-1915725600-1915743600@golatindance.com
SUMMARY:Bachata in North Beach
DESCRIPTION:Join us for our newest monthly party\, happening every 3rd Sunday!\nWelcome to our new home at FAME!\n\n\nJoin us for our newest monthly bachata party\, happening every 3rd Sunday!Welcome to our new home at FAME\, featuring a big beautiful venue and amazing dance floor. Opening night January 18th MLK WEEKEND no work Monday! \n  \n🎶 Mainly Bachata with hints of SalsaThe perfect way to end your weekend dancing with us.This a monthly gathering designed for people who want to connect\, move\, and enjoy Latin music—no dance experience required. \nThis isn’t about performance or perfection. It’s about community\, good vibes\, and feeling comfortable stepping onto the dance floor for the first time. \n–Beginner-friendly lessons–Drink specials–Social dancing & special performances \n  \n🕕 6:00 PM – Salsa Class \n🕖 7:00 PM – Bachata Class \n🕗 8:00–11:00 PM – Social Dancing \n🎧 DJ Ron bringing the vibes all night \n📍 FAME – North Beach \n  \nWhat to Expect:\n• Beginner-friendly Salsa & Bachata lessons\n• A relaxed\, social atmosphere (no pressure\, no judgment)\n• Time to dance\, mingle\, and enjoy the music\n• No partner needed — come solo or with friends \nThe Vibe:\nThink Latin lounge meets social club—welcoming\, stylish\, and easygoing. \n  \n🔗 More info: www.inessencedance.com \n📲 Follow us: @inessencedanceco \nCome dance\, vibe\, and make Sunday nights unforgettable! ✨
URL:https://golatindance.com/event/bachata-in-north-beach/2030-09-15/
LOCATION:443 Broadway\, 443 Broadway\, San Francisco\, CA 94133\, San Francisco\, CA\, 94133\, US
CATEGORIES:San Francisco
ATTACH;FMTTYPE=image/jpeg:https://golatindance.com/wp-content/uploads/2025/12/295147_image.jpg
END:VEVENT
BEGIN:VEVENT
DTSTART;TZID=America/Los_Angeles:20300924T190000
DTEND;TZID=America/Los_Angeles:20300924T230000
DTSTAMP:20260421T195857
CREATED:20260113T162434Z
LAST-MODIFIED:20260113T162558Z
UID:10431865-1916506800-1916521200@golatindance.com
SUMMARY:Bachata Tuesday Class & Social
DESCRIPTION:Bachata Tuesday Class & Social Every Last Tuesday of the Month\n\n\n🌟 Bachata Tuesday Class & Social Every Last Tuesday of the Month \nLooking for a fun way to spice up your Tuesday nights? Join us for Bachata Tuesday at Danzhaus Dance Center! Whether you’re looking to learn the basics\, perfect your moves\, or just have a great time dancing\, this event is perfect for everyone. \nEvent Details: \n🕖 Bachata Lesson (7-8pm) \nIntermediate Level Class with Bryon & Samm \nPerfect for those with some Bachata experience who want to take their skills to the next level. \n💃 Social Dancing (8-11pm) \nEnjoy a night of social dancing to the hottest Bachata hits\, with music by our resident DJ Thiencito. \nMeet new people and practice your moves in a relaxed\, friendly atmosphere. \nPricing: \nClass & Social: $25 \nSocial Only (no class): $10 \nLocation: Danzhaus Dance Center \n🌟 No partner required — Come alone or bring a friend! It’s a great opportunity to learn\, dance\, and connect with others. \nDon’t miss out on this fantastic night of Bachata! 💃🕺
URL:https://golatindance.com/event/bachata-tuesday-class-social/2030-09-24/
LOCATION:Danzhaus Dance Center\, 1275 Connecticut Street\, San Francisco\, CA 94107\, San Francisco\, CA\, 94107\, US
CATEGORIES:San Francisco
END:VEVENT
BEGIN:VEVENT
DTSTART;TZID=America/Los_Angeles:20301020T180000
DTEND;TZID=America/Los_Angeles:20301020T230000
DTSTAMP:20260421T195857
CREATED:20251230T203028Z
LAST-MODIFIED:20251230T203151Z
UID:10427746-1918749600-1918767600@golatindance.com
SUMMARY:Bachata in North Beach
DESCRIPTION:Join us for our newest monthly party\, happening every 3rd Sunday!\nWelcome to our new home at FAME!\n\n\nJoin us for our newest monthly bachata party\, happening every 3rd Sunday!Welcome to our new home at FAME\, featuring a big beautiful venue and amazing dance floor. Opening night January 18th MLK WEEKEND no work Monday! \n  \n🎶 Mainly Bachata with hints of SalsaThe perfect way to end your weekend dancing with us.This a monthly gathering designed for people who want to connect\, move\, and enjoy Latin music—no dance experience required. \nThis isn’t about performance or perfection. It’s about community\, good vibes\, and feeling comfortable stepping onto the dance floor for the first time. \n–Beginner-friendly lessons–Drink specials–Social dancing & special performances \n  \n🕕 6:00 PM – Salsa Class \n🕖 7:00 PM – Bachata Class \n🕗 8:00–11:00 PM – Social Dancing \n🎧 DJ Ron bringing the vibes all night \n📍 FAME – North Beach \n  \nWhat to Expect:\n• Beginner-friendly Salsa & Bachata lessons\n• A relaxed\, social atmosphere (no pressure\, no judgment)\n• Time to dance\, mingle\, and enjoy the music\n• No partner needed — come solo or with friends \nThe Vibe:\nThink Latin lounge meets social club—welcoming\, stylish\, and easygoing. \n  \n🔗 More info: www.inessencedance.com \n📲 Follow us: @inessencedanceco \nCome dance\, vibe\, and make Sunday nights unforgettable! ✨
URL:https://golatindance.com/event/bachata-in-north-beach/2030-10-20/
LOCATION:443 Broadway\, 443 Broadway\, San Francisco\, CA 94133\, San Francisco\, CA\, 94133\, US
CATEGORIES:San Francisco
ATTACH;FMTTYPE=image/jpeg:https://golatindance.com/wp-content/uploads/2025/12/295147_image.jpg
END:VEVENT
BEGIN:VEVENT
DTSTART;TZID=America/Los_Angeles:20301029T190000
DTEND;TZID=America/Los_Angeles:20301029T230000
DTSTAMP:20260421T195857
CREATED:20260113T162434Z
LAST-MODIFIED:20260113T162558Z
UID:10431866-1919530800-1919545200@golatindance.com
SUMMARY:Bachata Tuesday Class & Social
DESCRIPTION:Bachata Tuesday Class & Social Every Last Tuesday of the Month\n\n\n🌟 Bachata Tuesday Class & Social Every Last Tuesday of the Month \nLooking for a fun way to spice up your Tuesday nights? Join us for Bachata Tuesday at Danzhaus Dance Center! Whether you’re looking to learn the basics\, perfect your moves\, or just have a great time dancing\, this event is perfect for everyone. \nEvent Details: \n🕖 Bachata Lesson (7-8pm) \nIntermediate Level Class with Bryon & Samm \nPerfect for those with some Bachata experience who want to take their skills to the next level. \n💃 Social Dancing (8-11pm) \nEnjoy a night of social dancing to the hottest Bachata hits\, with music by our resident DJ Thiencito. \nMeet new people and practice your moves in a relaxed\, friendly atmosphere. \nPricing: \nClass & Social: $25 \nSocial Only (no class): $10 \nLocation: Danzhaus Dance Center \n🌟 No partner required — Come alone or bring a friend! It’s a great opportunity to learn\, dance\, and connect with others. \nDon’t miss out on this fantastic night of Bachata! 💃🕺
URL:https://golatindance.com/event/bachata-tuesday-class-social/2030-10-29/
LOCATION:Danzhaus Dance Center\, 1275 Connecticut Street\, San Francisco\, CA 94107\, San Francisco\, CA\, 94107\, US
CATEGORIES:San Francisco
END:VEVENT
BEGIN:VEVENT
DTSTART;TZID=America/Los_Angeles:20301117T180000
DTEND;TZID=America/Los_Angeles:20301117T230000
DTSTAMP:20260421T195857
CREATED:20251230T203028Z
LAST-MODIFIED:20251230T203151Z
UID:10427747-1921168800-1921186800@golatindance.com
SUMMARY:Bachata in North Beach
DESCRIPTION:Join us for our newest monthly party\, happening every 3rd Sunday!\nWelcome to our new home at FAME!\n\n\nJoin us for our newest monthly bachata party\, happening every 3rd Sunday!Welcome to our new home at FAME\, featuring a big beautiful venue and amazing dance floor. Opening night January 18th MLK WEEKEND no work Monday! \n  \n🎶 Mainly Bachata with hints of SalsaThe perfect way to end your weekend dancing with us.This a monthly gathering designed for people who want to connect\, move\, and enjoy Latin music—no dance experience required. \nThis isn’t about performance or perfection. It’s about community\, good vibes\, and feeling comfortable stepping onto the dance floor for the first time. \n–Beginner-friendly lessons–Drink specials–Social dancing & special performances \n  \n🕕 6:00 PM – Salsa Class \n🕖 7:00 PM – Bachata Class \n🕗 8:00–11:00 PM – Social Dancing \n🎧 DJ Ron bringing the vibes all night \n📍 FAME – North Beach \n  \nWhat to Expect:\n• Beginner-friendly Salsa & Bachata lessons\n• A relaxed\, social atmosphere (no pressure\, no judgment)\n• Time to dance\, mingle\, and enjoy the music\n• No partner needed — come solo or with friends \nThe Vibe:\nThink Latin lounge meets social club—welcoming\, stylish\, and easygoing. \n  \n🔗 More info: www.inessencedance.com \n📲 Follow us: @inessencedanceco \nCome dance\, vibe\, and make Sunday nights unforgettable! ✨
URL:https://golatindance.com/event/bachata-in-north-beach/2030-11-17/
LOCATION:443 Broadway\, 443 Broadway\, San Francisco\, CA 94133\, San Francisco\, CA\, 94133\, US
CATEGORIES:San Francisco
ATTACH;FMTTYPE=image/jpeg:https://golatindance.com/wp-content/uploads/2025/12/295147_image.jpg
END:VEVENT
BEGIN:VEVENT
DTSTART;TZID=America/Los_Angeles:20301126T190000
DTEND;TZID=America/Los_Angeles:20301126T230000
DTSTAMP:20260421T195857
CREATED:20260113T162434Z
LAST-MODIFIED:20260113T162558Z
UID:10431867-1921950000-1921964400@golatindance.com
SUMMARY:Bachata Tuesday Class & Social
DESCRIPTION:Bachata Tuesday Class & Social Every Last Tuesday of the Month\n\n\n🌟 Bachata Tuesday Class & Social Every Last Tuesday of the Month \nLooking for a fun way to spice up your Tuesday nights? Join us for Bachata Tuesday at Danzhaus Dance Center! Whether you’re looking to learn the basics\, perfect your moves\, or just have a great time dancing\, this event is perfect for everyone. \nEvent Details: \n🕖 Bachata Lesson (7-8pm) \nIntermediate Level Class with Bryon & Samm \nPerfect for those with some Bachata experience who want to take their skills to the next level. \n💃 Social Dancing (8-11pm) \nEnjoy a night of social dancing to the hottest Bachata hits\, with music by our resident DJ Thiencito. \nMeet new people and practice your moves in a relaxed\, friendly atmosphere. \nPricing: \nClass & Social: $25 \nSocial Only (no class): $10 \nLocation: Danzhaus Dance Center \n🌟 No partner required — Come alone or bring a friend! It’s a great opportunity to learn\, dance\, and connect with others. \nDon’t miss out on this fantastic night of Bachata! 💃🕺
URL:https://golatindance.com/event/bachata-tuesday-class-social/2030-11-26/
LOCATION:Danzhaus Dance Center\, 1275 Connecticut Street\, San Francisco\, CA 94107\, San Francisco\, CA\, 94107\, US
CATEGORIES:San Francisco
END:VEVENT
BEGIN:VEVENT
DTSTART;TZID=America/Los_Angeles:20301215T180000
DTEND;TZID=America/Los_Angeles:20301215T230000
DTSTAMP:20260421T195857
CREATED:20251230T203028Z
LAST-MODIFIED:20251230T203151Z
UID:10427748-1923588000-1923606000@golatindance.com
SUMMARY:Bachata in North Beach
DESCRIPTION:Join us for our newest monthly party\, happening every 3rd Sunday!\nWelcome to our new home at FAME!\n\n\nJoin us for our newest monthly bachata party\, happening every 3rd Sunday!Welcome to our new home at FAME\, featuring a big beautiful venue and amazing dance floor. Opening night January 18th MLK WEEKEND no work Monday! \n  \n🎶 Mainly Bachata with hints of SalsaThe perfect way to end your weekend dancing with us.This a monthly gathering designed for people who want to connect\, move\, and enjoy Latin music—no dance experience required. \nThis isn’t about performance or perfection. It’s about community\, good vibes\, and feeling comfortable stepping onto the dance floor for the first time. \n–Beginner-friendly lessons–Drink specials–Social dancing & special performances \n  \n🕕 6:00 PM – Salsa Class \n🕖 7:00 PM – Bachata Class \n🕗 8:00–11:00 PM – Social Dancing \n🎧 DJ Ron bringing the vibes all night \n📍 FAME – North Beach \n  \nWhat to Expect:\n• Beginner-friendly Salsa & Bachata lessons\n• A relaxed\, social atmosphere (no pressure\, no judgment)\n• Time to dance\, mingle\, and enjoy the music\n• No partner needed — come solo or with friends \nThe Vibe:\nThink Latin lounge meets social club—welcoming\, stylish\, and easygoing. \n  \n🔗 More info: www.inessencedance.com \n📲 Follow us: @inessencedanceco \nCome dance\, vibe\, and make Sunday nights unforgettable! ✨
URL:https://golatindance.com/event/bachata-in-north-beach/2030-12-15/
LOCATION:443 Broadway\, 443 Broadway\, San Francisco\, CA 94133\, San Francisco\, CA\, 94133\, US
CATEGORIES:San Francisco
ATTACH;FMTTYPE=image/jpeg:https://golatindance.com/wp-content/uploads/2025/12/295147_image.jpg
END:VEVENT
BEGIN:VEVENT
DTSTART;TZID=America/Los_Angeles:20301231T190000
DTEND;TZID=America/Los_Angeles:20301231T230000
DTSTAMP:20260421T195857
CREATED:20260113T162434Z
LAST-MODIFIED:20260113T162558Z
UID:10431868-1924974000-1924988400@golatindance.com
SUMMARY:Bachata Tuesday Class & Social
DESCRIPTION:Bachata Tuesday Class & Social Every Last Tuesday of the Month\n\n\n🌟 Bachata Tuesday Class & Social Every Last Tuesday of the Month \nLooking for a fun way to spice up your Tuesday nights? Join us for Bachata Tuesday at Danzhaus Dance Center! Whether you’re looking to learn the basics\, perfect your moves\, or just have a great time dancing\, this event is perfect for everyone. \nEvent Details: \n🕖 Bachata Lesson (7-8pm) \nIntermediate Level Class with Bryon & Samm \nPerfect for those with some Bachata experience who want to take their skills to the next level. \n💃 Social Dancing (8-11pm) \nEnjoy a night of social dancing to the hottest Bachata hits\, with music by our resident DJ Thiencito. \nMeet new people and practice your moves in a relaxed\, friendly atmosphere. \nPricing: \nClass & Social: $25 \nSocial Only (no class): $10 \nLocation: Danzhaus Dance Center \n🌟 No partner required — Come alone or bring a friend! It’s a great opportunity to learn\, dance\, and connect with others. \nDon’t miss out on this fantastic night of Bachata! 💃🕺
URL:https://golatindance.com/event/bachata-tuesday-class-social/2030-12-31/
LOCATION:Danzhaus Dance Center\, 1275 Connecticut Street\, San Francisco\, CA 94107\, San Francisco\, CA\, 94107\, US
CATEGORIES:San Francisco
END:VEVENT
END:VCALENDAR