BEGIN:VCALENDAR
VERSION:2.0
PRODID:-//GO Latin Dance - ECPv6.15.18//NONSGML v1.0//EN
CALSCALE:GREGORIAN
METHOD:PUBLISH
X-ORIGINAL-URL:https://golatindance.com
X-WR-CALDESC:Events for GO Latin Dance
REFRESH-INTERVAL;VALUE=DURATION:PT1H
X-Robots-Tag:noindex
X-PUBLISHED-TTL:PT1H
BEGIN:VTIMEZONE
TZID:America/Los_Angeles
BEGIN:DAYLIGHT
TZOFFSETFROM:-0800
TZOFFSETTO:-0700
TZNAME:PDT
DTSTART:20270314T100000
END:DAYLIGHT
BEGIN:STANDARD
TZOFFSETFROM:-0700
TZOFFSETTO:-0800
TZNAME:PST
DTSTART:20271107T090000
END:STANDARD
BEGIN:DAYLIGHT
TZOFFSETFROM:-0800
TZOFFSETTO:-0700
TZNAME:PDT
DTSTART:20280312T100000
END:DAYLIGHT
BEGIN:STANDARD
TZOFFSETFROM:-0700
TZOFFSETTO:-0800
TZNAME:PST
DTSTART:20281105T090000
END:STANDARD
BEGIN:DAYLIGHT
TZOFFSETFROM:-0800
TZOFFSETTO:-0700
TZNAME:PDT
DTSTART:20290311T100000
END:DAYLIGHT
BEGIN:STANDARD
TZOFFSETFROM:-0700
TZOFFSETTO:-0800
TZNAME:PST
DTSTART:20291104T090000
END:STANDARD
END:VTIMEZONE
BEGIN:VEVENT
DTSTART;TZID=America/Los_Angeles:20280325T190000
DTEND;TZID=America/Los_Angeles:20280325T210000
DTSTAMP:20260420T215356
CREATED:20241002T153446Z
LAST-MODIFIED:20241107T140837Z
UID:10315145-1837623600-1837630800@golatindance.com
SUMMARY:Live Salsa Saturdays at Sea Monster Lounge
DESCRIPTION:Tropical music event with rotating bands. Salsa\, Son Cubano\, Merengue\, Cumbia and more. Enjoy this trip to a tropical paradise through the music and enjoy the dance community.
URL:https://golatindance.com/event/live-salsa-at-sea-monster-lounge-2-3/2028-03-25/
LOCATION:Sea Monster Lounge\, 2202 N 45th S\, Seattle\, WA\, 98103\, United States
CATEGORIES:Seattle
END:VEVENT
BEGIN:VEVENT
DTSTART;TZID=America/Los_Angeles:20280401T190000
DTEND;TZID=America/Los_Angeles:20280401T210000
DTSTAMP:20260420T215356
CREATED:20241002T153446Z
LAST-MODIFIED:20241107T140837Z
UID:10315146-1838228400-1838235600@golatindance.com
SUMMARY:Live Salsa Saturdays at Sea Monster Lounge
DESCRIPTION:Tropical music event with rotating bands. Salsa\, Son Cubano\, Merengue\, Cumbia and more. Enjoy this trip to a tropical paradise through the music and enjoy the dance community.
URL:https://golatindance.com/event/live-salsa-at-sea-monster-lounge-2-3/2028-04-01/
LOCATION:Sea Monster Lounge\, 2202 N 45th S\, Seattle\, WA\, 98103\, United States
CATEGORIES:Seattle
END:VEVENT
BEGIN:VEVENT
DTSTART;TZID=America/Los_Angeles:20280408T190000
DTEND;TZID=America/Los_Angeles:20280408T210000
DTSTAMP:20260420T215356
CREATED:20241002T153446Z
LAST-MODIFIED:20241107T140837Z
UID:10315147-1838833200-1838840400@golatindance.com
SUMMARY:Live Salsa Saturdays at Sea Monster Lounge
DESCRIPTION:Tropical music event with rotating bands. Salsa\, Son Cubano\, Merengue\, Cumbia and more. Enjoy this trip to a tropical paradise through the music and enjoy the dance community.
URL:https://golatindance.com/event/live-salsa-at-sea-monster-lounge-2-3/2028-04-08/
LOCATION:Sea Monster Lounge\, 2202 N 45th S\, Seattle\, WA\, 98103\, United States
CATEGORIES:Seattle
END:VEVENT
BEGIN:VEVENT
DTSTART;TZID=America/Los_Angeles:20280415T190000
DTEND;TZID=America/Los_Angeles:20280415T210000
DTSTAMP:20260420T215356
CREATED:20241002T153446Z
LAST-MODIFIED:20241107T140837Z
UID:10315148-1839438000-1839445200@golatindance.com
SUMMARY:Live Salsa Saturdays at Sea Monster Lounge
DESCRIPTION:Tropical music event with rotating bands. Salsa\, Son Cubano\, Merengue\, Cumbia and more. Enjoy this trip to a tropical paradise through the music and enjoy the dance community.
URL:https://golatindance.com/event/live-salsa-at-sea-monster-lounge-2-3/2028-04-15/
LOCATION:Sea Monster Lounge\, 2202 N 45th S\, Seattle\, WA\, 98103\, United States
CATEGORIES:Seattle
END:VEVENT
BEGIN:VEVENT
DTSTART;TZID=America/Los_Angeles:20280422T190000
DTEND;TZID=America/Los_Angeles:20280422T210000
DTSTAMP:20260420T215356
CREATED:20241002T153446Z
LAST-MODIFIED:20241107T140837Z
UID:10315149-1840042800-1840050000@golatindance.com
SUMMARY:Live Salsa Saturdays at Sea Monster Lounge
DESCRIPTION:Tropical music event with rotating bands. Salsa\, Son Cubano\, Merengue\, Cumbia and more. Enjoy this trip to a tropical paradise through the music and enjoy the dance community.
URL:https://golatindance.com/event/live-salsa-at-sea-monster-lounge-2-3/2028-04-22/
LOCATION:Sea Monster Lounge\, 2202 N 45th S\, Seattle\, WA\, 98103\, United States
CATEGORIES:Seattle
END:VEVENT
BEGIN:VEVENT
DTSTART;TZID=America/Los_Angeles:20280429T190000
DTEND;TZID=America/Los_Angeles:20280429T210000
DTSTAMP:20260420T215356
CREATED:20241002T153446Z
LAST-MODIFIED:20241107T140837Z
UID:10315150-1840647600-1840654800@golatindance.com
SUMMARY:Live Salsa Saturdays at Sea Monster Lounge
DESCRIPTION:Tropical music event with rotating bands. Salsa\, Son Cubano\, Merengue\, Cumbia and more. Enjoy this trip to a tropical paradise through the music and enjoy the dance community.
URL:https://golatindance.com/event/live-salsa-at-sea-monster-lounge-2-3/2028-04-29/
LOCATION:Sea Monster Lounge\, 2202 N 45th S\, Seattle\, WA\, 98103\, United States
CATEGORIES:Seattle
END:VEVENT
BEGIN:VEVENT
DTSTART;TZID=America/Los_Angeles:20280506T190000
DTEND;TZID=America/Los_Angeles:20280506T210000
DTSTAMP:20260420T215356
CREATED:20241002T153446Z
LAST-MODIFIED:20241107T140837Z
UID:10315151-1841252400-1841259600@golatindance.com
SUMMARY:Live Salsa Saturdays at Sea Monster Lounge
DESCRIPTION:Tropical music event with rotating bands. Salsa\, Son Cubano\, Merengue\, Cumbia and more. Enjoy this trip to a tropical paradise through the music and enjoy the dance community.
URL:https://golatindance.com/event/live-salsa-at-sea-monster-lounge-2-3/2028-05-06/
LOCATION:Sea Monster Lounge\, 2202 N 45th S\, Seattle\, WA\, 98103\, United States
CATEGORIES:Seattle
END:VEVENT
BEGIN:VEVENT
DTSTART;TZID=America/Los_Angeles:20280513T190000
DTEND;TZID=America/Los_Angeles:20280513T210000
DTSTAMP:20260420T215356
CREATED:20241002T153446Z
LAST-MODIFIED:20241107T140837Z
UID:10315152-1841857200-1841864400@golatindance.com
SUMMARY:Live Salsa Saturdays at Sea Monster Lounge
DESCRIPTION:Tropical music event with rotating bands. Salsa\, Son Cubano\, Merengue\, Cumbia and more. Enjoy this trip to a tropical paradise through the music and enjoy the dance community.
URL:https://golatindance.com/event/live-salsa-at-sea-monster-lounge-2-3/2028-05-13/
LOCATION:Sea Monster Lounge\, 2202 N 45th S\, Seattle\, WA\, 98103\, United States
CATEGORIES:Seattle
END:VEVENT
BEGIN:VEVENT
DTSTART;TZID=America/Los_Angeles:20280520T190000
DTEND;TZID=America/Los_Angeles:20280520T210000
DTSTAMP:20260420T215356
CREATED:20241002T153446Z
LAST-MODIFIED:20241107T140837Z
UID:10315153-1842462000-1842469200@golatindance.com
SUMMARY:Live Salsa Saturdays at Sea Monster Lounge
DESCRIPTION:Tropical music event with rotating bands. Salsa\, Son Cubano\, Merengue\, Cumbia and more. Enjoy this trip to a tropical paradise through the music and enjoy the dance community.
URL:https://golatindance.com/event/live-salsa-at-sea-monster-lounge-2-3/2028-05-20/
LOCATION:Sea Monster Lounge\, 2202 N 45th S\, Seattle\, WA\, 98103\, United States
CATEGORIES:Seattle
END:VEVENT
BEGIN:VEVENT
DTSTART;TZID=America/Los_Angeles:20280527T190000
DTEND;TZID=America/Los_Angeles:20280527T210000
DTSTAMP:20260420T215356
CREATED:20241002T153446Z
LAST-MODIFIED:20241107T140837Z
UID:10315154-1843066800-1843074000@golatindance.com
SUMMARY:Live Salsa Saturdays at Sea Monster Lounge
DESCRIPTION:Tropical music event with rotating bands. Salsa\, Son Cubano\, Merengue\, Cumbia and more. Enjoy this trip to a tropical paradise through the music and enjoy the dance community.
URL:https://golatindance.com/event/live-salsa-at-sea-monster-lounge-2-3/2028-05-27/
LOCATION:Sea Monster Lounge\, 2202 N 45th S\, Seattle\, WA\, 98103\, United States
CATEGORIES:Seattle
END:VEVENT
BEGIN:VEVENT
DTSTART;TZID=America/Los_Angeles:20280603T190000
DTEND;TZID=America/Los_Angeles:20280603T210000
DTSTAMP:20260420T215356
CREATED:20241002T153446Z
LAST-MODIFIED:20241107T140837Z
UID:10315155-1843671600-1843678800@golatindance.com
SUMMARY:Live Salsa Saturdays at Sea Monster Lounge
DESCRIPTION:Tropical music event with rotating bands. Salsa\, Son Cubano\, Merengue\, Cumbia and more. Enjoy this trip to a tropical paradise through the music and enjoy the dance community.
URL:https://golatindance.com/event/live-salsa-at-sea-monster-lounge-2-3/2028-06-03/
LOCATION:Sea Monster Lounge\, 2202 N 45th S\, Seattle\, WA\, 98103\, United States
CATEGORIES:Seattle
END:VEVENT
BEGIN:VEVENT
DTSTART;TZID=America/Los_Angeles:20280610T190000
DTEND;TZID=America/Los_Angeles:20280610T210000
DTSTAMP:20260420T215356
CREATED:20241002T153446Z
LAST-MODIFIED:20241107T140837Z
UID:10315156-1844276400-1844283600@golatindance.com
SUMMARY:Live Salsa Saturdays at Sea Monster Lounge
DESCRIPTION:Tropical music event with rotating bands. Salsa\, Son Cubano\, Merengue\, Cumbia and more. Enjoy this trip to a tropical paradise through the music and enjoy the dance community.
URL:https://golatindance.com/event/live-salsa-at-sea-monster-lounge-2-3/2028-06-10/
LOCATION:Sea Monster Lounge\, 2202 N 45th S\, Seattle\, WA\, 98103\, United States
CATEGORIES:Seattle
END:VEVENT
BEGIN:VEVENT
DTSTART;TZID=America/Los_Angeles:20280617T190000
DTEND;TZID=America/Los_Angeles:20280617T210000
DTSTAMP:20260420T215356
CREATED:20241002T153446Z
LAST-MODIFIED:20241107T140837Z
UID:10315157-1844881200-1844888400@golatindance.com
SUMMARY:Live Salsa Saturdays at Sea Monster Lounge
DESCRIPTION:Tropical music event with rotating bands. Salsa\, Son Cubano\, Merengue\, Cumbia and more. Enjoy this trip to a tropical paradise through the music and enjoy the dance community.
URL:https://golatindance.com/event/live-salsa-at-sea-monster-lounge-2-3/2028-06-17/
LOCATION:Sea Monster Lounge\, 2202 N 45th S\, Seattle\, WA\, 98103\, United States
CATEGORIES:Seattle
END:VEVENT
BEGIN:VEVENT
DTSTART;TZID=America/Los_Angeles:20280624T190000
DTEND;TZID=America/Los_Angeles:20280624T210000
DTSTAMP:20260420T215356
CREATED:20241002T153446Z
LAST-MODIFIED:20241107T140837Z
UID:10315158-1845486000-1845493200@golatindance.com
SUMMARY:Live Salsa Saturdays at Sea Monster Lounge
DESCRIPTION:Tropical music event with rotating bands. Salsa\, Son Cubano\, Merengue\, Cumbia and more. Enjoy this trip to a tropical paradise through the music and enjoy the dance community.
URL:https://golatindance.com/event/live-salsa-at-sea-monster-lounge-2-3/2028-06-24/
LOCATION:Sea Monster Lounge\, 2202 N 45th S\, Seattle\, WA\, 98103\, United States
CATEGORIES:Seattle
END:VEVENT
BEGIN:VEVENT
DTSTART;TZID=America/Los_Angeles:20280701T190000
DTEND;TZID=America/Los_Angeles:20280701T210000
DTSTAMP:20260420T215356
CREATED:20241002T153446Z
LAST-MODIFIED:20241107T140837Z
UID:10315159-1846090800-1846098000@golatindance.com
SUMMARY:Live Salsa Saturdays at Sea Monster Lounge
DESCRIPTION:Tropical music event with rotating bands. Salsa\, Son Cubano\, Merengue\, Cumbia and more. Enjoy this trip to a tropical paradise through the music and enjoy the dance community.
URL:https://golatindance.com/event/live-salsa-at-sea-monster-lounge-2-3/2028-07-01/
LOCATION:Sea Monster Lounge\, 2202 N 45th S\, Seattle\, WA\, 98103\, United States
CATEGORIES:Seattle
END:VEVENT
BEGIN:VEVENT
DTSTART;TZID=America/Los_Angeles:20280708T190000
DTEND;TZID=America/Los_Angeles:20280708T210000
DTSTAMP:20260420T215356
CREATED:20241002T153446Z
LAST-MODIFIED:20241107T140837Z
UID:10315160-1846695600-1846702800@golatindance.com
SUMMARY:Live Salsa Saturdays at Sea Monster Lounge
DESCRIPTION:Tropical music event with rotating bands. Salsa\, Son Cubano\, Merengue\, Cumbia and more. Enjoy this trip to a tropical paradise through the music and enjoy the dance community.
URL:https://golatindance.com/event/live-salsa-at-sea-monster-lounge-2-3/2028-07-08/
LOCATION:Sea Monster Lounge\, 2202 N 45th S\, Seattle\, WA\, 98103\, United States
CATEGORIES:Seattle
END:VEVENT
BEGIN:VEVENT
DTSTART;TZID=America/Los_Angeles:20280715T190000
DTEND;TZID=America/Los_Angeles:20280715T210000
DTSTAMP:20260420T215356
CREATED:20241002T153446Z
LAST-MODIFIED:20241107T140837Z
UID:10315161-1847300400-1847307600@golatindance.com
SUMMARY:Live Salsa Saturdays at Sea Monster Lounge
DESCRIPTION:Tropical music event with rotating bands. Salsa\, Son Cubano\, Merengue\, Cumbia and more. Enjoy this trip to a tropical paradise through the music and enjoy the dance community.
URL:https://golatindance.com/event/live-salsa-at-sea-monster-lounge-2-3/2028-07-15/
LOCATION:Sea Monster Lounge\, 2202 N 45th S\, Seattle\, WA\, 98103\, United States
CATEGORIES:Seattle
END:VEVENT
BEGIN:VEVENT
DTSTART;TZID=America/Los_Angeles:20280722T190000
DTEND;TZID=America/Los_Angeles:20280722T210000
DTSTAMP:20260420T215356
CREATED:20241002T153446Z
LAST-MODIFIED:20241107T140837Z
UID:10315162-1847905200-1847912400@golatindance.com
SUMMARY:Live Salsa Saturdays at Sea Monster Lounge
DESCRIPTION:Tropical music event with rotating bands. Salsa\, Son Cubano\, Merengue\, Cumbia and more. Enjoy this trip to a tropical paradise through the music and enjoy the dance community.
URL:https://golatindance.com/event/live-salsa-at-sea-monster-lounge-2-3/2028-07-22/
LOCATION:Sea Monster Lounge\, 2202 N 45th S\, Seattle\, WA\, 98103\, United States
CATEGORIES:Seattle
END:VEVENT
BEGIN:VEVENT
DTSTART;TZID=America/Los_Angeles:20280729T190000
DTEND;TZID=America/Los_Angeles:20280729T210000
DTSTAMP:20260420T215356
CREATED:20241002T153446Z
LAST-MODIFIED:20241107T140837Z
UID:10315163-1848510000-1848517200@golatindance.com
SUMMARY:Live Salsa Saturdays at Sea Monster Lounge
DESCRIPTION:Tropical music event with rotating bands. Salsa\, Son Cubano\, Merengue\, Cumbia and more. Enjoy this trip to a tropical paradise through the music and enjoy the dance community.
URL:https://golatindance.com/event/live-salsa-at-sea-monster-lounge-2-3/2028-07-29/
LOCATION:Sea Monster Lounge\, 2202 N 45th S\, Seattle\, WA\, 98103\, United States
CATEGORIES:Seattle
END:VEVENT
BEGIN:VEVENT
DTSTART;TZID=America/Los_Angeles:20280805T190000
DTEND;TZID=America/Los_Angeles:20280805T210000
DTSTAMP:20260420T215356
CREATED:20241002T153446Z
LAST-MODIFIED:20241107T140837Z
UID:10315164-1849114800-1849122000@golatindance.com
SUMMARY:Live Salsa Saturdays at Sea Monster Lounge
DESCRIPTION:Tropical music event with rotating bands. Salsa\, Son Cubano\, Merengue\, Cumbia and more. Enjoy this trip to a tropical paradise through the music and enjoy the dance community.
URL:https://golatindance.com/event/live-salsa-at-sea-monster-lounge-2-3/2028-08-05/
LOCATION:Sea Monster Lounge\, 2202 N 45th S\, Seattle\, WA\, 98103\, United States
CATEGORIES:Seattle
END:VEVENT
BEGIN:VEVENT
DTSTART;TZID=America/Los_Angeles:20280812T190000
DTEND;TZID=America/Los_Angeles:20280812T210000
DTSTAMP:20260420T215356
CREATED:20241002T153446Z
LAST-MODIFIED:20241107T140837Z
UID:10315165-1849719600-1849726800@golatindance.com
SUMMARY:Live Salsa Saturdays at Sea Monster Lounge
DESCRIPTION:Tropical music event with rotating bands. Salsa\, Son Cubano\, Merengue\, Cumbia and more. Enjoy this trip to a tropical paradise through the music and enjoy the dance community.
URL:https://golatindance.com/event/live-salsa-at-sea-monster-lounge-2-3/2028-08-12/
LOCATION:Sea Monster Lounge\, 2202 N 45th S\, Seattle\, WA\, 98103\, United States
CATEGORIES:Seattle
END:VEVENT
BEGIN:VEVENT
DTSTART;TZID=America/Los_Angeles:20280819T190000
DTEND;TZID=America/Los_Angeles:20280819T210000
DTSTAMP:20260420T215356
CREATED:20241002T153446Z
LAST-MODIFIED:20241107T140837Z
UID:10315166-1850324400-1850331600@golatindance.com
SUMMARY:Live Salsa Saturdays at Sea Monster Lounge
DESCRIPTION:Tropical music event with rotating bands. Salsa\, Son Cubano\, Merengue\, Cumbia and more. Enjoy this trip to a tropical paradise through the music and enjoy the dance community.
URL:https://golatindance.com/event/live-salsa-at-sea-monster-lounge-2-3/2028-08-19/
LOCATION:Sea Monster Lounge\, 2202 N 45th S\, Seattle\, WA\, 98103\, United States
CATEGORIES:Seattle
END:VEVENT
BEGIN:VEVENT
DTSTART;TZID=America/Los_Angeles:20280826T190000
DTEND;TZID=America/Los_Angeles:20280826T210000
DTSTAMP:20260420T215356
CREATED:20241002T153446Z
LAST-MODIFIED:20241107T140837Z
UID:10315167-1850929200-1850936400@golatindance.com
SUMMARY:Live Salsa Saturdays at Sea Monster Lounge
DESCRIPTION:Tropical music event with rotating bands. Salsa\, Son Cubano\, Merengue\, Cumbia and more. Enjoy this trip to a tropical paradise through the music and enjoy the dance community.
URL:https://golatindance.com/event/live-salsa-at-sea-monster-lounge-2-3/2028-08-26/
LOCATION:Sea Monster Lounge\, 2202 N 45th S\, Seattle\, WA\, 98103\, United States
CATEGORIES:Seattle
END:VEVENT
BEGIN:VEVENT
DTSTART;TZID=America/Los_Angeles:20280902T190000
DTEND;TZID=America/Los_Angeles:20280902T210000
DTSTAMP:20260420T215356
CREATED:20241002T153446Z
LAST-MODIFIED:20241107T140837Z
UID:10315168-1851534000-1851541200@golatindance.com
SUMMARY:Live Salsa Saturdays at Sea Monster Lounge
DESCRIPTION:Tropical music event with rotating bands. Salsa\, Son Cubano\, Merengue\, Cumbia and more. Enjoy this trip to a tropical paradise through the music and enjoy the dance community.
URL:https://golatindance.com/event/live-salsa-at-sea-monster-lounge-2-3/2028-09-02/
LOCATION:Sea Monster Lounge\, 2202 N 45th S\, Seattle\, WA\, 98103\, United States
CATEGORIES:Seattle
END:VEVENT
BEGIN:VEVENT
DTSTART;TZID=America/Los_Angeles:20280909T190000
DTEND;TZID=America/Los_Angeles:20280909T210000
DTSTAMP:20260420T215356
CREATED:20241002T153446Z
LAST-MODIFIED:20241107T140837Z
UID:10315169-1852138800-1852146000@golatindance.com
SUMMARY:Live Salsa Saturdays at Sea Monster Lounge
DESCRIPTION:Tropical music event with rotating bands. Salsa\, Son Cubano\, Merengue\, Cumbia and more. Enjoy this trip to a tropical paradise through the music and enjoy the dance community.
URL:https://golatindance.com/event/live-salsa-at-sea-monster-lounge-2-3/2028-09-09/
LOCATION:Sea Monster Lounge\, 2202 N 45th S\, Seattle\, WA\, 98103\, United States
CATEGORIES:Seattle
END:VEVENT
BEGIN:VEVENT
DTSTART;TZID=America/Los_Angeles:20280916T190000
DTEND;TZID=America/Los_Angeles:20280916T210000
DTSTAMP:20260420T215356
CREATED:20241002T153446Z
LAST-MODIFIED:20241107T140837Z
UID:10315170-1852743600-1852750800@golatindance.com
SUMMARY:Live Salsa Saturdays at Sea Monster Lounge
DESCRIPTION:Tropical music event with rotating bands. Salsa\, Son Cubano\, Merengue\, Cumbia and more. Enjoy this trip to a tropical paradise through the music and enjoy the dance community.
URL:https://golatindance.com/event/live-salsa-at-sea-monster-lounge-2-3/2028-09-16/
LOCATION:Sea Monster Lounge\, 2202 N 45th S\, Seattle\, WA\, 98103\, United States
CATEGORIES:Seattle
END:VEVENT
BEGIN:VEVENT
DTSTART;TZID=America/Los_Angeles:20280923T190000
DTEND;TZID=America/Los_Angeles:20280923T210000
DTSTAMP:20260420T215356
CREATED:20241002T153446Z
LAST-MODIFIED:20241107T140837Z
UID:10315171-1853348400-1853355600@golatindance.com
SUMMARY:Live Salsa Saturdays at Sea Monster Lounge
DESCRIPTION:Tropical music event with rotating bands. Salsa\, Son Cubano\, Merengue\, Cumbia and more. Enjoy this trip to a tropical paradise through the music and enjoy the dance community.
URL:https://golatindance.com/event/live-salsa-at-sea-monster-lounge-2-3/2028-09-23/
LOCATION:Sea Monster Lounge\, 2202 N 45th S\, Seattle\, WA\, 98103\, United States
CATEGORIES:Seattle
END:VEVENT
BEGIN:VEVENT
DTSTART;TZID=America/Los_Angeles:20280930T190000
DTEND;TZID=America/Los_Angeles:20280930T210000
DTSTAMP:20260420T215356
CREATED:20241002T153446Z
LAST-MODIFIED:20241107T140837Z
UID:10315172-1853953200-1853960400@golatindance.com
SUMMARY:Live Salsa Saturdays at Sea Monster Lounge
DESCRIPTION:Tropical music event with rotating bands. Salsa\, Son Cubano\, Merengue\, Cumbia and more. Enjoy this trip to a tropical paradise through the music and enjoy the dance community.
URL:https://golatindance.com/event/live-salsa-at-sea-monster-lounge-2-3/2028-09-30/
LOCATION:Sea Monster Lounge\, 2202 N 45th S\, Seattle\, WA\, 98103\, United States
CATEGORIES:Seattle
END:VEVENT
BEGIN:VEVENT
DTSTART;TZID=America/Los_Angeles:20281007T190000
DTEND;TZID=America/Los_Angeles:20281007T210000
DTSTAMP:20260420T215356
CREATED:20241002T153446Z
LAST-MODIFIED:20241107T140837Z
UID:10315173-1854558000-1854565200@golatindance.com
SUMMARY:Live Salsa Saturdays at Sea Monster Lounge
DESCRIPTION:Tropical music event with rotating bands. Salsa\, Son Cubano\, Merengue\, Cumbia and more. Enjoy this trip to a tropical paradise through the music and enjoy the dance community.
URL:https://golatindance.com/event/live-salsa-at-sea-monster-lounge-2-3/2028-10-07/
LOCATION:Sea Monster Lounge\, 2202 N 45th S\, Seattle\, WA\, 98103\, United States
CATEGORIES:Seattle
END:VEVENT
BEGIN:VEVENT
DTSTART;TZID=America/Los_Angeles:20281014T190000
DTEND;TZID=America/Los_Angeles:20281014T210000
DTSTAMP:20260420T215356
CREATED:20241002T153446Z
LAST-MODIFIED:20241107T140837Z
UID:10315174-1855162800-1855170000@golatindance.com
SUMMARY:Live Salsa Saturdays at Sea Monster Lounge
DESCRIPTION:Tropical music event with rotating bands. Salsa\, Son Cubano\, Merengue\, Cumbia and more. Enjoy this trip to a tropical paradise through the music and enjoy the dance community.
URL:https://golatindance.com/event/live-salsa-at-sea-monster-lounge-2-3/2028-10-14/
LOCATION:Sea Monster Lounge\, 2202 N 45th S\, Seattle\, WA\, 98103\, United States
CATEGORIES:Seattle
END:VEVENT
END:VCALENDAR