BEGIN:VCALENDAR
VERSION:2.0
PRODID:-//GO Latin Dance - ECPv6.15.18//NONSGML v1.0//EN
CALSCALE:GREGORIAN
METHOD:PUBLISH
X-ORIGINAL-URL:https://golatindance.com
X-WR-CALDESC:Events for GO Latin Dance
REFRESH-INTERVAL;VALUE=DURATION:PT1H
X-Robots-Tag:noindex
X-PUBLISHED-TTL:PT1H
BEGIN:VTIMEZONE
TZID:America/Los_Angeles
BEGIN:DAYLIGHT
TZOFFSETFROM:-0800
TZOFFSETTO:-0700
TZNAME:PDT
DTSTART:20270314T100000
END:DAYLIGHT
BEGIN:STANDARD
TZOFFSETFROM:-0700
TZOFFSETTO:-0800
TZNAME:PST
DTSTART:20271107T090000
END:STANDARD
BEGIN:DAYLIGHT
TZOFFSETFROM:-0800
TZOFFSETTO:-0700
TZNAME:PDT
DTSTART:20280312T100000
END:DAYLIGHT
BEGIN:STANDARD
TZOFFSETFROM:-0700
TZOFFSETTO:-0800
TZNAME:PST
DTSTART:20281105T090000
END:STANDARD
BEGIN:DAYLIGHT
TZOFFSETFROM:-0800
TZOFFSETTO:-0700
TZNAME:PDT
DTSTART:20290311T100000
END:DAYLIGHT
BEGIN:STANDARD
TZOFFSETFROM:-0700
TZOFFSETTO:-0800
TZNAME:PST
DTSTART:20291104T090000
END:STANDARD
BEGIN:DAYLIGHT
TZOFFSETFROM:-0800
TZOFFSETTO:-0700
TZNAME:PDT
DTSTART:20300310T100000
END:DAYLIGHT
BEGIN:STANDARD
TZOFFSETFROM:-0700
TZOFFSETTO:-0800
TZNAME:PST
DTSTART:20301103T090000
END:STANDARD
END:VTIMEZONE
BEGIN:VEVENT
DTSTART;TZID=America/Los_Angeles:20281230T190000
DTEND;TZID=America/Los_Angeles:20281230T210000
DTSTAMP:20260421T041053
CREATED:20241002T153446Z
LAST-MODIFIED:20241107T140837Z
UID:10315185-1861815600-1861822800@golatindance.com
SUMMARY:Live Salsa Saturdays at Sea Monster Lounge
DESCRIPTION:Tropical music event with rotating bands. Salsa\, Son Cubano\, Merengue\, Cumbia and more. Enjoy this trip to a tropical paradise through the music and enjoy the dance community.
URL:https://golatindance.com/event/live-salsa-at-sea-monster-lounge-2-3/2028-12-30/
LOCATION:Sea Monster Lounge\, 2202 N 45th S\, Seattle\, WA\, 98103\, United States
CATEGORIES:Seattle
END:VEVENT
BEGIN:VEVENT
DTSTART;TZID=America/Los_Angeles:20290106T190000
DTEND;TZID=America/Los_Angeles:20290106T210000
DTSTAMP:20260421T041053
CREATED:20241002T153446Z
LAST-MODIFIED:20241107T140837Z
UID:10315186-1862420400-1862427600@golatindance.com
SUMMARY:Live Salsa Saturdays at Sea Monster Lounge
DESCRIPTION:Tropical music event with rotating bands. Salsa\, Son Cubano\, Merengue\, Cumbia and more. Enjoy this trip to a tropical paradise through the music and enjoy the dance community.
URL:https://golatindance.com/event/live-salsa-at-sea-monster-lounge-2-3/2029-01-06/
LOCATION:Sea Monster Lounge\, 2202 N 45th S\, Seattle\, WA\, 98103\, United States
CATEGORIES:Seattle
END:VEVENT
BEGIN:VEVENT
DTSTART;TZID=America/Los_Angeles:20290113T190000
DTEND;TZID=America/Los_Angeles:20290113T210000
DTSTAMP:20260421T041053
CREATED:20241002T153446Z
LAST-MODIFIED:20241107T140837Z
UID:10315187-1863025200-1863032400@golatindance.com
SUMMARY:Live Salsa Saturdays at Sea Monster Lounge
DESCRIPTION:Tropical music event with rotating bands. Salsa\, Son Cubano\, Merengue\, Cumbia and more. Enjoy this trip to a tropical paradise through the music and enjoy the dance community.
URL:https://golatindance.com/event/live-salsa-at-sea-monster-lounge-2-3/2029-01-13/
LOCATION:Sea Monster Lounge\, 2202 N 45th S\, Seattle\, WA\, 98103\, United States
CATEGORIES:Seattle
END:VEVENT
BEGIN:VEVENT
DTSTART;TZID=America/Los_Angeles:20290120T190000
DTEND;TZID=America/Los_Angeles:20290120T210000
DTSTAMP:20260421T041053
CREATED:20241002T153446Z
LAST-MODIFIED:20241107T140837Z
UID:10315188-1863630000-1863637200@golatindance.com
SUMMARY:Live Salsa Saturdays at Sea Monster Lounge
DESCRIPTION:Tropical music event with rotating bands. Salsa\, Son Cubano\, Merengue\, Cumbia and more. Enjoy this trip to a tropical paradise through the music and enjoy the dance community.
URL:https://golatindance.com/event/live-salsa-at-sea-monster-lounge-2-3/2029-01-20/
LOCATION:Sea Monster Lounge\, 2202 N 45th S\, Seattle\, WA\, 98103\, United States
CATEGORIES:Seattle
END:VEVENT
BEGIN:VEVENT
DTSTART;TZID=America/Los_Angeles:20290127T190000
DTEND;TZID=America/Los_Angeles:20290127T210000
DTSTAMP:20260421T041053
CREATED:20241002T153446Z
LAST-MODIFIED:20241107T140837Z
UID:10315189-1864234800-1864242000@golatindance.com
SUMMARY:Live Salsa Saturdays at Sea Monster Lounge
DESCRIPTION:Tropical music event with rotating bands. Salsa\, Son Cubano\, Merengue\, Cumbia and more. Enjoy this trip to a tropical paradise through the music and enjoy the dance community.
URL:https://golatindance.com/event/live-salsa-at-sea-monster-lounge-2-3/2029-01-27/
LOCATION:Sea Monster Lounge\, 2202 N 45th S\, Seattle\, WA\, 98103\, United States
CATEGORIES:Seattle
END:VEVENT
BEGIN:VEVENT
DTSTART;TZID=America/Los_Angeles:20290203T190000
DTEND;TZID=America/Los_Angeles:20290203T210000
DTSTAMP:20260421T041053
CREATED:20241002T153446Z
LAST-MODIFIED:20241107T140837Z
UID:10315190-1864839600-1864846800@golatindance.com
SUMMARY:Live Salsa Saturdays at Sea Monster Lounge
DESCRIPTION:Tropical music event with rotating bands. Salsa\, Son Cubano\, Merengue\, Cumbia and more. Enjoy this trip to a tropical paradise through the music and enjoy the dance community.
URL:https://golatindance.com/event/live-salsa-at-sea-monster-lounge-2-3/2029-02-03/
LOCATION:Sea Monster Lounge\, 2202 N 45th S\, Seattle\, WA\, 98103\, United States
CATEGORIES:Seattle
END:VEVENT
BEGIN:VEVENT
DTSTART;TZID=America/Los_Angeles:20290210T190000
DTEND;TZID=America/Los_Angeles:20290210T210000
DTSTAMP:20260421T041053
CREATED:20241002T153446Z
LAST-MODIFIED:20241107T140837Z
UID:10315191-1865444400-1865451600@golatindance.com
SUMMARY:Live Salsa Saturdays at Sea Monster Lounge
DESCRIPTION:Tropical music event with rotating bands. Salsa\, Son Cubano\, Merengue\, Cumbia and more. Enjoy this trip to a tropical paradise through the music and enjoy the dance community.
URL:https://golatindance.com/event/live-salsa-at-sea-monster-lounge-2-3/2029-02-10/
LOCATION:Sea Monster Lounge\, 2202 N 45th S\, Seattle\, WA\, 98103\, United States
CATEGORIES:Seattle
END:VEVENT
BEGIN:VEVENT
DTSTART;TZID=America/Los_Angeles:20290217T190000
DTEND;TZID=America/Los_Angeles:20290217T210000
DTSTAMP:20260421T041053
CREATED:20241002T153446Z
LAST-MODIFIED:20241107T140837Z
UID:10315192-1866049200-1866056400@golatindance.com
SUMMARY:Live Salsa Saturdays at Sea Monster Lounge
DESCRIPTION:Tropical music event with rotating bands. Salsa\, Son Cubano\, Merengue\, Cumbia and more. Enjoy this trip to a tropical paradise through the music and enjoy the dance community.
URL:https://golatindance.com/event/live-salsa-at-sea-monster-lounge-2-3/2029-02-17/
LOCATION:Sea Monster Lounge\, 2202 N 45th S\, Seattle\, WA\, 98103\, United States
CATEGORIES:Seattle
END:VEVENT
BEGIN:VEVENT
DTSTART;TZID=America/Los_Angeles:20290224T190000
DTEND;TZID=America/Los_Angeles:20290224T210000
DTSTAMP:20260421T041053
CREATED:20241002T153446Z
LAST-MODIFIED:20241107T140837Z
UID:10315193-1866654000-1866661200@golatindance.com
SUMMARY:Live Salsa Saturdays at Sea Monster Lounge
DESCRIPTION:Tropical music event with rotating bands. Salsa\, Son Cubano\, Merengue\, Cumbia and more. Enjoy this trip to a tropical paradise through the music and enjoy the dance community.
URL:https://golatindance.com/event/live-salsa-at-sea-monster-lounge-2-3/2029-02-24/
LOCATION:Sea Monster Lounge\, 2202 N 45th S\, Seattle\, WA\, 98103\, United States
CATEGORIES:Seattle
END:VEVENT
BEGIN:VEVENT
DTSTART;TZID=America/Los_Angeles:20290303T190000
DTEND;TZID=America/Los_Angeles:20290303T210000
DTSTAMP:20260421T041053
CREATED:20241002T153446Z
LAST-MODIFIED:20241107T140837Z
UID:10315194-1867258800-1867266000@golatindance.com
SUMMARY:Live Salsa Saturdays at Sea Monster Lounge
DESCRIPTION:Tropical music event with rotating bands. Salsa\, Son Cubano\, Merengue\, Cumbia and more. Enjoy this trip to a tropical paradise through the music and enjoy the dance community.
URL:https://golatindance.com/event/live-salsa-at-sea-monster-lounge-2-3/2029-03-03/
LOCATION:Sea Monster Lounge\, 2202 N 45th S\, Seattle\, WA\, 98103\, United States
CATEGORIES:Seattle
END:VEVENT
BEGIN:VEVENT
DTSTART;TZID=America/Los_Angeles:20290310T190000
DTEND;TZID=America/Los_Angeles:20290310T210000
DTSTAMP:20260421T041053
CREATED:20241002T153446Z
LAST-MODIFIED:20241107T140837Z
UID:10315195-1867863600-1867870800@golatindance.com
SUMMARY:Live Salsa Saturdays at Sea Monster Lounge
DESCRIPTION:Tropical music event with rotating bands. Salsa\, Son Cubano\, Merengue\, Cumbia and more. Enjoy this trip to a tropical paradise through the music and enjoy the dance community.
URL:https://golatindance.com/event/live-salsa-at-sea-monster-lounge-2-3/2029-03-10/
LOCATION:Sea Monster Lounge\, 2202 N 45th S\, Seattle\, WA\, 98103\, United States
CATEGORIES:Seattle
END:VEVENT
BEGIN:VEVENT
DTSTART;TZID=America/Los_Angeles:20290317T190000
DTEND;TZID=America/Los_Angeles:20290317T210000
DTSTAMP:20260421T041053
CREATED:20241002T153446Z
LAST-MODIFIED:20241107T140837Z
UID:10315196-1868468400-1868475600@golatindance.com
SUMMARY:Live Salsa Saturdays at Sea Monster Lounge
DESCRIPTION:Tropical music event with rotating bands. Salsa\, Son Cubano\, Merengue\, Cumbia and more. Enjoy this trip to a tropical paradise through the music and enjoy the dance community.
URL:https://golatindance.com/event/live-salsa-at-sea-monster-lounge-2-3/2029-03-17/
LOCATION:Sea Monster Lounge\, 2202 N 45th S\, Seattle\, WA\, 98103\, United States
CATEGORIES:Seattle
END:VEVENT
BEGIN:VEVENT
DTSTART;TZID=America/Los_Angeles:20290324T190000
DTEND;TZID=America/Los_Angeles:20290324T210000
DTSTAMP:20260421T041053
CREATED:20241002T153446Z
LAST-MODIFIED:20241107T140837Z
UID:10315197-1869073200-1869080400@golatindance.com
SUMMARY:Live Salsa Saturdays at Sea Monster Lounge
DESCRIPTION:Tropical music event with rotating bands. Salsa\, Son Cubano\, Merengue\, Cumbia and more. Enjoy this trip to a tropical paradise through the music and enjoy the dance community.
URL:https://golatindance.com/event/live-salsa-at-sea-monster-lounge-2-3/2029-03-24/
LOCATION:Sea Monster Lounge\, 2202 N 45th S\, Seattle\, WA\, 98103\, United States
CATEGORIES:Seattle
END:VEVENT
BEGIN:VEVENT
DTSTART;TZID=America/Los_Angeles:20290331T190000
DTEND;TZID=America/Los_Angeles:20290331T210000
DTSTAMP:20260421T041053
CREATED:20241002T153446Z
LAST-MODIFIED:20241107T140837Z
UID:10315198-1869678000-1869685200@golatindance.com
SUMMARY:Live Salsa Saturdays at Sea Monster Lounge
DESCRIPTION:Tropical music event with rotating bands. Salsa\, Son Cubano\, Merengue\, Cumbia and more. Enjoy this trip to a tropical paradise through the music and enjoy the dance community.
URL:https://golatindance.com/event/live-salsa-at-sea-monster-lounge-2-3/2029-03-31/
LOCATION:Sea Monster Lounge\, 2202 N 45th S\, Seattle\, WA\, 98103\, United States
CATEGORIES:Seattle
END:VEVENT
BEGIN:VEVENT
DTSTART;TZID=America/Los_Angeles:20290407T190000
DTEND;TZID=America/Los_Angeles:20290407T210000
DTSTAMP:20260421T041053
CREATED:20241002T153446Z
LAST-MODIFIED:20241107T140837Z
UID:10315199-1870282800-1870290000@golatindance.com
SUMMARY:Live Salsa Saturdays at Sea Monster Lounge
DESCRIPTION:Tropical music event with rotating bands. Salsa\, Son Cubano\, Merengue\, Cumbia and more. Enjoy this trip to a tropical paradise through the music and enjoy the dance community.
URL:https://golatindance.com/event/live-salsa-at-sea-monster-lounge-2-3/2029-04-07/
LOCATION:Sea Monster Lounge\, 2202 N 45th S\, Seattle\, WA\, 98103\, United States
CATEGORIES:Seattle
END:VEVENT
BEGIN:VEVENT
DTSTART;TZID=America/Los_Angeles:20290414T190000
DTEND;TZID=America/Los_Angeles:20290414T210000
DTSTAMP:20260421T041053
CREATED:20241002T153446Z
LAST-MODIFIED:20241107T140837Z
UID:10315200-1870887600-1870894800@golatindance.com
SUMMARY:Live Salsa Saturdays at Sea Monster Lounge
DESCRIPTION:Tropical music event with rotating bands. Salsa\, Son Cubano\, Merengue\, Cumbia and more. Enjoy this trip to a tropical paradise through the music and enjoy the dance community.
URL:https://golatindance.com/event/live-salsa-at-sea-monster-lounge-2-3/2029-04-14/
LOCATION:Sea Monster Lounge\, 2202 N 45th S\, Seattle\, WA\, 98103\, United States
CATEGORIES:Seattle
END:VEVENT
BEGIN:VEVENT
DTSTART;TZID=America/Los_Angeles:20290421T190000
DTEND;TZID=America/Los_Angeles:20290421T210000
DTSTAMP:20260421T041053
CREATED:20241002T153446Z
LAST-MODIFIED:20241107T140837Z
UID:10315201-1871492400-1871499600@golatindance.com
SUMMARY:Live Salsa Saturdays at Sea Monster Lounge
DESCRIPTION:Tropical music event with rotating bands. Salsa\, Son Cubano\, Merengue\, Cumbia and more. Enjoy this trip to a tropical paradise through the music and enjoy the dance community.
URL:https://golatindance.com/event/live-salsa-at-sea-monster-lounge-2-3/2029-04-21/
LOCATION:Sea Monster Lounge\, 2202 N 45th S\, Seattle\, WA\, 98103\, United States
CATEGORIES:Seattle
END:VEVENT
BEGIN:VEVENT
DTSTART;TZID=America/Los_Angeles:20290428T190000
DTEND;TZID=America/Los_Angeles:20290428T210000
DTSTAMP:20260421T041053
CREATED:20241002T153446Z
LAST-MODIFIED:20241107T140837Z
UID:10315202-1872097200-1872104400@golatindance.com
SUMMARY:Live Salsa Saturdays at Sea Monster Lounge
DESCRIPTION:Tropical music event with rotating bands. Salsa\, Son Cubano\, Merengue\, Cumbia and more. Enjoy this trip to a tropical paradise through the music and enjoy the dance community.
URL:https://golatindance.com/event/live-salsa-at-sea-monster-lounge-2-3/2029-04-28/
LOCATION:Sea Monster Lounge\, 2202 N 45th S\, Seattle\, WA\, 98103\, United States
CATEGORIES:Seattle
END:VEVENT
BEGIN:VEVENT
DTSTART;TZID=America/Los_Angeles:20290505T190000
DTEND;TZID=America/Los_Angeles:20290505T210000
DTSTAMP:20260421T041053
CREATED:20241002T153446Z
LAST-MODIFIED:20241107T140837Z
UID:10315203-1872702000-1872709200@golatindance.com
SUMMARY:Live Salsa Saturdays at Sea Monster Lounge
DESCRIPTION:Tropical music event with rotating bands. Salsa\, Son Cubano\, Merengue\, Cumbia and more. Enjoy this trip to a tropical paradise through the music and enjoy the dance community.
URL:https://golatindance.com/event/live-salsa-at-sea-monster-lounge-2-3/2029-05-05/
LOCATION:Sea Monster Lounge\, 2202 N 45th S\, Seattle\, WA\, 98103\, United States
CATEGORIES:Seattle
END:VEVENT
BEGIN:VEVENT
DTSTART;TZID=America/Los_Angeles:20290512T190000
DTEND;TZID=America/Los_Angeles:20290512T210000
DTSTAMP:20260421T041053
CREATED:20241002T153446Z
LAST-MODIFIED:20241107T140837Z
UID:10315204-1873306800-1873314000@golatindance.com
SUMMARY:Live Salsa Saturdays at Sea Monster Lounge
DESCRIPTION:Tropical music event with rotating bands. Salsa\, Son Cubano\, Merengue\, Cumbia and more. Enjoy this trip to a tropical paradise through the music and enjoy the dance community.
URL:https://golatindance.com/event/live-salsa-at-sea-monster-lounge-2-3/2029-05-12/
LOCATION:Sea Monster Lounge\, 2202 N 45th S\, Seattle\, WA\, 98103\, United States
CATEGORIES:Seattle
END:VEVENT
BEGIN:VEVENT
DTSTART;TZID=America/Los_Angeles:20290519T190000
DTEND;TZID=America/Los_Angeles:20290519T210000
DTSTAMP:20260421T041053
CREATED:20241002T153446Z
LAST-MODIFIED:20241107T140837Z
UID:10315205-1873911600-1873918800@golatindance.com
SUMMARY:Live Salsa Saturdays at Sea Monster Lounge
DESCRIPTION:Tropical music event with rotating bands. Salsa\, Son Cubano\, Merengue\, Cumbia and more. Enjoy this trip to a tropical paradise through the music and enjoy the dance community.
URL:https://golatindance.com/event/live-salsa-at-sea-monster-lounge-2-3/2029-05-19/
LOCATION:Sea Monster Lounge\, 2202 N 45th S\, Seattle\, WA\, 98103\, United States
CATEGORIES:Seattle
END:VEVENT
BEGIN:VEVENT
DTSTART;TZID=America/Los_Angeles:20290526T190000
DTEND;TZID=America/Los_Angeles:20290526T210000
DTSTAMP:20260421T041053
CREATED:20241002T153446Z
LAST-MODIFIED:20241107T140837Z
UID:10315206-1874516400-1874523600@golatindance.com
SUMMARY:Live Salsa Saturdays at Sea Monster Lounge
DESCRIPTION:Tropical music event with rotating bands. Salsa\, Son Cubano\, Merengue\, Cumbia and more. Enjoy this trip to a tropical paradise through the music and enjoy the dance community.
URL:https://golatindance.com/event/live-salsa-at-sea-monster-lounge-2-3/2029-05-26/
LOCATION:Sea Monster Lounge\, 2202 N 45th S\, Seattle\, WA\, 98103\, United States
CATEGORIES:Seattle
END:VEVENT
BEGIN:VEVENT
DTSTART;TZID=America/Los_Angeles:20290602T190000
DTEND;TZID=America/Los_Angeles:20290602T210000
DTSTAMP:20260421T041053
CREATED:20241002T153446Z
LAST-MODIFIED:20241107T140837Z
UID:10315207-1875121200-1875128400@golatindance.com
SUMMARY:Live Salsa Saturdays at Sea Monster Lounge
DESCRIPTION:Tropical music event with rotating bands. Salsa\, Son Cubano\, Merengue\, Cumbia and more. Enjoy this trip to a tropical paradise through the music and enjoy the dance community.
URL:https://golatindance.com/event/live-salsa-at-sea-monster-lounge-2-3/2029-06-02/
LOCATION:Sea Monster Lounge\, 2202 N 45th S\, Seattle\, WA\, 98103\, United States
CATEGORIES:Seattle
END:VEVENT
BEGIN:VEVENT
DTSTART;TZID=America/Los_Angeles:20290609T190000
DTEND;TZID=America/Los_Angeles:20290609T210000
DTSTAMP:20260421T041053
CREATED:20241002T153446Z
LAST-MODIFIED:20241107T140837Z
UID:10315208-1875726000-1875733200@golatindance.com
SUMMARY:Live Salsa Saturdays at Sea Monster Lounge
DESCRIPTION:Tropical music event with rotating bands. Salsa\, Son Cubano\, Merengue\, Cumbia and more. Enjoy this trip to a tropical paradise through the music and enjoy the dance community.
URL:https://golatindance.com/event/live-salsa-at-sea-monster-lounge-2-3/2029-06-09/
LOCATION:Sea Monster Lounge\, 2202 N 45th S\, Seattle\, WA\, 98103\, United States
CATEGORIES:Seattle
END:VEVENT
BEGIN:VEVENT
DTSTART;TZID=America/Los_Angeles:20290616T190000
DTEND;TZID=America/Los_Angeles:20290616T210000
DTSTAMP:20260421T041053
CREATED:20241002T153446Z
LAST-MODIFIED:20241107T140837Z
UID:10315209-1876330800-1876338000@golatindance.com
SUMMARY:Live Salsa Saturdays at Sea Monster Lounge
DESCRIPTION:Tropical music event with rotating bands. Salsa\, Son Cubano\, Merengue\, Cumbia and more. Enjoy this trip to a tropical paradise through the music and enjoy the dance community.
URL:https://golatindance.com/event/live-salsa-at-sea-monster-lounge-2-3/2029-06-16/
LOCATION:Sea Monster Lounge\, 2202 N 45th S\, Seattle\, WA\, 98103\, United States
CATEGORIES:Seattle
END:VEVENT
BEGIN:VEVENT
DTSTART;TZID=America/Los_Angeles:20290623T190000
DTEND;TZID=America/Los_Angeles:20290623T210000
DTSTAMP:20260421T041053
CREATED:20241002T153446Z
LAST-MODIFIED:20241107T140837Z
UID:10315210-1876935600-1876942800@golatindance.com
SUMMARY:Live Salsa Saturdays at Sea Monster Lounge
DESCRIPTION:Tropical music event with rotating bands. Salsa\, Son Cubano\, Merengue\, Cumbia and more. Enjoy this trip to a tropical paradise through the music and enjoy the dance community.
URL:https://golatindance.com/event/live-salsa-at-sea-monster-lounge-2-3/2029-06-23/
LOCATION:Sea Monster Lounge\, 2202 N 45th S\, Seattle\, WA\, 98103\, United States
CATEGORIES:Seattle
END:VEVENT
BEGIN:VEVENT
DTSTART;TZID=America/Los_Angeles:20290630T190000
DTEND;TZID=America/Los_Angeles:20290630T210000
DTSTAMP:20260421T041054
CREATED:20241002T153446Z
LAST-MODIFIED:20241107T140837Z
UID:10315211-1877540400-1877547600@golatindance.com
SUMMARY:Live Salsa Saturdays at Sea Monster Lounge
DESCRIPTION:Tropical music event with rotating bands. Salsa\, Son Cubano\, Merengue\, Cumbia and more. Enjoy this trip to a tropical paradise through the music and enjoy the dance community.
URL:https://golatindance.com/event/live-salsa-at-sea-monster-lounge-2-3/2029-06-30/
LOCATION:Sea Monster Lounge\, 2202 N 45th S\, Seattle\, WA\, 98103\, United States
CATEGORIES:Seattle
END:VEVENT
BEGIN:VEVENT
DTSTART;TZID=America/Los_Angeles:20290707T190000
DTEND;TZID=America/Los_Angeles:20290707T210000
DTSTAMP:20260421T041054
CREATED:20241002T153446Z
LAST-MODIFIED:20241107T140837Z
UID:10315212-1878145200-1878152400@golatindance.com
SUMMARY:Live Salsa Saturdays at Sea Monster Lounge
DESCRIPTION:Tropical music event with rotating bands. Salsa\, Son Cubano\, Merengue\, Cumbia and more. Enjoy this trip to a tropical paradise through the music and enjoy the dance community.
URL:https://golatindance.com/event/live-salsa-at-sea-monster-lounge-2-3/2029-07-07/
LOCATION:Sea Monster Lounge\, 2202 N 45th S\, Seattle\, WA\, 98103\, United States
CATEGORIES:Seattle
END:VEVENT
BEGIN:VEVENT
DTSTART;TZID=America/Los_Angeles:20290714T190000
DTEND;TZID=America/Los_Angeles:20290714T210000
DTSTAMP:20260421T041054
CREATED:20241002T153446Z
LAST-MODIFIED:20241107T140837Z
UID:10315213-1878750000-1878757200@golatindance.com
SUMMARY:Live Salsa Saturdays at Sea Monster Lounge
DESCRIPTION:Tropical music event with rotating bands. Salsa\, Son Cubano\, Merengue\, Cumbia and more. Enjoy this trip to a tropical paradise through the music and enjoy the dance community.
URL:https://golatindance.com/event/live-salsa-at-sea-monster-lounge-2-3/2029-07-14/
LOCATION:Sea Monster Lounge\, 2202 N 45th S\, Seattle\, WA\, 98103\, United States
CATEGORIES:Seattle
END:VEVENT
BEGIN:VEVENT
DTSTART;TZID=America/Los_Angeles:20290721T190000
DTEND;TZID=America/Los_Angeles:20290721T210000
DTSTAMP:20260421T041054
CREATED:20241002T153446Z
LAST-MODIFIED:20241107T140837Z
UID:10315214-1879354800-1879362000@golatindance.com
SUMMARY:Live Salsa Saturdays at Sea Monster Lounge
DESCRIPTION:Tropical music event with rotating bands. Salsa\, Son Cubano\, Merengue\, Cumbia and more. Enjoy this trip to a tropical paradise through the music and enjoy the dance community.
URL:https://golatindance.com/event/live-salsa-at-sea-monster-lounge-2-3/2029-07-21/
LOCATION:Sea Monster Lounge\, 2202 N 45th S\, Seattle\, WA\, 98103\, United States
CATEGORIES:Seattle
END:VEVENT
END:VCALENDAR