BEGIN:VCALENDAR
VERSION:2.0
PRODID:-//GO Latin Dance - ECPv6.15.18//NONSGML v1.0//EN
CALSCALE:GREGORIAN
METHOD:PUBLISH
X-ORIGINAL-URL:https://golatindance.com
X-WR-CALDESC:Events for GO Latin Dance
REFRESH-INTERVAL;VALUE=DURATION:PT1H
X-Robots-Tag:noindex
X-PUBLISHED-TTL:PT1H
BEGIN:VTIMEZONE
TZID:America/Los_Angeles
BEGIN:DAYLIGHT
TZOFFSETFROM:-0800
TZOFFSETTO:-0700
TZNAME:PDT
DTSTART:20280312T100000
END:DAYLIGHT
BEGIN:STANDARD
TZOFFSETFROM:-0700
TZOFFSETTO:-0800
TZNAME:PST
DTSTART:20281105T090000
END:STANDARD
BEGIN:DAYLIGHT
TZOFFSETFROM:-0800
TZOFFSETTO:-0700
TZNAME:PDT
DTSTART:20290311T100000
END:DAYLIGHT
BEGIN:STANDARD
TZOFFSETFROM:-0700
TZOFFSETTO:-0800
TZNAME:PST
DTSTART:20291104T090000
END:STANDARD
BEGIN:DAYLIGHT
TZOFFSETFROM:-0800
TZOFFSETTO:-0700
TZNAME:PDT
DTSTART:20300310T100000
END:DAYLIGHT
BEGIN:STANDARD
TZOFFSETFROM:-0700
TZOFFSETTO:-0800
TZNAME:PST
DTSTART:20301103T090000
END:STANDARD
END:VTIMEZONE
BEGIN:VEVENT
DTSTART;TZID=America/Los_Angeles:20290728T190000
DTEND;TZID=America/Los_Angeles:20290728T210000
DTSTAMP:20260421T074327
CREATED:20241002T153446Z
LAST-MODIFIED:20241107T140837Z
UID:10315215-1879959600-1879966800@golatindance.com
SUMMARY:Live Salsa Saturdays at Sea Monster Lounge
DESCRIPTION:Tropical music event with rotating bands. Salsa\, Son Cubano\, Merengue\, Cumbia and more. Enjoy this trip to a tropical paradise through the music and enjoy the dance community.
URL:https://golatindance.com/event/live-salsa-at-sea-monster-lounge-2-3/2029-07-28/
LOCATION:Sea Monster Lounge\, 2202 N 45th S\, Seattle\, WA\, 98103\, United States
CATEGORIES:Seattle
END:VEVENT
BEGIN:VEVENT
DTSTART;TZID=America/Los_Angeles:20290804T190000
DTEND;TZID=America/Los_Angeles:20290804T210000
DTSTAMP:20260421T074327
CREATED:20241002T153446Z
LAST-MODIFIED:20241107T140837Z
UID:10315216-1880564400-1880571600@golatindance.com
SUMMARY:Live Salsa Saturdays at Sea Monster Lounge
DESCRIPTION:Tropical music event with rotating bands. Salsa\, Son Cubano\, Merengue\, Cumbia and more. Enjoy this trip to a tropical paradise through the music and enjoy the dance community.
URL:https://golatindance.com/event/live-salsa-at-sea-monster-lounge-2-3/2029-08-04/
LOCATION:Sea Monster Lounge\, 2202 N 45th S\, Seattle\, WA\, 98103\, United States
CATEGORIES:Seattle
END:VEVENT
BEGIN:VEVENT
DTSTART;TZID=America/Los_Angeles:20290811T190000
DTEND;TZID=America/Los_Angeles:20290811T210000
DTSTAMP:20260421T074327
CREATED:20241002T153446Z
LAST-MODIFIED:20241107T140837Z
UID:10315217-1881169200-1881176400@golatindance.com
SUMMARY:Live Salsa Saturdays at Sea Monster Lounge
DESCRIPTION:Tropical music event with rotating bands. Salsa\, Son Cubano\, Merengue\, Cumbia and more. Enjoy this trip to a tropical paradise through the music and enjoy the dance community.
URL:https://golatindance.com/event/live-salsa-at-sea-monster-lounge-2-3/2029-08-11/
LOCATION:Sea Monster Lounge\, 2202 N 45th S\, Seattle\, WA\, 98103\, United States
CATEGORIES:Seattle
END:VEVENT
BEGIN:VEVENT
DTSTART;TZID=America/Los_Angeles:20290818T190000
DTEND;TZID=America/Los_Angeles:20290818T210000
DTSTAMP:20260421T074327
CREATED:20241002T153446Z
LAST-MODIFIED:20241107T140837Z
UID:10315218-1881774000-1881781200@golatindance.com
SUMMARY:Live Salsa Saturdays at Sea Monster Lounge
DESCRIPTION:Tropical music event with rotating bands. Salsa\, Son Cubano\, Merengue\, Cumbia and more. Enjoy this trip to a tropical paradise through the music and enjoy the dance community.
URL:https://golatindance.com/event/live-salsa-at-sea-monster-lounge-2-3/2029-08-18/
LOCATION:Sea Monster Lounge\, 2202 N 45th S\, Seattle\, WA\, 98103\, United States
CATEGORIES:Seattle
END:VEVENT
BEGIN:VEVENT
DTSTART;TZID=America/Los_Angeles:20290825T190000
DTEND;TZID=America/Los_Angeles:20290825T210000
DTSTAMP:20260421T074327
CREATED:20241002T153446Z
LAST-MODIFIED:20241107T140837Z
UID:10315219-1882378800-1882386000@golatindance.com
SUMMARY:Live Salsa Saturdays at Sea Monster Lounge
DESCRIPTION:Tropical music event with rotating bands. Salsa\, Son Cubano\, Merengue\, Cumbia and more. Enjoy this trip to a tropical paradise through the music and enjoy the dance community.
URL:https://golatindance.com/event/live-salsa-at-sea-monster-lounge-2-3/2029-08-25/
LOCATION:Sea Monster Lounge\, 2202 N 45th S\, Seattle\, WA\, 98103\, United States
CATEGORIES:Seattle
END:VEVENT
BEGIN:VEVENT
DTSTART;TZID=America/Los_Angeles:20290901T190000
DTEND;TZID=America/Los_Angeles:20290901T210000
DTSTAMP:20260421T074327
CREATED:20241002T153446Z
LAST-MODIFIED:20241107T140837Z
UID:10315220-1882983600-1882990800@golatindance.com
SUMMARY:Live Salsa Saturdays at Sea Monster Lounge
DESCRIPTION:Tropical music event with rotating bands. Salsa\, Son Cubano\, Merengue\, Cumbia and more. Enjoy this trip to a tropical paradise through the music and enjoy the dance community.
URL:https://golatindance.com/event/live-salsa-at-sea-monster-lounge-2-3/2029-09-01/
LOCATION:Sea Monster Lounge\, 2202 N 45th S\, Seattle\, WA\, 98103\, United States
CATEGORIES:Seattle
END:VEVENT
BEGIN:VEVENT
DTSTART;TZID=America/Los_Angeles:20290908T190000
DTEND;TZID=America/Los_Angeles:20290908T210000
DTSTAMP:20260421T074327
CREATED:20241002T153446Z
LAST-MODIFIED:20241107T140837Z
UID:10315221-1883588400-1883595600@golatindance.com
SUMMARY:Live Salsa Saturdays at Sea Monster Lounge
DESCRIPTION:Tropical music event with rotating bands. Salsa\, Son Cubano\, Merengue\, Cumbia and more. Enjoy this trip to a tropical paradise through the music and enjoy the dance community.
URL:https://golatindance.com/event/live-salsa-at-sea-monster-lounge-2-3/2029-09-08/
LOCATION:Sea Monster Lounge\, 2202 N 45th S\, Seattle\, WA\, 98103\, United States
CATEGORIES:Seattle
END:VEVENT
BEGIN:VEVENT
DTSTART;TZID=America/Los_Angeles:20290915T190000
DTEND;TZID=America/Los_Angeles:20290915T210000
DTSTAMP:20260421T074327
CREATED:20241002T153446Z
LAST-MODIFIED:20241107T140837Z
UID:10315222-1884193200-1884200400@golatindance.com
SUMMARY:Live Salsa Saturdays at Sea Monster Lounge
DESCRIPTION:Tropical music event with rotating bands. Salsa\, Son Cubano\, Merengue\, Cumbia and more. Enjoy this trip to a tropical paradise through the music and enjoy the dance community.
URL:https://golatindance.com/event/live-salsa-at-sea-monster-lounge-2-3/2029-09-15/
LOCATION:Sea Monster Lounge\, 2202 N 45th S\, Seattle\, WA\, 98103\, United States
CATEGORIES:Seattle
END:VEVENT
BEGIN:VEVENT
DTSTART;TZID=America/Los_Angeles:20290922T190000
DTEND;TZID=America/Los_Angeles:20290922T210000
DTSTAMP:20260421T074327
CREATED:20241002T153446Z
LAST-MODIFIED:20241107T140837Z
UID:10315223-1884798000-1884805200@golatindance.com
SUMMARY:Live Salsa Saturdays at Sea Monster Lounge
DESCRIPTION:Tropical music event with rotating bands. Salsa\, Son Cubano\, Merengue\, Cumbia and more. Enjoy this trip to a tropical paradise through the music and enjoy the dance community.
URL:https://golatindance.com/event/live-salsa-at-sea-monster-lounge-2-3/2029-09-22/
LOCATION:Sea Monster Lounge\, 2202 N 45th S\, Seattle\, WA\, 98103\, United States
CATEGORIES:Seattle
END:VEVENT
BEGIN:VEVENT
DTSTART;TZID=America/Los_Angeles:20290929T190000
DTEND;TZID=America/Los_Angeles:20290929T210000
DTSTAMP:20260421T074327
CREATED:20241002T153446Z
LAST-MODIFIED:20241107T140837Z
UID:10315224-1885402800-1885410000@golatindance.com
SUMMARY:Live Salsa Saturdays at Sea Monster Lounge
DESCRIPTION:Tropical music event with rotating bands. Salsa\, Son Cubano\, Merengue\, Cumbia and more. Enjoy this trip to a tropical paradise through the music and enjoy the dance community.
URL:https://golatindance.com/event/live-salsa-at-sea-monster-lounge-2-3/2029-09-29/
LOCATION:Sea Monster Lounge\, 2202 N 45th S\, Seattle\, WA\, 98103\, United States
CATEGORIES:Seattle
END:VEVENT
BEGIN:VEVENT
DTSTART;TZID=America/Los_Angeles:20291006T190000
DTEND;TZID=America/Los_Angeles:20291006T210000
DTSTAMP:20260421T074327
CREATED:20241002T153446Z
LAST-MODIFIED:20241107T140837Z
UID:10315225-1886007600-1886014800@golatindance.com
SUMMARY:Live Salsa Saturdays at Sea Monster Lounge
DESCRIPTION:Tropical music event with rotating bands. Salsa\, Son Cubano\, Merengue\, Cumbia and more. Enjoy this trip to a tropical paradise through the music and enjoy the dance community.
URL:https://golatindance.com/event/live-salsa-at-sea-monster-lounge-2-3/2029-10-06/
LOCATION:Sea Monster Lounge\, 2202 N 45th S\, Seattle\, WA\, 98103\, United States
CATEGORIES:Seattle
END:VEVENT
BEGIN:VEVENT
DTSTART;TZID=America/Los_Angeles:20291013T190000
DTEND;TZID=America/Los_Angeles:20291013T210000
DTSTAMP:20260421T074327
CREATED:20241002T153446Z
LAST-MODIFIED:20241107T140837Z
UID:10315226-1886612400-1886619600@golatindance.com
SUMMARY:Live Salsa Saturdays at Sea Monster Lounge
DESCRIPTION:Tropical music event with rotating bands. Salsa\, Son Cubano\, Merengue\, Cumbia and more. Enjoy this trip to a tropical paradise through the music and enjoy the dance community.
URL:https://golatindance.com/event/live-salsa-at-sea-monster-lounge-2-3/2029-10-13/
LOCATION:Sea Monster Lounge\, 2202 N 45th S\, Seattle\, WA\, 98103\, United States
CATEGORIES:Seattle
END:VEVENT
BEGIN:VEVENT
DTSTART;TZID=America/Los_Angeles:20291020T190000
DTEND;TZID=America/Los_Angeles:20291020T210000
DTSTAMP:20260421T074327
CREATED:20241002T153446Z
LAST-MODIFIED:20241107T140837Z
UID:10315227-1887217200-1887224400@golatindance.com
SUMMARY:Live Salsa Saturdays at Sea Monster Lounge
DESCRIPTION:Tropical music event with rotating bands. Salsa\, Son Cubano\, Merengue\, Cumbia and more. Enjoy this trip to a tropical paradise through the music and enjoy the dance community.
URL:https://golatindance.com/event/live-salsa-at-sea-monster-lounge-2-3/2029-10-20/
LOCATION:Sea Monster Lounge\, 2202 N 45th S\, Seattle\, WA\, 98103\, United States
CATEGORIES:Seattle
END:VEVENT
BEGIN:VEVENT
DTSTART;TZID=America/Los_Angeles:20291027T190000
DTEND;TZID=America/Los_Angeles:20291027T210000
DTSTAMP:20260421T074327
CREATED:20241002T153446Z
LAST-MODIFIED:20241107T140837Z
UID:10315228-1887822000-1887829200@golatindance.com
SUMMARY:Live Salsa Saturdays at Sea Monster Lounge
DESCRIPTION:Tropical music event with rotating bands. Salsa\, Son Cubano\, Merengue\, Cumbia and more. Enjoy this trip to a tropical paradise through the music and enjoy the dance community.
URL:https://golatindance.com/event/live-salsa-at-sea-monster-lounge-2-3/2029-10-27/
LOCATION:Sea Monster Lounge\, 2202 N 45th S\, Seattle\, WA\, 98103\, United States
CATEGORIES:Seattle
END:VEVENT
BEGIN:VEVENT
DTSTART;TZID=America/Los_Angeles:20291103T190000
DTEND;TZID=America/Los_Angeles:20291103T210000
DTSTAMP:20260421T074327
CREATED:20241002T153446Z
LAST-MODIFIED:20241107T140837Z
UID:10315229-1888426800-1888434000@golatindance.com
SUMMARY:Live Salsa Saturdays at Sea Monster Lounge
DESCRIPTION:Tropical music event with rotating bands. Salsa\, Son Cubano\, Merengue\, Cumbia and more. Enjoy this trip to a tropical paradise through the music and enjoy the dance community.
URL:https://golatindance.com/event/live-salsa-at-sea-monster-lounge-2-3/2029-11-03/
LOCATION:Sea Monster Lounge\, 2202 N 45th S\, Seattle\, WA\, 98103\, United States
CATEGORIES:Seattle
END:VEVENT
END:VCALENDAR