BEGIN:VCALENDAR
VERSION:2.0
PRODID:-//GO Latin Dance - ECPv6.15.18//NONSGML v1.0//EN
CALSCALE:GREGORIAN
METHOD:PUBLISH
X-ORIGINAL-URL:https://golatindance.com
X-WR-CALDESC:Events for GO Latin Dance
REFRESH-INTERVAL;VALUE=DURATION:PT1H
X-Robots-Tag:noindex
X-PUBLISHED-TTL:PT1H
BEGIN:VTIMEZONE
TZID:America/Los_Angeles
BEGIN:DAYLIGHT
TZOFFSETFROM:-0800
TZOFFSETTO:-0700
TZNAME:PDT
DTSTART:20260308T100000
END:DAYLIGHT
BEGIN:STANDARD
TZOFFSETFROM:-0700
TZOFFSETTO:-0800
TZNAME:PST
DTSTART:20261101T090000
END:STANDARD
BEGIN:DAYLIGHT
TZOFFSETFROM:-0800
TZOFFSETTO:-0700
TZNAME:PDT
DTSTART:20270314T100000
END:DAYLIGHT
BEGIN:STANDARD
TZOFFSETFROM:-0700
TZOFFSETTO:-0800
TZNAME:PST
DTSTART:20271107T090000
END:STANDARD
BEGIN:DAYLIGHT
TZOFFSETFROM:-0800
TZOFFSETTO:-0700
TZNAME:PDT
DTSTART:20280312T100000
END:DAYLIGHT
BEGIN:STANDARD
TZOFFSETFROM:-0700
TZOFFSETTO:-0800
TZNAME:PST
DTSTART:20281105T090000
END:STANDARD
BEGIN:DAYLIGHT
TZOFFSETFROM:-0800
TZOFFSETTO:-0700
TZNAME:PDT
DTSTART:20290311T100000
END:DAYLIGHT
BEGIN:STANDARD
TZOFFSETFROM:-0700
TZOFFSETTO:-0800
TZNAME:PST
DTSTART:20291104T090000
END:STANDARD
END:VTIMEZONE
BEGIN:VEVENT
DTSTART;TZID=America/Los_Angeles:20271106T190000
DTEND;TZID=America/Los_Angeles:20271106T210000
DTSTAMP:20260420T185811
CREATED:20241002T153446Z
LAST-MODIFIED:20241107T140837Z
UID:10315125-1825527600-1825534800@golatindance.com
SUMMARY:Live Salsa Saturdays at Sea Monster Lounge
DESCRIPTION:Tropical music event with rotating bands. Salsa\, Son Cubano\, Merengue\, Cumbia and more. Enjoy this trip to a tropical paradise through the music and enjoy the dance community.
URL:https://golatindance.com/event/live-salsa-at-sea-monster-lounge-2-3/2027-11-06/
LOCATION:Sea Monster Lounge\, 2202 N 45th S\, Seattle\, WA\, 98103\, United States
CATEGORIES:Seattle
END:VEVENT
BEGIN:VEVENT
DTSTART;TZID=America/Los_Angeles:20271113T190000
DTEND;TZID=America/Los_Angeles:20271113T210000
DTSTAMP:20260420T185811
CREATED:20241002T153446Z
LAST-MODIFIED:20241107T140837Z
UID:10315126-1826132400-1826139600@golatindance.com
SUMMARY:Live Salsa Saturdays at Sea Monster Lounge
DESCRIPTION:Tropical music event with rotating bands. Salsa\, Son Cubano\, Merengue\, Cumbia and more. Enjoy this trip to a tropical paradise through the music and enjoy the dance community.
URL:https://golatindance.com/event/live-salsa-at-sea-monster-lounge-2-3/2027-11-13/
LOCATION:Sea Monster Lounge\, 2202 N 45th S\, Seattle\, WA\, 98103\, United States
CATEGORIES:Seattle
END:VEVENT
BEGIN:VEVENT
DTSTART;TZID=America/Los_Angeles:20271120T190000
DTEND;TZID=America/Los_Angeles:20271120T210000
DTSTAMP:20260420T185811
CREATED:20241002T153446Z
LAST-MODIFIED:20241107T140837Z
UID:10315127-1826737200-1826744400@golatindance.com
SUMMARY:Live Salsa Saturdays at Sea Monster Lounge
DESCRIPTION:Tropical music event with rotating bands. Salsa\, Son Cubano\, Merengue\, Cumbia and more. Enjoy this trip to a tropical paradise through the music and enjoy the dance community.
URL:https://golatindance.com/event/live-salsa-at-sea-monster-lounge-2-3/2027-11-20/
LOCATION:Sea Monster Lounge\, 2202 N 45th S\, Seattle\, WA\, 98103\, United States
CATEGORIES:Seattle
END:VEVENT
BEGIN:VEVENT
DTSTART;TZID=America/Los_Angeles:20271127T190000
DTEND;TZID=America/Los_Angeles:20271127T210000
DTSTAMP:20260420T185811
CREATED:20241002T153446Z
LAST-MODIFIED:20241107T140837Z
UID:10315128-1827342000-1827349200@golatindance.com
SUMMARY:Live Salsa Saturdays at Sea Monster Lounge
DESCRIPTION:Tropical music event with rotating bands. Salsa\, Son Cubano\, Merengue\, Cumbia and more. Enjoy this trip to a tropical paradise through the music and enjoy the dance community.
URL:https://golatindance.com/event/live-salsa-at-sea-monster-lounge-2-3/2027-11-27/
LOCATION:Sea Monster Lounge\, 2202 N 45th S\, Seattle\, WA\, 98103\, United States
CATEGORIES:Seattle
END:VEVENT
BEGIN:VEVENT
DTSTART;TZID=America/Los_Angeles:20271204T190000
DTEND;TZID=America/Los_Angeles:20271204T210000
DTSTAMP:20260420T185811
CREATED:20241002T153446Z
LAST-MODIFIED:20241107T140837Z
UID:10315129-1827946800-1827954000@golatindance.com
SUMMARY:Live Salsa Saturdays at Sea Monster Lounge
DESCRIPTION:Tropical music event with rotating bands. Salsa\, Son Cubano\, Merengue\, Cumbia and more. Enjoy this trip to a tropical paradise through the music and enjoy the dance community.
URL:https://golatindance.com/event/live-salsa-at-sea-monster-lounge-2-3/2027-12-04/
LOCATION:Sea Monster Lounge\, 2202 N 45th S\, Seattle\, WA\, 98103\, United States
CATEGORIES:Seattle
END:VEVENT
BEGIN:VEVENT
DTSTART;TZID=America/Los_Angeles:20271211T190000
DTEND;TZID=America/Los_Angeles:20271211T210000
DTSTAMP:20260420T185811
CREATED:20241002T153446Z
LAST-MODIFIED:20241107T140837Z
UID:10315130-1828551600-1828558800@golatindance.com
SUMMARY:Live Salsa Saturdays at Sea Monster Lounge
DESCRIPTION:Tropical music event with rotating bands. Salsa\, Son Cubano\, Merengue\, Cumbia and more. Enjoy this trip to a tropical paradise through the music and enjoy the dance community.
URL:https://golatindance.com/event/live-salsa-at-sea-monster-lounge-2-3/2027-12-11/
LOCATION:Sea Monster Lounge\, 2202 N 45th S\, Seattle\, WA\, 98103\, United States
CATEGORIES:Seattle
END:VEVENT
BEGIN:VEVENT
DTSTART;TZID=America/Los_Angeles:20271218T190000
DTEND;TZID=America/Los_Angeles:20271218T210000
DTSTAMP:20260420T185811
CREATED:20241002T153446Z
LAST-MODIFIED:20241107T140837Z
UID:10315131-1829156400-1829163600@golatindance.com
SUMMARY:Live Salsa Saturdays at Sea Monster Lounge
DESCRIPTION:Tropical music event with rotating bands. Salsa\, Son Cubano\, Merengue\, Cumbia and more. Enjoy this trip to a tropical paradise through the music and enjoy the dance community.
URL:https://golatindance.com/event/live-salsa-at-sea-monster-lounge-2-3/2027-12-18/
LOCATION:Sea Monster Lounge\, 2202 N 45th S\, Seattle\, WA\, 98103\, United States
CATEGORIES:Seattle
END:VEVENT
BEGIN:VEVENT
DTSTART;TZID=America/Los_Angeles:20271225T190000
DTEND;TZID=America/Los_Angeles:20271225T210000
DTSTAMP:20260420T185811
CREATED:20241002T153446Z
LAST-MODIFIED:20241107T140837Z
UID:10315132-1829761200-1829768400@golatindance.com
SUMMARY:Live Salsa Saturdays at Sea Monster Lounge
DESCRIPTION:Tropical music event with rotating bands. Salsa\, Son Cubano\, Merengue\, Cumbia and more. Enjoy this trip to a tropical paradise through the music and enjoy the dance community.
URL:https://golatindance.com/event/live-salsa-at-sea-monster-lounge-2-3/2027-12-25/
LOCATION:Sea Monster Lounge\, 2202 N 45th S\, Seattle\, WA\, 98103\, United States
CATEGORIES:Seattle
END:VEVENT
BEGIN:VEVENT
DTSTART;TZID=America/Los_Angeles:20280101T190000
DTEND;TZID=America/Los_Angeles:20280101T210000
DTSTAMP:20260420T185811
CREATED:20241002T153446Z
LAST-MODIFIED:20241107T140837Z
UID:10315133-1830366000-1830373200@golatindance.com
SUMMARY:Live Salsa Saturdays at Sea Monster Lounge
DESCRIPTION:Tropical music event with rotating bands. Salsa\, Son Cubano\, Merengue\, Cumbia and more. Enjoy this trip to a tropical paradise through the music and enjoy the dance community.
URL:https://golatindance.com/event/live-salsa-at-sea-monster-lounge-2-3/2028-01-01/
LOCATION:Sea Monster Lounge\, 2202 N 45th S\, Seattle\, WA\, 98103\, United States
CATEGORIES:Seattle
END:VEVENT
BEGIN:VEVENT
DTSTART;TZID=America/Los_Angeles:20280108T190000
DTEND;TZID=America/Los_Angeles:20280108T210000
DTSTAMP:20260420T185811
CREATED:20241002T153446Z
LAST-MODIFIED:20241107T140837Z
UID:10315134-1830970800-1830978000@golatindance.com
SUMMARY:Live Salsa Saturdays at Sea Monster Lounge
DESCRIPTION:Tropical music event with rotating bands. Salsa\, Son Cubano\, Merengue\, Cumbia and more. Enjoy this trip to a tropical paradise through the music and enjoy the dance community.
URL:https://golatindance.com/event/live-salsa-at-sea-monster-lounge-2-3/2028-01-08/
LOCATION:Sea Monster Lounge\, 2202 N 45th S\, Seattle\, WA\, 98103\, United States
CATEGORIES:Seattle
END:VEVENT
BEGIN:VEVENT
DTSTART;TZID=America/Los_Angeles:20280115T190000
DTEND;TZID=America/Los_Angeles:20280115T210000
DTSTAMP:20260420T185811
CREATED:20241002T153446Z
LAST-MODIFIED:20241107T140837Z
UID:10315135-1831575600-1831582800@golatindance.com
SUMMARY:Live Salsa Saturdays at Sea Monster Lounge
DESCRIPTION:Tropical music event with rotating bands. Salsa\, Son Cubano\, Merengue\, Cumbia and more. Enjoy this trip to a tropical paradise through the music and enjoy the dance community.
URL:https://golatindance.com/event/live-salsa-at-sea-monster-lounge-2-3/2028-01-15/
LOCATION:Sea Monster Lounge\, 2202 N 45th S\, Seattle\, WA\, 98103\, United States
CATEGORIES:Seattle
END:VEVENT
BEGIN:VEVENT
DTSTART;TZID=America/Los_Angeles:20280122T190000
DTEND;TZID=America/Los_Angeles:20280122T210000
DTSTAMP:20260420T185811
CREATED:20241002T153446Z
LAST-MODIFIED:20241107T140837Z
UID:10315136-1832180400-1832187600@golatindance.com
SUMMARY:Live Salsa Saturdays at Sea Monster Lounge
DESCRIPTION:Tropical music event with rotating bands. Salsa\, Son Cubano\, Merengue\, Cumbia and more. Enjoy this trip to a tropical paradise through the music and enjoy the dance community.
URL:https://golatindance.com/event/live-salsa-at-sea-monster-lounge-2-3/2028-01-22/
LOCATION:Sea Monster Lounge\, 2202 N 45th S\, Seattle\, WA\, 98103\, United States
CATEGORIES:Seattle
END:VEVENT
BEGIN:VEVENT
DTSTART;TZID=America/Los_Angeles:20280129T190000
DTEND;TZID=America/Los_Angeles:20280129T210000
DTSTAMP:20260420T185811
CREATED:20241002T153446Z
LAST-MODIFIED:20241107T140837Z
UID:10315137-1832785200-1832792400@golatindance.com
SUMMARY:Live Salsa Saturdays at Sea Monster Lounge
DESCRIPTION:Tropical music event with rotating bands. Salsa\, Son Cubano\, Merengue\, Cumbia and more. Enjoy this trip to a tropical paradise through the music and enjoy the dance community.
URL:https://golatindance.com/event/live-salsa-at-sea-monster-lounge-2-3/2028-01-29/
LOCATION:Sea Monster Lounge\, 2202 N 45th S\, Seattle\, WA\, 98103\, United States
CATEGORIES:Seattle
END:VEVENT
BEGIN:VEVENT
DTSTART;TZID=America/Los_Angeles:20280205T190000
DTEND;TZID=America/Los_Angeles:20280205T210000
DTSTAMP:20260420T185811
CREATED:20241002T153446Z
LAST-MODIFIED:20241107T140837Z
UID:10315138-1833390000-1833397200@golatindance.com
SUMMARY:Live Salsa Saturdays at Sea Monster Lounge
DESCRIPTION:Tropical music event with rotating bands. Salsa\, Son Cubano\, Merengue\, Cumbia and more. Enjoy this trip to a tropical paradise through the music and enjoy the dance community.
URL:https://golatindance.com/event/live-salsa-at-sea-monster-lounge-2-3/2028-02-05/
LOCATION:Sea Monster Lounge\, 2202 N 45th S\, Seattle\, WA\, 98103\, United States
CATEGORIES:Seattle
END:VEVENT
BEGIN:VEVENT
DTSTART;TZID=America/Los_Angeles:20280212T190000
DTEND;TZID=America/Los_Angeles:20280212T210000
DTSTAMP:20260420T185811
CREATED:20241002T153446Z
LAST-MODIFIED:20241107T140837Z
UID:10315139-1833994800-1834002000@golatindance.com
SUMMARY:Live Salsa Saturdays at Sea Monster Lounge
DESCRIPTION:Tropical music event with rotating bands. Salsa\, Son Cubano\, Merengue\, Cumbia and more. Enjoy this trip to a tropical paradise through the music and enjoy the dance community.
URL:https://golatindance.com/event/live-salsa-at-sea-monster-lounge-2-3/2028-02-12/
LOCATION:Sea Monster Lounge\, 2202 N 45th S\, Seattle\, WA\, 98103\, United States
CATEGORIES:Seattle
END:VEVENT
BEGIN:VEVENT
DTSTART;TZID=America/Los_Angeles:20280219T190000
DTEND;TZID=America/Los_Angeles:20280219T210000
DTSTAMP:20260420T185811
CREATED:20241002T153446Z
LAST-MODIFIED:20241107T140837Z
UID:10315140-1834599600-1834606800@golatindance.com
SUMMARY:Live Salsa Saturdays at Sea Monster Lounge
DESCRIPTION:Tropical music event with rotating bands. Salsa\, Son Cubano\, Merengue\, Cumbia and more. Enjoy this trip to a tropical paradise through the music and enjoy the dance community.
URL:https://golatindance.com/event/live-salsa-at-sea-monster-lounge-2-3/2028-02-19/
LOCATION:Sea Monster Lounge\, 2202 N 45th S\, Seattle\, WA\, 98103\, United States
CATEGORIES:Seattle
END:VEVENT
BEGIN:VEVENT
DTSTART;TZID=America/Los_Angeles:20280226T190000
DTEND;TZID=America/Los_Angeles:20280226T210000
DTSTAMP:20260420T185811
CREATED:20241002T153446Z
LAST-MODIFIED:20241107T140837Z
UID:10315141-1835204400-1835211600@golatindance.com
SUMMARY:Live Salsa Saturdays at Sea Monster Lounge
DESCRIPTION:Tropical music event with rotating bands. Salsa\, Son Cubano\, Merengue\, Cumbia and more. Enjoy this trip to a tropical paradise through the music and enjoy the dance community.
URL:https://golatindance.com/event/live-salsa-at-sea-monster-lounge-2-3/2028-02-26/
LOCATION:Sea Monster Lounge\, 2202 N 45th S\, Seattle\, WA\, 98103\, United States
CATEGORIES:Seattle
END:VEVENT
BEGIN:VEVENT
DTSTART;TZID=America/Los_Angeles:20280304T190000
DTEND;TZID=America/Los_Angeles:20280304T210000
DTSTAMP:20260420T185811
CREATED:20241002T153446Z
LAST-MODIFIED:20241107T140837Z
UID:10315142-1835809200-1835816400@golatindance.com
SUMMARY:Live Salsa Saturdays at Sea Monster Lounge
DESCRIPTION:Tropical music event with rotating bands. Salsa\, Son Cubano\, Merengue\, Cumbia and more. Enjoy this trip to a tropical paradise through the music and enjoy the dance community.
URL:https://golatindance.com/event/live-salsa-at-sea-monster-lounge-2-3/2028-03-04/
LOCATION:Sea Monster Lounge\, 2202 N 45th S\, Seattle\, WA\, 98103\, United States
CATEGORIES:Seattle
END:VEVENT
BEGIN:VEVENT
DTSTART;TZID=America/Los_Angeles:20280311T190000
DTEND;TZID=America/Los_Angeles:20280311T210000
DTSTAMP:20260420T185811
CREATED:20241002T153446Z
LAST-MODIFIED:20241107T140837Z
UID:10315143-1836414000-1836421200@golatindance.com
SUMMARY:Live Salsa Saturdays at Sea Monster Lounge
DESCRIPTION:Tropical music event with rotating bands. Salsa\, Son Cubano\, Merengue\, Cumbia and more. Enjoy this trip to a tropical paradise through the music and enjoy the dance community.
URL:https://golatindance.com/event/live-salsa-at-sea-monster-lounge-2-3/2028-03-11/
LOCATION:Sea Monster Lounge\, 2202 N 45th S\, Seattle\, WA\, 98103\, United States
CATEGORIES:Seattle
END:VEVENT
BEGIN:VEVENT
DTSTART;TZID=America/Los_Angeles:20280318T190000
DTEND;TZID=America/Los_Angeles:20280318T210000
DTSTAMP:20260420T185811
CREATED:20241002T153446Z
LAST-MODIFIED:20241107T140837Z
UID:10315144-1837018800-1837026000@golatindance.com
SUMMARY:Live Salsa Saturdays at Sea Monster Lounge
DESCRIPTION:Tropical music event with rotating bands. Salsa\, Son Cubano\, Merengue\, Cumbia and more. Enjoy this trip to a tropical paradise through the music and enjoy the dance community.
URL:https://golatindance.com/event/live-salsa-at-sea-monster-lounge-2-3/2028-03-18/
LOCATION:Sea Monster Lounge\, 2202 N 45th S\, Seattle\, WA\, 98103\, United States
CATEGORIES:Seattle
END:VEVENT
BEGIN:VEVENT
DTSTART;TZID=America/Los_Angeles:20280325T190000
DTEND;TZID=America/Los_Angeles:20280325T210000
DTSTAMP:20260420T185811
CREATED:20241002T153446Z
LAST-MODIFIED:20241107T140837Z
UID:10315145-1837623600-1837630800@golatindance.com
SUMMARY:Live Salsa Saturdays at Sea Monster Lounge
DESCRIPTION:Tropical music event with rotating bands. Salsa\, Son Cubano\, Merengue\, Cumbia and more. Enjoy this trip to a tropical paradise through the music and enjoy the dance community.
URL:https://golatindance.com/event/live-salsa-at-sea-monster-lounge-2-3/2028-03-25/
LOCATION:Sea Monster Lounge\, 2202 N 45th S\, Seattle\, WA\, 98103\, United States
CATEGORIES:Seattle
END:VEVENT
BEGIN:VEVENT
DTSTART;TZID=America/Los_Angeles:20280401T190000
DTEND;TZID=America/Los_Angeles:20280401T210000
DTSTAMP:20260420T185811
CREATED:20241002T153446Z
LAST-MODIFIED:20241107T140837Z
UID:10315146-1838228400-1838235600@golatindance.com
SUMMARY:Live Salsa Saturdays at Sea Monster Lounge
DESCRIPTION:Tropical music event with rotating bands. Salsa\, Son Cubano\, Merengue\, Cumbia and more. Enjoy this trip to a tropical paradise through the music and enjoy the dance community.
URL:https://golatindance.com/event/live-salsa-at-sea-monster-lounge-2-3/2028-04-01/
LOCATION:Sea Monster Lounge\, 2202 N 45th S\, Seattle\, WA\, 98103\, United States
CATEGORIES:Seattle
END:VEVENT
BEGIN:VEVENT
DTSTART;TZID=America/Los_Angeles:20280408T190000
DTEND;TZID=America/Los_Angeles:20280408T210000
DTSTAMP:20260420T185811
CREATED:20241002T153446Z
LAST-MODIFIED:20241107T140837Z
UID:10315147-1838833200-1838840400@golatindance.com
SUMMARY:Live Salsa Saturdays at Sea Monster Lounge
DESCRIPTION:Tropical music event with rotating bands. Salsa\, Son Cubano\, Merengue\, Cumbia and more. Enjoy this trip to a tropical paradise through the music and enjoy the dance community.
URL:https://golatindance.com/event/live-salsa-at-sea-monster-lounge-2-3/2028-04-08/
LOCATION:Sea Monster Lounge\, 2202 N 45th S\, Seattle\, WA\, 98103\, United States
CATEGORIES:Seattle
END:VEVENT
BEGIN:VEVENT
DTSTART;TZID=America/Los_Angeles:20280415T190000
DTEND;TZID=America/Los_Angeles:20280415T210000
DTSTAMP:20260420T185811
CREATED:20241002T153446Z
LAST-MODIFIED:20241107T140837Z
UID:10315148-1839438000-1839445200@golatindance.com
SUMMARY:Live Salsa Saturdays at Sea Monster Lounge
DESCRIPTION:Tropical music event with rotating bands. Salsa\, Son Cubano\, Merengue\, Cumbia and more. Enjoy this trip to a tropical paradise through the music and enjoy the dance community.
URL:https://golatindance.com/event/live-salsa-at-sea-monster-lounge-2-3/2028-04-15/
LOCATION:Sea Monster Lounge\, 2202 N 45th S\, Seattle\, WA\, 98103\, United States
CATEGORIES:Seattle
END:VEVENT
BEGIN:VEVENT
DTSTART;TZID=America/Los_Angeles:20280422T190000
DTEND;TZID=America/Los_Angeles:20280422T210000
DTSTAMP:20260420T185811
CREATED:20241002T153446Z
LAST-MODIFIED:20241107T140837Z
UID:10315149-1840042800-1840050000@golatindance.com
SUMMARY:Live Salsa Saturdays at Sea Monster Lounge
DESCRIPTION:Tropical music event with rotating bands. Salsa\, Son Cubano\, Merengue\, Cumbia and more. Enjoy this trip to a tropical paradise through the music and enjoy the dance community.
URL:https://golatindance.com/event/live-salsa-at-sea-monster-lounge-2-3/2028-04-22/
LOCATION:Sea Monster Lounge\, 2202 N 45th S\, Seattle\, WA\, 98103\, United States
CATEGORIES:Seattle
END:VEVENT
BEGIN:VEVENT
DTSTART;TZID=America/Los_Angeles:20280429T190000
DTEND;TZID=America/Los_Angeles:20280429T210000
DTSTAMP:20260420T185811
CREATED:20241002T153446Z
LAST-MODIFIED:20241107T140837Z
UID:10315150-1840647600-1840654800@golatindance.com
SUMMARY:Live Salsa Saturdays at Sea Monster Lounge
DESCRIPTION:Tropical music event with rotating bands. Salsa\, Son Cubano\, Merengue\, Cumbia and more. Enjoy this trip to a tropical paradise through the music and enjoy the dance community.
URL:https://golatindance.com/event/live-salsa-at-sea-monster-lounge-2-3/2028-04-29/
LOCATION:Sea Monster Lounge\, 2202 N 45th S\, Seattle\, WA\, 98103\, United States
CATEGORIES:Seattle
END:VEVENT
BEGIN:VEVENT
DTSTART;TZID=America/Los_Angeles:20280506T190000
DTEND;TZID=America/Los_Angeles:20280506T210000
DTSTAMP:20260420T185811
CREATED:20241002T153446Z
LAST-MODIFIED:20241107T140837Z
UID:10315151-1841252400-1841259600@golatindance.com
SUMMARY:Live Salsa Saturdays at Sea Monster Lounge
DESCRIPTION:Tropical music event with rotating bands. Salsa\, Son Cubano\, Merengue\, Cumbia and more. Enjoy this trip to a tropical paradise through the music and enjoy the dance community.
URL:https://golatindance.com/event/live-salsa-at-sea-monster-lounge-2-3/2028-05-06/
LOCATION:Sea Monster Lounge\, 2202 N 45th S\, Seattle\, WA\, 98103\, United States
CATEGORIES:Seattle
END:VEVENT
BEGIN:VEVENT
DTSTART;TZID=America/Los_Angeles:20280513T190000
DTEND;TZID=America/Los_Angeles:20280513T210000
DTSTAMP:20260420T185811
CREATED:20241002T153446Z
LAST-MODIFIED:20241107T140837Z
UID:10315152-1841857200-1841864400@golatindance.com
SUMMARY:Live Salsa Saturdays at Sea Monster Lounge
DESCRIPTION:Tropical music event with rotating bands. Salsa\, Son Cubano\, Merengue\, Cumbia and more. Enjoy this trip to a tropical paradise through the music and enjoy the dance community.
URL:https://golatindance.com/event/live-salsa-at-sea-monster-lounge-2-3/2028-05-13/
LOCATION:Sea Monster Lounge\, 2202 N 45th S\, Seattle\, WA\, 98103\, United States
CATEGORIES:Seattle
END:VEVENT
BEGIN:VEVENT
DTSTART;TZID=America/Los_Angeles:20280520T190000
DTEND;TZID=America/Los_Angeles:20280520T210000
DTSTAMP:20260420T185811
CREATED:20241002T153446Z
LAST-MODIFIED:20241107T140837Z
UID:10315153-1842462000-1842469200@golatindance.com
SUMMARY:Live Salsa Saturdays at Sea Monster Lounge
DESCRIPTION:Tropical music event with rotating bands. Salsa\, Son Cubano\, Merengue\, Cumbia and more. Enjoy this trip to a tropical paradise through the music and enjoy the dance community.
URL:https://golatindance.com/event/live-salsa-at-sea-monster-lounge-2-3/2028-05-20/
LOCATION:Sea Monster Lounge\, 2202 N 45th S\, Seattle\, WA\, 98103\, United States
CATEGORIES:Seattle
END:VEVENT
BEGIN:VEVENT
DTSTART;TZID=America/Los_Angeles:20280527T190000
DTEND;TZID=America/Los_Angeles:20280527T210000
DTSTAMP:20260420T185811
CREATED:20241002T153446Z
LAST-MODIFIED:20241107T140837Z
UID:10315154-1843066800-1843074000@golatindance.com
SUMMARY:Live Salsa Saturdays at Sea Monster Lounge
DESCRIPTION:Tropical music event with rotating bands. Salsa\, Son Cubano\, Merengue\, Cumbia and more. Enjoy this trip to a tropical paradise through the music and enjoy the dance community.
URL:https://golatindance.com/event/live-salsa-at-sea-monster-lounge-2-3/2028-05-27/
LOCATION:Sea Monster Lounge\, 2202 N 45th S\, Seattle\, WA\, 98103\, United States
CATEGORIES:Seattle
END:VEVENT
END:VCALENDAR