BEGIN:VCALENDAR
VERSION:2.0
PRODID:-//GO Latin Dance - ECPv6.15.18//NONSGML v1.0//EN
CALSCALE:GREGORIAN
METHOD:PUBLISH
X-WR-CALNAME:GO Latin Dance
X-ORIGINAL-URL:https://golatindance.com
X-WR-CALDESC:Events for GO Latin Dance
REFRESH-INTERVAL;VALUE=DURATION:PT1H
X-Robots-Tag:noindex
X-PUBLISHED-TTL:PT1H
BEGIN:VTIMEZONE
TZID:America/Los_Angeles
BEGIN:DAYLIGHT
TZOFFSETFROM:-0800
TZOFFSETTO:-0700
TZNAME:PDT
DTSTART:20250309T100000
END:DAYLIGHT
BEGIN:STANDARD
TZOFFSETFROM:-0700
TZOFFSETTO:-0800
TZNAME:PST
DTSTART:20251102T090000
END:STANDARD
BEGIN:DAYLIGHT
TZOFFSETFROM:-0800
TZOFFSETTO:-0700
TZNAME:PDT
DTSTART:20260308T100000
END:DAYLIGHT
BEGIN:STANDARD
TZOFFSETFROM:-0700
TZOFFSETTO:-0800
TZNAME:PST
DTSTART:20261101T090000
END:STANDARD
BEGIN:DAYLIGHT
TZOFFSETFROM:-0800
TZOFFSETTO:-0700
TZNAME:PDT
DTSTART:20270314T100000
END:DAYLIGHT
BEGIN:STANDARD
TZOFFSETFROM:-0700
TZOFFSETTO:-0800
TZNAME:PST
DTSTART:20271107T090000
END:STANDARD
END:VTIMEZONE
BEGIN:VEVENT
DTSTART;TZID=America/Los_Angeles:20260424T210000
DTEND;TZID=America/Los_Angeles:20260425T020000
DTSTAMP:20260423T105656
CREATED:20250703T154237Z
LAST-MODIFIED:20250925T153122Z
UID:10378774-1777064400-1777082400@golatindance.com
SUMMARY:Latin Night at Seattle Harbor
DESCRIPTION:For a fabulous night of Latin music and dancing\, come join us at 9:00pm on Fridays. \nDance lessons start at 9:00pm and social thereafter at 10:00pm so you get to practice what was taught.
URL:https://golatindance.com/event/latin-night-at-seattle-harbor-2-2/2026-04-24/
LOCATION:Seattle Harbor\, 2040 Westlake Ave N\, Seattle\, WA\, 98109\, United States
CATEGORIES:Seattle
ATTACH;FMTTYPE=image/png:https://golatindance.com/wp-content/uploads/2025/07/Screenshot-2025-09-25-112730.png
END:VEVENT
BEGIN:VEVENT
DTSTART;TZID=America/Los_Angeles:20260425T210000
DTEND;TZID=America/Los_Angeles:20260426T020000
DTSTAMP:20260423T105656
CREATED:20240801T140105Z
LAST-MODIFIED:20250925T153102Z
UID:10284244-1777150800-1777168800@golatindance.com
SUMMARY:Rumba Tropical Sonidera
DESCRIPTION:SALUDOS RUMBEROS\nNOS VEMOS EN LA PISTA DE BAILE\, ESTE \nSEATTLE HARBOR NIGHT CLUB\nLATIN HIT ENTERTAINMENT\nRUMBA TROPICAL SONIDERA \nFREE PARKING LOT\n21+ ID REQUERIDO\nCOVER $20\nCASH\, ZELLE\, CASHAPP \nRESERVA TU MESA A TIEMPO 📞\n(425)328-0902 (425)328-0903\nLAS MESAS RESERVADAS SE SOSTIENEN HASTA LAS 11PM\, NO EXCEPCIONES!!
URL:https://golatindance.com/event/rumba-tropical-sonidera/2026-04-25/
LOCATION:Seattle Harbor\, 2040 Westlake Ave N\, Seattle\, WA\, 98109\, United States
CATEGORIES:Seattle
ATTACH;FMTTYPE=image/jpeg:https://golatindance.com/wp-content/uploads/2024/08/453541132_7870103123097061_6632222991957116644_n-e1722520810783.jpg
END:VEVENT
BEGIN:VEVENT
DTSTART;TZID=America/Los_Angeles:20260501T210000
DTEND;TZID=America/Los_Angeles:20260502T020000
DTSTAMP:20260423T105656
CREATED:20250703T154237Z
LAST-MODIFIED:20250925T153122Z
UID:10378775-1777669200-1777687200@golatindance.com
SUMMARY:Latin Night at Seattle Harbor
DESCRIPTION:For a fabulous night of Latin music and dancing\, come join us at 9:00pm on Fridays. \nDance lessons start at 9:00pm and social thereafter at 10:00pm so you get to practice what was taught.
URL:https://golatindance.com/event/latin-night-at-seattle-harbor-2-2/2026-05-01/
LOCATION:Seattle Harbor\, 2040 Westlake Ave N\, Seattle\, WA\, 98109\, United States
CATEGORIES:Seattle
ATTACH;FMTTYPE=image/png:https://golatindance.com/wp-content/uploads/2025/07/Screenshot-2025-09-25-112730.png
END:VEVENT
BEGIN:VEVENT
DTSTART;TZID=America/Los_Angeles:20260502T210000
DTEND;TZID=America/Los_Angeles:20260503T020000
DTSTAMP:20260423T105656
CREATED:20240801T140105Z
LAST-MODIFIED:20250925T153102Z
UID:10284245-1777755600-1777773600@golatindance.com
SUMMARY:Rumba Tropical Sonidera
DESCRIPTION:SALUDOS RUMBEROS\nNOS VEMOS EN LA PISTA DE BAILE\, ESTE \nSEATTLE HARBOR NIGHT CLUB\nLATIN HIT ENTERTAINMENT\nRUMBA TROPICAL SONIDERA \nFREE PARKING LOT\n21+ ID REQUERIDO\nCOVER $20\nCASH\, ZELLE\, CASHAPP \nRESERVA TU MESA A TIEMPO 📞\n(425)328-0902 (425)328-0903\nLAS MESAS RESERVADAS SE SOSTIENEN HASTA LAS 11PM\, NO EXCEPCIONES!!
URL:https://golatindance.com/event/rumba-tropical-sonidera/2026-05-02/
LOCATION:Seattle Harbor\, 2040 Westlake Ave N\, Seattle\, WA\, 98109\, United States
CATEGORIES:Seattle
ATTACH;FMTTYPE=image/jpeg:https://golatindance.com/wp-content/uploads/2024/08/453541132_7870103123097061_6632222991957116644_n-e1722520810783.jpg
END:VEVENT
BEGIN:VEVENT
DTSTART;TZID=America/Los_Angeles:20260508T210000
DTEND;TZID=America/Los_Angeles:20260509T020000
DTSTAMP:20260423T105656
CREATED:20250703T154237Z
LAST-MODIFIED:20250925T153122Z
UID:10378776-1778274000-1778292000@golatindance.com
SUMMARY:Latin Night at Seattle Harbor
DESCRIPTION:For a fabulous night of Latin music and dancing\, come join us at 9:00pm on Fridays. \nDance lessons start at 9:00pm and social thereafter at 10:00pm so you get to practice what was taught.
URL:https://golatindance.com/event/latin-night-at-seattle-harbor-2-2/2026-05-08/
LOCATION:Seattle Harbor\, 2040 Westlake Ave N\, Seattle\, WA\, 98109\, United States
CATEGORIES:Seattle
ATTACH;FMTTYPE=image/png:https://golatindance.com/wp-content/uploads/2025/07/Screenshot-2025-09-25-112730.png
END:VEVENT
BEGIN:VEVENT
DTSTART;TZID=America/Los_Angeles:20260509T210000
DTEND;TZID=America/Los_Angeles:20260510T020000
DTSTAMP:20260423T105656
CREATED:20240801T140105Z
LAST-MODIFIED:20250925T153102Z
UID:10284246-1778360400-1778378400@golatindance.com
SUMMARY:Rumba Tropical Sonidera
DESCRIPTION:SALUDOS RUMBEROS\nNOS VEMOS EN LA PISTA DE BAILE\, ESTE \nSEATTLE HARBOR NIGHT CLUB\nLATIN HIT ENTERTAINMENT\nRUMBA TROPICAL SONIDERA \nFREE PARKING LOT\n21+ ID REQUERIDO\nCOVER $20\nCASH\, ZELLE\, CASHAPP \nRESERVA TU MESA A TIEMPO 📞\n(425)328-0902 (425)328-0903\nLAS MESAS RESERVADAS SE SOSTIENEN HASTA LAS 11PM\, NO EXCEPCIONES!!
URL:https://golatindance.com/event/rumba-tropical-sonidera/2026-05-09/
LOCATION:Seattle Harbor\, 2040 Westlake Ave N\, Seattle\, WA\, 98109\, United States
CATEGORIES:Seattle
ATTACH;FMTTYPE=image/jpeg:https://golatindance.com/wp-content/uploads/2024/08/453541132_7870103123097061_6632222991957116644_n-e1722520810783.jpg
END:VEVENT
BEGIN:VEVENT
DTSTART;TZID=America/Los_Angeles:20260515T210000
DTEND;TZID=America/Los_Angeles:20260516T020000
DTSTAMP:20260423T105656
CREATED:20250703T154237Z
LAST-MODIFIED:20250925T153122Z
UID:10378777-1778878800-1778896800@golatindance.com
SUMMARY:Latin Night at Seattle Harbor
DESCRIPTION:For a fabulous night of Latin music and dancing\, come join us at 9:00pm on Fridays. \nDance lessons start at 9:00pm and social thereafter at 10:00pm so you get to practice what was taught.
URL:https://golatindance.com/event/latin-night-at-seattle-harbor-2-2/2026-05-15/
LOCATION:Seattle Harbor\, 2040 Westlake Ave N\, Seattle\, WA\, 98109\, United States
CATEGORIES:Seattle
ATTACH;FMTTYPE=image/png:https://golatindance.com/wp-content/uploads/2025/07/Screenshot-2025-09-25-112730.png
END:VEVENT
BEGIN:VEVENT
DTSTART;TZID=America/Los_Angeles:20260516T210000
DTEND;TZID=America/Los_Angeles:20260517T020000
DTSTAMP:20260423T105656
CREATED:20240801T140105Z
LAST-MODIFIED:20250925T153102Z
UID:10284247-1778965200-1778983200@golatindance.com
SUMMARY:Rumba Tropical Sonidera
DESCRIPTION:SALUDOS RUMBEROS\nNOS VEMOS EN LA PISTA DE BAILE\, ESTE \nSEATTLE HARBOR NIGHT CLUB\nLATIN HIT ENTERTAINMENT\nRUMBA TROPICAL SONIDERA \nFREE PARKING LOT\n21+ ID REQUERIDO\nCOVER $20\nCASH\, ZELLE\, CASHAPP \nRESERVA TU MESA A TIEMPO 📞\n(425)328-0902 (425)328-0903\nLAS MESAS RESERVADAS SE SOSTIENEN HASTA LAS 11PM\, NO EXCEPCIONES!!
URL:https://golatindance.com/event/rumba-tropical-sonidera/2026-05-16/
LOCATION:Seattle Harbor\, 2040 Westlake Ave N\, Seattle\, WA\, 98109\, United States
CATEGORIES:Seattle
ATTACH;FMTTYPE=image/jpeg:https://golatindance.com/wp-content/uploads/2024/08/453541132_7870103123097061_6632222991957116644_n-e1722520810783.jpg
END:VEVENT
BEGIN:VEVENT
DTSTART;TZID=America/Los_Angeles:20260522T210000
DTEND;TZID=America/Los_Angeles:20260523T020000
DTSTAMP:20260423T105656
CREATED:20250703T154237Z
LAST-MODIFIED:20250925T153122Z
UID:10378778-1779483600-1779501600@golatindance.com
SUMMARY:Latin Night at Seattle Harbor
DESCRIPTION:For a fabulous night of Latin music and dancing\, come join us at 9:00pm on Fridays. \nDance lessons start at 9:00pm and social thereafter at 10:00pm so you get to practice what was taught.
URL:https://golatindance.com/event/latin-night-at-seattle-harbor-2-2/2026-05-22/
LOCATION:Seattle Harbor\, 2040 Westlake Ave N\, Seattle\, WA\, 98109\, United States
CATEGORIES:Seattle
ATTACH;FMTTYPE=image/png:https://golatindance.com/wp-content/uploads/2025/07/Screenshot-2025-09-25-112730.png
END:VEVENT
BEGIN:VEVENT
DTSTART;TZID=America/Los_Angeles:20260523T210000
DTEND;TZID=America/Los_Angeles:20260524T020000
DTSTAMP:20260423T105656
CREATED:20240801T140105Z
LAST-MODIFIED:20250925T153102Z
UID:10284248-1779570000-1779588000@golatindance.com
SUMMARY:Rumba Tropical Sonidera
DESCRIPTION:SALUDOS RUMBEROS\nNOS VEMOS EN LA PISTA DE BAILE\, ESTE \nSEATTLE HARBOR NIGHT CLUB\nLATIN HIT ENTERTAINMENT\nRUMBA TROPICAL SONIDERA \nFREE PARKING LOT\n21+ ID REQUERIDO\nCOVER $20\nCASH\, ZELLE\, CASHAPP \nRESERVA TU MESA A TIEMPO 📞\n(425)328-0902 (425)328-0903\nLAS MESAS RESERVADAS SE SOSTIENEN HASTA LAS 11PM\, NO EXCEPCIONES!!
URL:https://golatindance.com/event/rumba-tropical-sonidera/2026-05-23/
LOCATION:Seattle Harbor\, 2040 Westlake Ave N\, Seattle\, WA\, 98109\, United States
CATEGORIES:Seattle
ATTACH;FMTTYPE=image/jpeg:https://golatindance.com/wp-content/uploads/2024/08/453541132_7870103123097061_6632222991957116644_n-e1722520810783.jpg
END:VEVENT
BEGIN:VEVENT
DTSTART;TZID=America/Los_Angeles:20260529T210000
DTEND;TZID=America/Los_Angeles:20260530T020000
DTSTAMP:20260423T105656
CREATED:20250703T154237Z
LAST-MODIFIED:20250925T153122Z
UID:10378779-1780088400-1780106400@golatindance.com
SUMMARY:Latin Night at Seattle Harbor
DESCRIPTION:For a fabulous night of Latin music and dancing\, come join us at 9:00pm on Fridays. \nDance lessons start at 9:00pm and social thereafter at 10:00pm so you get to practice what was taught.
URL:https://golatindance.com/event/latin-night-at-seattle-harbor-2-2/2026-05-29/
LOCATION:Seattle Harbor\, 2040 Westlake Ave N\, Seattle\, WA\, 98109\, United States
CATEGORIES:Seattle
ATTACH;FMTTYPE=image/png:https://golatindance.com/wp-content/uploads/2025/07/Screenshot-2025-09-25-112730.png
END:VEVENT
BEGIN:VEVENT
DTSTART;TZID=America/Los_Angeles:20260530T210000
DTEND;TZID=America/Los_Angeles:20260531T020000
DTSTAMP:20260423T105656
CREATED:20240801T140105Z
LAST-MODIFIED:20250925T153102Z
UID:10284249-1780174800-1780192800@golatindance.com
SUMMARY:Rumba Tropical Sonidera
DESCRIPTION:SALUDOS RUMBEROS\nNOS VEMOS EN LA PISTA DE BAILE\, ESTE \nSEATTLE HARBOR NIGHT CLUB\nLATIN HIT ENTERTAINMENT\nRUMBA TROPICAL SONIDERA \nFREE PARKING LOT\n21+ ID REQUERIDO\nCOVER $20\nCASH\, ZELLE\, CASHAPP \nRESERVA TU MESA A TIEMPO 📞\n(425)328-0902 (425)328-0903\nLAS MESAS RESERVADAS SE SOSTIENEN HASTA LAS 11PM\, NO EXCEPCIONES!!
URL:https://golatindance.com/event/rumba-tropical-sonidera/2026-05-30/
LOCATION:Seattle Harbor\, 2040 Westlake Ave N\, Seattle\, WA\, 98109\, United States
CATEGORIES:Seattle
ATTACH;FMTTYPE=image/jpeg:https://golatindance.com/wp-content/uploads/2024/08/453541132_7870103123097061_6632222991957116644_n-e1722520810783.jpg
END:VEVENT
BEGIN:VEVENT
DTSTART;TZID=America/Los_Angeles:20260605T210000
DTEND;TZID=America/Los_Angeles:20260606T020000
DTSTAMP:20260423T105656
CREATED:20250703T154237Z
LAST-MODIFIED:20250925T153122Z
UID:10378780-1780693200-1780711200@golatindance.com
SUMMARY:Latin Night at Seattle Harbor
DESCRIPTION:For a fabulous night of Latin music and dancing\, come join us at 9:00pm on Fridays. \nDance lessons start at 9:00pm and social thereafter at 10:00pm so you get to practice what was taught.
URL:https://golatindance.com/event/latin-night-at-seattle-harbor-2-2/2026-06-05/
LOCATION:Seattle Harbor\, 2040 Westlake Ave N\, Seattle\, WA\, 98109\, United States
CATEGORIES:Seattle
ATTACH;FMTTYPE=image/png:https://golatindance.com/wp-content/uploads/2025/07/Screenshot-2025-09-25-112730.png
END:VEVENT
BEGIN:VEVENT
DTSTART;TZID=America/Los_Angeles:20260606T210000
DTEND;TZID=America/Los_Angeles:20260607T020000
DTSTAMP:20260423T105656
CREATED:20240801T140105Z
LAST-MODIFIED:20250925T153102Z
UID:10284250-1780779600-1780797600@golatindance.com
SUMMARY:Rumba Tropical Sonidera
DESCRIPTION:SALUDOS RUMBEROS\nNOS VEMOS EN LA PISTA DE BAILE\, ESTE \nSEATTLE HARBOR NIGHT CLUB\nLATIN HIT ENTERTAINMENT\nRUMBA TROPICAL SONIDERA \nFREE PARKING LOT\n21+ ID REQUERIDO\nCOVER $20\nCASH\, ZELLE\, CASHAPP \nRESERVA TU MESA A TIEMPO 📞\n(425)328-0902 (425)328-0903\nLAS MESAS RESERVADAS SE SOSTIENEN HASTA LAS 11PM\, NO EXCEPCIONES!!
URL:https://golatindance.com/event/rumba-tropical-sonidera/2026-06-06/
LOCATION:Seattle Harbor\, 2040 Westlake Ave N\, Seattle\, WA\, 98109\, United States
CATEGORIES:Seattle
ATTACH;FMTTYPE=image/jpeg:https://golatindance.com/wp-content/uploads/2024/08/453541132_7870103123097061_6632222991957116644_n-e1722520810783.jpg
END:VEVENT
BEGIN:VEVENT
DTSTART;TZID=America/Los_Angeles:20260612T210000
DTEND;TZID=America/Los_Angeles:20260613T020000
DTSTAMP:20260423T105656
CREATED:20250703T154237Z
LAST-MODIFIED:20250925T153122Z
UID:10378781-1781298000-1781316000@golatindance.com
SUMMARY:Latin Night at Seattle Harbor
DESCRIPTION:For a fabulous night of Latin music and dancing\, come join us at 9:00pm on Fridays. \nDance lessons start at 9:00pm and social thereafter at 10:00pm so you get to practice what was taught.
URL:https://golatindance.com/event/latin-night-at-seattle-harbor-2-2/2026-06-12/
LOCATION:Seattle Harbor\, 2040 Westlake Ave N\, Seattle\, WA\, 98109\, United States
CATEGORIES:Seattle
ATTACH;FMTTYPE=image/png:https://golatindance.com/wp-content/uploads/2025/07/Screenshot-2025-09-25-112730.png
END:VEVENT
BEGIN:VEVENT
DTSTART;TZID=America/Los_Angeles:20260613T210000
DTEND;TZID=America/Los_Angeles:20260614T020000
DTSTAMP:20260423T105656
CREATED:20240801T140105Z
LAST-MODIFIED:20250925T153102Z
UID:10284251-1781384400-1781402400@golatindance.com
SUMMARY:Rumba Tropical Sonidera
DESCRIPTION:SALUDOS RUMBEROS\nNOS VEMOS EN LA PISTA DE BAILE\, ESTE \nSEATTLE HARBOR NIGHT CLUB\nLATIN HIT ENTERTAINMENT\nRUMBA TROPICAL SONIDERA \nFREE PARKING LOT\n21+ ID REQUERIDO\nCOVER $20\nCASH\, ZELLE\, CASHAPP \nRESERVA TU MESA A TIEMPO 📞\n(425)328-0902 (425)328-0903\nLAS MESAS RESERVADAS SE SOSTIENEN HASTA LAS 11PM\, NO EXCEPCIONES!!
URL:https://golatindance.com/event/rumba-tropical-sonidera/2026-06-13/
LOCATION:Seattle Harbor\, 2040 Westlake Ave N\, Seattle\, WA\, 98109\, United States
CATEGORIES:Seattle
ATTACH;FMTTYPE=image/jpeg:https://golatindance.com/wp-content/uploads/2024/08/453541132_7870103123097061_6632222991957116644_n-e1722520810783.jpg
END:VEVENT
BEGIN:VEVENT
DTSTART;TZID=America/Los_Angeles:20260619T210000
DTEND;TZID=America/Los_Angeles:20260620T020000
DTSTAMP:20260423T105656
CREATED:20250703T154237Z
LAST-MODIFIED:20250925T153122Z
UID:10378782-1781902800-1781920800@golatindance.com
SUMMARY:Latin Night at Seattle Harbor
DESCRIPTION:For a fabulous night of Latin music and dancing\, come join us at 9:00pm on Fridays. \nDance lessons start at 9:00pm and social thereafter at 10:00pm so you get to practice what was taught.
URL:https://golatindance.com/event/latin-night-at-seattle-harbor-2-2/2026-06-19/
LOCATION:Seattle Harbor\, 2040 Westlake Ave N\, Seattle\, WA\, 98109\, United States
CATEGORIES:Seattle
ATTACH;FMTTYPE=image/png:https://golatindance.com/wp-content/uploads/2025/07/Screenshot-2025-09-25-112730.png
END:VEVENT
BEGIN:VEVENT
DTSTART;TZID=America/Los_Angeles:20260620T210000
DTEND;TZID=America/Los_Angeles:20260621T020000
DTSTAMP:20260423T105656
CREATED:20240801T140105Z
LAST-MODIFIED:20250925T153102Z
UID:10284252-1781989200-1782007200@golatindance.com
SUMMARY:Rumba Tropical Sonidera
DESCRIPTION:SALUDOS RUMBEROS\nNOS VEMOS EN LA PISTA DE BAILE\, ESTE \nSEATTLE HARBOR NIGHT CLUB\nLATIN HIT ENTERTAINMENT\nRUMBA TROPICAL SONIDERA \nFREE PARKING LOT\n21+ ID REQUERIDO\nCOVER $20\nCASH\, ZELLE\, CASHAPP \nRESERVA TU MESA A TIEMPO 📞\n(425)328-0902 (425)328-0903\nLAS MESAS RESERVADAS SE SOSTIENEN HASTA LAS 11PM\, NO EXCEPCIONES!!
URL:https://golatindance.com/event/rumba-tropical-sonidera/2026-06-20/
LOCATION:Seattle Harbor\, 2040 Westlake Ave N\, Seattle\, WA\, 98109\, United States
CATEGORIES:Seattle
ATTACH;FMTTYPE=image/jpeg:https://golatindance.com/wp-content/uploads/2024/08/453541132_7870103123097061_6632222991957116644_n-e1722520810783.jpg
END:VEVENT
BEGIN:VEVENT
DTSTART;TZID=America/Los_Angeles:20260626T210000
DTEND;TZID=America/Los_Angeles:20260627T020000
DTSTAMP:20260423T105656
CREATED:20250703T154237Z
LAST-MODIFIED:20250925T153122Z
UID:10378783-1782507600-1782525600@golatindance.com
SUMMARY:Latin Night at Seattle Harbor
DESCRIPTION:For a fabulous night of Latin music and dancing\, come join us at 9:00pm on Fridays. \nDance lessons start at 9:00pm and social thereafter at 10:00pm so you get to practice what was taught.
URL:https://golatindance.com/event/latin-night-at-seattle-harbor-2-2/2026-06-26/
LOCATION:Seattle Harbor\, 2040 Westlake Ave N\, Seattle\, WA\, 98109\, United States
CATEGORIES:Seattle
ATTACH;FMTTYPE=image/png:https://golatindance.com/wp-content/uploads/2025/07/Screenshot-2025-09-25-112730.png
END:VEVENT
BEGIN:VEVENT
DTSTART;TZID=America/Los_Angeles:20260627T210000
DTEND;TZID=America/Los_Angeles:20260628T020000
DTSTAMP:20260423T105656
CREATED:20240801T140105Z
LAST-MODIFIED:20250925T153102Z
UID:10284253-1782594000-1782612000@golatindance.com
SUMMARY:Rumba Tropical Sonidera
DESCRIPTION:SALUDOS RUMBEROS\nNOS VEMOS EN LA PISTA DE BAILE\, ESTE \nSEATTLE HARBOR NIGHT CLUB\nLATIN HIT ENTERTAINMENT\nRUMBA TROPICAL SONIDERA \nFREE PARKING LOT\n21+ ID REQUERIDO\nCOVER $20\nCASH\, ZELLE\, CASHAPP \nRESERVA TU MESA A TIEMPO 📞\n(425)328-0902 (425)328-0903\nLAS MESAS RESERVADAS SE SOSTIENEN HASTA LAS 11PM\, NO EXCEPCIONES!!
URL:https://golatindance.com/event/rumba-tropical-sonidera/2026-06-27/
LOCATION:Seattle Harbor\, 2040 Westlake Ave N\, Seattle\, WA\, 98109\, United States
CATEGORIES:Seattle
ATTACH;FMTTYPE=image/jpeg:https://golatindance.com/wp-content/uploads/2024/08/453541132_7870103123097061_6632222991957116644_n-e1722520810783.jpg
END:VEVENT
BEGIN:VEVENT
DTSTART;TZID=America/Los_Angeles:20260703T210000
DTEND;TZID=America/Los_Angeles:20260704T020000
DTSTAMP:20260423T105656
CREATED:20250703T154237Z
LAST-MODIFIED:20250925T153122Z
UID:10378784-1783112400-1783130400@golatindance.com
SUMMARY:Latin Night at Seattle Harbor
DESCRIPTION:For a fabulous night of Latin music and dancing\, come join us at 9:00pm on Fridays. \nDance lessons start at 9:00pm and social thereafter at 10:00pm so you get to practice what was taught.
URL:https://golatindance.com/event/latin-night-at-seattle-harbor-2-2/2026-07-03/
LOCATION:Seattle Harbor\, 2040 Westlake Ave N\, Seattle\, WA\, 98109\, United States
CATEGORIES:Seattle
ATTACH;FMTTYPE=image/png:https://golatindance.com/wp-content/uploads/2025/07/Screenshot-2025-09-25-112730.png
END:VEVENT
BEGIN:VEVENT
DTSTART;TZID=America/Los_Angeles:20260704T210000
DTEND;TZID=America/Los_Angeles:20260705T020000
DTSTAMP:20260423T105656
CREATED:20240801T140105Z
LAST-MODIFIED:20250925T153102Z
UID:10284254-1783198800-1783216800@golatindance.com
SUMMARY:Rumba Tropical Sonidera
DESCRIPTION:SALUDOS RUMBEROS\nNOS VEMOS EN LA PISTA DE BAILE\, ESTE \nSEATTLE HARBOR NIGHT CLUB\nLATIN HIT ENTERTAINMENT\nRUMBA TROPICAL SONIDERA \nFREE PARKING LOT\n21+ ID REQUERIDO\nCOVER $20\nCASH\, ZELLE\, CASHAPP \nRESERVA TU MESA A TIEMPO 📞\n(425)328-0902 (425)328-0903\nLAS MESAS RESERVADAS SE SOSTIENEN HASTA LAS 11PM\, NO EXCEPCIONES!!
URL:https://golatindance.com/event/rumba-tropical-sonidera/2026-07-04/
LOCATION:Seattle Harbor\, 2040 Westlake Ave N\, Seattle\, WA\, 98109\, United States
CATEGORIES:Seattle
ATTACH;FMTTYPE=image/jpeg:https://golatindance.com/wp-content/uploads/2024/08/453541132_7870103123097061_6632222991957116644_n-e1722520810783.jpg
END:VEVENT
BEGIN:VEVENT
DTSTART;TZID=America/Los_Angeles:20260710T210000
DTEND;TZID=America/Los_Angeles:20260711T020000
DTSTAMP:20260423T105656
CREATED:20250703T154237Z
LAST-MODIFIED:20250925T153122Z
UID:10378785-1783717200-1783735200@golatindance.com
SUMMARY:Latin Night at Seattle Harbor
DESCRIPTION:For a fabulous night of Latin music and dancing\, come join us at 9:00pm on Fridays. \nDance lessons start at 9:00pm and social thereafter at 10:00pm so you get to practice what was taught.
URL:https://golatindance.com/event/latin-night-at-seattle-harbor-2-2/2026-07-10/
LOCATION:Seattle Harbor\, 2040 Westlake Ave N\, Seattle\, WA\, 98109\, United States
CATEGORIES:Seattle
ATTACH;FMTTYPE=image/png:https://golatindance.com/wp-content/uploads/2025/07/Screenshot-2025-09-25-112730.png
END:VEVENT
BEGIN:VEVENT
DTSTART;TZID=America/Los_Angeles:20260711T210000
DTEND;TZID=America/Los_Angeles:20260712T020000
DTSTAMP:20260423T105656
CREATED:20240801T140105Z
LAST-MODIFIED:20250925T153102Z
UID:10284255-1783803600-1783821600@golatindance.com
SUMMARY:Rumba Tropical Sonidera
DESCRIPTION:SALUDOS RUMBEROS\nNOS VEMOS EN LA PISTA DE BAILE\, ESTE \nSEATTLE HARBOR NIGHT CLUB\nLATIN HIT ENTERTAINMENT\nRUMBA TROPICAL SONIDERA \nFREE PARKING LOT\n21+ ID REQUERIDO\nCOVER $20\nCASH\, ZELLE\, CASHAPP \nRESERVA TU MESA A TIEMPO 📞\n(425)328-0902 (425)328-0903\nLAS MESAS RESERVADAS SE SOSTIENEN HASTA LAS 11PM\, NO EXCEPCIONES!!
URL:https://golatindance.com/event/rumba-tropical-sonidera/2026-07-11/
LOCATION:Seattle Harbor\, 2040 Westlake Ave N\, Seattle\, WA\, 98109\, United States
CATEGORIES:Seattle
ATTACH;FMTTYPE=image/jpeg:https://golatindance.com/wp-content/uploads/2024/08/453541132_7870103123097061_6632222991957116644_n-e1722520810783.jpg
END:VEVENT
BEGIN:VEVENT
DTSTART;TZID=America/Los_Angeles:20260717T210000
DTEND;TZID=America/Los_Angeles:20260718T020000
DTSTAMP:20260423T105656
CREATED:20250703T154237Z
LAST-MODIFIED:20250925T153122Z
UID:10378786-1784322000-1784340000@golatindance.com
SUMMARY:Latin Night at Seattle Harbor
DESCRIPTION:For a fabulous night of Latin music and dancing\, come join us at 9:00pm on Fridays. \nDance lessons start at 9:00pm and social thereafter at 10:00pm so you get to practice what was taught.
URL:https://golatindance.com/event/latin-night-at-seattle-harbor-2-2/2026-07-17/
LOCATION:Seattle Harbor\, 2040 Westlake Ave N\, Seattle\, WA\, 98109\, United States
CATEGORIES:Seattle
ATTACH;FMTTYPE=image/png:https://golatindance.com/wp-content/uploads/2025/07/Screenshot-2025-09-25-112730.png
END:VEVENT
BEGIN:VEVENT
DTSTART;TZID=America/Los_Angeles:20260718T210000
DTEND;TZID=America/Los_Angeles:20260719T020000
DTSTAMP:20260423T105656
CREATED:20240801T140105Z
LAST-MODIFIED:20250925T153102Z
UID:10284256-1784408400-1784426400@golatindance.com
SUMMARY:Rumba Tropical Sonidera
DESCRIPTION:SALUDOS RUMBEROS\nNOS VEMOS EN LA PISTA DE BAILE\, ESTE \nSEATTLE HARBOR NIGHT CLUB\nLATIN HIT ENTERTAINMENT\nRUMBA TROPICAL SONIDERA \nFREE PARKING LOT\n21+ ID REQUERIDO\nCOVER $20\nCASH\, ZELLE\, CASHAPP \nRESERVA TU MESA A TIEMPO 📞\n(425)328-0902 (425)328-0903\nLAS MESAS RESERVADAS SE SOSTIENEN HASTA LAS 11PM\, NO EXCEPCIONES!!
URL:https://golatindance.com/event/rumba-tropical-sonidera/2026-07-18/
LOCATION:Seattle Harbor\, 2040 Westlake Ave N\, Seattle\, WA\, 98109\, United States
CATEGORIES:Seattle
ATTACH;FMTTYPE=image/jpeg:https://golatindance.com/wp-content/uploads/2024/08/453541132_7870103123097061_6632222991957116644_n-e1722520810783.jpg
END:VEVENT
BEGIN:VEVENT
DTSTART;TZID=America/Los_Angeles:20260724T210000
DTEND;TZID=America/Los_Angeles:20260725T020000
DTSTAMP:20260423T105656
CREATED:20250703T154237Z
LAST-MODIFIED:20250925T153122Z
UID:10378787-1784926800-1784944800@golatindance.com
SUMMARY:Latin Night at Seattle Harbor
DESCRIPTION:For a fabulous night of Latin music and dancing\, come join us at 9:00pm on Fridays. \nDance lessons start at 9:00pm and social thereafter at 10:00pm so you get to practice what was taught.
URL:https://golatindance.com/event/latin-night-at-seattle-harbor-2-2/2026-07-24/
LOCATION:Seattle Harbor\, 2040 Westlake Ave N\, Seattle\, WA\, 98109\, United States
CATEGORIES:Seattle
ATTACH;FMTTYPE=image/png:https://golatindance.com/wp-content/uploads/2025/07/Screenshot-2025-09-25-112730.png
END:VEVENT
BEGIN:VEVENT
DTSTART;TZID=America/Los_Angeles:20260725T210000
DTEND;TZID=America/Los_Angeles:20260726T020000
DTSTAMP:20260423T105656
CREATED:20240801T140105Z
LAST-MODIFIED:20250925T153102Z
UID:10284257-1785013200-1785031200@golatindance.com
SUMMARY:Rumba Tropical Sonidera
DESCRIPTION:SALUDOS RUMBEROS\nNOS VEMOS EN LA PISTA DE BAILE\, ESTE \nSEATTLE HARBOR NIGHT CLUB\nLATIN HIT ENTERTAINMENT\nRUMBA TROPICAL SONIDERA \nFREE PARKING LOT\n21+ ID REQUERIDO\nCOVER $20\nCASH\, ZELLE\, CASHAPP \nRESERVA TU MESA A TIEMPO 📞\n(425)328-0902 (425)328-0903\nLAS MESAS RESERVADAS SE SOSTIENEN HASTA LAS 11PM\, NO EXCEPCIONES!!
URL:https://golatindance.com/event/rumba-tropical-sonidera/2026-07-25/
LOCATION:Seattle Harbor\, 2040 Westlake Ave N\, Seattle\, WA\, 98109\, United States
CATEGORIES:Seattle
ATTACH;FMTTYPE=image/jpeg:https://golatindance.com/wp-content/uploads/2024/08/453541132_7870103123097061_6632222991957116644_n-e1722520810783.jpg
END:VEVENT
BEGIN:VEVENT
DTSTART;TZID=America/Los_Angeles:20260731T210000
DTEND;TZID=America/Los_Angeles:20260801T020000
DTSTAMP:20260423T105656
CREATED:20250703T154237Z
LAST-MODIFIED:20250925T153122Z
UID:10378788-1785531600-1785549600@golatindance.com
SUMMARY:Latin Night at Seattle Harbor
DESCRIPTION:For a fabulous night of Latin music and dancing\, come join us at 9:00pm on Fridays. \nDance lessons start at 9:00pm and social thereafter at 10:00pm so you get to practice what was taught.
URL:https://golatindance.com/event/latin-night-at-seattle-harbor-2-2/2026-07-31/
LOCATION:Seattle Harbor\, 2040 Westlake Ave N\, Seattle\, WA\, 98109\, United States
CATEGORIES:Seattle
ATTACH;FMTTYPE=image/png:https://golatindance.com/wp-content/uploads/2025/07/Screenshot-2025-09-25-112730.png
END:VEVENT
BEGIN:VEVENT
DTSTART;TZID=America/Los_Angeles:20260801T210000
DTEND;TZID=America/Los_Angeles:20260802T020000
DTSTAMP:20260423T105656
CREATED:20240801T140105Z
LAST-MODIFIED:20250925T153102Z
UID:10284258-1785618000-1785636000@golatindance.com
SUMMARY:Rumba Tropical Sonidera
DESCRIPTION:SALUDOS RUMBEROS\nNOS VEMOS EN LA PISTA DE BAILE\, ESTE \nSEATTLE HARBOR NIGHT CLUB\nLATIN HIT ENTERTAINMENT\nRUMBA TROPICAL SONIDERA \nFREE PARKING LOT\n21+ ID REQUERIDO\nCOVER $20\nCASH\, ZELLE\, CASHAPP \nRESERVA TU MESA A TIEMPO 📞\n(425)328-0902 (425)328-0903\nLAS MESAS RESERVADAS SE SOSTIENEN HASTA LAS 11PM\, NO EXCEPCIONES!!
URL:https://golatindance.com/event/rumba-tropical-sonidera/2026-08-01/
LOCATION:Seattle Harbor\, 2040 Westlake Ave N\, Seattle\, WA\, 98109\, United States
CATEGORIES:Seattle
ATTACH;FMTTYPE=image/jpeg:https://golatindance.com/wp-content/uploads/2024/08/453541132_7870103123097061_6632222991957116644_n-e1722520810783.jpg
END:VEVENT
END:VCALENDAR