BEGIN:VCALENDAR
VERSION:2.0
PRODID:-//GO Latin Dance - ECPv6.15.18//NONSGML v1.0//EN
CALSCALE:GREGORIAN
METHOD:PUBLISH
X-WR-CALNAME:GO Latin Dance
X-ORIGINAL-URL:https://golatindance.com
X-WR-CALDESC:Events for GO Latin Dance
REFRESH-INTERVAL;VALUE=DURATION:PT1H
X-Robots-Tag:noindex
X-PUBLISHED-TTL:PT1H
BEGIN:VTIMEZONE
TZID:America/New_York
BEGIN:DAYLIGHT
TZOFFSETFROM:-0500
TZOFFSETTO:-0400
TZNAME:EDT
DTSTART:20240310T070000
END:DAYLIGHT
BEGIN:STANDARD
TZOFFSETFROM:-0400
TZOFFSETTO:-0500
TZNAME:EST
DTSTART:20241103T060000
END:STANDARD
BEGIN:DAYLIGHT
TZOFFSETFROM:-0500
TZOFFSETTO:-0400
TZNAME:EDT
DTSTART:20250309T070000
END:DAYLIGHT
BEGIN:STANDARD
TZOFFSETFROM:-0400
TZOFFSETTO:-0500
TZNAME:EST
DTSTART:20251102T060000
END:STANDARD
BEGIN:DAYLIGHT
TZOFFSETFROM:-0500
TZOFFSETTO:-0400
TZNAME:EDT
DTSTART:20260308T070000
END:DAYLIGHT
BEGIN:STANDARD
TZOFFSETFROM:-0400
TZOFFSETTO:-0500
TZNAME:EST
DTSTART:20261101T060000
END:STANDARD
BEGIN:DAYLIGHT
TZOFFSETFROM:-0500
TZOFFSETTO:-0400
TZNAME:EDT
DTSTART:20270314T070000
END:DAYLIGHT
BEGIN:STANDARD
TZOFFSETFROM:-0400
TZOFFSETTO:-0500
TZNAME:EST
DTSTART:20271107T060000
END:STANDARD
END:VTIMEZONE
BEGIN:VEVENT
DTSTART;TZID=America/New_York:20260417T220000
DTEND;TZID=America/New_York:20260418T020000
DTSTAMP:20260421T093657
CREATED:20250530T141209Z
LAST-MODIFIED:20250530T141209Z
UID:10368918-1776463200-1776477600@golatindance.com
SUMMARY:Latin Night at Sebastian Pintxos
DESCRIPTION:Friday\nWeekly Friday\nHappy Hour 3pm-5pm \nLatin Dance Class 10pm-11pm\nDance Social 10pm-2am\n2 Venus + Live DJ’s\nNo Cover
URL:https://golatindance.com/event/latin-night-at-sebastian-pintxos/2026-04-17/
LOCATION:Sebastian Pintxos Bar\, 818 Juniper St NE\, Atlanta\, GA\, 30308\, United States
CATEGORIES:Atlanta
ATTACH;FMTTYPE=image/png:https://golatindance.com/wp-content/uploads/2025/05/latin.png
END:VEVENT
BEGIN:VEVENT
DTSTART;TZID=America/New_York:20260410T220000
DTEND;TZID=America/New_York:20260411T020000
DTSTAMP:20260421T093657
CREATED:20250530T141209Z
LAST-MODIFIED:20250530T141209Z
UID:10368917-1775858400-1775872800@golatindance.com
SUMMARY:Latin Night at Sebastian Pintxos
DESCRIPTION:Friday\nWeekly Friday\nHappy Hour 3pm-5pm \nLatin Dance Class 10pm-11pm\nDance Social 10pm-2am\n2 Venus + Live DJ’s\nNo Cover
URL:https://golatindance.com/event/latin-night-at-sebastian-pintxos/2026-04-10/
LOCATION:Sebastian Pintxos Bar\, 818 Juniper St NE\, Atlanta\, GA\, 30308\, United States
CATEGORIES:Atlanta
ATTACH;FMTTYPE=image/png:https://golatindance.com/wp-content/uploads/2025/05/latin.png
END:VEVENT
BEGIN:VEVENT
DTSTART;TZID=America/New_York:20260403T220000
DTEND;TZID=America/New_York:20260404T020000
DTSTAMP:20260421T093657
CREATED:20250530T141209Z
LAST-MODIFIED:20250530T141209Z
UID:10368916-1775253600-1775268000@golatindance.com
SUMMARY:Latin Night at Sebastian Pintxos
DESCRIPTION:Friday\nWeekly Friday\nHappy Hour 3pm-5pm \nLatin Dance Class 10pm-11pm\nDance Social 10pm-2am\n2 Venus + Live DJ’s\nNo Cover
URL:https://golatindance.com/event/latin-night-at-sebastian-pintxos/2026-04-03/
LOCATION:Sebastian Pintxos Bar\, 818 Juniper St NE\, Atlanta\, GA\, 30308\, United States
CATEGORIES:Atlanta
ATTACH;FMTTYPE=image/png:https://golatindance.com/wp-content/uploads/2025/05/latin.png
END:VEVENT
BEGIN:VEVENT
DTSTART;TZID=America/New_York:20260327T220000
DTEND;TZID=America/New_York:20260328T020000
DTSTAMP:20260421T093657
CREATED:20250530T141209Z
LAST-MODIFIED:20250530T141209Z
UID:10368915-1774648800-1774663200@golatindance.com
SUMMARY:Latin Night at Sebastian Pintxos
DESCRIPTION:Friday\nWeekly Friday\nHappy Hour 3pm-5pm \nLatin Dance Class 10pm-11pm\nDance Social 10pm-2am\n2 Venus + Live DJ’s\nNo Cover
URL:https://golatindance.com/event/latin-night-at-sebastian-pintxos/2026-03-27/
LOCATION:Sebastian Pintxos Bar\, 818 Juniper St NE\, Atlanta\, GA\, 30308\, United States
CATEGORIES:Atlanta
ATTACH;FMTTYPE=image/png:https://golatindance.com/wp-content/uploads/2025/05/latin.png
END:VEVENT
BEGIN:VEVENT
DTSTART;TZID=America/New_York:20260320T220000
DTEND;TZID=America/New_York:20260321T020000
DTSTAMP:20260421T093657
CREATED:20250530T141209Z
LAST-MODIFIED:20250530T141209Z
UID:10368914-1774044000-1774058400@golatindance.com
SUMMARY:Latin Night at Sebastian Pintxos
DESCRIPTION:Friday\nWeekly Friday\nHappy Hour 3pm-5pm \nLatin Dance Class 10pm-11pm\nDance Social 10pm-2am\n2 Venus + Live DJ’s\nNo Cover
URL:https://golatindance.com/event/latin-night-at-sebastian-pintxos/2026-03-20/
LOCATION:Sebastian Pintxos Bar\, 818 Juniper St NE\, Atlanta\, GA\, 30308\, United States
CATEGORIES:Atlanta
ATTACH;FMTTYPE=image/png:https://golatindance.com/wp-content/uploads/2025/05/latin.png
END:VEVENT
BEGIN:VEVENT
DTSTART;TZID=America/New_York:20260313T220000
DTEND;TZID=America/New_York:20260314T020000
DTSTAMP:20260421T093657
CREATED:20250530T141209Z
LAST-MODIFIED:20250530T141209Z
UID:10368913-1773439200-1773453600@golatindance.com
SUMMARY:Latin Night at Sebastian Pintxos
DESCRIPTION:Friday\nWeekly Friday\nHappy Hour 3pm-5pm \nLatin Dance Class 10pm-11pm\nDance Social 10pm-2am\n2 Venus + Live DJ’s\nNo Cover
URL:https://golatindance.com/event/latin-night-at-sebastian-pintxos/2026-03-13/
LOCATION:Sebastian Pintxos Bar\, 818 Juniper St NE\, Atlanta\, GA\, 30308\, United States
CATEGORIES:Atlanta
ATTACH;FMTTYPE=image/png:https://golatindance.com/wp-content/uploads/2025/05/latin.png
END:VEVENT
BEGIN:VEVENT
DTSTART;TZID=America/New_York:20260306T220000
DTEND;TZID=America/New_York:20260307T020000
DTSTAMP:20260421T093657
CREATED:20250530T141209Z
LAST-MODIFIED:20250530T141209Z
UID:10368912-1772834400-1772848800@golatindance.com
SUMMARY:Latin Night at Sebastian Pintxos
DESCRIPTION:Friday\nWeekly Friday\nHappy Hour 3pm-5pm \nLatin Dance Class 10pm-11pm\nDance Social 10pm-2am\n2 Venus + Live DJ’s\nNo Cover
URL:https://golatindance.com/event/latin-night-at-sebastian-pintxos/2026-03-06/
LOCATION:Sebastian Pintxos Bar\, 818 Juniper St NE\, Atlanta\, GA\, 30308\, United States
CATEGORIES:Atlanta
ATTACH;FMTTYPE=image/png:https://golatindance.com/wp-content/uploads/2025/05/latin.png
END:VEVENT
BEGIN:VEVENT
DTSTART;TZID=America/New_York:20260227T220000
DTEND;TZID=America/New_York:20260228T020000
DTSTAMP:20260421T093657
CREATED:20250530T141209Z
LAST-MODIFIED:20250530T141209Z
UID:10368911-1772229600-1772244000@golatindance.com
SUMMARY:Latin Night at Sebastian Pintxos
DESCRIPTION:Friday\nWeekly Friday\nHappy Hour 3pm-5pm \nLatin Dance Class 10pm-11pm\nDance Social 10pm-2am\n2 Venus + Live DJ’s\nNo Cover
URL:https://golatindance.com/event/latin-night-at-sebastian-pintxos/2026-02-27/
LOCATION:Sebastian Pintxos Bar\, 818 Juniper St NE\, Atlanta\, GA\, 30308\, United States
CATEGORIES:Atlanta
ATTACH;FMTTYPE=image/png:https://golatindance.com/wp-content/uploads/2025/05/latin.png
END:VEVENT
BEGIN:VEVENT
DTSTART;TZID=America/New_York:20260220T220000
DTEND;TZID=America/New_York:20260221T020000
DTSTAMP:20260421T093657
CREATED:20250530T141209Z
LAST-MODIFIED:20250530T141209Z
UID:10368910-1771624800-1771639200@golatindance.com
SUMMARY:Latin Night at Sebastian Pintxos
DESCRIPTION:Friday\nWeekly Friday\nHappy Hour 3pm-5pm \nLatin Dance Class 10pm-11pm\nDance Social 10pm-2am\n2 Venus + Live DJ’s\nNo Cover
URL:https://golatindance.com/event/latin-night-at-sebastian-pintxos/2026-02-20/
LOCATION:Sebastian Pintxos Bar\, 818 Juniper St NE\, Atlanta\, GA\, 30308\, United States
CATEGORIES:Atlanta
ATTACH;FMTTYPE=image/png:https://golatindance.com/wp-content/uploads/2025/05/latin.png
END:VEVENT
BEGIN:VEVENT
DTSTART;TZID=America/New_York:20260215T180000
DTEND;TZID=America/New_York:20260215T220000
DTSTAMP:20260421T093657
CREATED:20260206T143453Z
LAST-MODIFIED:20260206T143453Z
UID:10442886-1771178400-1771192800@golatindance.com
SUMMARY:Sunday Social at Sebastian Pintxos Bar
DESCRIPTION:Sunday Social at Sebastian Pintxos Bar. See flyer for details.
URL:https://golatindance.com/event/sunday-social-at-sebastian-pintxos-bar/
LOCATION:Sebastian Pintxos Bar\, 818 Juniper St NE\, Atlanta\, GA\, 30308\, United States
CATEGORIES:Atlanta
ATTACH;FMTTYPE=image/png:https://golatindance.com/wp-content/uploads/2026/02/Screenshot-2026-02-06-093341.png
END:VEVENT
BEGIN:VEVENT
DTSTART;TZID=America/New_York:20260213T220000
DTEND;TZID=America/New_York:20260214T020000
DTSTAMP:20260421T093657
CREATED:20250530T141209Z
LAST-MODIFIED:20250530T141209Z
UID:10368909-1771020000-1771034400@golatindance.com
SUMMARY:Latin Night at Sebastian Pintxos
DESCRIPTION:Friday\nWeekly Friday\nHappy Hour 3pm-5pm \nLatin Dance Class 10pm-11pm\nDance Social 10pm-2am\n2 Venus + Live DJ’s\nNo Cover
URL:https://golatindance.com/event/latin-night-at-sebastian-pintxos/2026-02-13/
LOCATION:Sebastian Pintxos Bar\, 818 Juniper St NE\, Atlanta\, GA\, 30308\, United States
CATEGORIES:Atlanta
ATTACH;FMTTYPE=image/png:https://golatindance.com/wp-content/uploads/2025/05/latin.png
END:VEVENT
BEGIN:VEVENT
DTSTART;TZID=America/New_York:20260206T220000
DTEND;TZID=America/New_York:20260207T020000
DTSTAMP:20260421T093657
CREATED:20250530T141209Z
LAST-MODIFIED:20250530T141209Z
UID:10368908-1770415200-1770429600@golatindance.com
SUMMARY:Latin Night at Sebastian Pintxos
DESCRIPTION:Friday\nWeekly Friday\nHappy Hour 3pm-5pm \nLatin Dance Class 10pm-11pm\nDance Social 10pm-2am\n2 Venus + Live DJ’s\nNo Cover
URL:https://golatindance.com/event/latin-night-at-sebastian-pintxos/2026-02-06/
LOCATION:Sebastian Pintxos Bar\, 818 Juniper St NE\, Atlanta\, GA\, 30308\, United States
CATEGORIES:Atlanta
ATTACH;FMTTYPE=image/png:https://golatindance.com/wp-content/uploads/2025/05/latin.png
END:VEVENT
BEGIN:VEVENT
DTSTART;TZID=America/New_York:20260130T220000
DTEND;TZID=America/New_York:20260131T020000
DTSTAMP:20260421T093657
CREATED:20250530T141209Z
LAST-MODIFIED:20250530T141209Z
UID:10368907-1769810400-1769824800@golatindance.com
SUMMARY:Latin Night at Sebastian Pintxos
DESCRIPTION:Friday\nWeekly Friday\nHappy Hour 3pm-5pm \nLatin Dance Class 10pm-11pm\nDance Social 10pm-2am\n2 Venus + Live DJ’s\nNo Cover
URL:https://golatindance.com/event/latin-night-at-sebastian-pintxos/2026-01-30/
LOCATION:Sebastian Pintxos Bar\, 818 Juniper St NE\, Atlanta\, GA\, 30308\, United States
CATEGORIES:Atlanta
ATTACH;FMTTYPE=image/png:https://golatindance.com/wp-content/uploads/2025/05/latin.png
END:VEVENT
BEGIN:VEVENT
DTSTART;TZID=America/New_York:20260123T220000
DTEND;TZID=America/New_York:20260124T020000
DTSTAMP:20260421T093657
CREATED:20250530T141209Z
LAST-MODIFIED:20250530T141209Z
UID:10368906-1769205600-1769220000@golatindance.com
SUMMARY:Latin Night at Sebastian Pintxos
DESCRIPTION:Friday\nWeekly Friday\nHappy Hour 3pm-5pm \nLatin Dance Class 10pm-11pm\nDance Social 10pm-2am\n2 Venus + Live DJ’s\nNo Cover
URL:https://golatindance.com/event/latin-night-at-sebastian-pintxos/2026-01-23/
LOCATION:Sebastian Pintxos Bar\, 818 Juniper St NE\, Atlanta\, GA\, 30308\, United States
CATEGORIES:Atlanta
ATTACH;FMTTYPE=image/png:https://golatindance.com/wp-content/uploads/2025/05/latin.png
END:VEVENT
BEGIN:VEVENT
DTSTART;TZID=America/New_York:20260116T220000
DTEND;TZID=America/New_York:20260117T020000
DTSTAMP:20260421T093657
CREATED:20250530T141209Z
LAST-MODIFIED:20250530T141209Z
UID:10368905-1768600800-1768615200@golatindance.com
SUMMARY:Latin Night at Sebastian Pintxos
DESCRIPTION:Friday\nWeekly Friday\nHappy Hour 3pm-5pm \nLatin Dance Class 10pm-11pm\nDance Social 10pm-2am\n2 Venus + Live DJ’s\nNo Cover
URL:https://golatindance.com/event/latin-night-at-sebastian-pintxos/2026-01-16/
LOCATION:Sebastian Pintxos Bar\, 818 Juniper St NE\, Atlanta\, GA\, 30308\, United States
CATEGORIES:Atlanta
ATTACH;FMTTYPE=image/png:https://golatindance.com/wp-content/uploads/2025/05/latin.png
END:VEVENT
BEGIN:VEVENT
DTSTART;TZID=America/New_York:20260109T220000
DTEND;TZID=America/New_York:20260110T020000
DTSTAMP:20260421T093657
CREATED:20250530T141209Z
LAST-MODIFIED:20250530T141209Z
UID:10368904-1767996000-1768010400@golatindance.com
SUMMARY:Latin Night at Sebastian Pintxos
DESCRIPTION:Friday\nWeekly Friday\nHappy Hour 3pm-5pm \nLatin Dance Class 10pm-11pm\nDance Social 10pm-2am\n2 Venus + Live DJ’s\nNo Cover
URL:https://golatindance.com/event/latin-night-at-sebastian-pintxos/2026-01-09/
LOCATION:Sebastian Pintxos Bar\, 818 Juniper St NE\, Atlanta\, GA\, 30308\, United States
CATEGORIES:Atlanta
ATTACH;FMTTYPE=image/png:https://golatindance.com/wp-content/uploads/2025/05/latin.png
END:VEVENT
BEGIN:VEVENT
DTSTART;TZID=America/New_York:20260102T220000
DTEND;TZID=America/New_York:20260103T020000
DTSTAMP:20260421T093657
CREATED:20250530T141209Z
LAST-MODIFIED:20250530T141209Z
UID:10368903-1767391200-1767405600@golatindance.com
SUMMARY:Latin Night at Sebastian Pintxos
DESCRIPTION:Friday\nWeekly Friday\nHappy Hour 3pm-5pm \nLatin Dance Class 10pm-11pm\nDance Social 10pm-2am\n2 Venus + Live DJ’s\nNo Cover
URL:https://golatindance.com/event/latin-night-at-sebastian-pintxos/2026-01-02/
LOCATION:Sebastian Pintxos Bar\, 818 Juniper St NE\, Atlanta\, GA\, 30308\, United States
CATEGORIES:Atlanta
ATTACH;FMTTYPE=image/png:https://golatindance.com/wp-content/uploads/2025/05/latin.png
END:VEVENT
BEGIN:VEVENT
DTSTART;TZID=America/New_York:20251226T220000
DTEND;TZID=America/New_York:20251227T020000
DTSTAMP:20260421T093657
CREATED:20250530T141209Z
LAST-MODIFIED:20250530T141209Z
UID:10368902-1766786400-1766800800@golatindance.com
SUMMARY:Latin Night at Sebastian Pintxos
DESCRIPTION:Friday\nWeekly Friday\nHappy Hour 3pm-5pm \nLatin Dance Class 10pm-11pm\nDance Social 10pm-2am\n2 Venus + Live DJ’s\nNo Cover
URL:https://golatindance.com/event/latin-night-at-sebastian-pintxos/2025-12-26/
LOCATION:Sebastian Pintxos Bar\, 818 Juniper St NE\, Atlanta\, GA\, 30308\, United States
CATEGORIES:Atlanta
ATTACH;FMTTYPE=image/png:https://golatindance.com/wp-content/uploads/2025/05/latin.png
END:VEVENT
BEGIN:VEVENT
DTSTART;TZID=America/New_York:20251219T220000
DTEND;TZID=America/New_York:20251220T020000
DTSTAMP:20260421T093657
CREATED:20250530T141209Z
LAST-MODIFIED:20250530T141209Z
UID:10368901-1766181600-1766196000@golatindance.com
SUMMARY:Latin Night at Sebastian Pintxos
DESCRIPTION:Friday\nWeekly Friday\nHappy Hour 3pm-5pm \nLatin Dance Class 10pm-11pm\nDance Social 10pm-2am\n2 Venus + Live DJ’s\nNo Cover
URL:https://golatindance.com/event/latin-night-at-sebastian-pintxos/2025-12-19/
LOCATION:Sebastian Pintxos Bar\, 818 Juniper St NE\, Atlanta\, GA\, 30308\, United States
CATEGORIES:Atlanta
ATTACH;FMTTYPE=image/png:https://golatindance.com/wp-content/uploads/2025/05/latin.png
END:VEVENT
BEGIN:VEVENT
DTSTART;TZID=America/New_York:20251212T220000
DTEND;TZID=America/New_York:20251213T020000
DTSTAMP:20260421T093657
CREATED:20250530T141209Z
LAST-MODIFIED:20250530T141209Z
UID:10368900-1765576800-1765591200@golatindance.com
SUMMARY:Latin Night at Sebastian Pintxos
DESCRIPTION:Friday\nWeekly Friday\nHappy Hour 3pm-5pm \nLatin Dance Class 10pm-11pm\nDance Social 10pm-2am\n2 Venus + Live DJ’s\nNo Cover
URL:https://golatindance.com/event/latin-night-at-sebastian-pintxos/2025-12-12/
LOCATION:Sebastian Pintxos Bar\, 818 Juniper St NE\, Atlanta\, GA\, 30308\, United States
CATEGORIES:Atlanta
ATTACH;FMTTYPE=image/png:https://golatindance.com/wp-content/uploads/2025/05/latin.png
END:VEVENT
BEGIN:VEVENT
DTSTART;TZID=America/New_York:20251205T220000
DTEND;TZID=America/New_York:20251206T020000
DTSTAMP:20260421T093657
CREATED:20250530T141209Z
LAST-MODIFIED:20250530T141209Z
UID:10368899-1764972000-1764986400@golatindance.com
SUMMARY:Latin Night at Sebastian Pintxos
DESCRIPTION:Friday\nWeekly Friday\nHappy Hour 3pm-5pm \nLatin Dance Class 10pm-11pm\nDance Social 10pm-2am\n2 Venus + Live DJ’s\nNo Cover
URL:https://golatindance.com/event/latin-night-at-sebastian-pintxos/2025-12-05/
LOCATION:Sebastian Pintxos Bar\, 818 Juniper St NE\, Atlanta\, GA\, 30308\, United States
CATEGORIES:Atlanta
ATTACH;FMTTYPE=image/png:https://golatindance.com/wp-content/uploads/2025/05/latin.png
END:VEVENT
BEGIN:VEVENT
DTSTART;TZID=America/New_York:20251128T220000
DTEND;TZID=America/New_York:20251129T020000
DTSTAMP:20260421T093657
CREATED:20250530T141209Z
LAST-MODIFIED:20250530T141209Z
UID:10368898-1764367200-1764381600@golatindance.com
SUMMARY:Latin Night at Sebastian Pintxos
DESCRIPTION:Friday\nWeekly Friday\nHappy Hour 3pm-5pm \nLatin Dance Class 10pm-11pm\nDance Social 10pm-2am\n2 Venus + Live DJ’s\nNo Cover
URL:https://golatindance.com/event/latin-night-at-sebastian-pintxos/2025-11-28/
LOCATION:Sebastian Pintxos Bar\, 818 Juniper St NE\, Atlanta\, GA\, 30308\, United States
CATEGORIES:Atlanta
ATTACH;FMTTYPE=image/png:https://golatindance.com/wp-content/uploads/2025/05/latin.png
END:VEVENT
BEGIN:VEVENT
DTSTART;TZID=America/New_York:20251121T220000
DTEND;TZID=America/New_York:20251122T020000
DTSTAMP:20260421T093657
CREATED:20250530T141209Z
LAST-MODIFIED:20250530T141209Z
UID:10368897-1763762400-1763776800@golatindance.com
SUMMARY:Latin Night at Sebastian Pintxos
DESCRIPTION:Friday\nWeekly Friday\nHappy Hour 3pm-5pm \nLatin Dance Class 10pm-11pm\nDance Social 10pm-2am\n2 Venus + Live DJ’s\nNo Cover
URL:https://golatindance.com/event/latin-night-at-sebastian-pintxos/2025-11-21/
LOCATION:Sebastian Pintxos Bar\, 818 Juniper St NE\, Atlanta\, GA\, 30308\, United States
CATEGORIES:Atlanta
ATTACH;FMTTYPE=image/png:https://golatindance.com/wp-content/uploads/2025/05/latin.png
END:VEVENT
BEGIN:VEVENT
DTSTART;TZID=America/New_York:20251114T220000
DTEND;TZID=America/New_York:20251115T020000
DTSTAMP:20260421T093657
CREATED:20250530T141209Z
LAST-MODIFIED:20250530T141209Z
UID:10368896-1763157600-1763172000@golatindance.com
SUMMARY:Latin Night at Sebastian Pintxos
DESCRIPTION:Friday\nWeekly Friday\nHappy Hour 3pm-5pm \nLatin Dance Class 10pm-11pm\nDance Social 10pm-2am\n2 Venus + Live DJ’s\nNo Cover
URL:https://golatindance.com/event/latin-night-at-sebastian-pintxos/2025-11-14/
LOCATION:Sebastian Pintxos Bar\, 818 Juniper St NE\, Atlanta\, GA\, 30308\, United States
CATEGORIES:Atlanta
ATTACH;FMTTYPE=image/png:https://golatindance.com/wp-content/uploads/2025/05/latin.png
END:VEVENT
BEGIN:VEVENT
DTSTART;TZID=America/New_York:20251107T220000
DTEND;TZID=America/New_York:20251108T020000
DTSTAMP:20260421T093657
CREATED:20250530T141209Z
LAST-MODIFIED:20250530T141209Z
UID:10368895-1762552800-1762567200@golatindance.com
SUMMARY:Latin Night at Sebastian Pintxos
DESCRIPTION:Friday\nWeekly Friday\nHappy Hour 3pm-5pm \nLatin Dance Class 10pm-11pm\nDance Social 10pm-2am\n2 Venus + Live DJ’s\nNo Cover
URL:https://golatindance.com/event/latin-night-at-sebastian-pintxos/2025-11-07/
LOCATION:Sebastian Pintxos Bar\, 818 Juniper St NE\, Atlanta\, GA\, 30308\, United States
CATEGORIES:Atlanta
ATTACH;FMTTYPE=image/png:https://golatindance.com/wp-content/uploads/2025/05/latin.png
END:VEVENT
BEGIN:VEVENT
DTSTART;TZID=America/New_York:20251031T220000
DTEND;TZID=America/New_York:20251101T020000
DTSTAMP:20260421T093657
CREATED:20250530T141209Z
LAST-MODIFIED:20250530T141209Z
UID:10368894-1761948000-1761962400@golatindance.com
SUMMARY:Latin Night at Sebastian Pintxos
DESCRIPTION:Friday\nWeekly Friday\nHappy Hour 3pm-5pm \nLatin Dance Class 10pm-11pm\nDance Social 10pm-2am\n2 Venus + Live DJ’s\nNo Cover
URL:https://golatindance.com/event/latin-night-at-sebastian-pintxos/2025-10-31/
LOCATION:Sebastian Pintxos Bar\, 818 Juniper St NE\, Atlanta\, GA\, 30308\, United States
CATEGORIES:Atlanta
ATTACH;FMTTYPE=image/png:https://golatindance.com/wp-content/uploads/2025/05/latin.png
END:VEVENT
BEGIN:VEVENT
DTSTART;TZID=America/New_York:20251024T220000
DTEND;TZID=America/New_York:20251025T020000
DTSTAMP:20260421T093657
CREATED:20250530T141209Z
LAST-MODIFIED:20250530T141209Z
UID:10368893-1761343200-1761357600@golatindance.com
SUMMARY:Latin Night at Sebastian Pintxos
DESCRIPTION:Friday\nWeekly Friday\nHappy Hour 3pm-5pm \nLatin Dance Class 10pm-11pm\nDance Social 10pm-2am\n2 Venus + Live DJ’s\nNo Cover
URL:https://golatindance.com/event/latin-night-at-sebastian-pintxos/2025-10-24/
LOCATION:Sebastian Pintxos Bar\, 818 Juniper St NE\, Atlanta\, GA\, 30308\, United States
CATEGORIES:Atlanta
ATTACH;FMTTYPE=image/png:https://golatindance.com/wp-content/uploads/2025/05/latin.png
END:VEVENT
BEGIN:VEVENT
DTSTART;TZID=America/New_York:20251017T220000
DTEND;TZID=America/New_York:20251018T020000
DTSTAMP:20260421T093657
CREATED:20250530T141209Z
LAST-MODIFIED:20250530T141209Z
UID:10368892-1760738400-1760752800@golatindance.com
SUMMARY:Latin Night at Sebastian Pintxos
DESCRIPTION:Friday\nWeekly Friday\nHappy Hour 3pm-5pm \nLatin Dance Class 10pm-11pm\nDance Social 10pm-2am\n2 Venus + Live DJ’s\nNo Cover
URL:https://golatindance.com/event/latin-night-at-sebastian-pintxos/2025-10-17/
LOCATION:Sebastian Pintxos Bar\, 818 Juniper St NE\, Atlanta\, GA\, 30308\, United States
CATEGORIES:Atlanta
ATTACH;FMTTYPE=image/png:https://golatindance.com/wp-content/uploads/2025/05/latin.png
END:VEVENT
BEGIN:VEVENT
DTSTART;TZID=America/New_York:20251010T220000
DTEND;TZID=America/New_York:20251011T020000
DTSTAMP:20260421T093657
CREATED:20250530T141209Z
LAST-MODIFIED:20250530T141209Z
UID:10368891-1760133600-1760148000@golatindance.com
SUMMARY:Latin Night at Sebastian Pintxos
DESCRIPTION:Friday\nWeekly Friday\nHappy Hour 3pm-5pm \nLatin Dance Class 10pm-11pm\nDance Social 10pm-2am\n2 Venus + Live DJ’s\nNo Cover
URL:https://golatindance.com/event/latin-night-at-sebastian-pintxos/2025-10-10/
LOCATION:Sebastian Pintxos Bar\, 818 Juniper St NE\, Atlanta\, GA\, 30308\, United States
CATEGORIES:Atlanta
ATTACH;FMTTYPE=image/png:https://golatindance.com/wp-content/uploads/2025/05/latin.png
END:VEVENT
BEGIN:VEVENT
DTSTART;TZID=America/New_York:20251003T220000
DTEND;TZID=America/New_York:20251004T020000
DTSTAMP:20260421T093657
CREATED:20250530T141209Z
LAST-MODIFIED:20250530T141209Z
UID:10368890-1759528800-1759543200@golatindance.com
SUMMARY:Latin Night at Sebastian Pintxos
DESCRIPTION:Friday\nWeekly Friday\nHappy Hour 3pm-5pm \nLatin Dance Class 10pm-11pm\nDance Social 10pm-2am\n2 Venus + Live DJ’s\nNo Cover
URL:https://golatindance.com/event/latin-night-at-sebastian-pintxos/2025-10-03/
LOCATION:Sebastian Pintxos Bar\, 818 Juniper St NE\, Atlanta\, GA\, 30308\, United States
CATEGORIES:Atlanta
ATTACH;FMTTYPE=image/png:https://golatindance.com/wp-content/uploads/2025/05/latin.png
END:VEVENT
END:VCALENDAR