BEGIN:VCALENDAR
VERSION:2.0
PRODID:-//GO Latin Dance - ECPv6.15.18//NONSGML v1.0//EN
CALSCALE:GREGORIAN
METHOD:PUBLISH
X-ORIGINAL-URL:https://golatindance.com
X-WR-CALDESC:Events for GO Latin Dance
REFRESH-INTERVAL;VALUE=DURATION:PT1H
X-Robots-Tag:noindex
X-PUBLISHED-TTL:PT1H
BEGIN:VTIMEZONE
TZID:America/New_York
BEGIN:DAYLIGHT
TZOFFSETFROM:-0500
TZOFFSETTO:-0400
TZNAME:EDT
DTSTART:20240310T070000
END:DAYLIGHT
BEGIN:STANDARD
TZOFFSETFROM:-0400
TZOFFSETTO:-0500
TZNAME:EST
DTSTART:20241103T060000
END:STANDARD
BEGIN:DAYLIGHT
TZOFFSETFROM:-0500
TZOFFSETTO:-0400
TZNAME:EDT
DTSTART:20250309T070000
END:DAYLIGHT
BEGIN:STANDARD
TZOFFSETFROM:-0400
TZOFFSETTO:-0500
TZNAME:EST
DTSTART:20251102T060000
END:STANDARD
BEGIN:DAYLIGHT
TZOFFSETFROM:-0500
TZOFFSETTO:-0400
TZNAME:EDT
DTSTART:20260308T070000
END:DAYLIGHT
BEGIN:STANDARD
TZOFFSETFROM:-0400
TZOFFSETTO:-0500
TZNAME:EST
DTSTART:20261101T060000
END:STANDARD
END:VTIMEZONE
BEGIN:VEVENT
DTSTART;TZID=America/New_York:20250718T220000
DTEND;TZID=America/New_York:20250719T020000
DTSTAMP:20260421T153437
CREATED:20250530T141209Z
LAST-MODIFIED:20250530T141209Z
UID:10368879-1752876000-1752890400@golatindance.com
SUMMARY:Latin Night at Sebastian Pintxos
DESCRIPTION:Friday\nWeekly Friday\nHappy Hour 3pm-5pm \nLatin Dance Class 10pm-11pm\nDance Social 10pm-2am\n2 Venus + Live DJ’s\nNo Cover
URL:https://golatindance.com/event/latin-night-at-sebastian-pintxos/2025-07-18/
LOCATION:Sebastian Pintxos Bar\, 818 Juniper St NE\, Atlanta\, GA\, 30308\, United States
CATEGORIES:Atlanta
ATTACH;FMTTYPE=image/png:https://golatindance.com/wp-content/uploads/2025/05/latin.png
END:VEVENT
BEGIN:VEVENT
DTSTART;TZID=America/New_York:20250711T220000
DTEND;TZID=America/New_York:20250712T020000
DTSTAMP:20260421T153437
CREATED:20250530T141209Z
LAST-MODIFIED:20250530T141209Z
UID:10368878-1752271200-1752285600@golatindance.com
SUMMARY:Latin Night at Sebastian Pintxos
DESCRIPTION:Friday\nWeekly Friday\nHappy Hour 3pm-5pm \nLatin Dance Class 10pm-11pm\nDance Social 10pm-2am\n2 Venus + Live DJ’s\nNo Cover
URL:https://golatindance.com/event/latin-night-at-sebastian-pintxos/2025-07-11/
LOCATION:Sebastian Pintxos Bar\, 818 Juniper St NE\, Atlanta\, GA\, 30308\, United States
CATEGORIES:Atlanta
ATTACH;FMTTYPE=image/png:https://golatindance.com/wp-content/uploads/2025/05/latin.png
END:VEVENT
BEGIN:VEVENT
DTSTART;TZID=America/New_York:20250704T220000
DTEND;TZID=America/New_York:20250705T020000
DTSTAMP:20260421T153437
CREATED:20250530T141209Z
LAST-MODIFIED:20250530T141209Z
UID:10368877-1751666400-1751680800@golatindance.com
SUMMARY:Latin Night at Sebastian Pintxos
DESCRIPTION:Friday\nWeekly Friday\nHappy Hour 3pm-5pm \nLatin Dance Class 10pm-11pm\nDance Social 10pm-2am\n2 Venus + Live DJ’s\nNo Cover
URL:https://golatindance.com/event/latin-night-at-sebastian-pintxos/2025-07-04/
LOCATION:Sebastian Pintxos Bar\, 818 Juniper St NE\, Atlanta\, GA\, 30308\, United States
CATEGORIES:Atlanta
ATTACH;FMTTYPE=image/png:https://golatindance.com/wp-content/uploads/2025/05/latin.png
END:VEVENT
BEGIN:VEVENT
DTSTART;TZID=America/New_York:20250627T220000
DTEND;TZID=America/New_York:20250628T020000
DTSTAMP:20260421T153437
CREATED:20250530T141209Z
LAST-MODIFIED:20250530T141209Z
UID:10368876-1751061600-1751076000@golatindance.com
SUMMARY:Latin Night at Sebastian Pintxos
DESCRIPTION:Friday\nWeekly Friday\nHappy Hour 3pm-5pm \nLatin Dance Class 10pm-11pm\nDance Social 10pm-2am\n2 Venus + Live DJ’s\nNo Cover
URL:https://golatindance.com/event/latin-night-at-sebastian-pintxos/2025-06-27/
LOCATION:Sebastian Pintxos Bar\, 818 Juniper St NE\, Atlanta\, GA\, 30308\, United States
CATEGORIES:Atlanta
ATTACH;FMTTYPE=image/png:https://golatindance.com/wp-content/uploads/2025/05/latin.png
END:VEVENT
BEGIN:VEVENT
DTSTART;TZID=America/New_York:20250620T220000
DTEND;TZID=America/New_York:20250621T020000
DTSTAMP:20260421T153437
CREATED:20250530T141209Z
LAST-MODIFIED:20250530T141209Z
UID:10368875-1750456800-1750471200@golatindance.com
SUMMARY:Latin Night at Sebastian Pintxos
DESCRIPTION:Friday\nWeekly Friday\nHappy Hour 3pm-5pm \nLatin Dance Class 10pm-11pm\nDance Social 10pm-2am\n2 Venus + Live DJ’s\nNo Cover
URL:https://golatindance.com/event/latin-night-at-sebastian-pintxos/2025-06-20/
LOCATION:Sebastian Pintxos Bar\, 818 Juniper St NE\, Atlanta\, GA\, 30308\, United States
CATEGORIES:Atlanta
ATTACH;FMTTYPE=image/png:https://golatindance.com/wp-content/uploads/2025/05/latin.png
END:VEVENT
BEGIN:VEVENT
DTSTART;TZID=America/New_York:20250613T220000
DTEND;TZID=America/New_York:20250614T020000
DTSTAMP:20260421T153437
CREATED:20250530T141209Z
LAST-MODIFIED:20250530T141209Z
UID:10368874-1749852000-1749866400@golatindance.com
SUMMARY:Latin Night at Sebastian Pintxos
DESCRIPTION:Friday\nWeekly Friday\nHappy Hour 3pm-5pm \nLatin Dance Class 10pm-11pm\nDance Social 10pm-2am\n2 Venus + Live DJ’s\nNo Cover
URL:https://golatindance.com/event/latin-night-at-sebastian-pintxos/2025-06-13/
LOCATION:Sebastian Pintxos Bar\, 818 Juniper St NE\, Atlanta\, GA\, 30308\, United States
CATEGORIES:Atlanta
ATTACH;FMTTYPE=image/png:https://golatindance.com/wp-content/uploads/2025/05/latin.png
END:VEVENT
BEGIN:VEVENT
DTSTART;TZID=America/New_York:20250606T220000
DTEND;TZID=America/New_York:20250607T020000
DTSTAMP:20260421T153437
CREATED:20250530T141209Z
LAST-MODIFIED:20250530T141209Z
UID:10368873-1749247200-1749261600@golatindance.com
SUMMARY:Latin Night at Sebastian Pintxos
DESCRIPTION:Friday\nWeekly Friday\nHappy Hour 3pm-5pm \nLatin Dance Class 10pm-11pm\nDance Social 10pm-2am\n2 Venus + Live DJ’s\nNo Cover
URL:https://golatindance.com/event/latin-night-at-sebastian-pintxos/2025-06-06/
LOCATION:Sebastian Pintxos Bar\, 818 Juniper St NE\, Atlanta\, GA\, 30308\, United States
CATEGORIES:Atlanta
ATTACH;FMTTYPE=image/png:https://golatindance.com/wp-content/uploads/2025/05/latin.png
END:VEVENT
BEGIN:VEVENT
DTSTART;TZID=America/New_York:20250530T220000
DTEND;TZID=America/New_York:20250531T020000
DTSTAMP:20260421T153437
CREATED:20250530T141209Z
LAST-MODIFIED:20250530T141209Z
UID:10368872-1748642400-1748656800@golatindance.com
SUMMARY:Latin Night at Sebastian Pintxos
DESCRIPTION:Friday\nWeekly Friday\nHappy Hour 3pm-5pm \nLatin Dance Class 10pm-11pm\nDance Social 10pm-2am\n2 Venus + Live DJ’s\nNo Cover
URL:https://golatindance.com/event/latin-night-at-sebastian-pintxos/2025-05-30/
LOCATION:Sebastian Pintxos Bar\, 818 Juniper St NE\, Atlanta\, GA\, 30308\, United States
CATEGORIES:Atlanta
ATTACH;FMTTYPE=image/png:https://golatindance.com/wp-content/uploads/2025/05/latin.png
END:VEVENT
END:VCALENDAR