BEGIN:VCALENDAR
VERSION:2.0
PRODID:-//GO Latin Dance - ECPv6.15.18//NONSGML v1.0//EN
CALSCALE:GREGORIAN
METHOD:PUBLISH
X-WR-CALNAME:GO Latin Dance
X-ORIGINAL-URL:https://golatindance.com
X-WR-CALDESC:Events for GO Latin Dance
REFRESH-INTERVAL;VALUE=DURATION:PT1H
X-Robots-Tag:noindex
X-PUBLISHED-TTL:PT1H
BEGIN:VTIMEZONE
TZID:America/Los_Angeles
BEGIN:DAYLIGHT
TZOFFSETFROM:-0800
TZOFFSETTO:-0700
TZNAME:PDT
DTSTART:20260308T100000
END:DAYLIGHT
BEGIN:STANDARD
TZOFFSETFROM:-0700
TZOFFSETTO:-0800
TZNAME:PST
DTSTART:20261101T090000
END:STANDARD
BEGIN:DAYLIGHT
TZOFFSETFROM:-0800
TZOFFSETTO:-0700
TZNAME:PDT
DTSTART:20270314T100000
END:DAYLIGHT
BEGIN:STANDARD
TZOFFSETFROM:-0700
TZOFFSETTO:-0800
TZNAME:PST
DTSTART:20271107T090000
END:STANDARD
BEGIN:DAYLIGHT
TZOFFSETFROM:-0800
TZOFFSETTO:-0700
TZNAME:PDT
DTSTART:20280312T100000
END:DAYLIGHT
BEGIN:STANDARD
TZOFFSETFROM:-0700
TZOFFSETTO:-0800
TZNAME:PST
DTSTART:20281105T090000
END:STANDARD
END:VTIMEZONE
BEGIN:VEVENT
DTSTART;TZID=America/Los_Angeles:20270724T210000
DTEND;TZID=America/Los_Angeles:20270725T013000
DTSTAMP:20260424T172259
CREATED:20230411T213552Z
LAST-MODIFIED:20240624T045412Z
UID:10268472-1816462800-1816479000@golatindance.com
SUMMARY:Salsa Saturdays at Stevens Steakhouse
DESCRIPTION:Mi Gente\, Join us TONIGHT @ Stevens Steak House for Dinner and Dancing Salsa & Bachata Dancing | LIVE Bands + Music & Videos By Guest DJs | For Reservation call (323) 723-9856 | Music Starts at 9:00Pm | Free Parking and Valet Available | Share the fun
URL:https://golatindance.com/event/salsa-saturdays-at-stevens-steakhouse/2027-07-24/
LOCATION:Stevens Steak and Seafood House Restaurant\, 5332 Stevens Pl\, Commerce\, CA\, 90040\, United States
CATEGORIES:Los Angeles
END:VEVENT
BEGIN:VEVENT
DTSTART;TZID=America/Los_Angeles:20270728T190000
DTEND;TZID=America/Los_Angeles:20270728T190000
DTSTAMP:20260424T172259
CREATED:20230411T213359Z
LAST-MODIFIED:20241217T175316Z
UID:10074489-1816801200-1816801200@golatindance.com
SUMMARY:Salsa Timba Wednesdays
DESCRIPTION:Join us for an evening Lessons\, Music\, Dancing\, great vibes & amazing drinks. All your favorite Salsa\, Timba\, Bachata & more.
URL:https://golatindance.com/event/salsa-timba-wednesdays/2027-07-28/
LOCATION:Stevens Steak and Seafood House Restaurant\, 5332 Stevens Pl\, Commerce\, CA\, 90040\, United States
CATEGORIES:Los Angeles
ATTACH;FMTTYPE=image/jpeg:https://golatindance.com/wp-content/uploads/2023/04/420879032_10161526041545086_5665173904814789006_n.jpg
END:VEVENT
BEGIN:VEVENT
DTSTART;TZID=America/Los_Angeles:20270731T210000
DTEND;TZID=America/Los_Angeles:20270801T013000
DTSTAMP:20260424T172259
CREATED:20230411T213552Z
LAST-MODIFIED:20240624T045412Z
UID:10268473-1817067600-1817083800@golatindance.com
SUMMARY:Salsa Saturdays at Stevens Steakhouse
DESCRIPTION:Mi Gente\, Join us TONIGHT @ Stevens Steak House for Dinner and Dancing Salsa & Bachata Dancing | LIVE Bands + Music & Videos By Guest DJs | For Reservation call (323) 723-9856 | Music Starts at 9:00Pm | Free Parking and Valet Available | Share the fun
URL:https://golatindance.com/event/salsa-saturdays-at-stevens-steakhouse/2027-07-31/
LOCATION:Stevens Steak and Seafood House Restaurant\, 5332 Stevens Pl\, Commerce\, CA\, 90040\, United States
CATEGORIES:Los Angeles
END:VEVENT
BEGIN:VEVENT
DTSTART;TZID=America/Los_Angeles:20270804T190000
DTEND;TZID=America/Los_Angeles:20270804T190000
DTSTAMP:20260424T172259
CREATED:20230411T213359Z
LAST-MODIFIED:20241217T175316Z
UID:10074490-1817406000-1817406000@golatindance.com
SUMMARY:Salsa Timba Wednesdays
DESCRIPTION:Join us for an evening Lessons\, Music\, Dancing\, great vibes & amazing drinks. All your favorite Salsa\, Timba\, Bachata & more.
URL:https://golatindance.com/event/salsa-timba-wednesdays/2027-08-04/
LOCATION:Stevens Steak and Seafood House Restaurant\, 5332 Stevens Pl\, Commerce\, CA\, 90040\, United States
CATEGORIES:Los Angeles
ATTACH;FMTTYPE=image/jpeg:https://golatindance.com/wp-content/uploads/2023/04/420879032_10161526041545086_5665173904814789006_n.jpg
END:VEVENT
BEGIN:VEVENT
DTSTART;TZID=America/Los_Angeles:20270807T210000
DTEND;TZID=America/Los_Angeles:20270808T013000
DTSTAMP:20260424T172259
CREATED:20230411T213552Z
LAST-MODIFIED:20240624T045412Z
UID:10268474-1817672400-1817688600@golatindance.com
SUMMARY:Salsa Saturdays at Stevens Steakhouse
DESCRIPTION:Mi Gente\, Join us TONIGHT @ Stevens Steak House for Dinner and Dancing Salsa & Bachata Dancing | LIVE Bands + Music & Videos By Guest DJs | For Reservation call (323) 723-9856 | Music Starts at 9:00Pm | Free Parking and Valet Available | Share the fun
URL:https://golatindance.com/event/salsa-saturdays-at-stevens-steakhouse/2027-08-07/
LOCATION:Stevens Steak and Seafood House Restaurant\, 5332 Stevens Pl\, Commerce\, CA\, 90040\, United States
CATEGORIES:Los Angeles
END:VEVENT
BEGIN:VEVENT
DTSTART;TZID=America/Los_Angeles:20270811T190000
DTEND;TZID=America/Los_Angeles:20270811T190000
DTSTAMP:20260424T172259
CREATED:20230411T213359Z
LAST-MODIFIED:20241217T175316Z
UID:10074491-1818010800-1818010800@golatindance.com
SUMMARY:Salsa Timba Wednesdays
DESCRIPTION:Join us for an evening Lessons\, Music\, Dancing\, great vibes & amazing drinks. All your favorite Salsa\, Timba\, Bachata & more.
URL:https://golatindance.com/event/salsa-timba-wednesdays/2027-08-11/
LOCATION:Stevens Steak and Seafood House Restaurant\, 5332 Stevens Pl\, Commerce\, CA\, 90040\, United States
CATEGORIES:Los Angeles
ATTACH;FMTTYPE=image/jpeg:https://golatindance.com/wp-content/uploads/2023/04/420879032_10161526041545086_5665173904814789006_n.jpg
END:VEVENT
BEGIN:VEVENT
DTSTART;TZID=America/Los_Angeles:20270814T210000
DTEND;TZID=America/Los_Angeles:20270815T013000
DTSTAMP:20260424T172259
CREATED:20230411T213552Z
LAST-MODIFIED:20240624T045412Z
UID:10268475-1818277200-1818293400@golatindance.com
SUMMARY:Salsa Saturdays at Stevens Steakhouse
DESCRIPTION:Mi Gente\, Join us TONIGHT @ Stevens Steak House for Dinner and Dancing Salsa & Bachata Dancing | LIVE Bands + Music & Videos By Guest DJs | For Reservation call (323) 723-9856 | Music Starts at 9:00Pm | Free Parking and Valet Available | Share the fun
URL:https://golatindance.com/event/salsa-saturdays-at-stevens-steakhouse/2027-08-14/
LOCATION:Stevens Steak and Seafood House Restaurant\, 5332 Stevens Pl\, Commerce\, CA\, 90040\, United States
CATEGORIES:Los Angeles
END:VEVENT
BEGIN:VEVENT
DTSTART;TZID=America/Los_Angeles:20270818T190000
DTEND;TZID=America/Los_Angeles:20270818T190000
DTSTAMP:20260424T172259
CREATED:20230411T213359Z
LAST-MODIFIED:20241217T175316Z
UID:10074492-1818615600-1818615600@golatindance.com
SUMMARY:Salsa Timba Wednesdays
DESCRIPTION:Join us for an evening Lessons\, Music\, Dancing\, great vibes & amazing drinks. All your favorite Salsa\, Timba\, Bachata & more.
URL:https://golatindance.com/event/salsa-timba-wednesdays/2027-08-18/
LOCATION:Stevens Steak and Seafood House Restaurant\, 5332 Stevens Pl\, Commerce\, CA\, 90040\, United States
CATEGORIES:Los Angeles
ATTACH;FMTTYPE=image/jpeg:https://golatindance.com/wp-content/uploads/2023/04/420879032_10161526041545086_5665173904814789006_n.jpg
END:VEVENT
BEGIN:VEVENT
DTSTART;TZID=America/Los_Angeles:20270821T210000
DTEND;TZID=America/Los_Angeles:20270822T013000
DTSTAMP:20260424T172259
CREATED:20230411T213552Z
LAST-MODIFIED:20240624T045412Z
UID:10268476-1818882000-1818898200@golatindance.com
SUMMARY:Salsa Saturdays at Stevens Steakhouse
DESCRIPTION:Mi Gente\, Join us TONIGHT @ Stevens Steak House for Dinner and Dancing Salsa & Bachata Dancing | LIVE Bands + Music & Videos By Guest DJs | For Reservation call (323) 723-9856 | Music Starts at 9:00Pm | Free Parking and Valet Available | Share the fun
URL:https://golatindance.com/event/salsa-saturdays-at-stevens-steakhouse/2027-08-21/
LOCATION:Stevens Steak and Seafood House Restaurant\, 5332 Stevens Pl\, Commerce\, CA\, 90040\, United States
CATEGORIES:Los Angeles
END:VEVENT
BEGIN:VEVENT
DTSTART;TZID=America/Los_Angeles:20270825T190000
DTEND;TZID=America/Los_Angeles:20270825T190000
DTSTAMP:20260424T172259
CREATED:20230411T213359Z
LAST-MODIFIED:20241217T175316Z
UID:10074493-1819220400-1819220400@golatindance.com
SUMMARY:Salsa Timba Wednesdays
DESCRIPTION:Join us for an evening Lessons\, Music\, Dancing\, great vibes & amazing drinks. All your favorite Salsa\, Timba\, Bachata & more.
URL:https://golatindance.com/event/salsa-timba-wednesdays/2027-08-25/
LOCATION:Stevens Steak and Seafood House Restaurant\, 5332 Stevens Pl\, Commerce\, CA\, 90040\, United States
CATEGORIES:Los Angeles
ATTACH;FMTTYPE=image/jpeg:https://golatindance.com/wp-content/uploads/2023/04/420879032_10161526041545086_5665173904814789006_n.jpg
END:VEVENT
BEGIN:VEVENT
DTSTART;TZID=America/Los_Angeles:20270828T210000
DTEND;TZID=America/Los_Angeles:20270829T013000
DTSTAMP:20260424T172259
CREATED:20230411T213552Z
LAST-MODIFIED:20240624T045412Z
UID:10268477-1819486800-1819503000@golatindance.com
SUMMARY:Salsa Saturdays at Stevens Steakhouse
DESCRIPTION:Mi Gente\, Join us TONIGHT @ Stevens Steak House for Dinner and Dancing Salsa & Bachata Dancing | LIVE Bands + Music & Videos By Guest DJs | For Reservation call (323) 723-9856 | Music Starts at 9:00Pm | Free Parking and Valet Available | Share the fun
URL:https://golatindance.com/event/salsa-saturdays-at-stevens-steakhouse/2027-08-28/
LOCATION:Stevens Steak and Seafood House Restaurant\, 5332 Stevens Pl\, Commerce\, CA\, 90040\, United States
CATEGORIES:Los Angeles
END:VEVENT
BEGIN:VEVENT
DTSTART;TZID=America/Los_Angeles:20270901T190000
DTEND;TZID=America/Los_Angeles:20270901T190000
DTSTAMP:20260424T172259
CREATED:20230411T213359Z
LAST-MODIFIED:20241217T175316Z
UID:10074494-1819825200-1819825200@golatindance.com
SUMMARY:Salsa Timba Wednesdays
DESCRIPTION:Join us for an evening Lessons\, Music\, Dancing\, great vibes & amazing drinks. All your favorite Salsa\, Timba\, Bachata & more.
URL:https://golatindance.com/event/salsa-timba-wednesdays/2027-09-01/
LOCATION:Stevens Steak and Seafood House Restaurant\, 5332 Stevens Pl\, Commerce\, CA\, 90040\, United States
CATEGORIES:Los Angeles
ATTACH;FMTTYPE=image/jpeg:https://golatindance.com/wp-content/uploads/2023/04/420879032_10161526041545086_5665173904814789006_n.jpg
END:VEVENT
BEGIN:VEVENT
DTSTART;TZID=America/Los_Angeles:20270904T210000
DTEND;TZID=America/Los_Angeles:20270905T013000
DTSTAMP:20260424T172259
CREATED:20230411T213552Z
LAST-MODIFIED:20240624T045412Z
UID:10268478-1820091600-1820107800@golatindance.com
SUMMARY:Salsa Saturdays at Stevens Steakhouse
DESCRIPTION:Mi Gente\, Join us TONIGHT @ Stevens Steak House for Dinner and Dancing Salsa & Bachata Dancing | LIVE Bands + Music & Videos By Guest DJs | For Reservation call (323) 723-9856 | Music Starts at 9:00Pm | Free Parking and Valet Available | Share the fun
URL:https://golatindance.com/event/salsa-saturdays-at-stevens-steakhouse/2027-09-04/
LOCATION:Stevens Steak and Seafood House Restaurant\, 5332 Stevens Pl\, Commerce\, CA\, 90040\, United States
CATEGORIES:Los Angeles
END:VEVENT
BEGIN:VEVENT
DTSTART;TZID=America/Los_Angeles:20270908T190000
DTEND;TZID=America/Los_Angeles:20270908T190000
DTSTAMP:20260424T172259
CREATED:20230411T213359Z
LAST-MODIFIED:20241217T175316Z
UID:10074495-1820430000-1820430000@golatindance.com
SUMMARY:Salsa Timba Wednesdays
DESCRIPTION:Join us for an evening Lessons\, Music\, Dancing\, great vibes & amazing drinks. All your favorite Salsa\, Timba\, Bachata & more.
URL:https://golatindance.com/event/salsa-timba-wednesdays/2027-09-08/
LOCATION:Stevens Steak and Seafood House Restaurant\, 5332 Stevens Pl\, Commerce\, CA\, 90040\, United States
CATEGORIES:Los Angeles
ATTACH;FMTTYPE=image/jpeg:https://golatindance.com/wp-content/uploads/2023/04/420879032_10161526041545086_5665173904814789006_n.jpg
END:VEVENT
BEGIN:VEVENT
DTSTART;TZID=America/Los_Angeles:20270911T210000
DTEND;TZID=America/Los_Angeles:20270912T013000
DTSTAMP:20260424T172259
CREATED:20230411T213552Z
LAST-MODIFIED:20240624T045412Z
UID:10268479-1820696400-1820712600@golatindance.com
SUMMARY:Salsa Saturdays at Stevens Steakhouse
DESCRIPTION:Mi Gente\, Join us TONIGHT @ Stevens Steak House for Dinner and Dancing Salsa & Bachata Dancing | LIVE Bands + Music & Videos By Guest DJs | For Reservation call (323) 723-9856 | Music Starts at 9:00Pm | Free Parking and Valet Available | Share the fun
URL:https://golatindance.com/event/salsa-saturdays-at-stevens-steakhouse/2027-09-11/
LOCATION:Stevens Steak and Seafood House Restaurant\, 5332 Stevens Pl\, Commerce\, CA\, 90040\, United States
CATEGORIES:Los Angeles
END:VEVENT
BEGIN:VEVENT
DTSTART;TZID=America/Los_Angeles:20270915T190000
DTEND;TZID=America/Los_Angeles:20270915T190000
DTSTAMP:20260424T172259
CREATED:20230411T213359Z
LAST-MODIFIED:20241217T175316Z
UID:10074496-1821034800-1821034800@golatindance.com
SUMMARY:Salsa Timba Wednesdays
DESCRIPTION:Join us for an evening Lessons\, Music\, Dancing\, great vibes & amazing drinks. All your favorite Salsa\, Timba\, Bachata & more.
URL:https://golatindance.com/event/salsa-timba-wednesdays/2027-09-15/
LOCATION:Stevens Steak and Seafood House Restaurant\, 5332 Stevens Pl\, Commerce\, CA\, 90040\, United States
CATEGORIES:Los Angeles
ATTACH;FMTTYPE=image/jpeg:https://golatindance.com/wp-content/uploads/2023/04/420879032_10161526041545086_5665173904814789006_n.jpg
END:VEVENT
BEGIN:VEVENT
DTSTART;TZID=America/Los_Angeles:20270918T210000
DTEND;TZID=America/Los_Angeles:20270919T013000
DTSTAMP:20260424T172259
CREATED:20230411T213552Z
LAST-MODIFIED:20240624T045412Z
UID:10268480-1821301200-1821317400@golatindance.com
SUMMARY:Salsa Saturdays at Stevens Steakhouse
DESCRIPTION:Mi Gente\, Join us TONIGHT @ Stevens Steak House for Dinner and Dancing Salsa & Bachata Dancing | LIVE Bands + Music & Videos By Guest DJs | For Reservation call (323) 723-9856 | Music Starts at 9:00Pm | Free Parking and Valet Available | Share the fun
URL:https://golatindance.com/event/salsa-saturdays-at-stevens-steakhouse/2027-09-18/
LOCATION:Stevens Steak and Seafood House Restaurant\, 5332 Stevens Pl\, Commerce\, CA\, 90040\, United States
CATEGORIES:Los Angeles
END:VEVENT
BEGIN:VEVENT
DTSTART;TZID=America/Los_Angeles:20270922T190000
DTEND;TZID=America/Los_Angeles:20270922T190000
DTSTAMP:20260424T172259
CREATED:20230411T213359Z
LAST-MODIFIED:20241217T175316Z
UID:10074497-1821639600-1821639600@golatindance.com
SUMMARY:Salsa Timba Wednesdays
DESCRIPTION:Join us for an evening Lessons\, Music\, Dancing\, great vibes & amazing drinks. All your favorite Salsa\, Timba\, Bachata & more.
URL:https://golatindance.com/event/salsa-timba-wednesdays/2027-09-22/
LOCATION:Stevens Steak and Seafood House Restaurant\, 5332 Stevens Pl\, Commerce\, CA\, 90040\, United States
CATEGORIES:Los Angeles
ATTACH;FMTTYPE=image/jpeg:https://golatindance.com/wp-content/uploads/2023/04/420879032_10161526041545086_5665173904814789006_n.jpg
END:VEVENT
BEGIN:VEVENT
DTSTART;TZID=America/Los_Angeles:20270925T210000
DTEND;TZID=America/Los_Angeles:20270926T013000
DTSTAMP:20260424T172259
CREATED:20230411T213552Z
LAST-MODIFIED:20240624T045412Z
UID:10268481-1821906000-1821922200@golatindance.com
SUMMARY:Salsa Saturdays at Stevens Steakhouse
DESCRIPTION:Mi Gente\, Join us TONIGHT @ Stevens Steak House for Dinner and Dancing Salsa & Bachata Dancing | LIVE Bands + Music & Videos By Guest DJs | For Reservation call (323) 723-9856 | Music Starts at 9:00Pm | Free Parking and Valet Available | Share the fun
URL:https://golatindance.com/event/salsa-saturdays-at-stevens-steakhouse/2027-09-25/
LOCATION:Stevens Steak and Seafood House Restaurant\, 5332 Stevens Pl\, Commerce\, CA\, 90040\, United States
CATEGORIES:Los Angeles
END:VEVENT
BEGIN:VEVENT
DTSTART;TZID=America/Los_Angeles:20270929T190000
DTEND;TZID=America/Los_Angeles:20270929T190000
DTSTAMP:20260424T172259
CREATED:20230411T213359Z
LAST-MODIFIED:20241217T175316Z
UID:10074498-1822244400-1822244400@golatindance.com
SUMMARY:Salsa Timba Wednesdays
DESCRIPTION:Join us for an evening Lessons\, Music\, Dancing\, great vibes & amazing drinks. All your favorite Salsa\, Timba\, Bachata & more.
URL:https://golatindance.com/event/salsa-timba-wednesdays/2027-09-29/
LOCATION:Stevens Steak and Seafood House Restaurant\, 5332 Stevens Pl\, Commerce\, CA\, 90040\, United States
CATEGORIES:Los Angeles
ATTACH;FMTTYPE=image/jpeg:https://golatindance.com/wp-content/uploads/2023/04/420879032_10161526041545086_5665173904814789006_n.jpg
END:VEVENT
BEGIN:VEVENT
DTSTART;TZID=America/Los_Angeles:20271002T210000
DTEND;TZID=America/Los_Angeles:20271003T013000
DTSTAMP:20260424T172259
CREATED:20230411T213552Z
LAST-MODIFIED:20240624T045412Z
UID:10268482-1822510800-1822527000@golatindance.com
SUMMARY:Salsa Saturdays at Stevens Steakhouse
DESCRIPTION:Mi Gente\, Join us TONIGHT @ Stevens Steak House for Dinner and Dancing Salsa & Bachata Dancing | LIVE Bands + Music & Videos By Guest DJs | For Reservation call (323) 723-9856 | Music Starts at 9:00Pm | Free Parking and Valet Available | Share the fun
URL:https://golatindance.com/event/salsa-saturdays-at-stevens-steakhouse/2027-10-02/
LOCATION:Stevens Steak and Seafood House Restaurant\, 5332 Stevens Pl\, Commerce\, CA\, 90040\, United States
CATEGORIES:Los Angeles
END:VEVENT
BEGIN:VEVENT
DTSTART;TZID=America/Los_Angeles:20271006T190000
DTEND;TZID=America/Los_Angeles:20271006T190000
DTSTAMP:20260424T172259
CREATED:20230411T213359Z
LAST-MODIFIED:20241217T175316Z
UID:10074499-1822849200-1822849200@golatindance.com
SUMMARY:Salsa Timba Wednesdays
DESCRIPTION:Join us for an evening Lessons\, Music\, Dancing\, great vibes & amazing drinks. All your favorite Salsa\, Timba\, Bachata & more.
URL:https://golatindance.com/event/salsa-timba-wednesdays/2027-10-06/
LOCATION:Stevens Steak and Seafood House Restaurant\, 5332 Stevens Pl\, Commerce\, CA\, 90040\, United States
CATEGORIES:Los Angeles
ATTACH;FMTTYPE=image/jpeg:https://golatindance.com/wp-content/uploads/2023/04/420879032_10161526041545086_5665173904814789006_n.jpg
END:VEVENT
BEGIN:VEVENT
DTSTART;TZID=America/Los_Angeles:20271009T210000
DTEND;TZID=America/Los_Angeles:20271010T013000
DTSTAMP:20260424T172259
CREATED:20230411T213552Z
LAST-MODIFIED:20240624T045412Z
UID:10268483-1823115600-1823131800@golatindance.com
SUMMARY:Salsa Saturdays at Stevens Steakhouse
DESCRIPTION:Mi Gente\, Join us TONIGHT @ Stevens Steak House for Dinner and Dancing Salsa & Bachata Dancing | LIVE Bands + Music & Videos By Guest DJs | For Reservation call (323) 723-9856 | Music Starts at 9:00Pm | Free Parking and Valet Available | Share the fun
URL:https://golatindance.com/event/salsa-saturdays-at-stevens-steakhouse/2027-10-09/
LOCATION:Stevens Steak and Seafood House Restaurant\, 5332 Stevens Pl\, Commerce\, CA\, 90040\, United States
CATEGORIES:Los Angeles
END:VEVENT
BEGIN:VEVENT
DTSTART;TZID=America/Los_Angeles:20271013T190000
DTEND;TZID=America/Los_Angeles:20271013T190000
DTSTAMP:20260424T172259
CREATED:20230411T213359Z
LAST-MODIFIED:20241217T175316Z
UID:10074500-1823454000-1823454000@golatindance.com
SUMMARY:Salsa Timba Wednesdays
DESCRIPTION:Join us for an evening Lessons\, Music\, Dancing\, great vibes & amazing drinks. All your favorite Salsa\, Timba\, Bachata & more.
URL:https://golatindance.com/event/salsa-timba-wednesdays/2027-10-13/
LOCATION:Stevens Steak and Seafood House Restaurant\, 5332 Stevens Pl\, Commerce\, CA\, 90040\, United States
CATEGORIES:Los Angeles
ATTACH;FMTTYPE=image/jpeg:https://golatindance.com/wp-content/uploads/2023/04/420879032_10161526041545086_5665173904814789006_n.jpg
END:VEVENT
BEGIN:VEVENT
DTSTART;TZID=America/Los_Angeles:20271016T210000
DTEND;TZID=America/Los_Angeles:20271017T013000
DTSTAMP:20260424T172259
CREATED:20230411T213552Z
LAST-MODIFIED:20240624T045412Z
UID:10268484-1823720400-1823736600@golatindance.com
SUMMARY:Salsa Saturdays at Stevens Steakhouse
DESCRIPTION:Mi Gente\, Join us TONIGHT @ Stevens Steak House for Dinner and Dancing Salsa & Bachata Dancing | LIVE Bands + Music & Videos By Guest DJs | For Reservation call (323) 723-9856 | Music Starts at 9:00Pm | Free Parking and Valet Available | Share the fun
URL:https://golatindance.com/event/salsa-saturdays-at-stevens-steakhouse/2027-10-16/
LOCATION:Stevens Steak and Seafood House Restaurant\, 5332 Stevens Pl\, Commerce\, CA\, 90040\, United States
CATEGORIES:Los Angeles
END:VEVENT
BEGIN:VEVENT
DTSTART;TZID=America/Los_Angeles:20271020T190000
DTEND;TZID=America/Los_Angeles:20271020T190000
DTSTAMP:20260424T172259
CREATED:20230411T213359Z
LAST-MODIFIED:20241217T175316Z
UID:10074501-1824058800-1824058800@golatindance.com
SUMMARY:Salsa Timba Wednesdays
DESCRIPTION:Join us for an evening Lessons\, Music\, Dancing\, great vibes & amazing drinks. All your favorite Salsa\, Timba\, Bachata & more.
URL:https://golatindance.com/event/salsa-timba-wednesdays/2027-10-20/
LOCATION:Stevens Steak and Seafood House Restaurant\, 5332 Stevens Pl\, Commerce\, CA\, 90040\, United States
CATEGORIES:Los Angeles
ATTACH;FMTTYPE=image/jpeg:https://golatindance.com/wp-content/uploads/2023/04/420879032_10161526041545086_5665173904814789006_n.jpg
END:VEVENT
BEGIN:VEVENT
DTSTART;TZID=America/Los_Angeles:20271023T210000
DTEND;TZID=America/Los_Angeles:20271024T013000
DTSTAMP:20260424T172259
CREATED:20230411T213552Z
LAST-MODIFIED:20240624T045412Z
UID:10268485-1824325200-1824341400@golatindance.com
SUMMARY:Salsa Saturdays at Stevens Steakhouse
DESCRIPTION:Mi Gente\, Join us TONIGHT @ Stevens Steak House for Dinner and Dancing Salsa & Bachata Dancing | LIVE Bands + Music & Videos By Guest DJs | For Reservation call (323) 723-9856 | Music Starts at 9:00Pm | Free Parking and Valet Available | Share the fun
URL:https://golatindance.com/event/salsa-saturdays-at-stevens-steakhouse/2027-10-23/
LOCATION:Stevens Steak and Seafood House Restaurant\, 5332 Stevens Pl\, Commerce\, CA\, 90040\, United States
CATEGORIES:Los Angeles
END:VEVENT
BEGIN:VEVENT
DTSTART;TZID=America/Los_Angeles:20271027T190000
DTEND;TZID=America/Los_Angeles:20271027T190000
DTSTAMP:20260424T172259
CREATED:20230411T213359Z
LAST-MODIFIED:20241217T175316Z
UID:10074502-1824663600-1824663600@golatindance.com
SUMMARY:Salsa Timba Wednesdays
DESCRIPTION:Join us for an evening Lessons\, Music\, Dancing\, great vibes & amazing drinks. All your favorite Salsa\, Timba\, Bachata & more.
URL:https://golatindance.com/event/salsa-timba-wednesdays/2027-10-27/
LOCATION:Stevens Steak and Seafood House Restaurant\, 5332 Stevens Pl\, Commerce\, CA\, 90040\, United States
CATEGORIES:Los Angeles
ATTACH;FMTTYPE=image/jpeg:https://golatindance.com/wp-content/uploads/2023/04/420879032_10161526041545086_5665173904814789006_n.jpg
END:VEVENT
BEGIN:VEVENT
DTSTART;TZID=America/Los_Angeles:20271030T210000
DTEND;TZID=America/Los_Angeles:20271031T013000
DTSTAMP:20260424T172300
CREATED:20230411T213552Z
LAST-MODIFIED:20240624T045412Z
UID:10268486-1824930000-1824946200@golatindance.com
SUMMARY:Salsa Saturdays at Stevens Steakhouse
DESCRIPTION:Mi Gente\, Join us TONIGHT @ Stevens Steak House for Dinner and Dancing Salsa & Bachata Dancing | LIVE Bands + Music & Videos By Guest DJs | For Reservation call (323) 723-9856 | Music Starts at 9:00Pm | Free Parking and Valet Available | Share the fun
URL:https://golatindance.com/event/salsa-saturdays-at-stevens-steakhouse/2027-10-30/
LOCATION:Stevens Steak and Seafood House Restaurant\, 5332 Stevens Pl\, Commerce\, CA\, 90040\, United States
CATEGORIES:Los Angeles
END:VEVENT
BEGIN:VEVENT
DTSTART;TZID=America/Los_Angeles:20271103T190000
DTEND;TZID=America/Los_Angeles:20271103T190000
DTSTAMP:20260424T172300
CREATED:20230411T213359Z
LAST-MODIFIED:20241217T175316Z
UID:10074503-1825268400-1825268400@golatindance.com
SUMMARY:Salsa Timba Wednesdays
DESCRIPTION:Join us for an evening Lessons\, Music\, Dancing\, great vibes & amazing drinks. All your favorite Salsa\, Timba\, Bachata & more.
URL:https://golatindance.com/event/salsa-timba-wednesdays/2027-11-03/
LOCATION:Stevens Steak and Seafood House Restaurant\, 5332 Stevens Pl\, Commerce\, CA\, 90040\, United States
CATEGORIES:Los Angeles
ATTACH;FMTTYPE=image/jpeg:https://golatindance.com/wp-content/uploads/2023/04/420879032_10161526041545086_5665173904814789006_n.jpg
END:VEVENT
END:VCALENDAR