BEGIN:VCALENDAR
VERSION:2.0
PRODID:-//GO Latin Dance - ECPv6.15.18//NONSGML v1.0//EN
CALSCALE:GREGORIAN
METHOD:PUBLISH
X-WR-CALNAME:GO Latin Dance
X-ORIGINAL-URL:https://golatindance.com
X-WR-CALDESC:Events for GO Latin Dance
REFRESH-INTERVAL;VALUE=DURATION:PT1H
X-Robots-Tag:noindex
X-PUBLISHED-TTL:PT1H
BEGIN:VTIMEZONE
TZID:America/Los_Angeles
BEGIN:DAYLIGHT
TZOFFSETFROM:-0800
TZOFFSETTO:-0700
TZNAME:PDT
DTSTART:20260308T100000
END:DAYLIGHT
BEGIN:STANDARD
TZOFFSETFROM:-0700
TZOFFSETTO:-0800
TZNAME:PST
DTSTART:20261101T090000
END:STANDARD
BEGIN:DAYLIGHT
TZOFFSETFROM:-0800
TZOFFSETTO:-0700
TZNAME:PDT
DTSTART:20270314T100000
END:DAYLIGHT
BEGIN:STANDARD
TZOFFSETFROM:-0700
TZOFFSETTO:-0800
TZNAME:PST
DTSTART:20271107T090000
END:STANDARD
BEGIN:DAYLIGHT
TZOFFSETFROM:-0800
TZOFFSETTO:-0700
TZNAME:PDT
DTSTART:20280312T100000
END:DAYLIGHT
BEGIN:STANDARD
TZOFFSETFROM:-0700
TZOFFSETTO:-0800
TZNAME:PST
DTSTART:20281105T090000
END:STANDARD
BEGIN:DAYLIGHT
TZOFFSETFROM:-0800
TZOFFSETTO:-0700
TZNAME:PDT
DTSTART:20290311T100000
END:DAYLIGHT
BEGIN:STANDARD
TZOFFSETFROM:-0700
TZOFFSETTO:-0800
TZNAME:PST
DTSTART:20291104T090000
END:STANDARD
END:VTIMEZONE
BEGIN:VEVENT
DTSTART;TZID=America/Los_Angeles:20271002T210000
DTEND;TZID=America/Los_Angeles:20271003T013000
DTSTAMP:20260424T200039
CREATED:20230411T213552Z
LAST-MODIFIED:20240624T045412Z
UID:10268482-1822510800-1822527000@golatindance.com
SUMMARY:Salsa Saturdays at Stevens Steakhouse
DESCRIPTION:Mi Gente\, Join us TONIGHT @ Stevens Steak House for Dinner and Dancing Salsa & Bachata Dancing | LIVE Bands + Music & Videos By Guest DJs | For Reservation call (323) 723-9856 | Music Starts at 9:00Pm | Free Parking and Valet Available | Share the fun
URL:https://golatindance.com/event/salsa-saturdays-at-stevens-steakhouse/2027-10-02/
LOCATION:Stevens Steak and Seafood House Restaurant\, 5332 Stevens Pl\, Commerce\, CA\, 90040\, United States
CATEGORIES:Los Angeles
END:VEVENT
BEGIN:VEVENT
DTSTART;TZID=America/Los_Angeles:20271006T190000
DTEND;TZID=America/Los_Angeles:20271006T190000
DTSTAMP:20260424T200039
CREATED:20230411T213359Z
LAST-MODIFIED:20241217T175316Z
UID:10074499-1822849200-1822849200@golatindance.com
SUMMARY:Salsa Timba Wednesdays
DESCRIPTION:Join us for an evening Lessons\, Music\, Dancing\, great vibes & amazing drinks. All your favorite Salsa\, Timba\, Bachata & more.
URL:https://golatindance.com/event/salsa-timba-wednesdays/2027-10-06/
LOCATION:Stevens Steak and Seafood House Restaurant\, 5332 Stevens Pl\, Commerce\, CA\, 90040\, United States
CATEGORIES:Los Angeles
ATTACH;FMTTYPE=image/jpeg:https://golatindance.com/wp-content/uploads/2023/04/420879032_10161526041545086_5665173904814789006_n.jpg
END:VEVENT
BEGIN:VEVENT
DTSTART;TZID=America/Los_Angeles:20271009T210000
DTEND;TZID=America/Los_Angeles:20271010T013000
DTSTAMP:20260424T200039
CREATED:20230411T213552Z
LAST-MODIFIED:20240624T045412Z
UID:10268483-1823115600-1823131800@golatindance.com
SUMMARY:Salsa Saturdays at Stevens Steakhouse
DESCRIPTION:Mi Gente\, Join us TONIGHT @ Stevens Steak House for Dinner and Dancing Salsa & Bachata Dancing | LIVE Bands + Music & Videos By Guest DJs | For Reservation call (323) 723-9856 | Music Starts at 9:00Pm | Free Parking and Valet Available | Share the fun
URL:https://golatindance.com/event/salsa-saturdays-at-stevens-steakhouse/2027-10-09/
LOCATION:Stevens Steak and Seafood House Restaurant\, 5332 Stevens Pl\, Commerce\, CA\, 90040\, United States
CATEGORIES:Los Angeles
END:VEVENT
BEGIN:VEVENT
DTSTART;TZID=America/Los_Angeles:20271013T190000
DTEND;TZID=America/Los_Angeles:20271013T190000
DTSTAMP:20260424T200039
CREATED:20230411T213359Z
LAST-MODIFIED:20241217T175316Z
UID:10074500-1823454000-1823454000@golatindance.com
SUMMARY:Salsa Timba Wednesdays
DESCRIPTION:Join us for an evening Lessons\, Music\, Dancing\, great vibes & amazing drinks. All your favorite Salsa\, Timba\, Bachata & more.
URL:https://golatindance.com/event/salsa-timba-wednesdays/2027-10-13/
LOCATION:Stevens Steak and Seafood House Restaurant\, 5332 Stevens Pl\, Commerce\, CA\, 90040\, United States
CATEGORIES:Los Angeles
ATTACH;FMTTYPE=image/jpeg:https://golatindance.com/wp-content/uploads/2023/04/420879032_10161526041545086_5665173904814789006_n.jpg
END:VEVENT
BEGIN:VEVENT
DTSTART;TZID=America/Los_Angeles:20271016T210000
DTEND;TZID=America/Los_Angeles:20271017T013000
DTSTAMP:20260424T200039
CREATED:20230411T213552Z
LAST-MODIFIED:20240624T045412Z
UID:10268484-1823720400-1823736600@golatindance.com
SUMMARY:Salsa Saturdays at Stevens Steakhouse
DESCRIPTION:Mi Gente\, Join us TONIGHT @ Stevens Steak House for Dinner and Dancing Salsa & Bachata Dancing | LIVE Bands + Music & Videos By Guest DJs | For Reservation call (323) 723-9856 | Music Starts at 9:00Pm | Free Parking and Valet Available | Share the fun
URL:https://golatindance.com/event/salsa-saturdays-at-stevens-steakhouse/2027-10-16/
LOCATION:Stevens Steak and Seafood House Restaurant\, 5332 Stevens Pl\, Commerce\, CA\, 90040\, United States
CATEGORIES:Los Angeles
END:VEVENT
BEGIN:VEVENT
DTSTART;TZID=America/Los_Angeles:20271020T190000
DTEND;TZID=America/Los_Angeles:20271020T190000
DTSTAMP:20260424T200039
CREATED:20230411T213359Z
LAST-MODIFIED:20241217T175316Z
UID:10074501-1824058800-1824058800@golatindance.com
SUMMARY:Salsa Timba Wednesdays
DESCRIPTION:Join us for an evening Lessons\, Music\, Dancing\, great vibes & amazing drinks. All your favorite Salsa\, Timba\, Bachata & more.
URL:https://golatindance.com/event/salsa-timba-wednesdays/2027-10-20/
LOCATION:Stevens Steak and Seafood House Restaurant\, 5332 Stevens Pl\, Commerce\, CA\, 90040\, United States
CATEGORIES:Los Angeles
ATTACH;FMTTYPE=image/jpeg:https://golatindance.com/wp-content/uploads/2023/04/420879032_10161526041545086_5665173904814789006_n.jpg
END:VEVENT
BEGIN:VEVENT
DTSTART;TZID=America/Los_Angeles:20271023T210000
DTEND;TZID=America/Los_Angeles:20271024T013000
DTSTAMP:20260424T200039
CREATED:20230411T213552Z
LAST-MODIFIED:20240624T045412Z
UID:10268485-1824325200-1824341400@golatindance.com
SUMMARY:Salsa Saturdays at Stevens Steakhouse
DESCRIPTION:Mi Gente\, Join us TONIGHT @ Stevens Steak House for Dinner and Dancing Salsa & Bachata Dancing | LIVE Bands + Music & Videos By Guest DJs | For Reservation call (323) 723-9856 | Music Starts at 9:00Pm | Free Parking and Valet Available | Share the fun
URL:https://golatindance.com/event/salsa-saturdays-at-stevens-steakhouse/2027-10-23/
LOCATION:Stevens Steak and Seafood House Restaurant\, 5332 Stevens Pl\, Commerce\, CA\, 90040\, United States
CATEGORIES:Los Angeles
END:VEVENT
BEGIN:VEVENT
DTSTART;TZID=America/Los_Angeles:20271027T190000
DTEND;TZID=America/Los_Angeles:20271027T190000
DTSTAMP:20260424T200039
CREATED:20230411T213359Z
LAST-MODIFIED:20241217T175316Z
UID:10074502-1824663600-1824663600@golatindance.com
SUMMARY:Salsa Timba Wednesdays
DESCRIPTION:Join us for an evening Lessons\, Music\, Dancing\, great vibes & amazing drinks. All your favorite Salsa\, Timba\, Bachata & more.
URL:https://golatindance.com/event/salsa-timba-wednesdays/2027-10-27/
LOCATION:Stevens Steak and Seafood House Restaurant\, 5332 Stevens Pl\, Commerce\, CA\, 90040\, United States
CATEGORIES:Los Angeles
ATTACH;FMTTYPE=image/jpeg:https://golatindance.com/wp-content/uploads/2023/04/420879032_10161526041545086_5665173904814789006_n.jpg
END:VEVENT
BEGIN:VEVENT
DTSTART;TZID=America/Los_Angeles:20271030T210000
DTEND;TZID=America/Los_Angeles:20271031T013000
DTSTAMP:20260424T200039
CREATED:20230411T213552Z
LAST-MODIFIED:20240624T045412Z
UID:10268486-1824930000-1824946200@golatindance.com
SUMMARY:Salsa Saturdays at Stevens Steakhouse
DESCRIPTION:Mi Gente\, Join us TONIGHT @ Stevens Steak House for Dinner and Dancing Salsa & Bachata Dancing | LIVE Bands + Music & Videos By Guest DJs | For Reservation call (323) 723-9856 | Music Starts at 9:00Pm | Free Parking and Valet Available | Share the fun
URL:https://golatindance.com/event/salsa-saturdays-at-stevens-steakhouse/2027-10-30/
LOCATION:Stevens Steak and Seafood House Restaurant\, 5332 Stevens Pl\, Commerce\, CA\, 90040\, United States
CATEGORIES:Los Angeles
END:VEVENT
BEGIN:VEVENT
DTSTART;TZID=America/Los_Angeles:20271103T190000
DTEND;TZID=America/Los_Angeles:20271103T190000
DTSTAMP:20260424T200039
CREATED:20230411T213359Z
LAST-MODIFIED:20241217T175316Z
UID:10074503-1825268400-1825268400@golatindance.com
SUMMARY:Salsa Timba Wednesdays
DESCRIPTION:Join us for an evening Lessons\, Music\, Dancing\, great vibes & amazing drinks. All your favorite Salsa\, Timba\, Bachata & more.
URL:https://golatindance.com/event/salsa-timba-wednesdays/2027-11-03/
LOCATION:Stevens Steak and Seafood House Restaurant\, 5332 Stevens Pl\, Commerce\, CA\, 90040\, United States
CATEGORIES:Los Angeles
ATTACH;FMTTYPE=image/jpeg:https://golatindance.com/wp-content/uploads/2023/04/420879032_10161526041545086_5665173904814789006_n.jpg
END:VEVENT
BEGIN:VEVENT
DTSTART;TZID=America/Los_Angeles:20271106T210000
DTEND;TZID=America/Los_Angeles:20271107T013000
DTSTAMP:20260424T200039
CREATED:20230411T213552Z
LAST-MODIFIED:20240624T045412Z
UID:10268487-1825534800-1825551000@golatindance.com
SUMMARY:Salsa Saturdays at Stevens Steakhouse
DESCRIPTION:Mi Gente\, Join us TONIGHT @ Stevens Steak House for Dinner and Dancing Salsa & Bachata Dancing | LIVE Bands + Music & Videos By Guest DJs | For Reservation call (323) 723-9856 | Music Starts at 9:00Pm | Free Parking and Valet Available | Share the fun
URL:https://golatindance.com/event/salsa-saturdays-at-stevens-steakhouse/2027-11-06/
LOCATION:Stevens Steak and Seafood House Restaurant\, 5332 Stevens Pl\, Commerce\, CA\, 90040\, United States
CATEGORIES:Los Angeles
END:VEVENT
BEGIN:VEVENT
DTSTART;TZID=America/Los_Angeles:20271110T190000
DTEND;TZID=America/Los_Angeles:20271110T190000
DTSTAMP:20260424T200039
CREATED:20230411T213359Z
LAST-MODIFIED:20241217T175316Z
UID:10074504-1825873200-1825873200@golatindance.com
SUMMARY:Salsa Timba Wednesdays
DESCRIPTION:Join us for an evening Lessons\, Music\, Dancing\, great vibes & amazing drinks. All your favorite Salsa\, Timba\, Bachata & more.
URL:https://golatindance.com/event/salsa-timba-wednesdays/2027-11-10/
LOCATION:Stevens Steak and Seafood House Restaurant\, 5332 Stevens Pl\, Commerce\, CA\, 90040\, United States
CATEGORIES:Los Angeles
ATTACH;FMTTYPE=image/jpeg:https://golatindance.com/wp-content/uploads/2023/04/420879032_10161526041545086_5665173904814789006_n.jpg
END:VEVENT
BEGIN:VEVENT
DTSTART;TZID=America/Los_Angeles:20271113T210000
DTEND;TZID=America/Los_Angeles:20271114T013000
DTSTAMP:20260424T200039
CREATED:20230411T213552Z
LAST-MODIFIED:20240624T045412Z
UID:10268488-1826139600-1826155800@golatindance.com
SUMMARY:Salsa Saturdays at Stevens Steakhouse
DESCRIPTION:Mi Gente\, Join us TONIGHT @ Stevens Steak House for Dinner and Dancing Salsa & Bachata Dancing | LIVE Bands + Music & Videos By Guest DJs | For Reservation call (323) 723-9856 | Music Starts at 9:00Pm | Free Parking and Valet Available | Share the fun
URL:https://golatindance.com/event/salsa-saturdays-at-stevens-steakhouse/2027-11-13/
LOCATION:Stevens Steak and Seafood House Restaurant\, 5332 Stevens Pl\, Commerce\, CA\, 90040\, United States
CATEGORIES:Los Angeles
END:VEVENT
BEGIN:VEVENT
DTSTART;TZID=America/Los_Angeles:20271117T190000
DTEND;TZID=America/Los_Angeles:20271117T190000
DTSTAMP:20260424T200039
CREATED:20230411T213359Z
LAST-MODIFIED:20241217T175316Z
UID:10074505-1826478000-1826478000@golatindance.com
SUMMARY:Salsa Timba Wednesdays
DESCRIPTION:Join us for an evening Lessons\, Music\, Dancing\, great vibes & amazing drinks. All your favorite Salsa\, Timba\, Bachata & more.
URL:https://golatindance.com/event/salsa-timba-wednesdays/2027-11-17/
LOCATION:Stevens Steak and Seafood House Restaurant\, 5332 Stevens Pl\, Commerce\, CA\, 90040\, United States
CATEGORIES:Los Angeles
ATTACH;FMTTYPE=image/jpeg:https://golatindance.com/wp-content/uploads/2023/04/420879032_10161526041545086_5665173904814789006_n.jpg
END:VEVENT
BEGIN:VEVENT
DTSTART;TZID=America/Los_Angeles:20271120T210000
DTEND;TZID=America/Los_Angeles:20271121T013000
DTSTAMP:20260424T200039
CREATED:20230411T213552Z
LAST-MODIFIED:20240624T045412Z
UID:10268489-1826744400-1826760600@golatindance.com
SUMMARY:Salsa Saturdays at Stevens Steakhouse
DESCRIPTION:Mi Gente\, Join us TONIGHT @ Stevens Steak House for Dinner and Dancing Salsa & Bachata Dancing | LIVE Bands + Music & Videos By Guest DJs | For Reservation call (323) 723-9856 | Music Starts at 9:00Pm | Free Parking and Valet Available | Share the fun
URL:https://golatindance.com/event/salsa-saturdays-at-stevens-steakhouse/2027-11-20/
LOCATION:Stevens Steak and Seafood House Restaurant\, 5332 Stevens Pl\, Commerce\, CA\, 90040\, United States
CATEGORIES:Los Angeles
END:VEVENT
BEGIN:VEVENT
DTSTART;TZID=America/Los_Angeles:20271124T190000
DTEND;TZID=America/Los_Angeles:20271124T190000
DTSTAMP:20260424T200039
CREATED:20230411T213359Z
LAST-MODIFIED:20241217T175316Z
UID:10074506-1827082800-1827082800@golatindance.com
SUMMARY:Salsa Timba Wednesdays
DESCRIPTION:Join us for an evening Lessons\, Music\, Dancing\, great vibes & amazing drinks. All your favorite Salsa\, Timba\, Bachata & more.
URL:https://golatindance.com/event/salsa-timba-wednesdays/2027-11-24/
LOCATION:Stevens Steak and Seafood House Restaurant\, 5332 Stevens Pl\, Commerce\, CA\, 90040\, United States
CATEGORIES:Los Angeles
ATTACH;FMTTYPE=image/jpeg:https://golatindance.com/wp-content/uploads/2023/04/420879032_10161526041545086_5665173904814789006_n.jpg
END:VEVENT
BEGIN:VEVENT
DTSTART;TZID=America/Los_Angeles:20271127T210000
DTEND;TZID=America/Los_Angeles:20271128T013000
DTSTAMP:20260424T200039
CREATED:20230411T213552Z
LAST-MODIFIED:20240624T045412Z
UID:10268490-1827349200-1827365400@golatindance.com
SUMMARY:Salsa Saturdays at Stevens Steakhouse
DESCRIPTION:Mi Gente\, Join us TONIGHT @ Stevens Steak House for Dinner and Dancing Salsa & Bachata Dancing | LIVE Bands + Music & Videos By Guest DJs | For Reservation call (323) 723-9856 | Music Starts at 9:00Pm | Free Parking and Valet Available | Share the fun
URL:https://golatindance.com/event/salsa-saturdays-at-stevens-steakhouse/2027-11-27/
LOCATION:Stevens Steak and Seafood House Restaurant\, 5332 Stevens Pl\, Commerce\, CA\, 90040\, United States
CATEGORIES:Los Angeles
END:VEVENT
BEGIN:VEVENT
DTSTART;TZID=America/Los_Angeles:20271201T190000
DTEND;TZID=America/Los_Angeles:20271201T190000
DTSTAMP:20260424T200039
CREATED:20230411T213359Z
LAST-MODIFIED:20241217T175316Z
UID:10074507-1827687600-1827687600@golatindance.com
SUMMARY:Salsa Timba Wednesdays
DESCRIPTION:Join us for an evening Lessons\, Music\, Dancing\, great vibes & amazing drinks. All your favorite Salsa\, Timba\, Bachata & more.
URL:https://golatindance.com/event/salsa-timba-wednesdays/2027-12-01/
LOCATION:Stevens Steak and Seafood House Restaurant\, 5332 Stevens Pl\, Commerce\, CA\, 90040\, United States
CATEGORIES:Los Angeles
ATTACH;FMTTYPE=image/jpeg:https://golatindance.com/wp-content/uploads/2023/04/420879032_10161526041545086_5665173904814789006_n.jpg
END:VEVENT
BEGIN:VEVENT
DTSTART;TZID=America/Los_Angeles:20271204T210000
DTEND;TZID=America/Los_Angeles:20271205T013000
DTSTAMP:20260424T200039
CREATED:20230411T213552Z
LAST-MODIFIED:20240624T045412Z
UID:10268491-1827954000-1827970200@golatindance.com
SUMMARY:Salsa Saturdays at Stevens Steakhouse
DESCRIPTION:Mi Gente\, Join us TONIGHT @ Stevens Steak House for Dinner and Dancing Salsa & Bachata Dancing | LIVE Bands + Music & Videos By Guest DJs | For Reservation call (323) 723-9856 | Music Starts at 9:00Pm | Free Parking and Valet Available | Share the fun
URL:https://golatindance.com/event/salsa-saturdays-at-stevens-steakhouse/2027-12-04/
LOCATION:Stevens Steak and Seafood House Restaurant\, 5332 Stevens Pl\, Commerce\, CA\, 90040\, United States
CATEGORIES:Los Angeles
END:VEVENT
BEGIN:VEVENT
DTSTART;TZID=America/Los_Angeles:20271208T190000
DTEND;TZID=America/Los_Angeles:20271208T190000
DTSTAMP:20260424T200039
CREATED:20230411T213359Z
LAST-MODIFIED:20241217T175316Z
UID:10074508-1828292400-1828292400@golatindance.com
SUMMARY:Salsa Timba Wednesdays
DESCRIPTION:Join us for an evening Lessons\, Music\, Dancing\, great vibes & amazing drinks. All your favorite Salsa\, Timba\, Bachata & more.
URL:https://golatindance.com/event/salsa-timba-wednesdays/2027-12-08/
LOCATION:Stevens Steak and Seafood House Restaurant\, 5332 Stevens Pl\, Commerce\, CA\, 90040\, United States
CATEGORIES:Los Angeles
ATTACH;FMTTYPE=image/jpeg:https://golatindance.com/wp-content/uploads/2023/04/420879032_10161526041545086_5665173904814789006_n.jpg
END:VEVENT
BEGIN:VEVENT
DTSTART;TZID=America/Los_Angeles:20271211T210000
DTEND;TZID=America/Los_Angeles:20271212T013000
DTSTAMP:20260424T200039
CREATED:20230411T213552Z
LAST-MODIFIED:20240624T045412Z
UID:10268492-1828558800-1828575000@golatindance.com
SUMMARY:Salsa Saturdays at Stevens Steakhouse
DESCRIPTION:Mi Gente\, Join us TONIGHT @ Stevens Steak House for Dinner and Dancing Salsa & Bachata Dancing | LIVE Bands + Music & Videos By Guest DJs | For Reservation call (323) 723-9856 | Music Starts at 9:00Pm | Free Parking and Valet Available | Share the fun
URL:https://golatindance.com/event/salsa-saturdays-at-stevens-steakhouse/2027-12-11/
LOCATION:Stevens Steak and Seafood House Restaurant\, 5332 Stevens Pl\, Commerce\, CA\, 90040\, United States
CATEGORIES:Los Angeles
END:VEVENT
BEGIN:VEVENT
DTSTART;TZID=America/Los_Angeles:20271215T190000
DTEND;TZID=America/Los_Angeles:20271215T190000
DTSTAMP:20260424T200039
CREATED:20230411T213359Z
LAST-MODIFIED:20241217T175316Z
UID:10074509-1828897200-1828897200@golatindance.com
SUMMARY:Salsa Timba Wednesdays
DESCRIPTION:Join us for an evening Lessons\, Music\, Dancing\, great vibes & amazing drinks. All your favorite Salsa\, Timba\, Bachata & more.
URL:https://golatindance.com/event/salsa-timba-wednesdays/2027-12-15/
LOCATION:Stevens Steak and Seafood House Restaurant\, 5332 Stevens Pl\, Commerce\, CA\, 90040\, United States
CATEGORIES:Los Angeles
ATTACH;FMTTYPE=image/jpeg:https://golatindance.com/wp-content/uploads/2023/04/420879032_10161526041545086_5665173904814789006_n.jpg
END:VEVENT
BEGIN:VEVENT
DTSTART;TZID=America/Los_Angeles:20271218T210000
DTEND;TZID=America/Los_Angeles:20271219T013000
DTSTAMP:20260424T200039
CREATED:20230411T213552Z
LAST-MODIFIED:20240624T045412Z
UID:10268493-1829163600-1829179800@golatindance.com
SUMMARY:Salsa Saturdays at Stevens Steakhouse
DESCRIPTION:Mi Gente\, Join us TONIGHT @ Stevens Steak House for Dinner and Dancing Salsa & Bachata Dancing | LIVE Bands + Music & Videos By Guest DJs | For Reservation call (323) 723-9856 | Music Starts at 9:00Pm | Free Parking and Valet Available | Share the fun
URL:https://golatindance.com/event/salsa-saturdays-at-stevens-steakhouse/2027-12-18/
LOCATION:Stevens Steak and Seafood House Restaurant\, 5332 Stevens Pl\, Commerce\, CA\, 90040\, United States
CATEGORIES:Los Angeles
END:VEVENT
BEGIN:VEVENT
DTSTART;TZID=America/Los_Angeles:20271222T190000
DTEND;TZID=America/Los_Angeles:20271222T190000
DTSTAMP:20260424T200039
CREATED:20230411T213359Z
LAST-MODIFIED:20241217T175316Z
UID:10074510-1829502000-1829502000@golatindance.com
SUMMARY:Salsa Timba Wednesdays
DESCRIPTION:Join us for an evening Lessons\, Music\, Dancing\, great vibes & amazing drinks. All your favorite Salsa\, Timba\, Bachata & more.
URL:https://golatindance.com/event/salsa-timba-wednesdays/2027-12-22/
LOCATION:Stevens Steak and Seafood House Restaurant\, 5332 Stevens Pl\, Commerce\, CA\, 90040\, United States
CATEGORIES:Los Angeles
ATTACH;FMTTYPE=image/jpeg:https://golatindance.com/wp-content/uploads/2023/04/420879032_10161526041545086_5665173904814789006_n.jpg
END:VEVENT
BEGIN:VEVENT
DTSTART;TZID=America/Los_Angeles:20271225T210000
DTEND;TZID=America/Los_Angeles:20271226T013000
DTSTAMP:20260424T200039
CREATED:20230411T213552Z
LAST-MODIFIED:20240624T045412Z
UID:10268494-1829768400-1829784600@golatindance.com
SUMMARY:Salsa Saturdays at Stevens Steakhouse
DESCRIPTION:Mi Gente\, Join us TONIGHT @ Stevens Steak House for Dinner and Dancing Salsa & Bachata Dancing | LIVE Bands + Music & Videos By Guest DJs | For Reservation call (323) 723-9856 | Music Starts at 9:00Pm | Free Parking and Valet Available | Share the fun
URL:https://golatindance.com/event/salsa-saturdays-at-stevens-steakhouse/2027-12-25/
LOCATION:Stevens Steak and Seafood House Restaurant\, 5332 Stevens Pl\, Commerce\, CA\, 90040\, United States
CATEGORIES:Los Angeles
END:VEVENT
BEGIN:VEVENT
DTSTART;TZID=America/Los_Angeles:20271229T190000
DTEND;TZID=America/Los_Angeles:20271229T190000
DTSTAMP:20260424T200039
CREATED:20230411T213359Z
LAST-MODIFIED:20241217T175316Z
UID:10074511-1830106800-1830106800@golatindance.com
SUMMARY:Salsa Timba Wednesdays
DESCRIPTION:Join us for an evening Lessons\, Music\, Dancing\, great vibes & amazing drinks. All your favorite Salsa\, Timba\, Bachata & more.
URL:https://golatindance.com/event/salsa-timba-wednesdays/2027-12-29/
LOCATION:Stevens Steak and Seafood House Restaurant\, 5332 Stevens Pl\, Commerce\, CA\, 90040\, United States
CATEGORIES:Los Angeles
ATTACH;FMTTYPE=image/jpeg:https://golatindance.com/wp-content/uploads/2023/04/420879032_10161526041545086_5665173904814789006_n.jpg
END:VEVENT
BEGIN:VEVENT
DTSTART;TZID=America/Los_Angeles:20280101T210000
DTEND;TZID=America/Los_Angeles:20280102T013000
DTSTAMP:20260424T200039
CREATED:20230411T213552Z
LAST-MODIFIED:20240624T045412Z
UID:10268495-1830373200-1830389400@golatindance.com
SUMMARY:Salsa Saturdays at Stevens Steakhouse
DESCRIPTION:Mi Gente\, Join us TONIGHT @ Stevens Steak House for Dinner and Dancing Salsa & Bachata Dancing | LIVE Bands + Music & Videos By Guest DJs | For Reservation call (323) 723-9856 | Music Starts at 9:00Pm | Free Parking and Valet Available | Share the fun
URL:https://golatindance.com/event/salsa-saturdays-at-stevens-steakhouse/2028-01-01/
LOCATION:Stevens Steak and Seafood House Restaurant\, 5332 Stevens Pl\, Commerce\, CA\, 90040\, United States
CATEGORIES:Los Angeles
END:VEVENT
BEGIN:VEVENT
DTSTART;TZID=America/Los_Angeles:20280105T190000
DTEND;TZID=America/Los_Angeles:20280105T190000
DTSTAMP:20260424T200039
CREATED:20230411T213359Z
LAST-MODIFIED:20241217T175316Z
UID:10074512-1830711600-1830711600@golatindance.com
SUMMARY:Salsa Timba Wednesdays
DESCRIPTION:Join us for an evening Lessons\, Music\, Dancing\, great vibes & amazing drinks. All your favorite Salsa\, Timba\, Bachata & more.
URL:https://golatindance.com/event/salsa-timba-wednesdays/2028-01-05/
LOCATION:Stevens Steak and Seafood House Restaurant\, 5332 Stevens Pl\, Commerce\, CA\, 90040\, United States
CATEGORIES:Los Angeles
ATTACH;FMTTYPE=image/jpeg:https://golatindance.com/wp-content/uploads/2023/04/420879032_10161526041545086_5665173904814789006_n.jpg
END:VEVENT
BEGIN:VEVENT
DTSTART;TZID=America/Los_Angeles:20280108T210000
DTEND;TZID=America/Los_Angeles:20280109T013000
DTSTAMP:20260424T200039
CREATED:20230411T213552Z
LAST-MODIFIED:20240624T045412Z
UID:10268496-1830978000-1830994200@golatindance.com
SUMMARY:Salsa Saturdays at Stevens Steakhouse
DESCRIPTION:Mi Gente\, Join us TONIGHT @ Stevens Steak House for Dinner and Dancing Salsa & Bachata Dancing | LIVE Bands + Music & Videos By Guest DJs | For Reservation call (323) 723-9856 | Music Starts at 9:00Pm | Free Parking and Valet Available | Share the fun
URL:https://golatindance.com/event/salsa-saturdays-at-stevens-steakhouse/2028-01-08/
LOCATION:Stevens Steak and Seafood House Restaurant\, 5332 Stevens Pl\, Commerce\, CA\, 90040\, United States
CATEGORIES:Los Angeles
END:VEVENT
BEGIN:VEVENT
DTSTART;TZID=America/Los_Angeles:20280112T190000
DTEND;TZID=America/Los_Angeles:20280112T190000
DTSTAMP:20260424T200039
CREATED:20230411T213359Z
LAST-MODIFIED:20241217T175316Z
UID:10074513-1831316400-1831316400@golatindance.com
SUMMARY:Salsa Timba Wednesdays
DESCRIPTION:Join us for an evening Lessons\, Music\, Dancing\, great vibes & amazing drinks. All your favorite Salsa\, Timba\, Bachata & more.
URL:https://golatindance.com/event/salsa-timba-wednesdays/2028-01-12/
LOCATION:Stevens Steak and Seafood House Restaurant\, 5332 Stevens Pl\, Commerce\, CA\, 90040\, United States
CATEGORIES:Los Angeles
ATTACH;FMTTYPE=image/jpeg:https://golatindance.com/wp-content/uploads/2023/04/420879032_10161526041545086_5665173904814789006_n.jpg
END:VEVENT
END:VCALENDAR