BEGIN:VCALENDAR
VERSION:2.0
PRODID:-//GO Latin Dance - ECPv6.15.18//NONSGML v1.0//EN
CALSCALE:GREGORIAN
METHOD:PUBLISH
X-ORIGINAL-URL:https://golatindance.com
X-WR-CALDESC:Events for GO Latin Dance
REFRESH-INTERVAL;VALUE=DURATION:PT1H
X-Robots-Tag:noindex
X-PUBLISHED-TTL:PT1H
BEGIN:VTIMEZONE
TZID:America/Los_Angeles
BEGIN:DAYLIGHT
TZOFFSETFROM:-0800
TZOFFSETTO:-0700
TZNAME:PDT
DTSTART:20240310T100000
END:DAYLIGHT
BEGIN:STANDARD
TZOFFSETFROM:-0700
TZOFFSETTO:-0800
TZNAME:PST
DTSTART:20241103T090000
END:STANDARD
BEGIN:DAYLIGHT
TZOFFSETFROM:-0800
TZOFFSETTO:-0700
TZNAME:PDT
DTSTART:20250309T100000
END:DAYLIGHT
BEGIN:STANDARD
TZOFFSETFROM:-0700
TZOFFSETTO:-0800
TZNAME:PST
DTSTART:20251102T090000
END:STANDARD
BEGIN:DAYLIGHT
TZOFFSETFROM:-0800
TZOFFSETTO:-0700
TZNAME:PDT
DTSTART:20260308T100000
END:DAYLIGHT
BEGIN:STANDARD
TZOFFSETFROM:-0700
TZOFFSETTO:-0800
TZNAME:PST
DTSTART:20261101T090000
END:STANDARD
END:VTIMEZONE
BEGIN:VEVENT
DTSTART;TZID=America/Los_Angeles:20250716T190000
DTEND;TZID=America/Los_Angeles:20250716T190000
DTSTAMP:20260424T110825
CREATED:20230411T213359Z
LAST-MODIFIED:20241217T175316Z
UID:10074383-1752692400-1752692400@golatindance.com
SUMMARY:Salsa Timba Wednesdays
DESCRIPTION:Join us for an evening Lessons\, Music\, Dancing\, great vibes & amazing drinks. All your favorite Salsa\, Timba\, Bachata & more.
URL:https://golatindance.com/event/salsa-timba-wednesdays/2025-07-16/
LOCATION:Stevens Steak and Seafood House Restaurant\, 5332 Stevens Pl\, Commerce\, CA\, 90040\, United States
CATEGORIES:Los Angeles
ATTACH;FMTTYPE=image/jpeg:https://golatindance.com/wp-content/uploads/2023/04/420879032_10161526041545086_5665173904814789006_n.jpg
END:VEVENT
BEGIN:VEVENT
DTSTART;TZID=America/Los_Angeles:20250712T210000
DTEND;TZID=America/Los_Angeles:20250713T013000
DTSTAMP:20260424T110825
CREATED:20230411T213552Z
LAST-MODIFIED:20240624T045412Z
UID:10268366-1752354000-1752370200@golatindance.com
SUMMARY:Salsa Saturdays at Stevens Steakhouse
DESCRIPTION:Mi Gente\, Join us TONIGHT @ Stevens Steak House for Dinner and Dancing Salsa & Bachata Dancing | LIVE Bands + Music & Videos By Guest DJs | For Reservation call (323) 723-9856 | Music Starts at 9:00Pm | Free Parking and Valet Available | Share the fun
URL:https://golatindance.com/event/salsa-saturdays-at-stevens-steakhouse/2025-07-12/
LOCATION:Stevens Steak and Seafood House Restaurant\, 5332 Stevens Pl\, Commerce\, CA\, 90040\, United States
CATEGORIES:Los Angeles
END:VEVENT
BEGIN:VEVENT
DTSTART;TZID=America/Los_Angeles:20250709T190000
DTEND;TZID=America/Los_Angeles:20250709T190000
DTSTAMP:20260424T110825
CREATED:20230411T213359Z
LAST-MODIFIED:20241217T175316Z
UID:10074382-1752087600-1752087600@golatindance.com
SUMMARY:Salsa Timba Wednesdays
DESCRIPTION:Join us for an evening Lessons\, Music\, Dancing\, great vibes & amazing drinks. All your favorite Salsa\, Timba\, Bachata & more.
URL:https://golatindance.com/event/salsa-timba-wednesdays/2025-07-09/
LOCATION:Stevens Steak and Seafood House Restaurant\, 5332 Stevens Pl\, Commerce\, CA\, 90040\, United States
CATEGORIES:Los Angeles
ATTACH;FMTTYPE=image/jpeg:https://golatindance.com/wp-content/uploads/2023/04/420879032_10161526041545086_5665173904814789006_n.jpg
END:VEVENT
BEGIN:VEVENT
DTSTART;TZID=America/Los_Angeles:20250705T210000
DTEND;TZID=America/Los_Angeles:20250706T013000
DTSTAMP:20260424T110825
CREATED:20230411T213552Z
LAST-MODIFIED:20240624T045412Z
UID:10268365-1751749200-1751765400@golatindance.com
SUMMARY:Salsa Saturdays at Stevens Steakhouse
DESCRIPTION:Mi Gente\, Join us TONIGHT @ Stevens Steak House for Dinner and Dancing Salsa & Bachata Dancing | LIVE Bands + Music & Videos By Guest DJs | For Reservation call (323) 723-9856 | Music Starts at 9:00Pm | Free Parking and Valet Available | Share the fun
URL:https://golatindance.com/event/salsa-saturdays-at-stevens-steakhouse/2025-07-05/
LOCATION:Stevens Steak and Seafood House Restaurant\, 5332 Stevens Pl\, Commerce\, CA\, 90040\, United States
CATEGORIES:Los Angeles
END:VEVENT
BEGIN:VEVENT
DTSTART;TZID=America/Los_Angeles:20250702T190000
DTEND;TZID=America/Los_Angeles:20250702T190000
DTSTAMP:20260424T110825
CREATED:20230411T213359Z
LAST-MODIFIED:20241217T175316Z
UID:10074381-1751482800-1751482800@golatindance.com
SUMMARY:Salsa Timba Wednesdays
DESCRIPTION:Join us for an evening Lessons\, Music\, Dancing\, great vibes & amazing drinks. All your favorite Salsa\, Timba\, Bachata & more.
URL:https://golatindance.com/event/salsa-timba-wednesdays/2025-07-02/
LOCATION:Stevens Steak and Seafood House Restaurant\, 5332 Stevens Pl\, Commerce\, CA\, 90040\, United States
CATEGORIES:Los Angeles
ATTACH;FMTTYPE=image/jpeg:https://golatindance.com/wp-content/uploads/2023/04/420879032_10161526041545086_5665173904814789006_n.jpg
END:VEVENT
BEGIN:VEVENT
DTSTART;TZID=America/Los_Angeles:20250628T210000
DTEND;TZID=America/Los_Angeles:20250629T013000
DTSTAMP:20260424T110825
CREATED:20230411T213552Z
LAST-MODIFIED:20240624T045412Z
UID:10268364-1751144400-1751160600@golatindance.com
SUMMARY:Salsa Saturdays at Stevens Steakhouse
DESCRIPTION:Mi Gente\, Join us TONIGHT @ Stevens Steak House for Dinner and Dancing Salsa & Bachata Dancing | LIVE Bands + Music & Videos By Guest DJs | For Reservation call (323) 723-9856 | Music Starts at 9:00Pm | Free Parking and Valet Available | Share the fun
URL:https://golatindance.com/event/salsa-saturdays-at-stevens-steakhouse/2025-06-28/
LOCATION:Stevens Steak and Seafood House Restaurant\, 5332 Stevens Pl\, Commerce\, CA\, 90040\, United States
CATEGORIES:Los Angeles
END:VEVENT
BEGIN:VEVENT
DTSTART;TZID=America/Los_Angeles:20250625T190000
DTEND;TZID=America/Los_Angeles:20250625T190000
DTSTAMP:20260424T110825
CREATED:20230411T213359Z
LAST-MODIFIED:20241217T175316Z
UID:10074380-1750878000-1750878000@golatindance.com
SUMMARY:Salsa Timba Wednesdays
DESCRIPTION:Join us for an evening Lessons\, Music\, Dancing\, great vibes & amazing drinks. All your favorite Salsa\, Timba\, Bachata & more.
URL:https://golatindance.com/event/salsa-timba-wednesdays/2025-06-25/
LOCATION:Stevens Steak and Seafood House Restaurant\, 5332 Stevens Pl\, Commerce\, CA\, 90040\, United States
CATEGORIES:Los Angeles
ATTACH;FMTTYPE=image/jpeg:https://golatindance.com/wp-content/uploads/2023/04/420879032_10161526041545086_5665173904814789006_n.jpg
END:VEVENT
BEGIN:VEVENT
DTSTART;TZID=America/Los_Angeles:20250621T210000
DTEND;TZID=America/Los_Angeles:20250622T013000
DTSTAMP:20260424T110825
CREATED:20230411T213552Z
LAST-MODIFIED:20240624T045412Z
UID:10268363-1750539600-1750555800@golatindance.com
SUMMARY:Salsa Saturdays at Stevens Steakhouse
DESCRIPTION:Mi Gente\, Join us TONIGHT @ Stevens Steak House for Dinner and Dancing Salsa & Bachata Dancing | LIVE Bands + Music & Videos By Guest DJs | For Reservation call (323) 723-9856 | Music Starts at 9:00Pm | Free Parking and Valet Available | Share the fun
URL:https://golatindance.com/event/salsa-saturdays-at-stevens-steakhouse/2025-06-21/
LOCATION:Stevens Steak and Seafood House Restaurant\, 5332 Stevens Pl\, Commerce\, CA\, 90040\, United States
CATEGORIES:Los Angeles
END:VEVENT
BEGIN:VEVENT
DTSTART;TZID=America/Los_Angeles:20250618T190000
DTEND;TZID=America/Los_Angeles:20250618T190000
DTSTAMP:20260424T110825
CREATED:20230411T213359Z
LAST-MODIFIED:20241217T175316Z
UID:10074379-1750273200-1750273200@golatindance.com
SUMMARY:Salsa Timba Wednesdays
DESCRIPTION:Join us for an evening Lessons\, Music\, Dancing\, great vibes & amazing drinks. All your favorite Salsa\, Timba\, Bachata & more.
URL:https://golatindance.com/event/salsa-timba-wednesdays/2025-06-18/
LOCATION:Stevens Steak and Seafood House Restaurant\, 5332 Stevens Pl\, Commerce\, CA\, 90040\, United States
CATEGORIES:Los Angeles
ATTACH;FMTTYPE=image/jpeg:https://golatindance.com/wp-content/uploads/2023/04/420879032_10161526041545086_5665173904814789006_n.jpg
END:VEVENT
BEGIN:VEVENT
DTSTART;TZID=America/Los_Angeles:20250614T210000
DTEND;TZID=America/Los_Angeles:20250615T013000
DTSTAMP:20260424T110825
CREATED:20230411T213552Z
LAST-MODIFIED:20240624T045412Z
UID:10268362-1749934800-1749951000@golatindance.com
SUMMARY:Salsa Saturdays at Stevens Steakhouse
DESCRIPTION:Mi Gente\, Join us TONIGHT @ Stevens Steak House for Dinner and Dancing Salsa & Bachata Dancing | LIVE Bands + Music & Videos By Guest DJs | For Reservation call (323) 723-9856 | Music Starts at 9:00Pm | Free Parking and Valet Available | Share the fun
URL:https://golatindance.com/event/salsa-saturdays-at-stevens-steakhouse/2025-06-14/
LOCATION:Stevens Steak and Seafood House Restaurant\, 5332 Stevens Pl\, Commerce\, CA\, 90040\, United States
CATEGORIES:Los Angeles
END:VEVENT
BEGIN:VEVENT
DTSTART;TZID=America/Los_Angeles:20250611T190000
DTEND;TZID=America/Los_Angeles:20250611T190000
DTSTAMP:20260424T110825
CREATED:20230411T213359Z
LAST-MODIFIED:20241217T175316Z
UID:10074378-1749668400-1749668400@golatindance.com
SUMMARY:Salsa Timba Wednesdays
DESCRIPTION:Join us for an evening Lessons\, Music\, Dancing\, great vibes & amazing drinks. All your favorite Salsa\, Timba\, Bachata & more.
URL:https://golatindance.com/event/salsa-timba-wednesdays/2025-06-11/
LOCATION:Stevens Steak and Seafood House Restaurant\, 5332 Stevens Pl\, Commerce\, CA\, 90040\, United States
CATEGORIES:Los Angeles
ATTACH;FMTTYPE=image/jpeg:https://golatindance.com/wp-content/uploads/2023/04/420879032_10161526041545086_5665173904814789006_n.jpg
END:VEVENT
BEGIN:VEVENT
DTSTART;TZID=America/Los_Angeles:20250607T210000
DTEND;TZID=America/Los_Angeles:20250608T013000
DTSTAMP:20260424T110825
CREATED:20230411T213552Z
LAST-MODIFIED:20240624T045412Z
UID:10268361-1749330000-1749346200@golatindance.com
SUMMARY:Salsa Saturdays at Stevens Steakhouse
DESCRIPTION:Mi Gente\, Join us TONIGHT @ Stevens Steak House for Dinner and Dancing Salsa & Bachata Dancing | LIVE Bands + Music & Videos By Guest DJs | For Reservation call (323) 723-9856 | Music Starts at 9:00Pm | Free Parking and Valet Available | Share the fun
URL:https://golatindance.com/event/salsa-saturdays-at-stevens-steakhouse/2025-06-07/
LOCATION:Stevens Steak and Seafood House Restaurant\, 5332 Stevens Pl\, Commerce\, CA\, 90040\, United States
CATEGORIES:Los Angeles
END:VEVENT
BEGIN:VEVENT
DTSTART;TZID=America/Los_Angeles:20250604T190000
DTEND;TZID=America/Los_Angeles:20250604T190000
DTSTAMP:20260424T110825
CREATED:20230411T213359Z
LAST-MODIFIED:20241217T175316Z
UID:10074377-1749063600-1749063600@golatindance.com
SUMMARY:Salsa Timba Wednesdays
DESCRIPTION:Join us for an evening Lessons\, Music\, Dancing\, great vibes & amazing drinks. All your favorite Salsa\, Timba\, Bachata & more.
URL:https://golatindance.com/event/salsa-timba-wednesdays/2025-06-04/
LOCATION:Stevens Steak and Seafood House Restaurant\, 5332 Stevens Pl\, Commerce\, CA\, 90040\, United States
CATEGORIES:Los Angeles
ATTACH;FMTTYPE=image/jpeg:https://golatindance.com/wp-content/uploads/2023/04/420879032_10161526041545086_5665173904814789006_n.jpg
END:VEVENT
BEGIN:VEVENT
DTSTART;TZID=America/Los_Angeles:20250531T210000
DTEND;TZID=America/Los_Angeles:20250601T013000
DTSTAMP:20260424T110825
CREATED:20230411T213552Z
LAST-MODIFIED:20240624T045412Z
UID:10268360-1748725200-1748741400@golatindance.com
SUMMARY:Salsa Saturdays at Stevens Steakhouse
DESCRIPTION:Mi Gente\, Join us TONIGHT @ Stevens Steak House for Dinner and Dancing Salsa & Bachata Dancing | LIVE Bands + Music & Videos By Guest DJs | For Reservation call (323) 723-9856 | Music Starts at 9:00Pm | Free Parking and Valet Available | Share the fun
URL:https://golatindance.com/event/salsa-saturdays-at-stevens-steakhouse/2025-05-31/
LOCATION:Stevens Steak and Seafood House Restaurant\, 5332 Stevens Pl\, Commerce\, CA\, 90040\, United States
CATEGORIES:Los Angeles
END:VEVENT
BEGIN:VEVENT
DTSTART;TZID=America/Los_Angeles:20250528T190000
DTEND;TZID=America/Los_Angeles:20250528T190000
DTSTAMP:20260424T110825
CREATED:20230411T213359Z
LAST-MODIFIED:20241217T175316Z
UID:10074376-1748458800-1748458800@golatindance.com
SUMMARY:Salsa Timba Wednesdays
DESCRIPTION:Join us for an evening Lessons\, Music\, Dancing\, great vibes & amazing drinks. All your favorite Salsa\, Timba\, Bachata & more.
URL:https://golatindance.com/event/salsa-timba-wednesdays/2025-05-28/
LOCATION:Stevens Steak and Seafood House Restaurant\, 5332 Stevens Pl\, Commerce\, CA\, 90040\, United States
CATEGORIES:Los Angeles
ATTACH;FMTTYPE=image/jpeg:https://golatindance.com/wp-content/uploads/2023/04/420879032_10161526041545086_5665173904814789006_n.jpg
END:VEVENT
BEGIN:VEVENT
DTSTART;TZID=America/Los_Angeles:20250524T210000
DTEND;TZID=America/Los_Angeles:20250525T013000
DTSTAMP:20260424T110825
CREATED:20230411T213552Z
LAST-MODIFIED:20240624T045412Z
UID:10268359-1748120400-1748136600@golatindance.com
SUMMARY:Salsa Saturdays at Stevens Steakhouse
DESCRIPTION:Mi Gente\, Join us TONIGHT @ Stevens Steak House for Dinner and Dancing Salsa & Bachata Dancing | LIVE Bands + Music & Videos By Guest DJs | For Reservation call (323) 723-9856 | Music Starts at 9:00Pm | Free Parking and Valet Available | Share the fun
URL:https://golatindance.com/event/salsa-saturdays-at-stevens-steakhouse/2025-05-24/
LOCATION:Stevens Steak and Seafood House Restaurant\, 5332 Stevens Pl\, Commerce\, CA\, 90040\, United States
CATEGORIES:Los Angeles
END:VEVENT
BEGIN:VEVENT
DTSTART;TZID=America/Los_Angeles:20250521T190000
DTEND;TZID=America/Los_Angeles:20250521T190000
DTSTAMP:20260424T110825
CREATED:20230411T213359Z
LAST-MODIFIED:20241217T175316Z
UID:10074375-1747854000-1747854000@golatindance.com
SUMMARY:Salsa Timba Wednesdays
DESCRIPTION:Join us for an evening Lessons\, Music\, Dancing\, great vibes & amazing drinks. All your favorite Salsa\, Timba\, Bachata & more.
URL:https://golatindance.com/event/salsa-timba-wednesdays/2025-05-21/
LOCATION:Stevens Steak and Seafood House Restaurant\, 5332 Stevens Pl\, Commerce\, CA\, 90040\, United States
CATEGORIES:Los Angeles
ATTACH;FMTTYPE=image/jpeg:https://golatindance.com/wp-content/uploads/2023/04/420879032_10161526041545086_5665173904814789006_n.jpg
END:VEVENT
BEGIN:VEVENT
DTSTART;TZID=America/Los_Angeles:20250517T210000
DTEND;TZID=America/Los_Angeles:20250518T013000
DTSTAMP:20260424T110825
CREATED:20230411T213552Z
LAST-MODIFIED:20240624T045412Z
UID:10268358-1747515600-1747531800@golatindance.com
SUMMARY:Salsa Saturdays at Stevens Steakhouse
DESCRIPTION:Mi Gente\, Join us TONIGHT @ Stevens Steak House for Dinner and Dancing Salsa & Bachata Dancing | LIVE Bands + Music & Videos By Guest DJs | For Reservation call (323) 723-9856 | Music Starts at 9:00Pm | Free Parking and Valet Available | Share the fun
URL:https://golatindance.com/event/salsa-saturdays-at-stevens-steakhouse/2025-05-17/
LOCATION:Stevens Steak and Seafood House Restaurant\, 5332 Stevens Pl\, Commerce\, CA\, 90040\, United States
CATEGORIES:Los Angeles
END:VEVENT
BEGIN:VEVENT
DTSTART;TZID=America/Los_Angeles:20250514T190000
DTEND;TZID=America/Los_Angeles:20250514T190000
DTSTAMP:20260424T110825
CREATED:20230411T213359Z
LAST-MODIFIED:20241217T175316Z
UID:10074374-1747249200-1747249200@golatindance.com
SUMMARY:Salsa Timba Wednesdays
DESCRIPTION:Join us for an evening Lessons\, Music\, Dancing\, great vibes & amazing drinks. All your favorite Salsa\, Timba\, Bachata & more.
URL:https://golatindance.com/event/salsa-timba-wednesdays/2025-05-14/
LOCATION:Stevens Steak and Seafood House Restaurant\, 5332 Stevens Pl\, Commerce\, CA\, 90040\, United States
CATEGORIES:Los Angeles
ATTACH;FMTTYPE=image/jpeg:https://golatindance.com/wp-content/uploads/2023/04/420879032_10161526041545086_5665173904814789006_n.jpg
END:VEVENT
BEGIN:VEVENT
DTSTART;TZID=America/Los_Angeles:20250510T210000
DTEND;TZID=America/Los_Angeles:20250511T013000
DTSTAMP:20260424T110825
CREATED:20230411T213552Z
LAST-MODIFIED:20240624T045412Z
UID:10268357-1746910800-1746927000@golatindance.com
SUMMARY:Salsa Saturdays at Stevens Steakhouse
DESCRIPTION:Mi Gente\, Join us TONIGHT @ Stevens Steak House for Dinner and Dancing Salsa & Bachata Dancing | LIVE Bands + Music & Videos By Guest DJs | For Reservation call (323) 723-9856 | Music Starts at 9:00Pm | Free Parking and Valet Available | Share the fun
URL:https://golatindance.com/event/salsa-saturdays-at-stevens-steakhouse/2025-05-10/
LOCATION:Stevens Steak and Seafood House Restaurant\, 5332 Stevens Pl\, Commerce\, CA\, 90040\, United States
CATEGORIES:Los Angeles
END:VEVENT
BEGIN:VEVENT
DTSTART;TZID=America/Los_Angeles:20250507T190000
DTEND;TZID=America/Los_Angeles:20250507T190000
DTSTAMP:20260424T110825
CREATED:20230411T213359Z
LAST-MODIFIED:20241217T175316Z
UID:10074373-1746644400-1746644400@golatindance.com
SUMMARY:Salsa Timba Wednesdays
DESCRIPTION:Join us for an evening Lessons\, Music\, Dancing\, great vibes & amazing drinks. All your favorite Salsa\, Timba\, Bachata & more.
URL:https://golatindance.com/event/salsa-timba-wednesdays/2025-05-07/
LOCATION:Stevens Steak and Seafood House Restaurant\, 5332 Stevens Pl\, Commerce\, CA\, 90040\, United States
CATEGORIES:Los Angeles
ATTACH;FMTTYPE=image/jpeg:https://golatindance.com/wp-content/uploads/2023/04/420879032_10161526041545086_5665173904814789006_n.jpg
END:VEVENT
BEGIN:VEVENT
DTSTART;TZID=America/Los_Angeles:20250503T210000
DTEND;TZID=America/Los_Angeles:20250504T013000
DTSTAMP:20260424T110825
CREATED:20230411T213552Z
LAST-MODIFIED:20240624T045412Z
UID:10268356-1746306000-1746322200@golatindance.com
SUMMARY:Salsa Saturdays at Stevens Steakhouse
DESCRIPTION:Mi Gente\, Join us TONIGHT @ Stevens Steak House for Dinner and Dancing Salsa & Bachata Dancing | LIVE Bands + Music & Videos By Guest DJs | For Reservation call (323) 723-9856 | Music Starts at 9:00Pm | Free Parking and Valet Available | Share the fun
URL:https://golatindance.com/event/salsa-saturdays-at-stevens-steakhouse/2025-05-03/
LOCATION:Stevens Steak and Seafood House Restaurant\, 5332 Stevens Pl\, Commerce\, CA\, 90040\, United States
CATEGORIES:Los Angeles
END:VEVENT
BEGIN:VEVENT
DTSTART;TZID=America/Los_Angeles:20250430T190000
DTEND;TZID=America/Los_Angeles:20250430T190000
DTSTAMP:20260424T110825
CREATED:20230411T213359Z
LAST-MODIFIED:20241217T175316Z
UID:10074372-1746039600-1746039600@golatindance.com
SUMMARY:Salsa Timba Wednesdays
DESCRIPTION:Join us for an evening Lessons\, Music\, Dancing\, great vibes & amazing drinks. All your favorite Salsa\, Timba\, Bachata & more.
URL:https://golatindance.com/event/salsa-timba-wednesdays/2025-04-30/
LOCATION:Stevens Steak and Seafood House Restaurant\, 5332 Stevens Pl\, Commerce\, CA\, 90040\, United States
CATEGORIES:Los Angeles
ATTACH;FMTTYPE=image/jpeg:https://golatindance.com/wp-content/uploads/2023/04/420879032_10161526041545086_5665173904814789006_n.jpg
END:VEVENT
BEGIN:VEVENT
DTSTART;TZID=America/Los_Angeles:20250426T210000
DTEND;TZID=America/Los_Angeles:20250427T013000
DTSTAMP:20260424T110825
CREATED:20230411T213552Z
LAST-MODIFIED:20240624T045412Z
UID:10268355-1745701200-1745717400@golatindance.com
SUMMARY:Salsa Saturdays at Stevens Steakhouse
DESCRIPTION:Mi Gente\, Join us TONIGHT @ Stevens Steak House for Dinner and Dancing Salsa & Bachata Dancing | LIVE Bands + Music & Videos By Guest DJs | For Reservation call (323) 723-9856 | Music Starts at 9:00Pm | Free Parking and Valet Available | Share the fun
URL:https://golatindance.com/event/salsa-saturdays-at-stevens-steakhouse/2025-04-26/
LOCATION:Stevens Steak and Seafood House Restaurant\, 5332 Stevens Pl\, Commerce\, CA\, 90040\, United States
CATEGORIES:Los Angeles
END:VEVENT
BEGIN:VEVENT
DTSTART;TZID=America/Los_Angeles:20250423T190000
DTEND;TZID=America/Los_Angeles:20250423T190000
DTSTAMP:20260424T110825
CREATED:20230411T213359Z
LAST-MODIFIED:20241217T175316Z
UID:10074371-1745434800-1745434800@golatindance.com
SUMMARY:Salsa Timba Wednesdays
DESCRIPTION:Join us for an evening Lessons\, Music\, Dancing\, great vibes & amazing drinks. All your favorite Salsa\, Timba\, Bachata & more.
URL:https://golatindance.com/event/salsa-timba-wednesdays/2025-04-23/
LOCATION:Stevens Steak and Seafood House Restaurant\, 5332 Stevens Pl\, Commerce\, CA\, 90040\, United States
CATEGORIES:Los Angeles
ATTACH;FMTTYPE=image/jpeg:https://golatindance.com/wp-content/uploads/2023/04/420879032_10161526041545086_5665173904814789006_n.jpg
END:VEVENT
BEGIN:VEVENT
DTSTART;TZID=America/Los_Angeles:20250419T210000
DTEND;TZID=America/Los_Angeles:20250420T013000
DTSTAMP:20260424T110825
CREATED:20230411T213552Z
LAST-MODIFIED:20240624T045412Z
UID:10268354-1745096400-1745112600@golatindance.com
SUMMARY:Salsa Saturdays at Stevens Steakhouse
DESCRIPTION:Mi Gente\, Join us TONIGHT @ Stevens Steak House for Dinner and Dancing Salsa & Bachata Dancing | LIVE Bands + Music & Videos By Guest DJs | For Reservation call (323) 723-9856 | Music Starts at 9:00Pm | Free Parking and Valet Available | Share the fun
URL:https://golatindance.com/event/salsa-saturdays-at-stevens-steakhouse/2025-04-19/
LOCATION:Stevens Steak and Seafood House Restaurant\, 5332 Stevens Pl\, Commerce\, CA\, 90040\, United States
CATEGORIES:Los Angeles
END:VEVENT
BEGIN:VEVENT
DTSTART;TZID=America/Los_Angeles:20250416T190000
DTEND;TZID=America/Los_Angeles:20250416T190000
DTSTAMP:20260424T110825
CREATED:20230411T213359Z
LAST-MODIFIED:20241217T175316Z
UID:10074370-1744830000-1744830000@golatindance.com
SUMMARY:Salsa Timba Wednesdays
DESCRIPTION:Join us for an evening Lessons\, Music\, Dancing\, great vibes & amazing drinks. All your favorite Salsa\, Timba\, Bachata & more.
URL:https://golatindance.com/event/salsa-timba-wednesdays/2025-04-16/
LOCATION:Stevens Steak and Seafood House Restaurant\, 5332 Stevens Pl\, Commerce\, CA\, 90040\, United States
CATEGORIES:Los Angeles
ATTACH;FMTTYPE=image/jpeg:https://golatindance.com/wp-content/uploads/2023/04/420879032_10161526041545086_5665173904814789006_n.jpg
END:VEVENT
BEGIN:VEVENT
DTSTART;TZID=America/Los_Angeles:20250412T210000
DTEND;TZID=America/Los_Angeles:20250413T013000
DTSTAMP:20260424T110825
CREATED:20230411T213552Z
LAST-MODIFIED:20240624T045412Z
UID:10268353-1744491600-1744507800@golatindance.com
SUMMARY:Salsa Saturdays at Stevens Steakhouse
DESCRIPTION:Mi Gente\, Join us TONIGHT @ Stevens Steak House for Dinner and Dancing Salsa & Bachata Dancing | LIVE Bands + Music & Videos By Guest DJs | For Reservation call (323) 723-9856 | Music Starts at 9:00Pm | Free Parking and Valet Available | Share the fun
URL:https://golatindance.com/event/salsa-saturdays-at-stevens-steakhouse/2025-04-12/
LOCATION:Stevens Steak and Seafood House Restaurant\, 5332 Stevens Pl\, Commerce\, CA\, 90040\, United States
CATEGORIES:Los Angeles
END:VEVENT
BEGIN:VEVENT
DTSTART;TZID=America/Los_Angeles:20250409T190000
DTEND;TZID=America/Los_Angeles:20250409T190000
DTSTAMP:20260424T110825
CREATED:20230411T213359Z
LAST-MODIFIED:20241217T175316Z
UID:10074369-1744225200-1744225200@golatindance.com
SUMMARY:Salsa Timba Wednesdays
DESCRIPTION:Join us for an evening Lessons\, Music\, Dancing\, great vibes & amazing drinks. All your favorite Salsa\, Timba\, Bachata & more.
URL:https://golatindance.com/event/salsa-timba-wednesdays/2025-04-09/
LOCATION:Stevens Steak and Seafood House Restaurant\, 5332 Stevens Pl\, Commerce\, CA\, 90040\, United States
CATEGORIES:Los Angeles
ATTACH;FMTTYPE=image/jpeg:https://golatindance.com/wp-content/uploads/2023/04/420879032_10161526041545086_5665173904814789006_n.jpg
END:VEVENT
BEGIN:VEVENT
DTSTART;TZID=America/Los_Angeles:20250405T210000
DTEND;TZID=America/Los_Angeles:20250406T013000
DTSTAMP:20260424T110826
CREATED:20230411T213552Z
LAST-MODIFIED:20240624T045412Z
UID:10268352-1743886800-1743903000@golatindance.com
SUMMARY:Salsa Saturdays at Stevens Steakhouse
DESCRIPTION:Mi Gente\, Join us TONIGHT @ Stevens Steak House for Dinner and Dancing Salsa & Bachata Dancing | LIVE Bands + Music & Videos By Guest DJs | For Reservation call (323) 723-9856 | Music Starts at 9:00Pm | Free Parking and Valet Available | Share the fun
URL:https://golatindance.com/event/salsa-saturdays-at-stevens-steakhouse/2025-04-05/
LOCATION:Stevens Steak and Seafood House Restaurant\, 5332 Stevens Pl\, Commerce\, CA\, 90040\, United States
CATEGORIES:Los Angeles
END:VEVENT
END:VCALENDAR