BEGIN:VCALENDAR
VERSION:2.0
PRODID:-//GO Latin Dance - ECPv6.15.18//NONSGML v1.0//EN
CALSCALE:GREGORIAN
METHOD:PUBLISH
X-ORIGINAL-URL:https://golatindance.com
X-WR-CALDESC:Events for GO Latin Dance
REFRESH-INTERVAL;VALUE=DURATION:PT1H
X-Robots-Tag:noindex
X-PUBLISHED-TTL:PT1H
BEGIN:VTIMEZONE
TZID:America/Chicago
BEGIN:DAYLIGHT
TZOFFSETFROM:-0600
TZOFFSETTO:-0500
TZNAME:CDT
DTSTART:20280312T080000
END:DAYLIGHT
BEGIN:STANDARD
TZOFFSETFROM:-0500
TZOFFSETTO:-0600
TZNAME:CST
DTSTART:20281105T070000
END:STANDARD
BEGIN:DAYLIGHT
TZOFFSETFROM:-0600
TZOFFSETTO:-0500
TZNAME:CDT
DTSTART:20290311T080000
END:DAYLIGHT
BEGIN:STANDARD
TZOFFSETFROM:-0500
TZOFFSETTO:-0600
TZNAME:CST
DTSTART:20291104T070000
END:STANDARD
BEGIN:DAYLIGHT
TZOFFSETFROM:-0600
TZOFFSETTO:-0500
TZNAME:CDT
DTSTART:20300310T080000
END:DAYLIGHT
BEGIN:STANDARD
TZOFFSETFROM:-0500
TZOFFSETTO:-0600
TZNAME:CST
DTSTART:20301103T070000
END:STANDARD
BEGIN:DAYLIGHT
TZOFFSETFROM:-0600
TZOFFSETTO:-0500
TZNAME:CDT
DTSTART:20310309T080000
END:DAYLIGHT
BEGIN:STANDARD
TZOFFSETFROM:-0500
TZOFFSETTO:-0600
TZNAME:CST
DTSTART:20311102T070000
END:STANDARD
END:VTIMEZONE
BEGIN:VEVENT
DTSTART;TZID=America/Chicago:20290921T200000
DTEND;TZID=America/Chicago:20290922T000000
DTSTAMP:20260424T213720
CREATED:20231227T200612Z
LAST-MODIFIED:20260114T155350Z
UID:10313123-1884715200-1884729600@golatindance.com
SUMMARY:Una Aventura: Salsa Social
DESCRIPTION:Every 3rd Friday of the Month!\nSalsa\, Bachata & Merengue with DJ Russo\n• BYOB (no red wine\, please)\n• Admission: $18/person\, $15/Studio 22 Members\n• Hosts: Michelle & Sergey\n#salsadancing #dallas #socialdancing #nightlife #studio22dallas\n.\n(Attendees must be 18+ years old)
URL:https://golatindance.com/event/una-aventura-salsa-social/2029-09-21/
LOCATION:Studio 22 Dallas\, 14902 Preston Road #400\, Dallas\, TX\, 75254\, United States
CATEGORIES:Dallas-Fort Worth
ATTACH;FMTTYPE=image/jpeg:https://golatindance.com/wp-content/uploads/2023/12/616159645_1471498348317098_7469591522125860146_n.jpg
END:VEVENT
BEGIN:VEVENT
DTSTART;TZID=America/Chicago:20291019T200000
DTEND;TZID=America/Chicago:20291020T000000
DTSTAMP:20260424T213720
CREATED:20231227T200612Z
LAST-MODIFIED:20260114T155350Z
UID:10313124-1887134400-1887148800@golatindance.com
SUMMARY:Una Aventura: Salsa Social
DESCRIPTION:Every 3rd Friday of the Month!\nSalsa\, Bachata & Merengue with DJ Russo\n• BYOB (no red wine\, please)\n• Admission: $18/person\, $15/Studio 22 Members\n• Hosts: Michelle & Sergey\n#salsadancing #dallas #socialdancing #nightlife #studio22dallas\n.\n(Attendees must be 18+ years old)
URL:https://golatindance.com/event/una-aventura-salsa-social/2029-10-19/
LOCATION:Studio 22 Dallas\, 14902 Preston Road #400\, Dallas\, TX\, 75254\, United States
CATEGORIES:Dallas-Fort Worth
ATTACH;FMTTYPE=image/jpeg:https://golatindance.com/wp-content/uploads/2023/12/616159645_1471498348317098_7469591522125860146_n.jpg
END:VEVENT
BEGIN:VEVENT
DTSTART;TZID=America/Chicago:20291116T200000
DTEND;TZID=America/Chicago:20291117T000000
DTSTAMP:20260424T213720
CREATED:20231227T200612Z
LAST-MODIFIED:20260114T155350Z
UID:10433436-1889553600-1889568000@golatindance.com
SUMMARY:Una Aventura: Salsa Social
DESCRIPTION:Every 3rd Friday of the Month!\nSalsa\, Bachata & Merengue with DJ Russo\n• BYOB (no red wine\, please)\n• Admission: $18/person\, $15/Studio 22 Members\n• Hosts: Michelle & Sergey\n#salsadancing #dallas #socialdancing #nightlife #studio22dallas\n.\n(Attendees must be 18+ years old)
URL:https://golatindance.com/event/una-aventura-salsa-social/2029-11-16/
LOCATION:Studio 22 Dallas\, 14902 Preston Road #400\, Dallas\, TX\, 75254\, United States
CATEGORIES:Dallas-Fort Worth
ATTACH;FMTTYPE=image/jpeg:https://golatindance.com/wp-content/uploads/2023/12/616159645_1471498348317098_7469591522125860146_n.jpg
END:VEVENT
BEGIN:VEVENT
DTSTART;TZID=America/Chicago:20291221T200000
DTEND;TZID=America/Chicago:20291222T000000
DTSTAMP:20260424T213720
CREATED:20231227T200612Z
LAST-MODIFIED:20260114T155350Z
UID:10433437-1892577600-1892592000@golatindance.com
SUMMARY:Una Aventura: Salsa Social
DESCRIPTION:Every 3rd Friday of the Month!\nSalsa\, Bachata & Merengue with DJ Russo\n• BYOB (no red wine\, please)\n• Admission: $18/person\, $15/Studio 22 Members\n• Hosts: Michelle & Sergey\n#salsadancing #dallas #socialdancing #nightlife #studio22dallas\n.\n(Attendees must be 18+ years old)
URL:https://golatindance.com/event/una-aventura-salsa-social/2029-12-21/
LOCATION:Studio 22 Dallas\, 14902 Preston Road #400\, Dallas\, TX\, 75254\, United States
CATEGORIES:Dallas-Fort Worth
ATTACH;FMTTYPE=image/jpeg:https://golatindance.com/wp-content/uploads/2023/12/616159645_1471498348317098_7469591522125860146_n.jpg
END:VEVENT
BEGIN:VEVENT
DTSTART;TZID=America/Chicago:20300118T200000
DTEND;TZID=America/Chicago:20300119T000000
DTSTAMP:20260424T213720
CREATED:20231227T200612Z
LAST-MODIFIED:20260114T155350Z
UID:10433438-1894996800-1895011200@golatindance.com
SUMMARY:Una Aventura: Salsa Social
DESCRIPTION:Every 3rd Friday of the Month!\nSalsa\, Bachata & Merengue with DJ Russo\n• BYOB (no red wine\, please)\n• Admission: $18/person\, $15/Studio 22 Members\n• Hosts: Michelle & Sergey\n#salsadancing #dallas #socialdancing #nightlife #studio22dallas\n.\n(Attendees must be 18+ years old)
URL:https://golatindance.com/event/una-aventura-salsa-social/2030-01-18/
LOCATION:Studio 22 Dallas\, 14902 Preston Road #400\, Dallas\, TX\, 75254\, United States
CATEGORIES:Dallas-Fort Worth
ATTACH;FMTTYPE=image/jpeg:https://golatindance.com/wp-content/uploads/2023/12/616159645_1471498348317098_7469591522125860146_n.jpg
END:VEVENT
BEGIN:VEVENT
DTSTART;TZID=America/Chicago:20300215T200000
DTEND;TZID=America/Chicago:20300216T000000
DTSTAMP:20260424T213720
CREATED:20231227T200612Z
LAST-MODIFIED:20260114T155350Z
UID:10433439-1897416000-1897430400@golatindance.com
SUMMARY:Una Aventura: Salsa Social
DESCRIPTION:Every 3rd Friday of the Month!\nSalsa\, Bachata & Merengue with DJ Russo\n• BYOB (no red wine\, please)\n• Admission: $18/person\, $15/Studio 22 Members\n• Hosts: Michelle & Sergey\n#salsadancing #dallas #socialdancing #nightlife #studio22dallas\n.\n(Attendees must be 18+ years old)
URL:https://golatindance.com/event/una-aventura-salsa-social/2030-02-15/
LOCATION:Studio 22 Dallas\, 14902 Preston Road #400\, Dallas\, TX\, 75254\, United States
CATEGORIES:Dallas-Fort Worth
ATTACH;FMTTYPE=image/jpeg:https://golatindance.com/wp-content/uploads/2023/12/616159645_1471498348317098_7469591522125860146_n.jpg
END:VEVENT
BEGIN:VEVENT
DTSTART;TZID=America/Chicago:20300315T200000
DTEND;TZID=America/Chicago:20300316T000000
DTSTAMP:20260424T213720
CREATED:20231227T200612Z
LAST-MODIFIED:20260114T155350Z
UID:10433440-1899835200-1899849600@golatindance.com
SUMMARY:Una Aventura: Salsa Social
DESCRIPTION:Every 3rd Friday of the Month!\nSalsa\, Bachata & Merengue with DJ Russo\n• BYOB (no red wine\, please)\n• Admission: $18/person\, $15/Studio 22 Members\n• Hosts: Michelle & Sergey\n#salsadancing #dallas #socialdancing #nightlife #studio22dallas\n.\n(Attendees must be 18+ years old)
URL:https://golatindance.com/event/una-aventura-salsa-social/2030-03-15/
LOCATION:Studio 22 Dallas\, 14902 Preston Road #400\, Dallas\, TX\, 75254\, United States
CATEGORIES:Dallas-Fort Worth
ATTACH;FMTTYPE=image/jpeg:https://golatindance.com/wp-content/uploads/2023/12/616159645_1471498348317098_7469591522125860146_n.jpg
END:VEVENT
BEGIN:VEVENT
DTSTART;TZID=America/Chicago:20300419T200000
DTEND;TZID=America/Chicago:20300420T000000
DTSTAMP:20260424T213720
CREATED:20231227T200612Z
LAST-MODIFIED:20260114T155350Z
UID:10433441-1902859200-1902873600@golatindance.com
SUMMARY:Una Aventura: Salsa Social
DESCRIPTION:Every 3rd Friday of the Month!\nSalsa\, Bachata & Merengue with DJ Russo\n• BYOB (no red wine\, please)\n• Admission: $18/person\, $15/Studio 22 Members\n• Hosts: Michelle & Sergey\n#salsadancing #dallas #socialdancing #nightlife #studio22dallas\n.\n(Attendees must be 18+ years old)
URL:https://golatindance.com/event/una-aventura-salsa-social/2030-04-19/
LOCATION:Studio 22 Dallas\, 14902 Preston Road #400\, Dallas\, TX\, 75254\, United States
CATEGORIES:Dallas-Fort Worth
ATTACH;FMTTYPE=image/jpeg:https://golatindance.com/wp-content/uploads/2023/12/616159645_1471498348317098_7469591522125860146_n.jpg
END:VEVENT
BEGIN:VEVENT
DTSTART;TZID=America/Chicago:20300517T200000
DTEND;TZID=America/Chicago:20300518T000000
DTSTAMP:20260424T213720
CREATED:20231227T200612Z
LAST-MODIFIED:20260114T155350Z
UID:10433442-1905278400-1905292800@golatindance.com
SUMMARY:Una Aventura: Salsa Social
DESCRIPTION:Every 3rd Friday of the Month!\nSalsa\, Bachata & Merengue with DJ Russo\n• BYOB (no red wine\, please)\n• Admission: $18/person\, $15/Studio 22 Members\n• Hosts: Michelle & Sergey\n#salsadancing #dallas #socialdancing #nightlife #studio22dallas\n.\n(Attendees must be 18+ years old)
URL:https://golatindance.com/event/una-aventura-salsa-social/2030-05-17/
LOCATION:Studio 22 Dallas\, 14902 Preston Road #400\, Dallas\, TX\, 75254\, United States
CATEGORIES:Dallas-Fort Worth
ATTACH;FMTTYPE=image/jpeg:https://golatindance.com/wp-content/uploads/2023/12/616159645_1471498348317098_7469591522125860146_n.jpg
END:VEVENT
BEGIN:VEVENT
DTSTART;TZID=America/Chicago:20300621T200000
DTEND;TZID=America/Chicago:20300622T000000
DTSTAMP:20260424T213720
CREATED:20231227T200612Z
LAST-MODIFIED:20260114T155350Z
UID:10433443-1908302400-1908316800@golatindance.com
SUMMARY:Una Aventura: Salsa Social
DESCRIPTION:Every 3rd Friday of the Month!\nSalsa\, Bachata & Merengue with DJ Russo\n• BYOB (no red wine\, please)\n• Admission: $18/person\, $15/Studio 22 Members\n• Hosts: Michelle & Sergey\n#salsadancing #dallas #socialdancing #nightlife #studio22dallas\n.\n(Attendees must be 18+ years old)
URL:https://golatindance.com/event/una-aventura-salsa-social/2030-06-21/
LOCATION:Studio 22 Dallas\, 14902 Preston Road #400\, Dallas\, TX\, 75254\, United States
CATEGORIES:Dallas-Fort Worth
ATTACH;FMTTYPE=image/jpeg:https://golatindance.com/wp-content/uploads/2023/12/616159645_1471498348317098_7469591522125860146_n.jpg
END:VEVENT
BEGIN:VEVENT
DTSTART;TZID=America/Chicago:20300719T200000
DTEND;TZID=America/Chicago:20300720T000000
DTSTAMP:20260424T213720
CREATED:20231227T200612Z
LAST-MODIFIED:20260114T155350Z
UID:10433444-1910721600-1910736000@golatindance.com
SUMMARY:Una Aventura: Salsa Social
DESCRIPTION:Every 3rd Friday of the Month!\nSalsa\, Bachata & Merengue with DJ Russo\n• BYOB (no red wine\, please)\n• Admission: $18/person\, $15/Studio 22 Members\n• Hosts: Michelle & Sergey\n#salsadancing #dallas #socialdancing #nightlife #studio22dallas\n.\n(Attendees must be 18+ years old)
URL:https://golatindance.com/event/una-aventura-salsa-social/2030-07-19/
LOCATION:Studio 22 Dallas\, 14902 Preston Road #400\, Dallas\, TX\, 75254\, United States
CATEGORIES:Dallas-Fort Worth
ATTACH;FMTTYPE=image/jpeg:https://golatindance.com/wp-content/uploads/2023/12/616159645_1471498348317098_7469591522125860146_n.jpg
END:VEVENT
BEGIN:VEVENT
DTSTART;TZID=America/Chicago:20300816T200000
DTEND;TZID=America/Chicago:20300817T000000
DTSTAMP:20260424T213720
CREATED:20231227T200612Z
LAST-MODIFIED:20260114T155350Z
UID:10433445-1913140800-1913155200@golatindance.com
SUMMARY:Una Aventura: Salsa Social
DESCRIPTION:Every 3rd Friday of the Month!\nSalsa\, Bachata & Merengue with DJ Russo\n• BYOB (no red wine\, please)\n• Admission: $18/person\, $15/Studio 22 Members\n• Hosts: Michelle & Sergey\n#salsadancing #dallas #socialdancing #nightlife #studio22dallas\n.\n(Attendees must be 18+ years old)
URL:https://golatindance.com/event/una-aventura-salsa-social/2030-08-16/
LOCATION:Studio 22 Dallas\, 14902 Preston Road #400\, Dallas\, TX\, 75254\, United States
CATEGORIES:Dallas-Fort Worth
ATTACH;FMTTYPE=image/jpeg:https://golatindance.com/wp-content/uploads/2023/12/616159645_1471498348317098_7469591522125860146_n.jpg
END:VEVENT
BEGIN:VEVENT
DTSTART;TZID=America/Chicago:20300920T200000
DTEND;TZID=America/Chicago:20300921T000000
DTSTAMP:20260424T213720
CREATED:20231227T200612Z
LAST-MODIFIED:20260114T155350Z
UID:10433446-1916164800-1916179200@golatindance.com
SUMMARY:Una Aventura: Salsa Social
DESCRIPTION:Every 3rd Friday of the Month!\nSalsa\, Bachata & Merengue with DJ Russo\n• BYOB (no red wine\, please)\n• Admission: $18/person\, $15/Studio 22 Members\n• Hosts: Michelle & Sergey\n#salsadancing #dallas #socialdancing #nightlife #studio22dallas\n.\n(Attendees must be 18+ years old)
URL:https://golatindance.com/event/una-aventura-salsa-social/2030-09-20/
LOCATION:Studio 22 Dallas\, 14902 Preston Road #400\, Dallas\, TX\, 75254\, United States
CATEGORIES:Dallas-Fort Worth
ATTACH;FMTTYPE=image/jpeg:https://golatindance.com/wp-content/uploads/2023/12/616159645_1471498348317098_7469591522125860146_n.jpg
END:VEVENT
BEGIN:VEVENT
DTSTART;TZID=America/Chicago:20301018T200000
DTEND;TZID=America/Chicago:20301019T000000
DTSTAMP:20260424T213720
CREATED:20231227T200612Z
LAST-MODIFIED:20260114T155350Z
UID:10433447-1918584000-1918598400@golatindance.com
SUMMARY:Una Aventura: Salsa Social
DESCRIPTION:Every 3rd Friday of the Month!\nSalsa\, Bachata & Merengue with DJ Russo\n• BYOB (no red wine\, please)\n• Admission: $18/person\, $15/Studio 22 Members\n• Hosts: Michelle & Sergey\n#salsadancing #dallas #socialdancing #nightlife #studio22dallas\n.\n(Attendees must be 18+ years old)
URL:https://golatindance.com/event/una-aventura-salsa-social/2030-10-18/
LOCATION:Studio 22 Dallas\, 14902 Preston Road #400\, Dallas\, TX\, 75254\, United States
CATEGORIES:Dallas-Fort Worth
ATTACH;FMTTYPE=image/jpeg:https://golatindance.com/wp-content/uploads/2023/12/616159645_1471498348317098_7469591522125860146_n.jpg
END:VEVENT
BEGIN:VEVENT
DTSTART;TZID=America/Chicago:20301115T200000
DTEND;TZID=America/Chicago:20301116T000000
DTSTAMP:20260424T213720
CREATED:20231227T200612Z
LAST-MODIFIED:20260114T155350Z
UID:10433448-1921003200-1921017600@golatindance.com
SUMMARY:Una Aventura: Salsa Social
DESCRIPTION:Every 3rd Friday of the Month!\nSalsa\, Bachata & Merengue with DJ Russo\n• BYOB (no red wine\, please)\n• Admission: $18/person\, $15/Studio 22 Members\n• Hosts: Michelle & Sergey\n#salsadancing #dallas #socialdancing #nightlife #studio22dallas\n.\n(Attendees must be 18+ years old)
URL:https://golatindance.com/event/una-aventura-salsa-social/2030-11-15/
LOCATION:Studio 22 Dallas\, 14902 Preston Road #400\, Dallas\, TX\, 75254\, United States
CATEGORIES:Dallas-Fort Worth
ATTACH;FMTTYPE=image/jpeg:https://golatindance.com/wp-content/uploads/2023/12/616159645_1471498348317098_7469591522125860146_n.jpg
END:VEVENT
BEGIN:VEVENT
DTSTART;TZID=America/Chicago:20301220T200000
DTEND;TZID=America/Chicago:20301221T000000
DTSTAMP:20260424T213720
CREATED:20231227T200612Z
LAST-MODIFIED:20260114T155350Z
UID:10433449-1924027200-1924041600@golatindance.com
SUMMARY:Una Aventura: Salsa Social
DESCRIPTION:Every 3rd Friday of the Month!\nSalsa\, Bachata & Merengue with DJ Russo\n• BYOB (no red wine\, please)\n• Admission: $18/person\, $15/Studio 22 Members\n• Hosts: Michelle & Sergey\n#salsadancing #dallas #socialdancing #nightlife #studio22dallas\n.\n(Attendees must be 18+ years old)
URL:https://golatindance.com/event/una-aventura-salsa-social/2030-12-20/
LOCATION:Studio 22 Dallas\, 14902 Preston Road #400\, Dallas\, TX\, 75254\, United States
CATEGORIES:Dallas-Fort Worth
ATTACH;FMTTYPE=image/jpeg:https://golatindance.com/wp-content/uploads/2023/12/616159645_1471498348317098_7469591522125860146_n.jpg
END:VEVENT
END:VCALENDAR